{"text_format":"1","workbook":"xlsx","n_sheets":18,"sheets":["GUIDE","Calculator","Calculations","Impacts per FSC stage","EoL emissions","Food cost","Action impacts","Calculation_use","Calculation_retail","Calculation_processing","Calculation_primary","Emissions per kg","Calculation_original","Results","Phases","Original values","dropdown","Report"],"not_rendered":{"charts":48,"images":53,"macros":1,"external_links":0,"defined_names":26,"comments":4,"pivot_tables":0},"unopened":[],"bounds":{"document_bytes":16777216,"sheet_cells":100000,"rows_first":2000,"rows_last":500,"rows_between":2000,"halvings":0,"cell_chars":16384,"cell_head_chars":4096},"cells_cut":0,"cells_raw":0,"read":"whole","date_system":"1900"}

{"sheet":"GUIDE","index":0,"n_rows":32,"n_cols":9,"rows_kept":32,"cut":false,"hidden":false,"merged":[]}
[]
[null,"How to use the calculator"]
[]
[]
[null,null,"Step 1"]
[]
[null,null,"To erase the information from a previous action press"]
[]
[]
[null,null,"To visualise the calculator as full screen press",null,null,null,null,null,"and to go back press"]
[]
[]
[null,null,"Fill in all the blank fields, all numbers should be entered as whole numbers (50000 and not 50.000 or 50,000)"]
[]
[]
[null,null,"\"Waste treatment option\" refers to the type of waste treatment that would have been used if the food had been wasted, if you do not have this information, the right option is not provided, or more"]
[null,null," than one waste treatment type is used, select \"other/unknown\""]
[]
[null,null,"When entering the amounts of food waste saved, remember to select the right unit of measure (this is the same for the entire list of food items)"]
[]
[]
[null,null,"When entering number of leaflets please calculate them as A4-equivalent (one poster size A1 is equivalent to 8 A4)"]
[]
[null,null,"Step 2"]
[]
[null,null,"To see the results of the calculation press",null,null,null,null,null,"ATTENTION: Only press this button if you see no charts with the results"]
[]
[]
[null,null,"To check the environmental savings for other impact categories select the desired one from the drop down list on the right"]
[]
[]
[null,null,"Press",null,"to generate a PDF file with a summary of the evaluation"]

{"sheet":"Calculator","index":1,"n_rows":44,"n_cols":27,"rows_kept":44,"cut":false,"hidden":false,"merged":[[8,16,8,17],[28,16,28,17],[29,16,29,17],[30,16,30,17],[31,16,31,17]]}
[]
[null,"Food waste prevention calculator"]
[]
[]
[null,"Action name",null,"Country",null," Action type",null,null,null,null,"Action cost in €",null,null,null,null,null,null,null,null,null,null,null,null,null,null,{"$f":"2","v":2},{"$f":"Z5","v":2}]
[null,"Stop Food waste",null,"Spain",null,"Consumer behaviour change",null,"Households",null,100000,null,"Other/Unknown"]
[]
[]
[null,"Food waste prevented",null,null,null,null,null,"Financial costs and benefits",null,null,null,null,null,"Environmental assessment",null,null,"Climate Change"]
[null,null,null,null,null,null,null,"[euros]",null,null,null,null,null,{"$f":"\"[\"&Q32&\"]\"","v":"[kg CO2 eq]"}]
[null,"Type",null,"Amount",null,"    Select Unit *"]
[null,"FRUIT",null,500]
[null,"VEGETABLES",null,500]
[null,"bread",null,100]
[null,""]
[null,""]
[null,""]
[null,""]
[null,""]
[null,""]
[null,""]
[null,""]
[null,""]
[null,""]
[null,""]
[]
[null,null,null,null,null,null,null,"       saved food",null,"avoided waste treatment",null,"       action"]
[null,null,null,null,null,null,null,null,null,null,null,null,null,{"$f":"Q9","v":"Climate Change"}]
[null,null,null,null,null,null,null,{"$f":"Calculations!B55","v":"Cost of action"},null,{"$f":"Calculations!C55","v":-100000},"€",null,null,{"$f":"Calculations!B73","v":"Impact of action"},null,{"$f":"Calculations!C80","v":-325.96050105391566},{"$f":"Calculations!D80","v":"kg CO2 eq"}]
[null,null,null,null,null,null,null,{"$f":"Calculations!B56","v":"Savings from avoided treatment"},null,{"$f":"Calculations!C56","v":170281.03256883405},"€",null,null,{"$f":"Calculations!B74","v":"Impact of avoided treatment"},null,{"$f":"Calculations!C81","v":690838.52936330996},{"$f":"Calculations!D81","v":"kg CO2 eq"}]
[null,null,null,null,null,null,null,{"$f":"Calculations!B57","v":"Savings from avoided food production"},null,{"$f":"Calculations!C57","v":300000},"€",null,null,{"$f":"Calculations!B75","v":"Impact of saved food"},null,{"$f":"Calculations!C82","v":1486913.4129086467},{"$f":"Calculations!D82","v":"kg CO2 eq"}]
[null,null,null,null,null,null,null,"Net economic benefits",null,{"$f":"Calculations!C58","v":370281.03256883402},"€",null,null,"Net environmental savings",null,{"$f":"Calculations!C83","v":2177425.9817709029},{"$f":"Calculations!D83","v":"kg CO2 eq"}]
[]
[]
[null,"Value of food waste prevented",null,null,null,"Euros"]
[]
[null,"Action resources",null,1000]
[]
[null,"Paper used (leaflets, letters)",null,500,"Number (A4 equivalent)"]
[]
[null,"Transport distances",null,null,"km"]
[]
[null,"Electricity use",null,null,"kWh"]
[null,null,null,null,300000]

{"sheet":"Calculations","index":2,"n_rows":209,"n_cols":22,"rows_kept":209,"cut":false,"hidden":true,"merged":[[6,6,6,21],[3,0,4,0]]}
[]
[]
["Country",{"$f":"Calculator!D6","v":"Spain"}]
["Step of the FSC",{"$f":"Calculator!H6","v":"Households"}]
[null,{"$f":"IF(OR(D51=\"Food redistribution/donations\",D51=\"Gleaning\"),\"use\",IF($B$4=\"Primary production\",\"agriculture\",IF($B$4=\"Processing and manufacturing\",\"manufacturing\",IF($B$4=\"Retail and distribution\",\"retail\",\"use\"))))","v":"use"}]
[]
["Food waste prevented"]
[null,null,null,null,null,2,3,4,5,6,7,8,9,10,11,12,13,14,15,16,17,18]
["Type",null,"Amount","Amount (in kg)","Cost (euros)","IPCC GWP 100a","Ozone depletion","Human toxicity, non-cancer effects","Human toxicity, cancer effects","Particulate matter","Ionizing radiation HH","Photochemical ozone formation","Acidification","Terrestrial eutrophication","Freshwater eutrophication","Marine eutrophication","Freshwater ecotoxicity","Land use","Water scarcity","ADP Fossil","ADP (ultimate)","Single point"]
[{"$f":"IF(Calculator!B12=0,\"\",Calculator!B12)","v":"FRUIT"},{"$f":"IF(A10=\"\",\"\",CONCATENATE(A10,\" \",$B$5))","v":"FRUIT use"},{"$f":"IF(Calculator!D12=0,\"\",Calculator!D12)","v":500},{"$f":"IFERROR(IF($D$34=1,C10,IF($D$34=2,C10*10^3,IF($D$34=3,C10*10^9))),\"\")","v":500000},{"$f":"IFERROR((INDEX(cost_table_p,VLOOKUP(B10,type_number,2,FALSE),VLOOKUP($B$3,country_number,2,FALSE))*D10),\"\")","v":866410.25641025638},{"$f":"IFERROR(VLOOKUP($B10, impacts,F$8,FALSE)*$D10,\"\")","v":801817.82165179879},6.6444978282031144,0.18321375049283053,7.540611546849073E-3,2.9310764707707021E-2,25434.239128148285,1817.5934454633264,4610.6234798938594,16271.125679686447,99.030668705043183,2348.483264123849,13144551.893183634,31471777.58780605,4883406.0409235684,6048819.6575016035,1.5946206030950649,2.0139259725820926E-6]
[{"$f":"IF(Calculator!B13=0,\"\",Calculator!B13)","v":"VEGETABLES"},"VEGETABLES use",{"$f":"IF(Calculator!D13=0,\"\",Calculator!D13)","v":500},{"$f":"IFERROR(IF($D$34=1,C11,IF($D$34=2,C11*10^3,IF($D$34=3,C11*10^9))),\"\")","v":500000},645192.30769230775,538212.97534298047,1.4054317515076415,0.5411201999313795,9.0441202688317669E-3,2.9248164573708924E-2,22415.949897629784,1218.6942863143647,3861.2617612649919,13874.200676562699,221.4078316756304,2786.6509120647092,7658565.7216767063,20971717.348106042,881034.7492102487,5671013.514330714,2.2427351451968223,1.4614172962852635E-6]
[{"$f":"IF(Calculator!B14=0,\"\",Calculator!B14)","v":"bread"},"bread use",{"$f":"IF(Calculator!D14=0,\"\",Calculator!D14)","v":100},100000,279000,146882.61591386746,1.1351308177198533E-2,0.28878741479005388,2.7217562552667943E-3,1.5010100883010465E-2,11092.126257204789,403.94646906694845,2128.9353326148926,8217.5669547021571,72.602452433660304,1938.2173425605577,2010811.4564955332,16030656.860747691,158634.00581250477,2054534.9875804572,0.25566327420485224,5.7351388177121868E-7]
[{"$f":"IF(Calculator!B15=0,\"\",Calculator!B15)","v":""},"",{"$f":"IF(Calculator!D15=0,\"\",Calculator!D15)","v":""},"","","","","","","","","","","","","","","","","","",""]
[{"$f":"IF(Calculator!B16=0,\"\",Calculator!B16)","v":""},"",{"$f":"IF(Calculator!D16=0,\"\",Calculator!D16)","v":""},"","","","","","","","","","","","","","","","","","",""]
[{"$f":"IF(Calculator!B17=0,\"\",Calculator!B17)","v":""},"",{"$f":"IF(Calculator!D17=0,\"\",Calculator!D17)","v":""},"","","","","","","","","","","","","","","","","","",""]
[{"$f":"IF(Calculator!B18=0,\"\",Calculator!B18)","v":""},"",{"$f":"IF(Calculator!D18=0,\"\",Calculator!D18)","v":""},"","","","","","","","","","","","","","","","","","",""]
[{"$f":"IF(Calculator!B19=0,\"\",Calculator!B19)","v":""},"",{"$f":"IF(Calculator!D19=0,\"\",Calculator!D19)","v":""},"","","","","","","","","","","","","","","","","","",""]
[{"$f":"IF(Calculator!B20=0,\"\",Calculator!B20)","v":""},"",{"$f":"IF(Calculator!D20=0,\"\",Calculator!D20)","v":""},"","","","","","","","","","","","","","","","","","",""]
[{"$f":"IF(Calculator!B21=0,\"\",Calculator!B21)","v":""},"",{"$f":"IF(Calculator!D21=0,\"\",Calculator!D21)","v":""},"","","","","","","","","","","","","","","","","","",""]
[{"$f":"IF(Calculator!B22=0,\"\",Calculator!B22)","v":""},"",{"$f":"IF(Calculator!D22=0,\"\",Calculator!D22)","v":""},"","",{"$f":"IFERROR(VLOOKUP($B20, impacts,F$8,FALSE)*$D20,\"\")","v":""},"","","","","","","","","","","","","","","",""]
[{"$f":"IF(Calculator!B23=0,\"\",Calculator!B23)","v":""},"",{"$f":"IF(Calculator!D23=0,\"\",Calculator!D23)","v":""},"","","","","","","","","","","","","","","","","","",""]
[{"$f":"IF(Calculator!B24=0,\"\",Calculator!B24)","v":""},"",{"$f":"IF(Calculator!D24=0,\"\",Calculator!D24)","v":""},"","","","","","","","","","","","","","","","","","",""]
[{"$f":"IF(Calculator!B25=0,\"\",Calculator!B25)","v":""},"",{"$f":"IF(Calculator!D25=0,\"\",Calculator!D25)","v":""},"","","","","","","","","","","","","","","","","","",""]
[{"$f":"IF(Calculator!B26=0,\"\",Calculator!B26)","v":""},"",{"$f":"IF(Calculator!D26=0,\"\",Calculator!D26)","v":""},"","","","","","","","","","","","","","","","","","",""]
[{"$f":"IF(Calculator!B28=0,\"\",Calculator!B28)","v":""},"",{"$f":"IF(Calculator!D28=0,\"\",Calculator!D28)","v":""},"","","","","","","","","","","","","","","","","","",""]
[{"$f":"IF(Calculator!B29=0,\"\",Calculator!B29)","v":""},"",{"$f":"IF(Calculator!D29=0,\"\",Calculator!D29)","v":""},"","","","","","","","","","","","","","","","","","",""]
[{"$f":"IF(Calculator!B30=0,\"\",Calculator!B30)","v":""},"",{"$f":"IF(Calculator!D30=0,\"\",Calculator!D30)","v":""},"","","","","","","","","","","","","","","","","","",""]
[{"$f":"IF(Calculator!B31=0,\"\",Calculator!B31)","v":""},"",{"$f":"IF(Calculator!D31=0,\"\",Calculator!D31)","v":""},"","","","","","","","","","","","","","","","","","",""]
[{"$f":"IF(Calculator!B32=0,\"\",Calculator!B32)","v":""},"",{"$f":"IF(Calculator!D32=0,\"\",Calculator!D32)","v":""},"","","","","","","","","","","","","","","","","","",""]
[{"$f":"IF(Calculator!B33=0,\"\",Calculator!B33)","v":""},"",{"$f":"IF(Calculator!D33=0,\"\",Calculator!D33)","v":""},"","","","","","","","","","","","","","","","","","",""]
[{"$f":"IF(Calculator!B34=0,\"\",Calculator!B34)","v":""},"",{"$f":"IF(Calculator!D34=0,\"\",Calculator!D34)","v":""},"","","","","","","","","","","","","","","","","","",""]
["TOTAL",null,{"$f":"SUM(C10:C31)","v":1100},{"$f":"SUM(D10:D31)","v":1100000},{"$f":"SUM(E10:E31)","v":1790602.564102564},{"$f":"SUM(F10:F31)","v":1486913.4129086467},8.0612808878879552,1.0131213652142639,1.9306488070947633E-2,7.3569030164426411E-2,58942.315282982861,3440.2342008446394,10600.820573773744,38362.893310951302,393.04095281433388,7073.3515187491157,22813929.071355876,68474151.796659783,5923074.7959463215,13774368.159412775,4.0930190224967395,4.0488571506385748E-6]
[]
["Unit type",null,null,{"$f":"Calculator!AA5","v":2}]
["Cost provided by user",{"$f":"Calculator!E44","v":300000}]
[]
["Waste management prevented",null,null,null,null,2,3,4,5,6,7,8,9,10,11,12,13,14,15,16,17,18]
[null,null,null,null,"Waste treatment","IPCC GWP 100a","Ozone depletion","Human toxicity, non-cancer effects","Human toxicity, cancer effects","Particulate matter","Ionizing radiation HH","Photochemical ozone formation","Acidification","Terrestrial eutrophication","Freshwater eutrophication","Marine eutrophication","Freshwater ecotoxicity","Land use","Water scarcity","ADP Fossil","ADP (ultimate)","Single point"]
[null,null,null,null,"Anaerobic Digestion",{"$f":"'EoL emissions'!B17","v":460.15782000000002},{"$f":"'EoL emissions'!C17","v":1.1346326E-5},{"$f":"'EoL emissions'!D17","v":2.4619742999999999E-4},{"$f":"'EoL emissions'!E17","v":5.1754339E-5},{"$f":"'EoL emissions'!F17","v":1.9972315999999999E-5},{"$f":"'EoL emissions'!G17","v":8.3372557},{"$f":"'EoL emissions'!H17","v":1.1706432},{"$f":"'EoL emissions'!I17","v":2.2231843000000002},{"$f":"'EoL emissions'!J17","v":6.3885088999999997},{"$f":"'EoL emissions'!K17","v":0.56859671000000001},{"$f":"'EoL emissions'!L17","v":0.47271214},{"$f":"'EoL emissions'!M17","v":13897.479000000001},{"$f":"'EoL emissions'!N17","v":6480.7806},{"$f":"'EoL emissions'!O17","v":32.026541999999999},{"$f":"'EoL emissions'!P17","v":-2989.1055999999999},{"$f":"'EoL emissions'!Q17","v":2.2456932000000001E-4},{"$f":"'EoL emissions'!R17","v":1.3273046818920368E-9}]
[null,null,null,null,"Composting",{"$f":"'EoL emissions'!B18","v":221.69807},{"$f":"'EoL emissions'!C18","v":2.0603888999999998E-6},{"$f":"'EoL emissions'!D18","v":-1.4292764999999999E-6},{"$f":"'EoL emissions'!E18","v":1.4836581000000001E-6},{"$f":"'EoL emissions'!F18","v":8.1002821000000001E-6},{"$f":"'EoL emissions'!G18","v":1.2330445999999999},{"$f":"'EoL emissions'!H18","v":0.34077319},{"$f":"'EoL emissions'!I18","v":1.7309968999999998},{"$f":"'EoL emissions'!J18","v":8.0041384999999998},{"$f":"'EoL emissions'!K18","v":6.4056417000000001E-4},{"$f":"'EoL emissions'!L18","v":0.14582220000000001},{"$f":"'EoL emissions'!M18","v":0.19070320000000002},{"$f":"'EoL emissions'!N18","v":329.38801999999998},{"$f":"'EoL emissions'!O18","v":-7.5158513999999998},{"$f":"'EoL emissions'!P18","v":158.74387000000002},{"$f":"'EoL emissions'!Q18","v":-1.4579331E-4},{"$f":"'EoL emissions'!R18","v":1.8081071782170161E-10}]
[null,null,null,null,"Incineration",{"$f":"'EoL emissions'!B19","v":34.317711000000003},{"$f":"'EoL emissions'!C19","v":3.2650775999999999E-6},{"$f":"'EoL emissions'!D19","v":8.6503022999999998E-5},{"$f":"'EoL emissions'!E19","v":9.2031344999999994E-6},{"$f":"'EoL emissions'!F19","v":2.7910843000000001E-6},{"$f":"'EoL emissions'!G19","v":1.2653303},{"$f":"'EoL emissions'!H19","v":0.26453560999999998},{"$f":"'EoL emissions'!I19","v":0.25654582999999997},{"$f":"'EoL emissions'!J19","v":1.0507002999999999},{"$f":"'EoL emissions'!K19","v":3.4332848999999999E-2},{"$f":"'EoL emissions'!L19","v":0.13402041000000001},{"$f":"'EoL emissions'!M19","v":2305.4808000000003},{"$f":"'EoL emissions'!N19","v":223.96424999999999},{"$f":"'EoL emissions'!O19","v":48.861492999999996},{"$f":"'EoL emissions'!P19","v":265.39431999999999},{"$f":"'EoL emissions'!Q19","v":4.6813946999999998E-5},{"$f":"'EoL emissions'!R19","v":2.371349513850957E-10}]
[null,null,null,null,"Landfill",{"$f":"'EoL emissions'!B20","v":761.69718},{"$f":"'EoL emissions'!C20","v":3.7962565999999997E-6},{"$f":"'EoL emissions'!D20","v":1.507635E-3},{"$f":"'EoL emissions'!E20","v":2.2767506000000002E-5},{"$f":"'EoL emissions'!F20","v":2.3223083999999997E-6},{"$f":"'EoL emissions'!G20","v":2.4432418999999999},{"$f":"'EoL emissions'!H20","v":0.35127434000000002},{"$f":"'EoL emissions'!I20","v":0.19281329},{"$f":"'EoL emissions'!J20","v":0.48159306000000002},{"$f":"'EoL emissions'!K20","v":1.7168379999999997E-2},{"$f":"'EoL emissions'!L20","v":1.8076468000000001},{"$f":"'EoL emissions'!M20","v":112151.89},{"$f":"'EoL emissions'!N20","v":982.66324000000009},{"$f":"'EoL emissions'!O20","v":12.995402},{"$f":"'EoL emissions'!P20","v":388.87444999999997},{"$f":"'EoL emissions'!Q20","v":2.1829915E-5},{"$f":"'EoL emissions'!R20","v":4.0440942751652256E-9}]
[null,null,null,null,"Other/Unknown use",{"$f":"IF($B$3=\"Unknown\",'EoL emissions'!B21,VLOOKUP($B$3,treat_impact_UU,F$37,FALSE))","v":628.0350266939181},{"$f":"IF($B$3=\"Unknown\",'EoL emissions'!C21,VLOOKUP($B$3,treat_impact_UU,G$37,FALSE))","v":3.8084651718844523E-6},{"$f":"IF($B$3=\"Unknown\",'EoL emissions'!D21,VLOOKUP($B$3,treat_impact_UU,H$37,FALSE))","v":1.1868451759781964E-3},{"$f":"IF($B$3=\"Unknown\",'EoL emissions'!E21,VLOOKUP($B$3,treat_impact_UU,I$37,FALSE))","v":2.0303336149809108E-5},{"$f":"IF($B$3=\"Unknown\",'EoL emissions'!F21,VLOOKUP($B$3,treat_impact_UU,J$37,FALSE))","v":3.3978104066715571E-6},{"$f":"IF($B$3=\"Unknown\",'EoL emissions'!G21,VLOOKUP($B$3,treat_impact_UU,K$37,FALSE))","v":2.384380350708653},{"$f":"IF($B$3=\"Unknown\",'EoL emissions'!H21,VLOOKUP($B$3,treat_impact_UU,L$37,FALSE))","v":0.36515217566992941},{"$f":"IF($B$3=\"Unknown\",'EoL emissions'!I21,VLOOKUP($B$3,treat_impact_UU,M$37,FALSE))","v":0.39440601934622349},{"$f":"IF($B$3=\"Unknown\",'EoL emissions'!J21,VLOOKUP($B$3,treat_impact_UU,N$37,FALSE))","v":1.3769175475394417},{"$f":"IF($B$3=\"Unknown\",'EoL emissions'!K21,VLOOKUP($B$3,treat_impact_UU,O$37,FALSE))","v":3.3706308614588905E-2},{"$f":"IF($B$3=\"Unknown\",'EoL emissions'!L21,VLOOKUP($B$3,treat_impact_UU,P$37,FALSE))","v":1.444424065704506},{"$f":"IF($B$3=\"Unknown\",'EoL emissions'!M21,VLOOKUP($B$3,treat_impact_UU,Q$37,FALSE))","v":87729.445792101891},{"$f":"IF($B$3=\"Unknown\",'EoL emissions'!N21,VLOOKUP($B$3,treat_impact_UU,R$37,FALSE))","v":1005.744182894323},{"$f":"IF($B$3=\"Unknown\",'EoL emissions'!O21,VLOOKUP($B$3,treat_impact_UU,S$37,FALSE))","v":15.562142531117354},{"$f":"IF($B$3=\"Unknown\",'EoL emissions'!P21,VLOOKUP($B$3,treat_impact_UU,T$37,FALSE))","v":256.4700234008784},{"$f":"IF($B$3=\"Unknown\",'EoL emissions'!Q21,VLOOKUP($B$3,treat_impact_UU,U$37,FALSE))","v":1.5686617122429468E-5},{"$f":"IF($B$3=\"Unknown\",'EoL emissions'!R21,VLOOKUP($B$3,treat_impact_UU,V$37,FALSE))","v":3.2199394229557122E-9}]
[null,null,null,null,"Other/Unknown",{"$f":"IF($B$3=\"Unknown\",'EoL emissions'!B22,VLOOKUP($B$3,treat_impact_UP,F$37,FALSE))","v":352.29358446017068},{"$f":"IF($B$3=\"Unknown\",'EoL emissions'!C22,VLOOKUP($B$3,treat_impact_UP,G$37,FALSE))","v":4.2609880359538364E-6},{"$f":"IF($B$3=\"Unknown\",'EoL emissions'!D22,VLOOKUP($B$3,treat_impact_UP,H$37,FALSE))","v":2.9296592281762056E-4},{"$f":"IF($B$3=\"Unknown\",'EoL emissions'!E22,VLOOKUP($B$3,treat_impact_UP,I$37,FALSE))","v":1.5330328484329947E-5},{"$f":"IF($B$3=\"Unknown\",'EoL emissions'!F22,VLOOKUP($B$3,treat_impact_UP,J$37,FALSE))","v":9.466486946341504E-6},{"$f":"IF($B$3=\"Unknown\",'EoL emissions'!G22,VLOOKUP($B$3,treat_impact_UP,K$37,FALSE))","v":2.8761867690112655},{"$f":"IF($B$3=\"Unknown\",'EoL emissions'!H22,VLOOKUP($B$3,treat_impact_UP,L$37,FALSE))","v":0.50980934379834986},{"$f":"IF($B$3=\"Unknown\",'EoL emissions'!I22,VLOOKUP($B$3,treat_impact_UP,M$37,FALSE))","v":1.5491805546286266},{"$f":"IF($B$3=\"Unknown\",'EoL emissions'!J22,VLOOKUP($B$3,treat_impact_UP,N$37,FALSE))","v":6.3010157332698604},{"$f":"IF($B$3=\"Unknown\",'EoL emissions'!K22,VLOOKUP($B$3,treat_impact_UP,O$37,FALSE))","v":0.11990466611637693},{"$f":"IF($B$3=\"Unknown\",'EoL emissions'!L22,VLOOKUP($B$3,treat_impact_UP,P$37,FALSE))","v":0.47843636436792947},{"$f":"IF($B$3=\"Unknown\",'EoL emissions'!M22,VLOOKUP($B$3,treat_impact_UP,Q$37,FALSE))","v":20858.050832688336},{"$f":"IF($B$3=\"Unknown\",'EoL emissions'!N22,VLOOKUP($B$3,treat_impact_UP,R$37,FALSE))","v":1685.6968942828116},{"$f":"IF($B$3=\"Unknown\",'EoL emissions'!O22,VLOOKUP($B$3,treat_impact_UP,S$37,FALSE))","v":5.1986423086971998},{"$f":"IF($B$3=\"Unknown\",'EoL emissions'!P22,VLOOKUP($B$3,treat_impact_UP,T$37,FALSE))","v":-443.61162006280932},{"$f":"IF($B$3=\"Unknown\",'EoL emissions'!Q22,VLOOKUP($B$3,treat_impact_UP,U$37,FALSE))","v":-3.8757827264010721E-5},{"$f":"IF($B$3=\"Unknown\",'EoL emissions'!R22,VLOOKUP($B$3,treat_impact_UP,V$37,FALSE))","v":1.0348925262132576E-9}]
[null,null,null,null,null,2,3,4,5,6,7,8,9,10,11,12,13,14,15,16,17,18]
[null,"Waste treatment",null,"Amount (in tonnes)","Cost (euros)","IPCC GWP 100a","Ozone depletion","Human toxicity, non-cancer effects","Human toxicity, cancer effects","Particulate matter","Ionizing radiation HH","Photochemical ozone formation","Acidification","Terrestrial eutrophication","Freshwater eutrophication","Marine eutrophication","Freshwater ecotoxicity","Land use","Water scarcity","ADP Fossil","ADP (ultimate)","Single point"]
[null,{"$f":"Calculator!L6","v":"Other/Unknown"},{"$f":"IF((AND(B47=\"Other/Unknown\",B5=\"use\")),\"Other/Unknown use\",B47)","v":"Other/Unknown use"},{"$f":"D32*10^-3","v":1100},{"$f":"IF(D51=\"Gleaning\",0,D47*VLOOKUP(C47,treatment_cost,2,FALSE))","v":170281.03256883405},{"$f":"IF($D$51=\"Gleaning\",0,VLOOKUP($C$47,treat_impacts_CS,F45,FALSE)*$D$47)","v":690838.52936330996},4.1893116890728979E-3,1.3055296935760161,2.233366976479002E-2,3.7375914473387127E-3,2622.8183857795184,401.66739323692235,433.84662128084585,1514.609302293386,37.076939476047798,1588.8664722749565,96502390.371312082,1106318.6011837553,17118.35678422909,282117.02574096626,1.7255278834672413E-2,3.5419333652512835E-6]
[]
["ACTION impacts/costs"]
[null,null,null,"Action type","Cost (euros)","IPCC GWP 100a","Ozone depletion","Human toxicity, non-cancer effects","Human toxicity, cancer effects","Particulate matter","Ionizing radiation HH","Photochemical ozone formation","Acidification","Terrestrial eutrophication","Freshwater eutrophication","Marine eutrophication","Freshwater ecotoxicity","Land use","Water scarcity","ADP Fossil","ADP (ultimate)","Single point"]
[null,null,null,{"$f":"Calculator!F6","v":"Consumer behaviour change"},{"$f":"Calculator!J6","v":100000},{"$f":"'Action impacts'!B25","v":325.96050105391566},{"$f":"'Action impacts'!C25","v":4.7466380725489E-5},{"$f":"'Action impacts'!D25","v":3.401451326071485E-5},{"$f":"'Action impacts'!E25","v":5.2275472738641153E-6},{"$f":"'Action impacts'!F25","v":2.2126171731280974E-5},{"$f":"'Action impacts'!G25","v":18.59914800211692},{"$f":"'Action impacts'!H25","v":1.0812513862808393},{"$f":"'Action impacts'!I25","v":1.6930425036357901},{"$f":"'Action impacts'!J25","v":3.4413420856373413},{"$f":"'Action impacts'!K25","v":1.7848086101353688E-2},{"$f":"'Action impacts'!L25","v":0.3184203727653202},{"$f":"'Action impacts'!M25","v":615.31026075117074},{"$f":"'Action impacts'!N25","v":12843.187562681926},{"$f":"'Action impacts'!O25","v":109.92331723940555},{"$f":"'Action impacts'!P25","v":5090.9929365120943},{"$f":"'Action impacts'!Q25","v":2.953093974200096E-3},{"$f":"'Action impacts'!R25","v":5.7771327187989259E-10}]
[]
[]
["Results"]
[null,"Cost of action",{"$f":"-E51","v":-100000}]
[null,"Savings from avoided treatment",{"$f":"E47","v":170281.03256883405}]
[null,"Savings from avoided food production",{"$f":"IF(B35=0,E32*VLOOKUP(Calculator!$F$6,category,2,FALSE),B35)","v":300000}]
[null,"Total net savings",{"$f":"C57+C56+C55","v":370281.03256883402}]
[]
[]
[]
[]
[]
[null,null,null,null,null,null,null,null,null,null,null,null,null,"€"]
[]
[]
[]
[]
[]
[]
[]
[null,null,"Climate Change","Ozone depletion","Human toxicity, non-cancer effects","Human toxicity, cancer effects","Particulate matter","Ionizing radiation, human health","Photochemical ozone formation, human health","Acidification","Terrestrial eutrophication","Freshwater eutrophication","Marine eutrophication","Freshwater ecotoxicity","Land use","Water use","Resource use, fossil","Resource use, minerals and metals","Single Point"]
[null,"Impact of action",{"$f":"-F51","v":-325.96050105391566},-4.7466380725489E-5,-3.401451326071485E-5,-5.2275472738641153E-6,-2.2126171731280974E-5,-18.59914800211692,-1.0812513862808393,-1.6930425036357901,-3.4413420856373413,-1.7848086101353688E-2,-0.3184203727653202,-615.31026075117074,-12843.187562681926,-109.92331723940555,-5090.9929365120943,-2.953093974200096E-3,-5.7771327187989259E-10]
[null,"Impact of avoided treatment",{"$f":"F47","v":690838.52936330996},{"$f":"G47","v":4.1893116890728979E-3},1.3055296935760161,2.233366976479002E-2,3.7375914473387127E-3,2622.8183857795184,401.66739323692235,433.84662128084585,1514.609302293386,37.076939476047798,1588.8664722749565,96502390.371312082,1106318.6011837553,17118.35678422909,282117.02574096626,1.7255278834672413E-2,3.5419333652512835E-6]
[null,"Impact of saved food",{"$f":"F32*VLOOKUP(Calculator!$F$6,category,2,FALSE)","v":1486913.4129086467},{"$f":"G32*VLOOKUP(Calculator!$F$6,category,2,FALSE)","v":8.0612808878879552},{"$f":"H32*VLOOKUP(Calculator!$F$6,category,2,FALSE)","v":1.0131213652142639},{"$f":"I32*VLOOKUP(Calculator!$F$6,category,2,FALSE)","v":1.9306488070947633E-2},{"$f":"J32*VLOOKUP(Calculator!$F$6,category,2,FALSE)","v":7.3569030164426411E-2},{"$f":"K32*VLOOKUP(Calculator!$F$6,category,2,FALSE)","v":58942.315282982861},{"$f":"L32*VLOOKUP(Calculator!$F$6,category,2,FALSE)","v":3440.2342008446394},{"$f":"M32*VLOOKUP(Calculator!$F$6,category,2,FALSE)","v":10600.820573773744},{"$f":"N32*VLOOKUP(Calculator!$F$6,category,2,FALSE)","v":38362.893310951302},{"$f":"O32*VLOOKUP(Calculator!$F$6,category,2,FALSE)","v":393.04095281433388},{"$f":"P32*VLOOKUP(Calculator!$F$6,category,2,FALSE)","v":7073.3515187491157},{"$f":"Q32*VLOOKUP(Calculator!$F$6,category,2,FALSE)","v":22813929.071355876},{"$f":"R32*VLOOKUP(Calculator!$F$6,category,2,FALSE)","v":68474151.796659783},{"$f":"S32*VLOOKUP(Calculator!$F$6,category,2,FALSE)","v":5923074.7959463215},{"$f":"T32*VLOOKUP(Calculator!$F$6,category,2,FALSE)","v":13774368.159412775},{"$f":"U32*VLOOKUP(Calculator!$F$6,category,2,FALSE)","v":4.0930190224967395},{"$f":"V32*VLOOKUP(Calculator!$F$6,category,2,FALSE)","v":4.0488571506385748E-6}]
[null,"Total",{"$f":"SUM(C73:C75)","v":2177425.9817709029},{"$f":"SUM(D73:D75)","v":8.0654227331963018},2.3186170442770191,4.1634930288463788E-2,7.7284495440033837E-2,61546.534520760266,3840.8203426952809,11032.974152550954,39874.061271159051,430.10004420428032,8661.8995706513069,119315704.1324072,69567627.210280851,5940083.229413311,14051394.192217229,4.1073212073572121,{"$f":"SUM(S73:S75)","v":7.5902128026179786E-6}]
[]
[]
[null,"Impact category",{"$f":"Calculator!Q9","v":"Climate Change"}]
[null,"Impact of action",{"$f":"HLOOKUP($C$79,$B$72:$S$76,2,FALSE)","v":-325.96050105391566},{"$f":"VLOOKUP($C$79,units,2,FALSE)","v":"kg CO2 eq"}]
[null,"Impact of avoided treatment",{"$f":"HLOOKUP($C$79,$B$72:$S$76,3,FALSE)","v":690838.52936330996},{"$f":"VLOOKUP($C$79,units,2,FALSE)","v":"kg CO2 eq"}]
[null,"Impact of saved food",{"$f":"HLOOKUP($C$79,$B$72:$S$76,4,FALSE)","v":1486913.4129086467},{"$f":"VLOOKUP($C$79,units,2,FALSE)","v":"kg CO2 eq"}]
[null,"Total",{"$f":"HLOOKUP($C$79,$B$72:$S$76,5,FALSE)","v":2177425.9817709029},{"$f":"VLOOKUP($C$79,units,2,FALSE)","v":"kg CO2 eq"}]
[]
[]
[]
[]
[]
[]
[]
[]
[]
[]
[]
[]
[]
[null,"Impact category","Single Point"]
[null,"Impact of action",{"$f":"HLOOKUP($C$97,$B$72:$S$76,2,FALSE)","v":-5.7771327187989259E-10},{"$f":"VLOOKUP($C$97,units,2,FALSE)","v":"Pt"}]
[null,"Impact of avoided treatment",{"$f":"HLOOKUP($C$97,$B$72:$S$76,3,FALSE)","v":3.5419333652512835E-6},{"$f":"VLOOKUP($C$97,units,2,FALSE)","v":"Pt"}]
[null,"Impact of saved food",{"$f":"HLOOKUP($C$97,$B$72:$S$76,4,FALSE)","v":4.0488571506385748E-6},{"$f":"VLOOKUP($C$97,units,2,FALSE)","v":"Pt"}]
[null,"Total",{"$f":"HLOOKUP($C$97,$B$72:$S$76,5,FALSE)","v":7.5902128026179786E-6},{"$f":"VLOOKUP($C$97,units,2,FALSE)","v":"Pt"}]
[]
[]
[]
[]
[]
[]
[]
[]
[]
[]
[]
[]
[]
[null,"Impact category","Climate Change","Climate change [kgCO2eq]"]
[null,"Impact of action",{"$f":"HLOOKUP($C$115,$B$72:$S$76,2,FALSE)","v":-325.96050105391566}]
[null,"Impact of avoided treatment",{"$f":"HLOOKUP($C$115,$B$72:$S$76,3,FALSE)","v":690838.52936330996}]
[null,"Impact of saved food",{"$f":"HLOOKUP($C$115,$B$72:$S$76,4,FALSE)","v":1486913.4129086467}]
[null,"Total",{"$f":"HLOOKUP($C$115,$B$72:$S$76,5,FALSE)","v":2177425.9817709029}]
[]
[null,"Impact category","Ozone depletion","Ozone depletion [kg CFC-11eq]"]
[null,"Impact of action",{"$f":"HLOOKUP(C121,$B$72:$S$76,2,FALSE)","v":-4.7466380725489E-5}]
[null,"Impact of avoided treatment",{"$f":"HLOOKUP(C121,$B$72:$S$76,3,FALSE)","v":4.1893116890728979E-3}]
[null,"Impact of saved food",{"$f":"HLOOKUP(C121,$B$72:$S$76,4,FALSE)","v":8.0612808878879552}]
[null,"Total",{"$f":"HLOOKUP(C121,$B$72:$S$76,5,FALSE)","v":8.0654227331963018}]
[]
[null,"Impact category","Human toxicity, non-cancer effects","Human toxicity, non-cancer effects [CTUh]"]
[null,"Impact of action",{"$f":"HLOOKUP(C127,$B$72:$S$76,2,FALSE)","v":-3.401451326071485E-5}]
[null,"Impact of avoided treatment",{"$f":"HLOOKUP(C127,$B$72:$S$76,3,FALSE)","v":1.3055296935760161}]
[null,"Impact of saved food",{"$f":"HLOOKUP(C127,$B$72:$S$76,4,FALSE)","v":1.0131213652142639}]
[null,"Total",{"$f":"HLOOKUP(C127,$B$72:$S$76,5,FALSE)","v":2.3186170442770191}]
[]
[null,"Impact category","Human toxicity, cancer effects","Human toxicity, cancer effects [CTUh]"]
[null,"Impact of action",{"$f":"HLOOKUP(C133,$B$72:$S$76,2,FALSE)","v":-5.2275472738641153E-6}]
[null,"Impact of avoided treatment",{"$f":"HLOOKUP(C133,$B$72:$S$76,3,FALSE)","v":2.233366976479002E-2}]
[null,"Impact of saved food",{"$f":"HLOOKUP(C133,$B$72:$S$76,4,FALSE)","v":1.9306488070947633E-2}]
[null,"Total",{"$f":"HLOOKUP(C133,$B$72:$S$76,5,FALSE)","v":4.1634930288463788E-2}]
[]
[null,"Impact category","Particulate matter","Particulate matter [diseases incidences]"]
[null,"Impact of action",{"$f":"HLOOKUP(C139,$B$72:$S$76,2,FALSE)","v":-2.2126171731280974E-5}]
[null,"Impact of avoided treatment",{"$f":"HLOOKUP(C139,$B$72:$S$76,3,FALSE)","v":3.7375914473387127E-3}]
[null,"Impact of saved food",{"$f":"HLOOKUP(C139,$B$72:$S$76,4,FALSE)","v":7.3569030164426411E-2}]
[null,"Total",{"$f":"HLOOKUP(C139,$B$72:$S$76,5,FALSE)","v":7.7284495440033837E-2}]
[]
[null,"Impact category","Ionizing radiation, human health","Ionizing radiation, human health [kBq U235]"]
[null,"Impact of action",{"$f":"HLOOKUP(C145,$B$72:$S$76,2,FALSE)","v":-18.59914800211692}]
[null,"Impact of avoided treatment",{"$f":"HLOOKUP(C145,$B$72:$S$76,3,FALSE)","v":2622.8183857795184}]
[null,"Impact of saved food",{"$f":"HLOOKUP(C145,$B$72:$S$76,4,FALSE)","v":58942.315282982861}]
[null,"Total",{"$f":"HLOOKUP(C145,$B$72:$S$76,5,FALSE)","v":61546.534520760266}]
[]
[null,"Impact category","Photochemical ozone formation, human health","Photochemical ozone formation, human health [kg NMVOC eq]"]
[null,"Impact of action",{"$f":"HLOOKUP(C151,$B$72:$S$76,2,FALSE)","v":-1.0812513862808393}]
[null,"Impact of avoided treatment",{"$f":"HLOOKUP(C151,$B$72:$S$76,3,FALSE)","v":401.66739323692235}]
[null,"Impact of saved food",{"$f":"HLOOKUP(C151,$B$72:$S$76,4,FALSE)","v":3440.2342008446394}]
[null,"Total",{"$f":"HLOOKUP(C151,$B$72:$S$76,5,FALSE)","v":3840.8203426952809}]
[]
[null,"Impact category","Acidification","Acidification [mol H+ eq]"]
[null,"Impact of action",{"$f":"HLOOKUP(C157,$B$72:$S$76,2,FALSE)","v":-1.6930425036357901}]
[null,"Impact of avoided treatment",{"$f":"HLOOKUP(C157,$B$72:$S$76,3,FALSE)","v":433.84662128084585}]
[null,"Impact of saved food",{"$f":"HLOOKUP(C157,$B$72:$S$76,4,FALSE)","v":10600.820573773744}]
[null,"Total",{"$f":"HLOOKUP(C157,$B$72:$S$76,5,FALSE)","v":11032.974152550954}]
[]
[null,"Impact category","Terrestrial eutrophication","Terrestrial eutrophication [mol N eq]"]
[null,"Impact of action",{"$f":"HLOOKUP(C163,$B$72:$S$76,2,FALSE)","v":-3.4413420856373413}]
[null,"Impact of avoided treatment",{"$f":"HLOOKUP(C163,$B$72:$S$76,3,FALSE)","v":1514.609302293386}]
[null,"Impact of saved food",{"$f":"HLOOKUP(C163,$B$72:$S$76,4,FALSE)","v":38362.893310951302}]
[null,"Total",{"$f":"HLOOKUP(C163,$B$72:$S$76,5,FALSE)","v":39874.061271159051}]
[]
[null,"Impact category","Freshwater eutrophication","Freshwater eutrophication [kg P eq]"]
[null,"Impact of action",{"$f":"HLOOKUP(C169,$B$72:$S$76,2,FALSE)","v":-1.7848086101353688E-2}]
[null,"Impact of avoided treatment",{"$f":"HLOOKUP(C169,$B$72:$S$76,3,FALSE)","v":37.076939476047798}]
[null,"Impact of saved food",{"$f":"HLOOKUP(C169,$B$72:$S$76,4,FALSE)","v":393.04095281433388}]
[null,"Total",{"$f":"HLOOKUP(C169,$B$72:$S$76,5,FALSE)","v":430.10004420428032}]
[]
[null,"Impact category","Marine eutrophication","Marine eutrophication [kg N eq]"]
[null,"Impact of action",{"$f":"HLOOKUP(C175,$B$72:$S$76,2,FALSE)","v":-0.3184203727653202}]
[null,"Impact of avoided treatment",{"$f":"HLOOKUP(C175,$B$72:$S$76,3,FALSE)","v":1588.8664722749565}]
[null,"Impact of saved food",{"$f":"HLOOKUP(C175,$B$72:$S$76,4,FALSE)","v":7073.3515187491157}]
[null,"Total",{"$f":"HLOOKUP(C175,$B$72:$S$76,5,FALSE)","v":8661.8995706513069}]
[]
[null,"Impact category","Freshwater ecotoxicity","Freshwater ecotoxicity [CTUe]"]
[null,"Impact of action",{"$f":"HLOOKUP(C181,$B$72:$S$76,2,FALSE)","v":-615.31026075117074}]
[null,"Impact of avoided treatment",{"$f":"HLOOKUP(C181,$B$72:$S$76,3,FALSE)","v":96502390.371312082}]
[null,"Impact of saved food",{"$f":"HLOOKUP(C181,$B$72:$S$76,4,FALSE)","v":22813929.071355876}]
[null,"Total",{"$f":"HLOOKUP(C181,$B$72:$S$76,5,FALSE)","v":119315704.1324072}]
[]
[null,"Impact category","Land use","Land use [Pt]"]
[null,"Impact of action",{"$f":"HLOOKUP(C187,$B$72:$S$76,2,FALSE)","v":-12843.187562681926}]
[null,"Impact of avoided treatment",{"$f":"HLOOKUP(C187,$B$72:$S$76,3,FALSE)","v":1106318.6011837553}]
[null,"Impact of saved food",{"$f":"HLOOKUP(C187,$B$72:$S$76,4,FALSE)","v":68474151.796659783}]
[null,"Total",{"$f":"HLOOKUP(C187,$B$72:$S$76,5,FALSE)","v":69567627.210280851}]
[]
[null,"Impact category","Water use","Water use [m3 world eq. deprived]"]
[null,"Impact of action",{"$f":"HLOOKUP(C193,$B$72:$S$76,2,FALSE)","v":-109.92331723940555}]
[null,"Impact of avoided treatment",{"$f":"HLOOKUP(C193,$B$72:$S$76,3,FALSE)","v":17118.35678422909}]
[null,"Impact of saved food",{"$f":"HLOOKUP(C193,$B$72:$S$76,4,FALSE)","v":5923074.7959463215}]
[null,"Total",{"$f":"HLOOKUP(C193,$B$72:$S$76,5,FALSE)","v":5940083.229413311}]
[]
[null,"Impact category","Resource use, fossil","Resource use, fossil [MJ]"]
[null,"Impact of action",{"$f":"HLOOKUP(C199,$B$72:$S$76,2,FALSE)","v":-5090.9929365120943}]
[null,"Impact of avoided treatment",{"$f":"HLOOKUP(C199,$B$72:$S$76,3,FALSE)","v":282117.02574096626}]
[null,"Impact of saved food",{"$f":"HLOOKUP(C199,$B$72:$S$76,4,FALSE)","v":13774368.159412775}]
[null,"Total",{"$f":"HLOOKUP(C199,$B$72:$S$76,5,FALSE)","v":14051394.192217229}]
[]
[null,"Impact category","Resource use, minerals and metals","Resource use, minerals and metals [kg Sb eq]"]
[null,"Impact of action",{"$f":"HLOOKUP(C205,$B$72:$S$76,2,FALSE)","v":-2.953093974200096E-3}]
[null,"Impact of avoided treatment",{"$f":"HLOOKUP(C205,$B$72:$S$76,3,FALSE)","v":1.7255278834672413E-2}]
[null,"Impact of saved food",{"$f":"HLOOKUP(C205,$B$72:$S$76,4,FALSE)","v":4.0930190224967395}]
[null,"Total",{"$f":"HLOOKUP(C205,$B$72:$S$76,5,FALSE)","v":4.1073212073572121}]

{"sheet":"Impacts per FSC stage","index":3,"n_rows":560,"n_cols":20,"rows_kept":560,"cut":false,"hidden":true,"merged":[[273,17,273,18],[188,0,188,1],[194,0,194,1],[200,0,200,1],[152,0,152,1],[158,0,158,1],[164,0,164,1],[170,0,170,1],[176,0,176,1],[182,0,182,1],[206,0,206,1],[212,0,212,1],[218,0,218,1],[224,0,224,1],[230,0,230,1],[273,2,273,4],[68,0,68,1],[146,0,146,1],[80,0,80,1],[86,0,86,1],[92,0,92,1],[98,0,98,1],[104,0,104,1],[110,0,110,1],[116,0,116,1],[122,0,122,1],[128,0,128,1],[134,0,134,1],[140,0,140,1],[38,0,38,1],[44,0,44,1],[50,0,50,1],[56,0,56,1],[62,0,62,1],[8,0,8,1],[14,0,14,1],[20,0,20,1],[26,0,26,1],[32,0,32,1],[273,5,273,7],[273,8,273,10],[273,11,273,13],[273,14,273,16],[74,0,74,1]]}
[null,null,null,5,6,7,8,9,10,11,12,13,14,15,16,17,18,19,20]
[null,null,null,"IPCC GWP 100a","Ozone depletion","Human toxicity, non-cancer effects","Human toxicity, cancer effects","Particulate matter","Ionizing radiation HH","Photochemical ozone formation","Acidification","Terrestrial eutrophication","Freshwater eutrophication","Marine eutrophication","Freshwater ecotoxicity","Land use","Water scarcity","ADP Fossil","ADP (ultimate)","Single point"]
[null,null,null,"kg CO2 eq","kg CFC11 eq","CTUh","CTUh","Death","kBq U235 eq","kg NMVOC eq","molc H+ eq","molc N eq","kg P eq","kg N eq","CTUe","Pt","m3 water eq","MJ","kg Sb eq"]
["Meat","PORK"]
["PORK","agriculture",{"$f":"CONCATENATE(A5,\" \", B5)","v":"PORK agriculture"},{"$f":"VLOOKUP($A5,primary,D$1,FALSE)","v":6.11},3.4200000000000002E-8,2.21E-6,6.9899999999999997E-8,9.0699999999999996E-7,5.5399999999999998E-2,7.5500000000000003E-3,0.126,0.55900000000000005,1.33E-3,3.9199999999999999E-2,16.8,786,1.21,20.9,1.8099999999999999E-7,{"$f":"(D5/$D$239)*$D$240+(E5/$E$239)*$E$240+(F5/$F$239)*$F$240+(G5/$G$239)*$G$240+(H5/$H$239)*$H$240+(I5/$I$239)*$I$240+(J5/$J$239)*$J$240+(K5/$K$239)*$K$240+(L5/$L$239)*$L$240+(M5/$M$239)*$M$240+(N5/$N$239)*$N$240+(O5/$O$239)*$O$240+(P5/$P$239)*$P$240+(Q5/$Q$239)*$Q$240+(R5/$R$239)*$R$240+(S5/$S$239)*$S$240","v":1.2779484985175513E-11}]
["PORK","manufacturing",{"$f":"CONCATENATE(A6,\" \", B6)","v":"PORK manufacturing"},{"$f":"VLOOKUP($A6,manufacturing,D$1,FALSE)","v":6.842392377855},8.8517151451242795E-7,2.3580743942413519E-6,7.5265745035847343E-8,9.6555712199214145E-7,7.4177036483307604E-2,8.7773574973715671E-3,0.13390547748573969,0.59312716657981646,1.4076911071423794E-3,4.1596342149763856E-2,19.25640885742331,828.74401084001215,1.4887873108454723,25.688571878909055,3.2710890242182141E-7,{"$f":"(D6/$D$239)*$D$240+(E6/$E$239)*$E$240+(F6/$F$239)*$F$240+(G6/$G$239)*$G$240+(H6/$H$239)*$H$240+(I6/$I$239)*$I$240+(J6/$J$239)*$J$240+(K6/$K$239)*$K$240+(L6/$L$239)*$L$240+(M6/$M$239)*$M$240+(N6/$N$239)*$N$240+(O6/$O$239)*$O$240+(P6/$P$239)*$P$240+(Q6/$Q$239)*$Q$240+(R6/$R$239)*$R$240+(S6/$S$239)*$S$240","v":1.395248570914131E-11}]
["PORK","retail","PORK retail",{"$f":"VLOOKUP($A7,retail,D$1,FALSE)","v":7.5599265850247992},1.3485333465541872E-5,2.3907929338647793E-6,7.6819471263091328E-8,9.7736333470616939E-7,8.1839584210621374E-2,9.5544891953739577E-3,0.13475452037490188,0.59601145318047699,1.4145255485705874E-3,4.1863294183584386E-2,20.587347589065025,830.71889907842149,1.5413188670880316,27.478806506879945,7.603676682624056E-7,{"$f":"(D7/$D$239)*$D$240+(E7/$E$239)*$E$240+(F7/$F$239)*$F$240+(G7/$G$239)*$G$240+(H7/$H$239)*$H$240+(I7/$I$239)*$I$240+(J7/$J$239)*$J$240+(K7/$K$239)*$K$240+(L7/$L$239)*$L$240+(M7/$M$239)*$M$240+(N7/$N$239)*$N$240+(O7/$O$239)*$O$240+(P7/$P$239)*$P$240+(Q7/$Q$239)*$Q$240+(R7/$R$239)*$R$240+(S7/$S$239)*$S$240","v":1.4682268947144276E-11}]
["PORK","use","PORK use",{"$f":"VLOOKUP($A8,use,D$1,FALSE)","v":9.3870302243048958},1.5816357542026367E-5,2.9880555511630259E-6,9.7567459905089353E-8,1.1748898346900876E-6,0.11614879658926699,1.2585332156770717E-2,0.1623346156636441,0.70924636286947629,2.6011338632795332E-3,7.2384138692564118E-2,31.54774935043373,991.25512011023977,3.6186835847927274,38.678868665457394,2.48310097447789E-6,1.9146829122588876E-11]
[]
["Meat","BEEF"]
["BEEF","agriculture",{"$f":"CONCATENATE(A11,\" \", B11)","v":"BEEF agriculture"},{"$f":"VLOOKUP($A11,primary,D$1,FALSE)","v":28.3},1.24E-8,2.0100000000000001E-5,3.2399999999999999E-7,3.5899999999999999E-6,1.9900000000000001E-2,3.09E-2,0.48299999999999998,2.14,4.2599999999999999E-3,0.189,37,3320,8.83,61.3,3.4799999999999999E-7,{"$f":"(D11/$D$239)*$D$240+(E11/$E$239)*$E$240+(F11/$F$239)*$F$240+(G11/$G$239)*$G$240+(H11/$H$239)*$H$240+(I11/$I$239)*$I$240+(J11/$J$239)*$J$240+(K11/$K$239)*$K$240+(L11/$L$239)*$L$240+(M11/$M$239)*$M$240+(N11/$N$239)*$N$240+(O11/$O$239)*$O$240+(P11/$P$239)*$P$240+(Q11/$Q$239)*$Q$240+(R11/$R$239)*$R$240+(S11/$S$239)*$S$240","v":5.7330406368089336E-11}]
["BEEF","manufacturing",{"$f":"CONCATENATE(A12,\" \", B12)","v":"BEEF manufacturing"},{"$f":"VLOOKUP($A12,manufacturing,D$1,FALSE)","v":30.356076588381313},2.60432940924927E-6,2.1194569131083458E-5,3.4292258714111052E-7,3.8003044904131939E-6,2.9882299641202335E-2,3.3781568023687356E-2,0.51095810906468708,2.2585061139482376,4.4934700545107998E-3,0.19940686846555331,40.545882541633837,3496.3545371558012,9.5203662582138939,69.309624510487993,5.5552995505340039E-7,{"$f":"(D12/$D$239)*$D$240+(E12/$E$239)*$E$240+(F12/$F$239)*$F$240+(G12/$G$239)*$G$240+(H12/$H$239)*$H$240+(I12/$I$239)*$I$240+(J12/$J$239)*$J$240+(K12/$K$239)*$K$240+(L12/$L$239)*$L$240+(M12/$M$239)*$M$240+(N12/$N$239)*$N$240+(O12/$O$239)*$O$240+(P12/$P$239)*$P$240+(Q12/$Q$239)*$Q$240+(R12/$R$239)*$R$240+(S12/$S$239)*$S$240","v":6.0988693413148685E-11}]
["BEEF","retail","BEEF retail",{"$f":"VLOOKUP($A13,retail,D$1,FALSE)","v":31.639610795551111},3.0604491360278712E-5,2.1227287670706885E-5,3.4447631336835445E-7,3.8121107031272217E-6,3.7544847368516113E-2,3.4558699721689748E-2,0.51180715195384929,2.2613904005488976,4.5003044959390087E-3,0.19967382049937385,41.876821273275553,3498.3294253942104,9.5728978144564518,71.099859138458868,9.8878872089398474E-7,{"$f":"(D13/$D$239)*$D$240+(E13/$E$239)*$E$240+(F13/$F$239)*$F$240+(G13/$G$239)*$G$240+(H13/$H$239)*$H$240+(I13/$I$239)*$I$240+(J13/$J$239)*$J$240+(K13/$K$239)*$K$240+(L13/$L$239)*$L$240+(M13/$M$239)*$M$240+(N13/$N$239)*$N$240+(O13/$O$239)*$O$240+(P13/$P$239)*$P$240+(Q13/$Q$239)*$Q$240+(R13/$R$239)*$R$240+(S13/$S$239)*$S$240","v":6.2224772504765573E-11}]
["BEEF","use","BEEF use",{"$f":"VLOOKUP($A14,use,D$1,FALSE)","v":37.574181219771098},3.5852925115454316E-5,2.5051514746905193E-5,4.1087623577735431E-7,4.4941121291903835E-6,6.4405705716016462E-2,4.1870559832702117E-2,0.60385153464649455,2.6593258424673469,6.2027665263980035E-3,0.25888747005467727,56.965204505174512,4113.6584514723527,13.078939843416817,89.753471464590049,2.760447712108483E-6,7.486849694869548E-11]
[]
["Meat","POULTRY"]
["POULTRY","agriculture",{"$f":"CONCATENATE(A17,\" \", B17)","v":"POULTRY agriculture"},{"$f":"VLOOKUP($A17,primary,D$1,FALSE)","v":5.58},3.25E-8,1.4500000000000001E-6,4.9999999999999998E-8,7.3200000000000004E-7,5.2299999999999999E-2,6.0899999999999999E-3,9.0200000000000002E-2,0.39900000000000002,1.1800000000000001E-3,2.35E-2,12.1,603,0.67700000000000005,18.600000000000001,1.9500000000000001E-7,{"$f":"(D17/$D$239)*$D$240+(E17/$E$239)*$E$240+(F17/$F$239)*$F$240+(G17/$G$239)*$G$240+(H17/$H$239)*$H$240+(I17/$I$239)*$I$240+(J17/$J$239)*$J$240+(K17/$K$239)*$K$240+(L17/$L$239)*$L$240+(M17/$M$239)*$M$240+(N17/$N$239)*$N$240+(O17/$O$239)*$O$240+(P17/$P$239)*$P$240+(Q17/$Q$239)*$Q$240+(R17/$R$239)*$R$240+(S17/$S$239)*$S$240","v":9.8149590886414881E-12}]
["POULTRY","manufacturing",{"$f":"CONCATENATE(A18,\" \", B18)","v":"POULTRY manufacturing"},{"$f":"VLOOKUP($A18,manufacturing,D$1,FALSE)","v":7.4435976410128939},5.3806888293348067E-7,1.5581080784518786E-6,5.4205797667426282E-8,7.8083238515003659E-7,7.0588089114886537E-2,7.2147048657926188E-3,9.6065582748897607E-2,0.42402642973771121,1.2494705808265897E-3,2.5048373728711226E-2,14.318966752160154,636.09790557685437,0.87508310031915659,22.969782405224848,3.4660890242182145E-7,{"$f":"(D18/$D$239)*$D$240+(E18/$E$239)*$E$240+(F18/$F$239)*$F$240+(G18/$G$239)*$G$240+(H18/$H$239)*$H$240+(I18/$I$239)*$I$240+(J18/$J$239)*$J$240+(K18/$K$239)*$K$240+(L18/$L$239)*$L$240+(M18/$M$239)*$M$240+(N18/$N$239)*$N$240+(O18/$O$239)*$O$240+(P18/$P$239)*$P$240+(Q18/$Q$239)*$Q$240+(R18/$R$239)*$R$240+(S18/$S$239)*$S$240","v":1.1245309791651733E-11}]
["POULTRY","retail","POULTRY retail",{"$f":"VLOOKUP($A19,retail,D$1,FALSE)","v":7.5078318481826933},2.8538230833962927E-5,1.5908266180753064E-6,5.5759523894670267E-8,7.9263859786406432E-7,7.8250636842200308E-2,7.9918365637950094E-3,9.6914625638059776E-2,0.4269107163383718,1.2563050222547977E-3,2.5315325762531756E-2,15.649905483801872,638.07279381526371,0.9276146565617156,24.760017033195737,7.7986766826240558E-7,{"$f":"(D19/$D$239)*$D$240+(E19/$E$239)*$E$240+(F19/$F$239)*$F$240+(G19/$G$239)*$G$240+(H19/$H$239)*$H$240+(I19/$I$239)*$I$240+(J19/$J$239)*$J$240+(K19/$K$239)*$K$240+(L19/$L$239)*$L$240+(M19/$M$239)*$M$240+(N19/$N$239)*$N$240+(O19/$O$239)*$O$240+(P19/$P$239)*$P$240+(Q19/$Q$239)*$Q$240+(R19/$R$239)*$R$240+(S19/$S$239)*$S$240","v":1.2018434690925301E-11}]
["POULTRY","use","POULTRY use",{"$f":"VLOOKUP($A20,use,D$1,FALSE)","v":9.3160579199484985},3.343414903128321E-5,2.0428653875517508E-6,7.284864510122576E-8,9.5718578876065722E-7,0.11174824957566559,1.0686384788349662E-2,0.11780634935179704,0.51012883379397844,2.3509506630035619E-3,4.941619812485272E-2,25.500907935097636,765.57980964306068,2.8403968215362716,35.456764880714644,2.4959240081857551E-6,1.589742198132282E-11]
[]
["Fish","COD"]
["COD","agriculture",{"$f":"CONCATENATE(A23,\" \", B23)","v":"COD agriculture"},{"$f":"VLOOKUP($A23,primary,D$1,FALSE)","v":2.25},6.6199999999999997E-7,3.33E-8,5.4199999999999999E-9,8.5599999999999999E-8,1.4999999999999999E-2,3.7100000000000001E-2,3.1099999999999999E-2,0.14599999999999999,1.03E-5,1.3299999999999999E-2,3.61,1.85,17.600000000000001,30.6,2.9999999999999999E-7,{"$f":"(D23/$D$239)*$D$240+(E23/$E$239)*$E$240+(F23/$F$239)*$F$240+(G23/$G$239)*$G$240+(H23/$H$239)*$H$240+(I23/$I$239)*$I$240+(J23/$J$239)*$J$240+(K23/$K$239)*$K$240+(L23/$L$239)*$L$240+(M23/$M$239)*$M$240+(N23/$N$239)*$N$240+(O23/$O$239)*$O$240+(P23/$P$239)*$P$240+(Q23/$Q$239)*$Q$240+(R23/$R$239)*$R$240+(S23/$S$239)*$S$240","v":5.6229910544889422E-12}]
["COD","manufacturing",{"$f":"CONCATENATE(A24,\" \", B24)","v":"COD manufacturing"},{"$f":"VLOOKUP($A24,manufacturing,D$1,FALSE)","v":3.1693992667603177},4.2923101346214546E-6,1.3098915897355484E-7,1.1906073766878694E-8,1.0472267986281022E-7,7.7728320841458157E-2,4.2085348454259132E-2,3.7222025886960927E-2,0.16502094670318171,5.7044108662034413E-5,1.5088463883756165E-2,6.2595192526197607,-16.765603874878767,18.744282270599825,43.867821214847162,3.214349094426464E-6,{"$f":"(D24/$D$239)*$D$240+(E24/$E$239)*$E$240+(F24/$F$239)*$F$240+(G24/$G$239)*$G$240+(H24/$H$239)*$H$240+(I24/$I$239)*$I$240+(J24/$J$239)*$J$240+(K24/$K$239)*$K$240+(L24/$L$239)*$L$240+(M24/$M$239)*$M$240+(N24/$N$239)*$N$240+(O24/$O$239)*$O$240+(P24/$P$239)*$P$240+(Q24/$Q$239)*$Q$240+(R24/$R$239)*$R$240+(S24/$S$239)*$S$240","v":7.2842606181377059E-12}]
["COD","retail","COD retail",{"$f":"VLOOKUP($A25,retail,D$1,FALSE)","v":3.5818512328923666},1.1112674524437707E-5,1.8158087312626718E-7,1.4076707778177652E-8,1.1621165846937267E-7,8.5499053227914151E-2,4.287914477476451E-2,3.8048122387575836E-2,0.16814809155466792,6.8099101875502933E-5,1.5382855959852358E-2,8.9268813988136255,-14.652105338457829,18.789078272145584,45.545849127781658,3.5026813175677783E-6,{"$f":"(D25/$D$239)*$D$240+(E25/$E$239)*$E$240+(F25/$F$239)*$F$240+(G25/$G$239)*$G$240+(H25/$H$239)*$H$240+(I25/$I$239)*$I$240+(J25/$J$239)*$J$240+(K25/$K$239)*$K$240+(L25/$L$239)*$L$240+(M25/$M$239)*$M$240+(N25/$N$239)*$N$240+(O25/$O$239)*$O$240+(P25/$P$239)*$P$240+(Q25/$Q$239)*$Q$240+(R25/$R$239)*$R$240+(S25/$S$239)*$S$240","v":7.832186389170893E-12}]
["COD","use","COD use",{"$f":"VLOOKUP($A26,use,D$1,FALSE)","v":5.1915861005500421},1.3742187852920063E-5,3.8287444431890262E-7,2.3651827411414007E-8,1.628409720064015E-7,0.11773918609611472,5.4018795528770903E-2,4.9658400434027354E-2,0.21731328293451382,9.6998455405571951E-4,3.7678962524719938E-2,17.656272991227738,0.51081202297187644,24.838352544398923,66.610830327146132,5.5704293953043797E-6,1.1489318406047808E-11]
[]
["Fish","SALMON"]
["SALMON","agriculture",{"$f":"CONCATENATE(A29,\" \", B29)","v":"SALMON agriculture"},{"$f":"VLOOKUP($A29,primary,D$1,FALSE)","v":6.47},9.9299999999999996E-8,4.9300000000000002E-6,5.6400000000000002E-8,3.7500000000000001E-7,9.1300000000000006E-2,1.6799999999999999E-2,4.1799999999999997E-2,0.17699999999999999,1.0999999999999999E-2,0.1,11,482,0.28899999999999998,36.5,1.37E-6,{"$f":"(D29/$D$239)*$D$240+(E29/$E$239)*$E$240+(F29/$F$239)*$F$240+(G29/$G$239)*$G$240+(H29/$H$239)*$H$240+(I29/$I$239)*$I$240+(J29/$J$239)*$J$240+(K29/$K$239)*$K$240+(L29/$L$239)*$L$240+(M29/$M$239)*$M$240+(N29/$N$239)*$N$240+(O29/$O$239)*$O$240+(P29/$P$239)*$P$240+(Q29/$Q$239)*$Q$240+(R29/$R$239)*$R$240+(S29/$S$239)*$S$240","v":1.4684092972166166E-11}]
["SALMON","manufacturing",{"$f":"CONCATENATE(A30,\" \", B30)","v":"SALMON manufacturing"},{"$f":"VLOOKUP($A30,manufacturing,D$1,FALSE)","v":7.3028609688879778},7.7372268781294456E-7,5.3030966057820651E-6,6.3783116320070173E-8,4.1678948837344853E-7,0.13595512935209644,1.9736763347876152E-2,4.7391749291216242E-2,0.19524056372445833,1.1731500066108843E-2,0.10702002771354339,13.79503201857721,517.55182165703616,0.38261844081259416,45.511651002081209,2.1484342008094429E-6,{"$f":"(D30/$D$239)*$D$240+(E30/$E$239)*$E$240+(F30/$F$239)*$F$240+(G30/$G$239)*$G$240+(H30/$H$239)*$H$240+(I30/$I$239)*$I$240+(J30/$J$239)*$J$240+(K30/$K$239)*$K$240+(L30/$L$239)*$L$240+(M30/$M$239)*$M$240+(N30/$N$239)*$N$240+(O30/$O$239)*$O$240+(P30/$P$239)*$P$240+(Q30/$Q$239)*$Q$240+(R30/$R$239)*$R$240+(S30/$S$239)*$S$240","v":1.641688834249706E-11}]
["SALMON","retail","SALMON retail",{"$f":"VLOOKUP($A31,retail,D$1,FALSE)","v":8.0383129350200271},1.5074087077629197E-5,5.3555883199347776E-6,6.6070750331369139E-8,4.2957846698001093E-7,0.14434586173855246,2.0608559668381529E-2,4.8311845791831148E-2,0.19863770857594454,1.1742865059322311E-2,0.1073394197896396,16.488394164771073,519.83532019345705,0.43151444235835201,47.369678915015704,2.5097664239507576E-6,{"$f":"(D31/$D$239)*$D$240+(E31/$E$239)*$E$240+(F31/$F$239)*$F$240+(G31/$G$239)*$G$240+(H31/$H$239)*$H$240+(I31/$I$239)*$I$240+(J31/$J$239)*$J$240+(K31/$K$239)*$K$240+(L31/$L$239)*$L$240+(M31/$M$239)*$M$240+(N31/$N$239)*$N$240+(O31/$O$239)*$O$240+(P31/$P$239)*$P$240+(Q31/$Q$239)*$Q$240+(R31/$R$239)*$R$240+(S31/$S$239)*$S$240","v":1.7247125033198745E-11}]
["SALMON","use","SALMON use",{"$f":"VLOOKUP($A32,use,D$1,FALSE)","v":10.297069990076723},1.8632694491013028E-5,6.7953266567013095E-6,8.9519929094574277E-8,5.8207134305299782E-7,0.1864985372637136,2.6855851206776853E-2,6.7541228442738702E-2,0.25527943310277734,1.5754355497933741E-2,0.15424260189968877,27.615226573098891,660.35330558009593,3.4651951672076207,70.00475005456191,4.1104571843931287E-6,2.3461590133617744E-11]
[]
["Seafood","SHRIMP"]
["SHRIMP","agriculture",{"$f":"CONCATENATE(A35,\" \", B35)","v":"SHRIMP agriculture"},{"$f":"VLOOKUP($A35,primary,D$1,FALSE)","v":6.61},1.5900000000000001E-7,1.17E-6,3.2800000000000003E-8,4.9800000000000004E-7,7.8700000000000006E-2,2.47E-2,4.4900000000000002E-2,0.122,1.0999999999999999E-2,9.4100000000000003E-2,6.1,347,0.59399999999999997,76.3,4.4000000000000002E-6,{"$f":"(D35/$D$239)*$D$240+(E35/$E$239)*$E$240+(F35/$F$239)*$F$240+(G35/$G$239)*$G$240+(H35/$H$239)*$H$240+(I35/$I$239)*$I$240+(J35/$J$239)*$J$240+(K35/$K$239)*$K$240+(L35/$L$239)*$L$240+(M35/$M$239)*$M$240+(N35/$N$239)*$N$240+(O35/$O$239)*$O$240+(P35/$P$239)*$P$240+(Q35/$Q$239)*$Q$240+(R35/$R$239)*$R$240+(S35/$S$239)*$S$240","v":1.3165499909004381E-11}]
["SHRIMP","manufacturing",{"$f":"CONCATENATE(A36,\" \", B36)","v":"SHRIMP manufacturing"},{"$f":"VLOOKUP($A36,manufacturing,D$1,FALSE)","v":8.4440013944198924},3.7184005601533699E-6,1.3556891589735547E-6,4.1027329086027627E-8,5.8869289262876761E-7,0.11084427828826668,3.0985061220216582E-2,5.6113153546535392E-2,0.14735824457552213,1.1735913044832248E-2,0.1017129362241817,8.8514128696410381,344.26631101873824,1.3234035471955727,96.733353129740763,7.4075405837881669E-6,{"$f":"(D36/$D$239)*$D$240+(E36/$E$239)*$E$240+(F36/$F$239)*$F$240+(G36/$G$239)*$G$240+(H36/$H$239)*$H$240+(I36/$I$239)*$I$240+(J36/$J$239)*$J$240+(K36/$K$239)*$K$240+(L36/$L$239)*$L$240+(M36/$M$239)*$M$240+(N36/$N$239)*$N$240+(O36/$O$239)*$O$240+(P36/$P$239)*$P$240+(Q36/$Q$239)*$Q$240+(R36/$R$239)*$R$240+(S36/$S$239)*$S$240","v":1.5757426253111612E-11}]
["SHRIMP","retail","SHRIMP retail",{"$f":"VLOOKUP($A37,retail,D$1,FALSE)","v":8.8604533605519418},1.0538764949969622E-5,1.4068808731262672E-6,4.3225963097326585E-8,6.0058187123533011E-7,0.11886501067472267,3.1808857540721963E-2,5.6964250047150299E-2,0.15059538942700834,1.1747018038045717E-2,0.1020173283002779,11.529775015834902,346.45980955515921,1.3686995487413307,98.471381042675276,7.7048728069294827E-6,{"$f":"(D37/$D$239)*$D$240+(E37/$E$239)*$E$240+(F37/$F$239)*$F$240+(G37/$G$239)*$G$240+(H37/$H$239)*$H$240+(I37/$I$239)*$I$240+(J37/$J$239)*$J$240+(K37/$K$239)*$K$240+(L37/$L$239)*$L$240+(M37/$M$239)*$M$240+(N37/$N$239)*$N$240+(O37/$O$239)*$O$240+(P37/$P$239)*$P$240+(Q37/$Q$239)*$Q$240+(R37/$R$239)*$R$240+(S37/$S$239)*$S$240","v":1.6312724420847125E-11}]
["SHRIMP","use","SHRIMP use",{"$f":"VLOOKUP($A38,use,D$1,FALSE)","v":11.201383492400364},1.3029464030388782E-5,1.849277271828472E-6,5.7753005728674095E-8,7.5287772378558103E-7,0.15627781228059248,3.9918886757265098E-2,7.1829627930723838E-2,0.19138060466848145,1.4987015265217852E-2,0.13918930730855195,20.953818672202271,433.69803685766385,3.0458266765087423,123.44746086782229,1.0314300682329573E-5,2.1233264835373741E-11]
[]
["Dairy","MILK"]
["MILK","agriculture",{"$f":"CONCATENATE(A41,\" \", B41)","v":"MILK agriculture"},{"$f":"VLOOKUP($A41,primary,D$1,FALSE)","v":1.2618424312735745},4.1917071507646206E-9,2.0731412221704996E-6,1.4825635448838485E-8,1.6026793612477428E-7,6.6997292613995545E-3,1.0858652357520918E-3,2.2642037528016905E-2,0.10017000077557799,1.713463862496822E-4,7.2692080295929645E-3,3.9791963901865026,103.04802720860815,0.12246511171223914,2.961455299474526,1.9351420110511238E-8,{"$f":"(D41/$D$239)*$D$240+(E41/$E$239)*$E$240+(F41/$F$239)*$F$240+(G41/$G$239)*$G$240+(H41/$H$239)*$H$240+(I41/$I$239)*$I$240+(J41/$J$239)*$J$240+(K41/$K$239)*$K$240+(L41/$L$239)*$L$240+(M41/$M$239)*$M$240+(N41/$N$239)*$N$240+(O41/$O$239)*$O$240+(P41/$P$239)*$P$240+(Q41/$Q$239)*$Q$240+(R41/$R$239)*$R$240+(S41/$S$239)*$S$240","v":3.2556715186851086E-12}]
["MILK","manufacturing",{"$f":"CONCATENATE(A42,\" \", B42)","v":"MILK manufacturing"},{"$f":"VLOOKUP($A42,manufacturing,D$1,FALSE)","v":1.5025707783501796},2.0235582062646195E-8,2.2080942543799597E-6,1.8051161183420666E-8,1.7423973878643145E-7,2.0251177423520172E-2,1.4967649243305334E-3,2.4742658751031314E-2,0.10715679798298949,1.9670682566366694E-4,7.8045495179329552E-3,4.7629655506312627,111.93654926220967,0.48556842616313467,5.4900257499471188,8.049087086173561E-7,{"$f":"(D42/$D$239)*$D$240+(E42/$E$239)*$E$240+(F42/$F$239)*$F$240+(G42/$G$239)*$G$240+(H42/$H$239)*$H$240+(I42/$I$239)*$I$240+(J42/$J$239)*$J$240+(K42/$K$239)*$K$240+(L42/$L$239)*$L$240+(M42/$M$239)*$M$240+(N42/$N$239)*$N$240+(O42/$O$239)*$O$240+(P42/$P$239)*$P$240+(Q42/$Q$239)*$Q$240+(R42/$R$239)*$R$240+(S42/$S$239)*$S$240","v":3.7536984617855385E-12}]
["MILK","retail","MILK retail",{"$f":"VLOOKUP($A43,retail,D$1,FALSE)","v":1.6562625542464045},1.4402558259413267E-6,2.2250715718328883E-6,1.8837251961826163E-8,1.8407801537568491E-7,2.6983995889434394E-2,2.1890313865808322E-3,2.5382664112176587E-2,0.10965108380807206,1.9915488084219297E-4,8.0322935221605208E-3,5.1537078920864783,113.77341029201084,0.5256348706934546,6.9988050784434792,1.036816054347429E-6,{"$f":"(D43/$D$239)*$D$240+(E43/$E$239)*$E$240+(F43/$F$239)*$F$240+(G43/$G$239)*$G$240+(H43/$H$239)*$H$240+(I43/$I$239)*$I$240+(J43/$J$239)*$J$240+(K43/$K$239)*$K$240+(L43/$L$239)*$L$240+(M43/$M$239)*$M$240+(N43/$N$239)*$N$240+(O43/$O$239)*$O$240+(P43/$P$239)*$P$240+(Q43/$Q$239)*$Q$240+(R43/$R$239)*$R$240+(S43/$S$239)*$S$240","v":3.9934314671249432E-12}]
["MILK","use","MILK use",{"$f":"VLOOKUP($A44,use,D$1,FALSE)","v":1.9400596622952997},1.5721069844222727E-6,2.4781920268300685E-6,2.3811185960703048E-8,2.0625203692675231E-7,3.6854704944394141E-2,2.7751075384915645E-3,2.8216272536486765E-2,0.12082159411571523,7.0553099856896526E-4,1.2609281784246622E-2,9.8211684554707279,129.36670921236075,2.1395633960604847,9.1638784164151712,1.9114748817043385E-6,5.0507258372216059E-12]
[]
["Dairy","CHEESE"]
["CHEESE","agriculture",{"$f":"CONCATENATE(A47,\" \", B47)","v":"CHEESE agriculture"},{"$f":"VLOOKUP($A47,primary,D$1,FALSE)","v":11.611842431273574},3.7941707150764624E-8,1.93131412221705E-5,1.335256354488385E-7,1.5002679361247743E-6,6.1789729261399549E-2,1.0015865235752092E-2,0.2110420375280169,0.93717000077557799,1.5633463862496822E-3,6.7719208029592956E-2,29.429196390186505,962.04802720860812,1.1404651117122391,27.691455299474526,1.8635142011051124E-7,{"$f":"(D47/$D$239)*$D$240+(E47/$E$239)*$E$240+(F47/$F$239)*$F$240+(G47/$G$239)*$G$240+(H47/$H$239)*$H$240+(I47/$I$239)*$I$240+(J47/$J$239)*$J$240+(K47/$K$239)*$K$240+(L47/$L$239)*$L$240+(M47/$M$239)*$M$240+(N47/$N$239)*$N$240+(O47/$O$239)*$O$240+(P47/$P$239)*$P$240+(Q47/$Q$239)*$Q$240+(R47/$R$239)*$R$240+(S47/$S$239)*$S$240","v":3.0077660154723462E-11}]
["CHEESE","manufacturing",{"$f":"CONCATENATE(A48,\" \", B48)","v":"CHEESE manufacturing"},{"$f":"VLOOKUP($A48,manufacturing,D$1,FALSE)","v":14.401997338107332},5.0705783124431565E-7,2.0298217846808814E-5,1.4723853414387412E-7,1.5889817990930306E-6,0.20961080752476638,1.4646034959328594E-2,0.22722841194613153,0.98906862256536587,1.6653980686525205E-3,7.1590945108386497E-2,31.643576570141462,973.85096083793599,2.5848291313080196,61.555808600491737,2.0941102799072656E-6,{"$f":"(D48/$D$239)*$D$240+(E48/$E$239)*$E$240+(F48/$F$239)*$F$240+(G48/$G$239)*$G$240+(H48/$H$239)*$H$240+(I48/$I$239)*$I$240+(J48/$J$239)*$J$240+(K48/$K$239)*$K$240+(L48/$L$239)*$L$240+(M48/$M$239)*$M$240+(N48/$N$239)*$N$240+(O48/$O$239)*$O$240+(P48/$P$239)*$P$240+(Q48/$Q$239)*$Q$240+(R48/$R$239)*$R$240+(S48/$S$239)*$S$240","v":3.4263856645243875E-11}]
["CHEESE","retail","CHEESE retail",{"$f":"VLOOKUP($A49,retail,D$1,FALSE)","v":15.453501414201662},2.1807195489619345E-5,2.0329383605488725E-5,1.4869915143703149E-7,1.6011420798999542E-6,0.2177479730929831,1.5475446902630629E-2,0.22809724840191939,0.99213376617592741,1.6715688438664975E-3,7.1873604337133953E-2,32.837224492036924,975.97761584058389,2.6348809541141947,63.417508034266987,4.1634802308717626E-6,{"$f":"(D49/$D$239)*$D$240+(E49/$E$239)*$E$240+(F49/$F$239)*$F$240+(G49/$G$239)*$G$240+(H49/$H$239)*$H$240+(I49/$I$239)*$I$240+(J49/$J$239)*$J$240+(K49/$K$239)*$K$240+(L49/$L$239)*$L$240+(M49/$M$239)*$M$240+(N49/$N$239)*$N$240+(O49/$O$239)*$O$240+(P49/$P$239)*$P$240+(Q49/$Q$239)*$Q$240+(R49/$R$239)*$R$240+(S49/$S$239)*$S$240","v":3.5314697644789532E-11}]
["CHEESE","use","CHEESE use",{"$f":"VLOOKUP($A50,use,D$1,FALSE)","v":16.804615364554543},2.3401520016671307E-5,2.18553424009463E-5,1.6364602351991246E-7,1.7335782029262421E-6,0.24462046322245962,1.7513364003895249E-2,0.24666477681226368,1.0714327640950365,3.8429146128974292E-3,9.8455584440464955E-2,37.998052097704075,1053.1205687932436,4.494363655332684,70.51532523421379,6.1122131884912229E-6,3.9498635994458905E-11]
[]
["Dairy","BUTTER"]
["BUTTER","agriculture",{"$f":"CONCATENATE(A53,\" \", B53)","v":"BUTTER agriculture"},{"$f":"VLOOKUP($A53,primary,D$1,FALSE)","v":28.011842431273575},9.1341707150764619E-8,4.65131412221705E-5,3.2252563544883848E-7,3.6102679361247744E-6,0.14908972926139955,2.4115865235752092E-2,0.50804203752801691,2.2601700007755778,3.7733463862496823E-3,0.16301920802959297,69.529196390186499,2320.0480272086083,2.7504651117122392,66.791455299474521,4.4935142011051122E-7,{"$f":"(D53/$D$239)*$D$240+(E53/$E$239)*$E$240+(F53/$F$239)*$F$240+(G53/$G$239)*$G$240+(H53/$H$239)*$H$240+(I53/$I$239)*$I$240+(J53/$J$239)*$J$240+(K53/$K$239)*$K$240+(L53/$L$239)*$L$240+(M53/$M$239)*$M$240+(N53/$N$239)*$N$240+(O53/$O$239)*$O$240+(P53/$P$239)*$P$240+(Q53/$Q$239)*$Q$240+(R53/$R$239)*$R$240+(S53/$S$239)*$S$240","v":7.2436608119951791E-11}]
["BUTTER","manufacturing",{"$f":"CONCATENATE(A54,\" \", B54)","v":"BUTTER manufacturing"},{"$f":"VLOOKUP($A54,manufacturing,D$1,FALSE)","v":29.735815990957075},2.542546188090825E-7,4.8281046344218137E-5,3.4102345642366683E-7,3.7829102965023578E-6,0.20283712876828969,2.7581533923059166E-2,0.53046843267152022,2.3516350785239148,3.9398035090670294E-3,0.16978982179232435,72.797980715219168,2414.7648468482989,3.4672229136914399,80.453943315517648,5.1306491400108924E-6,{"$f":"(D54/$D$239)*$D$240+(E54/$E$239)*$E$240+(F54/$F$239)*$F$240+(G54/$G$239)*$G$240+(H54/$H$239)*$H$240+(I54/$I$239)*$I$240+(J54/$J$239)*$J$240+(K54/$K$239)*$K$240+(L54/$L$239)*$L$240+(M54/$M$239)*$M$240+(N54/$N$239)*$N$240+(O54/$O$239)*$O$240+(P54/$P$239)*$P$240+(Q54/$Q$239)*$Q$240+(R54/$R$239)*$R$240+(S54/$S$239)*$S$240","v":7.6322968209049991E-11}]
["BUTTER","retail","BUTTER retail",{"$f":"VLOOKUP($A55,retail,D$1,FALSE)","v":30.777320067051406},2.1554392277184112E-5,4.8310512102898054E-5,3.4241007371682424E-7,3.7939705773092813E-6,0.2103242943365064,2.8323945866361198E-2,0.53125426912730811,2.3543802221344765,3.9458642842810062E-3,0.17004348102107181,73.961628637114629,2416.6915018509471,3.5159747364976148,82.1656427492929,5.4980190909753891E-6,{"$f":"(D55/$D$239)*$D$240+(E55/$E$239)*$E$240+(F55/$F$239)*$F$240+(G55/$G$239)*$G$240+(H55/$H$239)*$H$240+(I55/$I$239)*$I$240+(J55/$J$239)*$J$240+(K55/$K$239)*$K$240+(L55/$L$239)*$L$240+(M55/$M$239)*$M$240+(N55/$N$239)*$N$240+(O55/$O$239)*$O$240+(P55/$P$239)*$P$240+(Q55/$Q$239)*$Q$240+(R55/$R$239)*$R$240+(S55/$S$239)*$S$240","v":7.7325168540919687E-11}]
["BUTTER","use","BUTTER use",{"$f":"VLOOKUP($A56,use,D$1,FALSE)","v":33.269112577078218},2.3137307958628242E-5,5.1826720174661878E-5,3.719028817513258E-7,4.078183789354799E-6,0.2400650101615816,3.1135228977951641E-2,0.57038759628230795,2.5255499054932042,4.3651227971822724E-3,0.18315358355308692,81.66628702635235,2597.6559334379149,5.4885721074922582,91.46642973874026,8.192347978498066E-6,8.3591339602163184E-11]
[]
["Eggs","EGGS"]
["EGGS","agriculture",{"$f":"CONCATENATE(A59,\" \", B59)","v":"EGGS agriculture"},{"$f":"VLOOKUP($A59,primary,D$1,FALSE)","v":4.93},5.6799999999999999E-8,7.6699999999999994E-6,7.4900000000000002E-8,1.0499999999999999E-6,9.0800000000000006E-2,6.79E-3,0.13600000000000001,0.6,7.6499999999999995E-4,3.1300000000000001E-2,17.399999999999999,725,1.27,20.6,1.4700000000000001E-7,{"$f":"(D59/$D$239)*$D$240+(E59/$E$239)*$E$240+(F59/$F$239)*$F$240+(G59/$G$239)*$G$240+(H59/$H$239)*$H$240+(I59/$I$239)*$I$240+(J59/$J$239)*$J$240+(K59/$K$239)*$K$240+(L59/$L$239)*$L$240+(M59/$M$239)*$M$240+(N59/$N$239)*$N$240+(O59/$O$239)*$O$240+(P59/$P$239)*$P$240+(Q59/$Q$239)*$Q$240+(R59/$R$239)*$R$240+(S59/$S$239)*$S$240","v":1.5878657068815673E-11}]
["EGGS","manufacturing",{"$f":"CONCATENATE(A60,\" \", B60)","v":"EGGS manufacturing"},{"$f":"VLOOKUP($A60,manufacturing,D$1,FALSE)","v":5.1987754367762324},1.1526789145936275E-6,7.7831547000975145E-6,7.7020706483814067E-8,1.0566713028274596E-6,0.10270072864005186,7.1757312608196734E-3,0.13827982385694601,0.60780804935812105,7.8419684670652902E-4,3.1767131859757977E-2,18.001458191305836,714.46248156275283,1.2538246491068794,23.429974239324569,1.5387524374177559E-6,{"$f":"(D60/$D$239)*$D$240+(E60/$E$239)*$E$240+(F60/$F$239)*$F$240+(G60/$G$239)*$G$240+(H60/$H$239)*$H$240+(I60/$I$239)*$I$240+(J60/$J$239)*$J$240+(K60/$K$239)*$K$240+(L60/$L$239)*$L$240+(M60/$M$239)*$M$240+(N60/$N$239)*$N$240+(O60/$O$239)*$O$240+(P60/$P$239)*$P$240+(Q60/$Q$239)*$Q$240+(R60/$R$239)*$R$240+(S60/$S$239)*$S$240","v":1.6324877022306097E-11}]
["EGGS","retail","EGGS retail",{"$f":"VLOOKUP($A61,retail,D$1,FALSE)","v":5.3123096439460316},1.2385408656230728E-6,7.813973239720942E-6,7.8351432711058037E-8,1.0671775155414872E-6,0.10972327636736563,7.9158629588220644E-3,0.13898286674610819,0.6105923359587816,7.8995128813473731E-4,3.2025083893578513E-2,19.334396922947555,716.43736980116216,1.2942562053494386,24.980208867295453,1.7700112032583403E-6,{"$f":"(D61/$D$239)*$D$240+(E61/$E$239)*$E$240+(F61/$F$239)*$F$240+(G61/$G$239)*$G$240+(H61/$H$239)*$H$240+(I61/$I$239)*$I$240+(J61/$J$239)*$J$240+(K61/$K$239)*$K$240+(L61/$L$239)*$L$240+(M61/$M$239)*$M$240+(N61/$N$239)*$N$240+(O61/$O$239)*$O$240+(P61/$P$239)*$P$240+(Q61/$Q$239)*$Q$240+(R61/$R$239)*$R$240+(S61/$S$239)*$S$240","v":1.6566531269231901E-11}]
["EGGS","use","EGGS use",{"$f":"VLOOKUP($A62,use,D$1,FALSE)","v":6.5595039912303461},1.4147559082289946E-6,8.7884417715295239E-6,9.293962015679834E-8,1.2048083008111881E-6,0.15808358874267728,1.0146282471990327E-2,0.15765413373467843,0.68768531016019674,1.7647289493317384E-3,4.7171646073814251E-2,25.478881837500793,806.2552860784383,2.8871430658006596,35.130817991025928,3.2654516174381096E-6,1.9991541264694721E-11]
[]
["Legumes","BEANS"]
["BEANS","agriculture",{"$f":"CONCATENATE(A65,\" \", B65)","v":"BEANS agriculture"},{"$f":"VLOOKUP($A65,primary,D$1,FALSE)","v":1.1499999999999999},1.7199999999999999E-8,9.9399999999999993E-7,3.8000000000000003E-8,4.1399999999999997E-7,5.0000000000000001E-3,8.9099999999999997E-4,5.8900000000000001E-2,0.26200000000000001,3.14E-3,3.5700000000000003E-2,1.56,421,0.79100000000000004,4.1900000000000004,1.08E-6,{"$f":"(D65/$D$239)*$D$240+(E65/$E$239)*$E$240+(F65/$F$239)*$F$240+(G65/$G$239)*$G$240+(H65/$H$239)*$H$240+(I65/$I$239)*$I$240+(J65/$J$239)*$J$240+(K65/$K$239)*$K$240+(L65/$L$239)*$L$240+(M65/$M$239)*$M$240+(N65/$N$239)*$N$240+(O65/$O$239)*$O$240+(P65/$P$239)*$P$240+(Q65/$Q$239)*$Q$240+(R65/$R$239)*$R$240+(S65/$S$239)*$S$240","v":6.0047308419912705E-12}]
["BEANS","manufacturing",{"$f":"CONCATENATE(A66,\" \", B66)","v":"BEANS manufacturing"},{"$f":"VLOOKUP($A66,manufacturing,D$1,FALSE)","v":1.3937239568023674},3.3452040828217467E-8,1.0781528152939839E-6,4.2006060825321029E-8,4.4344291146582596E-7,1.8417562799097072E-2,1.5592785500031453E-3,6.3048582748897603E-2,0.27816432447455336,3.3182732124055368E-3,3.7800468465553329E-2,3.2024878047917333,445.31085294527537,0.89817836347705138,6.8765192473301147,1.5511825866323478E-6,{"$f":"(D66/$D$239)*$D$240+(E66/$E$239)*$E$240+(F66/$F$239)*$F$240+(G66/$G$239)*$G$240+(H66/$H$239)*$H$240+(I66/$I$239)*$I$240+(J66/$J$239)*$J$240+(K66/$K$239)*$K$240+(L66/$L$239)*$L$240+(M66/$M$239)*$M$240+(N66/$N$239)*$N$240+(O66/$O$239)*$O$240+(P66/$P$239)*$P$240+(Q66/$Q$239)*$Q$240+(R66/$R$239)*$R$240+(S66/$S$239)*$S$240","v":6.6511502128792935E-12}]
["BEANS","retail","BEANS retail",{"$f":"VLOOKUP($A67,retail,D$1,FALSE)","v":1.4770075085948173},5.1292528585578788E-8,1.0950074501998407E-6,4.2771242382132029E-8,4.5185946464433287E-7,2.4193199730925517E-2,2.1468114745037429E-3,6.3595593471188136E-2,0.28030289612471848,3.3209393227625885E-3,3.7995956474008462E-2,3.6909724877021626,446.79457500487769,0.93581125253769104,8.1540779043228362,1.7519972780924939E-6,{"$f":"(D67/$D$239)*$D$240+(E67/$E$239)*$E$240+(F67/$F$239)*$F$240+(G67/$G$239)*$G$240+(H67/$H$239)*$H$240+(I67/$I$239)*$I$240+(J67/$J$239)*$J$240+(K67/$K$239)*$K$240+(L67/$L$239)*$L$240+(M67/$M$239)*$M$240+(N67/$N$239)*$N$240+(O67/$O$239)*$O$240+(P67/$P$239)*$P$240+(Q67/$Q$239)*$Q$240+(R67/$R$239)*$R$240+(S67/$S$239)*$S$240","v":6.8212578010179236E-12}]
["BEANS","use","BEANS use",{"$f":"VLOOKUP($A68,use,D$1,FALSE)","v":2.6819091350691573},7.4519459384018458E-8,1.2050080664503953E-6,4.9140149799530466E-8,4.9370938281758497E-7,3.6443722845038787E-2,4.2134117269155402E-3,6.9906231776897101E-2,0.3043541947599504,4.2191456863299014E-3,4.9768342230581568E-2,6.3505702679833487,476.53925134455204,2.645520981481174,17.955607132143761,2.904012404028181E-6,8.7065712140166753E-12]
[]
["Legumes","TOFU"]
["TOFU","agriculture",{"$f":"CONCATENATE(A71,\" \", B71)","v":"TOFU agriculture"},{"$f":"VLOOKUP($A71,primary,D$1,FALSE)","v":1.26},3E-10,1.6500000000000001E-6,1.8299999999999998E-8,7.3000000000000005E-8,4.75E-4,5.3899999999999998E-4,1.0200000000000001E-2,4.4499999999999998E-2,1.8200000000000001E-4,4.4099999999999999E-3,3.27,205,0.57599999999999996,1.17,1.6899999999999999E-8,{"$f":"(D71/$D$239)*$D$240+(E71/$E$239)*$E$240+(F71/$F$239)*$F$240+(G71/$G$239)*$G$240+(H71/$H$239)*$H$240+(I71/$I$239)*$I$240+(J71/$J$239)*$J$240+(K71/$K$239)*$K$240+(L71/$L$239)*$L$240+(M71/$M$239)*$M$240+(N71/$N$239)*$N$240+(O71/$O$239)*$O$240+(P71/$P$239)*$P$240+(Q71/$Q$239)*$Q$240+(R71/$R$239)*$R$240+(S71/$S$239)*$S$240","v":2.4330972106856555E-12}]
["TOFU","manufacturing",{"$f":"CONCATENATE(A72,\" \", B72)","v":"TOFU manufacturing"},{"$f":"VLOOKUP($A72,manufacturing,D$1,FALSE)","v":1.7142818515392098},4.4485198722954315E-8,1.8062875521360891E-6,2.2432008193742079E-8,8.8749753571089136E-8,1.9717036483307599E-2,2.4034364447399876E-3,1.3370793275213393E-2,5.36382718429744E-2,2.0716321240553715E-4,5.2714632023954343E-3,5.3996562258443648,198.75116873474909,0.61213099505599866,6.2945192473301139,1.9631299550534002E-6,{"$f":"(D72/$D$239)*$D$240+(E72/$E$239)*$E$240+(F72/$F$239)*$F$240+(G72/$G$239)*$G$240+(H72/$H$239)*$H$240+(I72/$I$239)*$I$240+(J72/$J$239)*$J$240+(K72/$K$239)*$K$240+(L72/$L$239)*$L$240+(M72/$M$239)*$M$240+(N72/$N$239)*$N$240+(O72/$O$239)*$O$240+(P72/$P$239)*$P$240+(Q72/$Q$239)*$Q$240+(R72/$R$239)*$R$240+(S72/$S$239)*$S$240","v":3.1784353188438408E-12}]
["TOFU","retail","TOFU retail",{"$f":"VLOOKUP($A73,retail,D$1,FALSE)","v":2.7576654033316599},2.1344525686480316E-5,1.8283421870419459E-6,2.3527189750553072E-8,1.0072630674959608E-7,2.7732673415136043E-2,3.2109693692405853E-3,1.4191803997503938E-2,5.6536843493139539E-2,2.1102932276258923E-4,5.5369512108505671E-3,5.9551409087547942,200.83489079435142,0.66176388411663833,8.1520779043228355,2.3539446465135463E-6,{"$f":"(D73/$D$239)*$D$240+(E73/$E$239)*$E$240+(F73/$F$239)*$F$240+(G73/$G$239)*$G$240+(H73/$H$239)*$H$240+(I73/$I$239)*$I$240+(J73/$J$239)*$J$240+(K73/$K$239)*$K$240+(L73/$L$239)*$L$240+(M73/$M$239)*$M$240+(N73/$N$239)*$N$240+(O73/$O$239)*$O$240+(P73/$P$239)*$P$240+(Q73/$Q$239)*$Q$240+(R73/$R$239)*$R$240+(S73/$S$239)*$S$240","v":4.1704290705058776E-12}]
["TOFU","use","TOFU use",{"$f":"VLOOKUP($A74,use,D$1,FALSE)","v":3.2014027111811547},2.2474915627202556E-5,2.0552144814778635E-6,3.1151777922869109E-8,1.517510937869275E-7,3.6537916536337742E-2,4.503106481478716E-3,2.1894130057953279E-2,6.5390115812582028E-2,7.339339859932008E-4,1.485534847725886E-2,9.6949023608417573,229.55328731832483,3.5571714776711438,19.883502755039384,3.3313745341008377E-6,5.8654491460812025E-12]
[]
["Cereal products","BREAD"]
["BREAD","agriculture",{"$f":"CONCATENATE(A77,\" \", B77)","v":"BREAD agriculture"},{"$f":"VLOOKUP($A77,primary,D$1,FALSE)","v":0.249},3.6100000000000001E-9,1.79E-6,8.7099999999999999E-9,7.6000000000000006E-8,2.1099999999999999E-3,4.73E-4,1.06E-2,4.7100000000000003E-2,1.0399999999999999E-4,6.1700000000000001E-3,1.63,99.9,8.8800000000000007E-3,1.54,5.7299999999999997E-8,{"$f":"(D77/$D$239)*$D$240+(E77/$E$239)*$E$240+(F77/$F$239)*$F$240+(G77/$G$239)*$G$240+(H77/$H$239)*$H$240+(I77/$I$239)*$I$240+(J77/$J$239)*$J$240+(K77/$K$239)*$K$240+(L77/$L$239)*$L$240+(M77/$M$239)*$M$240+(N77/$N$239)*$N$240+(O77/$O$239)*$O$240+(P77/$P$239)*$P$240+(Q77/$Q$239)*$Q$240+(R77/$R$239)*$R$240+(S77/$S$239)*$S$240","v":1.9521545147190999E-12}]
["BREAD","manufacturing",{"$f":"CONCATENATE(A78,\" \", B78)","v":"BREAD manufacturing"},{"$f":"VLOOKUP($A78,manufacturing,D$1,FALSE)","v":0.81865027259184142},5.4951356617691155E-8,1.9476791310834571E-6,1.452242924637366E-8,9.5000911465825981E-8,7.1170194378044435E-2,2.0005048657926192E-3,1.4255377485739709E-2,5.5182587632448085E-2,1.6414742293185291E-4,7.0416316234480653E-3,3.4116930679496278,112.32658978738067,0.16164257400336715,12.858045563119585,1.1283720603165582E-6,{"$f":"(D78/$D$239)*$D$240+(E78/$E$239)*$E$240+(F78/$F$239)*$F$240+(G78/$G$239)*$G$240+(H78/$H$239)*$H$240+(I78/$I$239)*$I$240+(J78/$J$239)*$J$240+(K78/$K$239)*$K$240+(L78/$L$239)*$L$240+(M78/$M$239)*$M$240+(N78/$N$239)*$N$240+(O78/$O$239)*$O$240+(P78/$P$239)*$P$240+(Q78/$Q$239)*$Q$240+(R78/$R$239)*$R$240+(S78/$S$239)*$S$240","v":3.1461678580987954E-12}]
["BREAD","retail","BREAD retail",{"$f":"VLOOKUP($A79,retail,D$1,FALSE)","v":0.90291737617674106},7.2232332132413796E-8,1.967788400895171E-6,1.5418792359995654E-8,1.0322401782283985E-7,7.6801468241701323E-2,2.5735707147938143E-3,1.4798398930320799E-2,5.7299730932778362E-2,1.6772964364595704E-4,7.2366076403583305E-3,4.1586624337704876,113.77403390658532,0.19910835212464667,14.10316287710503,1.3230014432368502E-6,{"$f":"(D79/$D$239)*$D$240+(E79/$E$239)*$E$240+(F79/$F$239)*$F$240+(G79/$G$239)*$G$240+(H79/$H$239)*$H$240+(I79/$I$239)*$I$240+(J79/$J$239)*$J$240+(K79/$K$239)*$K$240+(L79/$L$239)*$L$240+(M79/$M$239)*$M$240+(N79/$N$239)*$N$240+(O79/$O$239)*$O$240+(P79/$P$239)*$P$240+(Q79/$Q$239)*$Q$240+(R79/$R$239)*$R$240+(S79/$S$239)*$S$240","v":3.3235281048610616E-12}]
["BREAD","use","BREAD use",{"$f":"VLOOKUP($A80,use,D$1,FALSE)","v":1.4688261591386744},1.1351308177198532E-7,2.8878741479005386E-6,2.7217562552667943E-8,1.5010100883010465E-7,0.11092126257204789,4.0394646906694847E-3,2.1289353326148928E-2,8.2175669547021574E-2,7.2602452433660303E-4,1.9382173425605578E-2,20.108114564955333,160.30656860747692,1.5863400581250477,20.545349875804572,2.5566327420485225E-6,5.7351388177121869E-12]
[]
["Cereal products","PASTA"]
["PASTA","agriculture",{"$f":"CONCATENATE(A83,\" \", B83)","v":"PASTA agriculture"},{"$f":"VLOOKUP($A83,primary,D$1,FALSE)","v":0.67700000000000005},8.7999999999999994E-8,2.3099999999999999E-7,9.3600000000000008E-9,1.29E-7,2.5700000000000001E-2,1.74E-3,1.72E-2,7.1400000000000005E-2,2.7999999999999998E-4,1.49E-2,0.93100000000000005,540,1.44,6.66,3.3900000000000002E-6,{"$f":"(D83/$D$239)*$D$240+(E83/$E$239)*$E$240+(F83/$F$239)*$F$240+(G83/$G$239)*$G$240+(H83/$H$239)*$H$240+(I83/$I$239)*$I$240+(J83/$J$239)*$J$240+(K83/$K$239)*$K$240+(L83/$L$239)*$L$240+(M83/$M$239)*$M$240+(N83/$N$239)*$N$240+(O83/$O$239)*$O$240+(P83/$P$239)*$P$240+(Q83/$Q$239)*$Q$240+(R83/$R$239)*$R$240+(S83/$S$239)*$S$240","v":2.4401785405882519E-12}]
["PASTA","manufacturing",{"$f":"CONCATENATE(A84,\" \", B84)","v":"PASTA manufacturing"},{"$f":"VLOOKUP($A84,manufacturing,D$1,FALSE)","v":1.3390622177926335},1.5523506914142932E-7,3.0752972509784788E-7,1.3317484836211797E-8,1.3999018521456836E-7,8.4083675830966792E-2,3.3295166360260051E-3,2.0925693608638513E-2,8.2172797366834388E-2,3.1066932526813373E-4,1.6548678558264442E-2,3.3883094412612973,530.8570477604477,6.8770109929295486,15.869055482740919,5.7944116561516383E-6,{"$f":"(D84/$D$239)*$D$240+(E84/$E$239)*$E$240+(F84/$F$239)*$F$240+(G84/$G$239)*$G$240+(H84/$H$239)*$H$240+(I84/$I$239)*$I$240+(J84/$J$239)*$J$240+(K84/$K$239)*$K$240+(L84/$L$239)*$L$240+(M84/$M$239)*$M$240+(N84/$N$239)*$N$240+(O84/$O$239)*$O$240+(P84/$P$239)*$P$240+(Q84/$Q$239)*$Q$240+(R84/$R$239)*$R$240+(S84/$S$239)*$S$240","v":4.1127873303883894E-12}]
["PASTA","retail","PASTA retail",{"$f":"VLOOKUP($A85,retail,D$1,FALSE)","v":1.5298293213775331},1.9261604465615196E-7,3.2863899490956173E-7,1.5687847949833788E-8,1.4783329157158225E-7,9.4934949694623683E-2,4.5285824850272004E-3,2.2129715053219604E-2,8.650994066716465E-2,3.1600154598223788E-4,1.6943654575174705E-2,4.0242788070821565,532.7444918796524,13.977276771050828,18.754172796726362,6.3280410390719306E-6,{"$f":"(D85/$D$239)*$D$240+(E85/$E$239)*$E$240+(F85/$F$239)*$F$240+(G85/$G$239)*$G$240+(H85/$H$239)*$H$240+(I85/$I$239)*$I$240+(J85/$J$239)*$J$240+(K85/$K$239)*$K$240+(L85/$L$239)*$L$240+(M85/$M$239)*$M$240+(N85/$N$239)*$N$240+(O85/$O$239)*$O$240+(P85/$P$239)*$P$240+(Q85/$Q$239)*$Q$240+(R85/$R$239)*$R$240+(S85/$S$239)*$S$240","v":5.1967630455120325E-12}]
["PASTA","use","PASTA use",{"$f":"VLOOKUP($A86,use,D$1,FALSE)","v":3.0677675811805685},3.3610044574986035E-7,6.988389016616138E-7,3.0803624579658602E-8,2.7608389828417593E-7,0.22571266590935721,8.6423446501706896E-3,4.0543933085194911E-2,0.12602745149856751,1.0737550037056927E-3,2.9469040003587039E-2,20.658279698712704,731.21440258443886,22.022147430813725,44.353254528350597,9.4602104234567954E-6,9.9224784550372899E-12]
[]
["Cereal products","RICE"]
["RICE","agriculture",{"$f":"CONCATENATE(A89,\" \", B89)","v":"RICE agriculture"},{"$f":"VLOOKUP($A89,primary,D$1,FALSE)","v":3.4},8.8199999999999996E-8,1.46E-8,1.1100000000000001E-9,1.04E-7,1.38E-2,2.2000000000000001E-3,1.41E-2,6.0900000000000003E-2,3.0800000000000001E-4,3.2000000000000002E-3,20.8,323,56.1,5.76,6.63E-6,{"$f":"(D89/$D$239)*$D$240+(E89/$E$239)*$E$240+(F89/$F$239)*$F$240+(G89/$G$239)*$G$240+(H89/$H$239)*$H$240+(I89/$I$239)*$I$240+(J89/$J$239)*$J$240+(K89/$K$239)*$K$240+(L89/$L$239)*$L$240+(M89/$M$239)*$M$240+(N89/$N$239)*$N$240+(O89/$O$239)*$O$240+(P89/$P$239)*$P$240+(Q89/$Q$239)*$Q$240+(R89/$R$239)*$R$240+(S89/$S$239)*$S$240","v":9.1221159307376519E-12}]
["RICE","manufacturing",{"$f":"CONCATENATE(A90,\" \", B90)","v":"RICE manufacturing"},{"$f":"VLOOKUP($A90,manufacturing,D$1,FALSE)","v":4.1177172421383315},1.3988430841512581E-7,9.4507054509521404E-8,4.9990172978999501E-9,1.2727725753896597E-7,3.827152146476049E-2,4.2531436055621968E-3,1.8461008025450497E-2,7.4636351668501522E-2,3.6555233730057842E-4,4.2027556495014733E-3,26.458774254560328,350.9858006622481,62.348843211784889,11.215096188808021,8.5654965717793998E-6,{"$f":"(D90/$D$239)*$D$240+(E90/$E$239)*$E$240+(F90/$F$239)*$F$240+(G90/$G$239)*$G$240+(H90/$H$239)*$H$240+(I90/$I$239)*$I$240+(J90/$J$239)*$J$240+(K90/$K$239)*$K$240+(L90/$L$239)*$L$240+(M90/$M$239)*$M$240+(N90/$N$239)*$N$240+(O90/$O$239)*$O$240+(P90/$P$239)*$P$240+(Q90/$Q$239)*$Q$240+(R90/$R$239)*$R$240+(S90/$S$239)*$S$240","v":1.0789642465350373E-11}]
["RICE","retail","RICE retail",{"$f":"VLOOKUP($A91,retail,D$1,FALSE)","v":4.2058843457232316},1.5806528392984844E-7,1.1531632432123524E-7,5.9253804115219408E-9,1.3594036389597984E-7,4.4162795328417374E-2,4.8572094545633925E-3,1.9031029470031588E-2,7.6863494968831783E-2,3.6919455801468257E-4,4.4077316664117381E-3,27.217743620381189,352.51324478145278,62.386808989906164,12.520213502793466,8.7701259546996924E-6,{"$f":"(D91/$D$239)*$D$240+(E91/$E$239)*$E$240+(F91/$F$239)*$F$240+(G91/$G$239)*$G$240+(H91/$H$239)*$H$240+(I91/$I$239)*$I$240+(J91/$J$239)*$J$240+(K91/$K$239)*$K$240+(L91/$L$239)*$L$240+(M91/$M$239)*$M$240+(N91/$N$239)*$N$240+(O91/$O$239)*$O$240+(P91/$P$239)*$P$240+(Q91/$Q$239)*$Q$240+(R91/$R$239)*$R$240+(S91/$S$239)*$S$240","v":1.097465893113424E-11}]
["RICE","use","RICE use",{"$f":"VLOOKUP($A92,use,D$1,FALSE)","v":6.0646587707665516},2.2969260802699838E-7,3.6900397569110154E-7,1.4741355820050648E-8,1.9263304430376444E-7,6.7234904866899675E-2,7.1024561733491805E-3,2.6712034332558157E-2,0.1069630355824684,7.4512644864779408E-4,8.8933625766986473E-3,51.487014138575333,485.50182149845301,86.745456572113497,20.301677257693591,1.2718774934514977E-5,1.6061133820819256E-11]
[]
["Vegetables","TOMATOES"]
["TOMATOES","agriculture",{"$f":"CONCATENATE(A95,\" \", B95)","v":"TOMATOES agriculture"},{"$f":"VLOOKUP($A95,primary,D$1,FALSE)","v":0.13200000000000001},4.0199999999999998E-9,8.5999999999999993E-9,5.6700000000000001E-10,1.74E-8,4.3400000000000001E-3,2.61E-4,2.5100000000000001E-3,1.0200000000000001E-2,1.55E-4,4.5800000000000002E-4,2.86,8.4499999999999993,1.31,1.86,3.27E-7,{"$f":"(D95/$D$239)*$D$240+(E95/$E$239)*$E$240+(F95/$F$239)*$F$240+(G95/$G$239)*$G$240+(H95/$H$239)*$H$240+(I95/$I$239)*$I$240+(J95/$J$239)*$J$240+(K95/$K$239)*$K$240+(L95/$L$239)*$L$240+(M95/$M$239)*$M$240+(N95/$N$239)*$N$240+(O95/$O$239)*$O$240+(P95/$P$239)*$P$240+(Q95/$Q$239)*$Q$240+(R95/$R$239)*$R$240+(S95/$S$239)*$S$240","v":4.9836539040911494E-13}]
["TOMATOES","manufacturing",{"$f":"CONCATENATE(A96,\" \", B96)","v":"TOMATOES manufacturing"},{"$f":"VLOOKUP($A96,manufacturing,D$1,FALSE)","v":0.32018711469710448},1.7015815145124278E-6,4.7661236346615393E-8,2.3420608253210287E-9,8.5608062026680851E-9,8.3865101675181259E-3,4.4681012895051402E-4,3.0148459067923417E-3,1.1605113948237558E-2,1.7281637030027399E-4,6.1124741292175027E-4,4.5443930679496276,-14.118304949461439,1.3005678371612617,3.3624139841722194,1.9996562708428737E-6,{"$f":"(D96/$D$239)*$D$240+(E96/$E$239)*$E$240+(F96/$F$239)*$F$240+(G96/$G$239)*$G$240+(H96/$H$239)*$H$240+(I96/$I$239)*$I$240+(J96/$J$239)*$J$240+(K96/$K$239)*$K$240+(L96/$L$239)*$L$240+(M96/$M$239)*$M$240+(N96/$N$239)*$N$240+(O96/$O$239)*$O$240+(P96/$P$239)*$P$240+(Q96/$Q$239)*$Q$240+(R96/$R$239)*$R$240+(S96/$S$239)*$S$240","v":7.4725828180025969E-13}]
["TOMATOES","retail","TOMATOES retail",{"$f":"VLOOKUP($A97,retail,D$1,FALSE)","v":0.45402263262160314},1.7877863920860412E-6,1.0100758540518465E-7,4.5768763934309837E-9,1.9626337987737453E-8,1.5582879485802567E-2,1.2181393739564906E-3,3.7929531296977907E-3,1.4690830449888921E-2,1.8431747387079458E-4,9.0312749747307585E-4,7.472239897053921,-12.061084353438176,1.3417967277676595,4.8980005540994354,2.2308031854443347E-6,{"$f":"(D97/$D$239)*$D$240+(E97/$E$239)*$E$240+(F97/$F$239)*$F$240+(G97/$G$239)*$G$240+(H97/$H$239)*$H$240+(I97/$I$239)*$I$240+(J97/$J$239)*$J$240+(K97/$K$239)*$K$240+(L97/$L$239)*$L$240+(M97/$M$239)*$M$240+(N97/$N$239)*$N$240+(O97/$O$239)*$O$240+(P97/$P$239)*$P$240+(Q97/$Q$239)*$Q$240+(R97/$R$239)*$R$240+(S97/$S$239)*$S$240","v":1.0609674015604229E-12}]
["TOMATOES","use","TOMATOES use",{"$f":"VLOOKUP($A98,use,D$1,FALSE)","v":0.80944099457587437},2.4660946101171799E-6,3.0223673182799751E-7,1.154280055280216E-8,3.3120402205258811E-8,2.7933288499322501E-2,2.0401391093740726E-3,5.7799162338406139E-3,2.1684838278525659E-2,3.9981994590495759E-4,2.2011590673079858E-3,21.268599673769494,-10.168404193585474,3.4047367769915691,8.0871972379403783,3.7638460657652273E-6,2.25584875893025E-12]
[]
["Tubers","POTATOES"]
["POTATOES","agriculture",{"$f":"CONCATENATE(A101,\" \", B101)","v":"POTATOES agriculture"},{"$f":"VLOOKUP($A101,primary,D$1,FALSE)","v":9.5600000000000004E-2},3.8199999999999996E-9,7.8299999999999996E-7,7.0100000000000004E-9,2.6000000000000001E-8,3.13E-3,2.9300000000000002E-4,3.5699999999999998E-3,1.55E-2,8.7000000000000001E-5,1.8500000000000001E-3,0.97399999999999998,31.7,1.9800000000000002E-2,0.997,2.6100000000000002E-7,{"$f":"(D101/$D$239)*$D$240+(E101/$E$239)*$E$240+(F101/$F$239)*$F$240+(G101/$G$239)*$G$240+(H101/$H$239)*$H$240+(I101/$I$239)*$I$240+(J101/$J$239)*$J$240+(K101/$K$239)*$K$240+(L101/$L$239)*$L$240+(M101/$M$239)*$M$240+(N101/$N$239)*$N$240+(O101/$O$239)*$O$240+(P101/$P$239)*$P$240+(Q101/$Q$239)*$Q$240+(R101/$R$239)*$R$240+(S101/$S$239)*$S$240","v":8.4258507166598678E-13}]
["POTATOES","manufacturing",{"$f":"CONCATENATE(A102,\" \", B102)","v":"POTATOES manufacturing"},{"$f":"VLOOKUP($A102,manufacturing,D$1,FALSE)","v":0.29259999999999997},1.54852E-6,7.9230999999999998E-7,8.4280000000000011E-9,3.173E-8,1.2769999999999998E-2,5.9400000000000002E-4,4.3149999999999994E-3,1.6752E-2,9.7139999999999995E-5,1.9610000000000001E-3,1.0706,33.616,7.400000000000001E-2,3.1869999999999998,2.5720000000000001E-6,{"$f":"(D102/$D$239)*$D$240+(E102/$E$239)*$E$240+(F102/$F$239)*$F$240+(G102/$G$239)*$G$240+(H102/$H$239)*$H$240+(I102/$I$239)*$I$240+(J102/$J$239)*$J$240+(K102/$K$239)*$K$240+(L102/$L$239)*$L$240+(M102/$M$239)*$M$240+(N102/$N$239)*$N$240+(O102/$O$239)*$O$240+(P102/$P$239)*$P$240+(Q102/$Q$239)*$Q$240+(R102/$R$239)*$R$240+(S102/$S$239)*$S$240","v":1.1418377605185446E-12}]
["POTATOES","retail","POTATOES retail",{"$f":"VLOOKUP($A103,retail,D$1,FALSE)","v":0.42428486254714898},2.2038034143015292E-6,8.3219244434099838E-7,1.0122270897676969E-8,4.0955872249548557E-8,1.8959458522799108E-2,1.2327304715041836E-3,4.9600750560338134E-3,1.9272001551155955E-2,1.0564277249936441E-4,2.1974160591859276E-3,3.1599927803730061,35.262054417216284,0.1132302234244783,4.5099105989490518,2.7827028402210224E-6,{"$f":"(D103/$D$239)*$D$240+(E103/$E$239)*$E$240+(F103/$F$239)*$F$240+(G103/$G$239)*$G$240+(H103/$H$239)*$H$240+(I103/$I$239)*$I$240+(J103/$J$239)*$J$240+(K103/$K$239)*$K$240+(L103/$L$239)*$L$240+(M103/$M$239)*$M$240+(N103/$N$239)*$N$240+(O103/$O$239)*$O$240+(P103/$P$239)*$P$240+(Q103/$Q$239)*$Q$240+(R103/$R$239)*$R$240+(S103/$S$239)*$S$240","v":1.4116994626294956E-12}]
["POTATOES","use","POTATOES use",{"$f":"VLOOKUP($A104,use,D$1,FALSE)","v":1.1297926486073608},2.8797781625828499E-6,1.2381526307842309E-6,1.9396585859902278E-8,6.3568635270311591E-8,4.8209704662847595E-2,2.5167933915886715E-3,8.1108245634045426E-3,2.896042596920935E-2,4.5140992835518336E-4,6.2473477571778789E-3,14.127513077326597,52.359889633147787,1.4337224270419757,11.992623679340729,4.6297132566251566E-6,3.0561560801192737E-12]
[]
["Oils","SUNFLOWER OIL"]
["SUNFLOWER OIL","agriculture",{"$f":"CONCATENATE(A107,\" \", B107)","v":"SUNFLOWER OIL agriculture"},{"$f":"VLOOKUP($A107,primary,D$1,FALSE)","v":5.2338355179244989},2.3540487757361321E-7,1.4537546349058569E-5,3.7250181556810992E-7,2.7176553178506936E-7,8.1456369318284441E-2,1.1045329245005977E-2,3.152010722290545E-2,0.13148571650165136,3.1095611035705205E-3,6.7254880084551327E-2,47.554846829104292,3220.1372205960233,2.3913288906063976,34.775586569927214,1.819814691460146E-5,{"$f":"(D107/$D$239)*$D$240+(E107/$E$239)*$E$240+(F107/$F$239)*$F$240+(G107/$G$239)*$G$240+(H107/$H$239)*$H$240+(I107/$I$239)*$I$240+(J107/$J$239)*$J$240+(K107/$K$239)*$K$240+(L107/$L$239)*$L$240+(M107/$M$239)*$M$240+(N107/$N$239)*$N$240+(O107/$O$239)*$O$240+(P107/$P$239)*$P$240+(Q107/$Q$239)*$Q$240+(R107/$R$239)*$R$240+(S107/$S$239)*$S$240","v":2.1523254717774675E-11}]
["SUNFLOWER OIL","manufacturing",{"$f":"CONCATENATE(A108,\" \", B108)","v":"SUNFLOWER OIL manufacturing"},{"$f":"VLOOKUP($A108,manufacturing,D$1,FALSE)","v":7.530376711115518},2.9996372513400041E-7,1.7232518176773283E-5,4.4439191013580296E-7,3.3642512878133195E-7,0.12057542405456032,1.7950005954266195E-2,4.0363814566518191E-2,0.16453528772168213,3.986860164891963E-3,8.0815375094809738E-2,58.118688081348239,3803.9338058130916,2.9904355691889504,50.443715505541256,2.2687075943837168E-5,{"$f":"(D108/$D$239)*$D$240+(E108/$E$239)*$E$240+(F108/$F$239)*$F$240+(G108/$G$239)*$G$240+(H108/$H$239)*$H$240+(I108/$I$239)*$I$240+(J108/$J$239)*$J$240+(K108/$K$239)*$K$240+(L108/$L$239)*$L$240+(M108/$M$239)*$M$240+(N108/$N$239)*$N$240+(O108/$O$239)*$O$240+(P108/$P$239)*$P$240+(Q108/$Q$239)*$Q$240+(R108/$R$239)*$R$240+(S108/$S$239)*$S$240","v":2.6696333164906971E-11}]
["SUNFLOWER OIL","retail","SUNFLOWER OIL retail",{"$f":"VLOOKUP($A109,retail,D$1,FALSE)","v":7.6134602629079673},3.177042128913617E-7,1.7249272811679142E-5,4.4515609169261398E-7,3.4482168195983889E-7,0.12633106098638874,1.8535538878766796E-2,4.0909825288808738E-2,0.16667385937184728,3.9895262752490156E-3,8.1010863103264857E-2,58.607172764258664,3805.4175278726939,3.02806845824959,51.72127416253398,2.2886890635297315E-5,{"$f":"(D109/$D$239)*$D$240+(E109/$E$239)*$E$240+(F109/$F$239)*$F$240+(G109/$G$239)*$G$240+(H109/$H$239)*$H$240+(I109/$I$239)*$I$240+(J109/$J$239)*$J$240+(K109/$K$239)*$K$240+(L109/$L$239)*$L$240+(M109/$M$239)*$M$240+(N109/$N$239)*$N$240+(O109/$O$239)*$O$240+(P109/$P$239)*$P$240+(Q109/$Q$239)*$Q$240+(R109/$R$239)*$R$240+(S109/$S$239)*$S$240","v":2.6866082516193977E-11}]
["SUNFLOWER OIL","use","SUNFLOWER OIL use",{"$f":"VLOOKUP($A110,use,D$1,FALSE)","v":8.5386144742033654},3.4042478377983392E-7,1.8192201148814986E-5,4.7107488181813522E-7,3.6745545322531432E-7,0.13669801120305991,1.9911443086619934E-2,4.3576526197794195E-2,0.1768260230923672,4.205545223878753E-3,8.5750134559344646E-2,64.043067528669923,4007.481873469781,3.998170061565244,58.886512285985475,2.4405455246204979E-5,2.8811055870593526E-11]
[]
["Oils","OLIVE OIL"]
["OLIVE OIL","agriculture",{"$f":"CONCATENATE(A113,\" \", B113)","v":"OLIVE OIL agriculture"},{"$f":"VLOOKUP($A113,primary,D$1,FALSE)","v":1.1200000000000001},8.7999999999999994E-8,2.23E-7,7.8000000000000004E-9,1.2700000000000001E-7,6.2399999999999997E-2,5.4999999999999997E-3,1.7299999999999999E-2,6.4799999999999996E-2,2.42E-4,1.01E-2,4.16,1160,26.3,15.8,6.8800000000000002E-6,{"$f":"(D113/$D$239)*$D$240+(E113/$E$239)*$E$240+(F113/$F$239)*$F$240+(G113/$G$239)*$G$240+(H113/$H$239)*$H$240+(I113/$I$239)*$I$240+(J113/$J$239)*$J$240+(K113/$K$239)*$K$240+(L113/$L$239)*$L$240+(M113/$M$239)*$M$240+(N113/$N$239)*$N$240+(O113/$O$239)*$O$240+(P113/$P$239)*$P$240+(Q113/$Q$239)*$Q$240+(R113/$R$239)*$R$240+(S113/$S$239)*$S$240","v":6.0108910133555114E-12}]
["OLIVE OIL","manufacturing",{"$f":"CONCATENATE(A114,\" \", B114)","v":"OLIVE OIL manufacturing"},{"$f":"VLOOKUP($A114,manufacturing,D$1,FALSE)","v":2.0230000000000001},2.272E-7,2.7090000000000002E-7,1.1420000000000001E-8,1.3385000000000002E-7,0.13369999999999999,6.9579999999999998E-3,1.9638999999999997E-2,6.8269999999999997E-2,2.6340000000000001E-4,1.0534E-2,4.5604000000000005,1149.94,26.5015,30.53,1.3891E-5,{"$f":"(D114/$D$239)*$D$240+(E114/$E$239)*$E$240+(F114/$F$239)*$F$240+(G114/$G$239)*$G$240+(H114/$H$239)*$H$240+(I114/$I$239)*$I$240+(J114/$J$239)*$J$240+(K114/$K$239)*$K$240+(L114/$L$239)*$L$240+(M114/$M$239)*$M$240+(N114/$N$239)*$N$240+(O114/$O$239)*$O$240+(P114/$P$239)*$P$240+(Q114/$Q$239)*$Q$240+(R114/$R$239)*$R$240+(S114/$S$239)*$S$240","v":7.3098469307804607E-12}]
["OLIVE OIL","retail","OLIVE OIL retail",{"$f":"VLOOKUP($A115,retail,D$1,FALSE)","v":2.1630000000000003},2.5880000000000001E-7,2.9430000000000003E-7,1.2490000000000001E-8,1.4895000000000002E-7,0.14341999999999999,8.0079999999999995E-3,2.0584999999999996E-2,7.2039999999999993E-2,2.6598000000000003E-4,1.0877E-2,4.9664000000000001,1152.56,26.546900000000001,32.75,1.4245999999999999E-5,{"$f":"(D115/$D$239)*$D$240+(E115/$E$239)*$E$240+(F115/$F$239)*$F$240+(G115/$G$239)*$G$240+(H115/$H$239)*$H$240+(I115/$I$239)*$I$240+(J115/$J$239)*$J$240+(K115/$K$239)*$K$240+(L115/$L$239)*$L$240+(M115/$M$239)*$M$240+(N115/$N$239)*$N$240+(O115/$O$239)*$O$240+(P115/$P$239)*$P$240+(Q115/$Q$239)*$Q$240+(R115/$R$239)*$R$240+(S115/$S$239)*$S$240","v":7.5853238775659313E-12}]
["OLIVE OIL","use","OLIVE OIL use",{"$f":"VLOOKUP($A116,use,D$1,FALSE)","v":2.6960559485213529},3.1314720021482955E-7,4.6170779348241916E-7,1.8836928405894187E-8,1.7833712486395126E-7,0.17263428153135285,9.6290268356198153E-3,2.4355931094859541E-2,8.4670797091193795E-2,3.2301780680364629E-4,1.2871188487566564E-2,13.687650466080932,1340.3576702526802,32.288540425179775,39.785423598302202,1.7228401069408694E-5,9.4385804821751769E-12]
[]
["Fruits","APPLES"]
["APPLES","agriculture",{"$f":"CONCATENATE(A119,\" \", B119)","v":"APPLES agriculture"},{"$f":"VLOOKUP($A119,primary,D$1,FALSE)","v":6.7599999999999993E-2},1.9800000000000002E-9,4.1400000000000002E-9,1.8999999999999999E-10,9.1800000000000001E-9,2.5899999999999999E-3,3.0899999999999998E-4,1.1199999999999999E-3,4.7200000000000002E-3,5.0699999999999997E-6,7.2400000000000003E-4,2.87,41.9,4.29,0.88800000000000001,1.24E-7,{"$f":"(D119/$D$239)*$D$240+(E119/$E$239)*$E$240+(F119/$F$239)*$F$240+(G119/$G$239)*$G$240+(H119/$H$239)*$H$240+(I119/$I$239)*$I$240+(J119/$J$239)*$J$240+(K119/$K$239)*$K$240+(L119/$L$239)*$L$240+(M119/$M$239)*$M$240+(N119/$N$239)*$N$240+(O119/$O$239)*$O$240+(P119/$P$239)*$P$240+(Q119/$Q$239)*$Q$240+(R119/$R$239)*$R$240+(S119/$S$239)*$S$240","v":6.8759189130876705E-13}]
["APPLES","manufacturing",{"$f":"CONCATENATE(A120,\" \", B120)","v":"APPLES manufacturing"},{"$f":"VLOOKUP($A120,manufacturing,D$1,FALSE)","v":0.9296015022197035},1.4944361372188732E-5,8.6098380691592803E-8,4.4753274731352141E-9,1.7801114914828291E-8,2.6782945855796072E-2,1.0698121970693704E-3,2.8235539227743213E-3,8.6442526499729937E-3,3.9050588653859856E-5,1.1518683845023394E-3,8.1591708748899308,51.703112816511648,5.0989573951877603,4.759835123400971,5.9911631988493071E-7,{"$f":"(D120/$D$239)*$D$240+(E120/$E$239)*$E$240+(F120/$F$239)*$F$240+(G120/$G$239)*$G$240+(H120/$H$239)*$H$240+(I120/$I$239)*$I$240+(J120/$J$239)*$J$240+(K120/$K$239)*$K$240+(L120/$L$239)*$L$240+(M120/$M$239)*$M$240+(N120/$N$239)*$N$240+(O120/$O$239)*$O$240+(P120/$P$239)*$P$240+(Q120/$Q$239)*$Q$240+(R120/$R$239)*$R$240+(S120/$S$239)*$S$240","v":1.8911247287965474E-12}]
["APPLES","retail","APPLES retail",{"$f":"VLOOKUP($A121,retail,D$1,FALSE)","v":1.0408370201442021},1.4961966249762346E-5,1.3624472975016206E-7,6.5731430412451688E-9,2.6626646699897657E-8,3.261931517408051E-2,1.6791414420753471E-3,3.4616611456797699E-3,1.1149969151624358E-2,5.0281692224380432E-5,1.3907484690536649E-3,11.030017703994226,53.260333412534912,5.1374862857941581,5.9754216933281885,7.9126323448639129E-7,{"$f":"(D121/$D$239)*$D$240+(E121/$E$239)*$E$240+(F121/$F$239)*$F$240+(G121/$G$239)*$G$240+(H121/$H$239)*$H$240+(I121/$I$239)*$I$240+(J121/$J$239)*$J$240+(K121/$K$239)*$K$240+(L121/$L$239)*$L$240+(M121/$M$239)*$M$240+(N121/$N$239)*$N$240+(O121/$O$239)*$O$240+(P121/$P$239)*$P$240+(Q121/$Q$239)*$Q$240+(R121/$R$239)*$R$240+(S121/$S$239)*$S$240","v":2.1634989903538604E-12}]
["APPLES","use","APPLES use",{"$f":"VLOOKUP($A122,use,D$1,FALSE)","v":1.6547990021514556},2.0537020918315125E-5,3.5034300664964002E-7,1.4297163581353855E-8,4.2613020466109564E-8,5.0923884779539151E-2,2.684115060154397E-3,5.3211690678350992E-3,1.6877689721235448E-2,1.2281241964101505E-4,2.8854492889548843E-3,26.237353318406395,78.855435403085394,8.4337539896479452,9.4960411874997099,1.7567284924347154E-6,3.7393392834685286E-12]
[]
["Fruits","ORANGES"]
["ORANGES","agriculture",{"$f":"CONCATENATE(A125,\" \", B125)","v":"ORANGES agriculture"},{"$f":"VLOOKUP($A125,primary,D$1,FALSE)","v":0.21099999999999999},8.0299999999999998E-9,8.1899999999999992E-9,7.6299999999999995E-10,3.2100000000000003E-8,1.0699999999999999E-2,5.8399999999999999E-4,4.45E-3,1.8599999999999998E-2,6.9300000000000004E-5,3.1900000000000001E-3,5.19,53.3,7.21,2.81,2.1199999999999999E-7,{"$f":"(D125/$D$239)*$D$240+(E125/$E$239)*$E$240+(F125/$F$239)*$F$240+(G125/$G$239)*$G$240+(H125/$H$239)*$H$240+(I125/$I$239)*$I$240+(J125/$J$239)*$J$240+(K125/$K$239)*$K$240+(L125/$L$239)*$L$240+(M125/$M$239)*$M$240+(N125/$N$239)*$N$240+(O125/$O$239)*$O$240+(P125/$P$239)*$P$240+(Q125/$Q$239)*$Q$240+(R125/$R$239)*$R$240+(S125/$S$239)*$S$240","v":1.4246957681831952E-12}]
["ORANGES","manufacturing",{"$f":"CONCATENATE(A126,\" \", B126)","v":"ORANGES manufacturing"},{"$f":"VLOOKUP($A126,manufacturing,D$1,FALSE)","v":0.84563879481124649},7.4383096939340325E-6,1.2929087264642312E-7,6.3162889202748862E-9,3.5738829462673419E-8,2.7345923295711106E-2,1.3951731125149414E-3,6.8875180572636223E-3,2.652679125412841E-2,1.2120525892630146E-4,4.3540502113783141E-3,13.317717072760736,46.155551490058151,8.961897226515994,6.4494664248180422,2.0216172865036514E-6,{"$f":"(D126/$D$239)*$D$240+(E126/$E$239)*$E$240+(F126/$F$239)*$F$240+(G126/$G$239)*$G$240+(H126/$H$239)*$H$240+(I126/$I$239)*$I$240+(J126/$J$239)*$J$240+(K126/$K$239)*$K$240+(L126/$L$239)*$L$240+(M126/$M$239)*$M$240+(N126/$N$239)*$N$240+(O126/$O$239)*$O$240+(P126/$P$239)*$P$240+(Q126/$Q$239)*$Q$240+(R126/$R$239)*$R$240+(S126/$S$239)*$S$240","v":2.6052819129647724E-12}]
["ORANGES","retail","ORANGES retail",{"$f":"VLOOKUP($A127,retail,D$1,FALSE)","v":0.96257431273574501},7.4572145715076463E-6,1.8043722170499238E-7,8.4571044883848401E-9,4.5194361247742784E-8,3.3552292613995546E-2,2.0475023575209179E-3,7.5646252801690713E-3,2.9192507755779775E-2,1.3251636249682203E-4,4.6069302959296406E-3,16.205563901865027,47.822772086081422,9.0011261171223911,7.7550529947452587,2.2287642011051123E-6,{"$f":"(D127/$D$239)*$D$240+(E127/$E$239)*$E$240+(F127/$F$239)*$F$240+(G127/$G$239)*$G$240+(H127/$H$239)*$H$240+(I127/$I$239)*$I$240+(J127/$J$239)*$J$240+(K127/$K$239)*$K$240+(L127/$L$239)*$L$240+(M127/$M$239)*$M$240+(N127/$N$239)*$N$240+(O127/$O$239)*$O$240+(P127/$P$239)*$P$240+(Q127/$Q$239)*$Q$240+(R127/$R$239)*$R$240+(S127/$S$239)*$S$240","v":2.8887101647508827E-12}]
["ORANGES","use","ORANGES use",{"$f":"VLOOKUP($A128,use,D$1,FALSE)","v":1.5646427505623517},1.0242676997526786E-5,4.1118370891964046E-7,1.6944472836689481E-8,6.8207136443949238E-8,5.2171689223867043E-2,3.2024112404638225E-3,1.0971077757120834E-2,4.1723399740653019E-2,2.70558179959865E-4,7.4928213422826963E-3,33.335867993126293,71.214303542381032,13.68460145374703,11.93963638834617,3.728229105080423E-6,4.7500016355739741E-12]
[]
["Fruits","BANANAS"]
["BANANAS","agriculture",{"$f":"CONCATENATE(A131,\" \", B131)","v":"BANANAS agriculture"},{"$f":"VLOOKUP($A131,primary,D$1,FALSE)","v":0.13900000000000001},1.9300000000000002E-9,6.24E-9,1.64E-10,2.9499999999999999E-8,9.1299999999999997E-4,2.02E-4,4.0899999999999999E-3,1.7999999999999999E-2,6.0800000000000001E-5,7.9199999999999995E-4,0.47399999999999998,40,4.05,0.97799999999999998,2.6899999999999999E-7,{"$f":"(D131/$D$239)*$D$240+(E131/$E$239)*$E$240+(F131/$F$239)*$F$240+(G131/$G$239)*$G$240+(H131/$H$239)*$H$240+(I131/$I$239)*$I$240+(J131/$J$239)*$J$240+(K131/$K$239)*$K$240+(L131/$L$239)*$L$240+(M131/$M$239)*$M$240+(N131/$N$239)*$N$240+(O131/$O$239)*$O$240+(P131/$P$239)*$P$240+(Q131/$Q$239)*$Q$240+(R131/$R$239)*$R$240+(S131/$S$239)*$S$240","v":7.7425401543096158E-13}]
["BANANAS","manufacturing",{"$f":"CONCATENATE(A132,\" \", B132)","v":"BANANAS manufacturing"},{"$f":"VLOOKUP($A132,manufacturing,D$1,FALSE)","v":0.7712818515392097},4.0582262513545333E-6,7.5124394241352236E-8,4.0983239832157655E-9,3.6845016728983873E-8,2.5495983851728649E-2,2.9643996026347242E-3,8.3754774857397098E-3,2.9048482369290189E-2,8.2461633458168714E-5,1.807131623448066E-3,2.4406562258443651,16.114326629485927,4.5996994161086295,9.42820345785643,2.7690246918955052E-6,{"$f":"(D132/$D$239)*$D$240+(E132/$E$239)*$E$240+(F132/$F$239)*$F$240+(G132/$G$239)*$G$240+(H132/$H$239)*$H$240+(I132/$I$239)*$I$240+(J132/$J$239)*$J$240+(K132/$K$239)*$K$240+(L132/$L$239)*$L$240+(M132/$M$239)*$M$240+(N132/$N$239)*$N$240+(O132/$O$239)*$O$240+(P132/$P$239)*$P$240+(Q132/$Q$239)*$Q$240+(R132/$R$239)*$R$240+(S132/$S$239)*$S$240","v":1.7773607789274635E-12}]
["BANANAS","retail","BANANAS retail",{"$f":"VLOOKUP($A133,retail,D$1,FALSE)","v":0.90811736946370825},4.1450311289281461E-6,1.2887074329992149E-7,6.3501395513257203E-9,4.8110548514053239E-8,3.2842353170013092E-2,3.7527288476407006E-3,9.1695847086451579E-3,3.2194198870941548E-2,9.3992737028689291E-5,2.1040117079993916E-3,5.3745030549486579,18.221547225509191,4.6412283067150266,11.003790027783648,3.0061716064969663E-6,{"$f":"(D133/$D$239)*$D$240+(E133/$E$239)*$E$240+(F133/$F$239)*$F$240+(G133/$G$239)*$G$240+(H133/$H$239)*$H$240+(I133/$I$239)*$I$240+(J133/$J$239)*$J$240+(K133/$K$239)*$K$240+(L133/$L$239)*$L$240+(M133/$M$239)*$M$240+(N133/$N$239)*$N$240+(O133/$O$239)*$O$240+(P133/$P$239)*$P$240+(Q133/$Q$239)*$Q$240+(R133/$R$239)*$R$240+(S133/$S$239)*$S$240","v":2.0956996586191851E-12}]
["BANANAS","use","BANANAS use",{"$f":"VLOOKUP($A134,use,D$1,FALSE)","v":1.5698418681590092},5.6988164850720562E-6,3.4028779889896707E-7,1.4167260303000701E-8,7.2153393325033561E-8,4.9309835391243659E-2,5.5729422282824554E-3,1.3180268193987897E-2,4.6007945851986067E-2,2.3062770057971036E-4,4.292462511102658E-3,18.396145706546911,29.358556820059757,7.364566021089467,16.237765788947527,4.7607515816124588E-6,3.6502197850391026E-12]
[]
["Sugar","SUGAR"]
["SUGAR","agriculture",{"$f":"CONCATENATE(A137,\" \", B137)","v":"SUGAR agriculture"},{"$f":"VLOOKUP($A137,primary,D$1,FALSE)","v":0.44900000000000001},1.89E-8,2.4600000000000002E-6,1.88E-8,2.22E-7,2E-3,7.2199999999999999E-4,3.1300000000000001E-2,0.14000000000000001,2.0900000000000001E-4,1.5699999999999999E-2,2.34,122,3.1800000000000002E-2,2.0699999999999998,1.5099999999999999E-6,{"$f":"(D137/$D$239)*$D$240+(E137/$E$239)*$E$240+(F137/$F$239)*$F$240+(G137/$G$239)*$G$240+(H137/$H$239)*$H$240+(I137/$I$239)*$I$240+(J137/$J$239)*$J$240+(K137/$K$239)*$K$240+(L137/$L$239)*$L$240+(M137/$M$239)*$M$240+(N137/$N$239)*$N$240+(O137/$O$239)*$O$240+(P137/$P$239)*$P$240+(Q137/$Q$239)*$Q$240+(R137/$R$239)*$R$240+(S137/$S$239)*$S$240","v":3.726773549027763E-12}]
["SUGAR","manufacturing",{"$f":"CONCATENATE(A138,\" \", B138)","v":"SUGAR manufacturing"},{"$f":"VLOOKUP($A138,manufacturing,D$1,FALSE)","v":0.77},2.1910000000000002E-8,2.4634399999999998E-6,1.9175000000000001E-8,2.27882E-7,5.3200000000000001E-3,1.6448999999999999E-3,3.2230099999999998E-2,0.14359,2.10912E-4,1.6030699999999998E-2,2.3801999999999999,122.2801,0.10301,7.1139999999999999,1.6995E-6,{"$f":"(D138/$D$239)*$D$240+(E138/$E$239)*$E$240+(F138/$F$239)*$F$240+(G138/$G$239)*$G$240+(H138/$H$239)*$H$240+(I138/$I$239)*$I$240+(J138/$J$239)*$J$240+(K138/$K$239)*$K$240+(L138/$L$239)*$L$240+(M138/$M$239)*$M$240+(N138/$N$239)*$N$240+(O138/$O$239)*$O$240+(P138/$P$239)*$P$240+(Q138/$Q$239)*$Q$240+(R138/$R$239)*$R$240+(S138/$S$239)*$S$240","v":4.0390267221151076E-12}]
["SUGAR","retail","SUGAR retail",{"$f":"VLOOKUP($A139,retail,D$1,FALSE)","v":0.84820000000000007},3.9309999999999999E-8,2.4762399999999999E-6,1.9777000000000002E-8,2.3603200000000001E-7,1.0960000000000001E-2,2.2148999999999997E-3,3.2754099999999994E-2,0.14563999999999999,2.12592E-4,1.6216699999999997E-2,2.5981999999999998,123.7201,0.14030999999999999,8.3740000000000006,1.8965E-6,{"$f":"(D139/$D$239)*$D$240+(E139/$E$239)*$E$240+(F139/$F$239)*$F$240+(G139/$G$239)*$G$240+(H139/$H$239)*$H$240+(I139/$I$239)*$I$240+(J139/$J$239)*$J$240+(K139/$K$239)*$K$240+(L139/$L$239)*$L$240+(M139/$M$239)*$M$240+(N139/$N$239)*$N$240+(O139/$O$239)*$O$240+(P139/$P$239)*$P$240+(Q139/$Q$239)*$Q$240+(R139/$R$239)*$R$240+(S139/$S$239)*$S$240","v":4.1940927272401395E-12}]
["SUGAR","use","SUGAR use",{"$f":"VLOOKUP($A140,use,D$1,FALSE)","v":1.1996167302910703},5.9021051782542078E-8,3.137209199316143E-6,2.8325239969811138E-8,2.8979531769167797E-7,1.8304749679440877E-2,2.9786134598634014E-3,3.9983300122005967E-2,0.17699531394932974,2.7588642133550103E-4,1.9856943209883952E-2,13.168499166228996,153.58000230924139,1.1512022283118066,11.1992393125634,2.911956912779215E-6,5.6882033929411035E-12]
[]
["Confectionery","BISCUITS"]
["BISCUITS","agriculture",{"$f":"CONCATENATE(A143,\" \", B143)","v":"BISCUITS agriculture"},{"$f":"VLOOKUP($A143,primary,D$1,FALSE)","v":1.4},9.5100000000000005E-9,2.65E-6,2.4100000000000001E-8,2.3200000000000001E-7,6.9300000000000004E-3,1.2099999999999999E-3,3.1899999999999998E-2,0.14199999999999999,2.4899999999999998E-4,1.52E-2,7.2,230,0.56299999999999994,3.62,4.2399999999999999E-7,{"$f":"(D143/$D$239)*$D$240+(E143/$E$239)*$E$240+(F143/$F$239)*$F$240+(G143/$G$239)*$G$240+(H143/$H$239)*$H$240+(I143/$I$239)*$I$240+(J143/$J$239)*$J$240+(K143/$K$239)*$K$240+(L143/$L$239)*$L$240+(M143/$M$239)*$M$240+(N143/$N$239)*$N$240+(O143/$O$239)*$O$240+(P143/$P$239)*$P$240+(Q143/$Q$239)*$Q$240+(R143/$R$239)*$R$240+(S143/$S$239)*$S$240","v":4.5453217823076428E-12}]
["BISCUITS","manufacturing",{"$f":"CONCATENATE(A144,\" \", B144)","v":"BISCUITS manufacturing"},{"$f":"VLOOKUP($A144,manufacturing,D$1,FALSE)","v":2.7991711045267498},1.3182458735100414E-7,2.8090890074549342E-6,3.1629188925962427E-8,2.4642678844479623E-7,9.5761376605123266E-2,3.9299475192951629E-3,3.7958704873355426E-2,0.1544395545500305,3.6426545938712351E-4,1.6495523459003892E-2,8.5131625083868858,204.36843473601368,1.2948350510127649,24.828490185346219,4.0907101231917463E-6,{"$f":"(D144/$D$239)*$D$240+(E144/$E$239)*$E$240+(F144/$F$239)*$F$240+(G144/$G$239)*$G$240+(H144/$H$239)*$H$240+(I144/$I$239)*$I$240+(J144/$J$239)*$J$240+(K144/$K$239)*$K$240+(L144/$L$239)*$L$240+(M144/$M$239)*$M$240+(N144/$N$239)*$N$240+(O144/$O$239)*$O$240+(P144/$P$239)*$P$240+(Q144/$Q$239)*$Q$240+(R144/$R$239)*$R$240+(S144/$S$239)*$S$240","v":6.5196025498354255E-12}]
["BISCUITS","retail","BISCUITS retail",{"$f":"VLOOKUP($A145,retail,D$1,FALSE)","v":2.8954382081116496},1.5190556286572676E-7,2.831298277266648E-6,3.2617552039584415E-8,2.5598989480181006E-7,0.10219265046878015,4.5960133682963582E-3,3.8583726317936516E-2,0.15689669785036076,3.6802768010122766E-4,1.6721499475914156E-2,9.2961318742077452,206.04587885521832,1.3339008291340444,26.253607499331665,4.3153395061120387E-6,{"$f":"(D145/$D$239)*$D$240+(E145/$E$239)*$E$240+(F145/$F$239)*$F$240+(G145/$G$239)*$G$240+(H145/$H$239)*$H$240+(I145/$I$239)*$I$240+(J145/$J$239)*$J$240+(K145/$K$239)*$K$240+(L145/$L$239)*$L$240+(M145/$M$239)*$M$240+(N145/$N$239)*$N$240+(O145/$O$239)*$O$240+(P145/$P$239)*$P$240+(Q145/$Q$239)*$Q$240+(R145/$R$239)*$R$240+(S145/$S$239)*$S$240","v":6.7202861235879324E-12}]
["BISCUITS","use","BISCUITS use",{"$f":"VLOOKUP($A146,use,D$1,FALSE)","v":3.2344370544903001},1.7563170534804513E-7,3.0654125361286152E-6,3.7406194055234707E-8,2.8100170351578803E-7,0.1146681604669766,5.3321858200192267E-3,4.2078478994839977E-2,0.16975113602349776,7.5744537203717649E-4,2.5941808794624838E-2,12.512711880361866,224.7178047030005,2.6632178216637952,29.259526835034517,5.3208864158367691E-6,7.8497578273212665E-12]
[]
["Confectionery","CHOCOLATE"]
["CHOCOLATE","agriculture",{"$f":"CONCATENATE(A149,\" \", B149)","v":"CHOCOLATE agriculture"},{"$f":"VLOOKUP($A149,primary,D$1,FALSE)","v":0.16400000000000001},1.7299999999999999E-8,5.0299999999999999E-7,3.4299999999999999E-9,4.3200000000000003E-8,5.1599999999999997E-3,5.8900000000000001E-4,6.0600000000000003E-3,2.07E-2,5.0899999999999997E-5,2.32E-3,49.5,66.8,0.307,2.4,7.0500000000000003E-6,{"$f":"(D149/$D$239)*$D$240+(E149/$E$239)*$E$240+(F149/$F$239)*$F$240+(G149/$G$239)*$G$240+(H149/$H$239)*$H$240+(I149/$I$239)*$I$240+(J149/$J$239)*$J$240+(K149/$K$239)*$K$240+(L149/$L$239)*$L$240+(M149/$M$239)*$M$240+(N149/$N$239)*$N$240+(O149/$O$239)*$O$240+(P149/$P$239)*$P$240+(Q149/$Q$239)*$Q$240+(R149/$R$239)*$R$240+(S149/$S$239)*$S$240","v":2.128832005209175E-12}]
["CHOCOLATE","manufacturing",{"$f":"CONCATENATE(A150,\" \", B150)","v":"CHOCOLATE manufacturing"},{"$f":"VLOOKUP($A150,manufacturing,D$1,FALSE)","v":1.6021239568023677},2.1370256714400697E-7,6.5258755213608903E-7,1.4684639772689447E-8,1.0889764830793125E-7,8.1850720693833923E-2,6.9698048657926195E-3,1.5408477485739709E-2,4.4974061316658605E-2,1.1823742293185294E-4,4.5759368866059606E-3,54.333656225844358,57.377484524222766,0.93998362663494606,26.569256089435374,1.5003761534000768E-5,{"$f":"(D150/$D$239)*$D$240+(E150/$E$239)*$E$240+(F150/$F$239)*$F$240+(G150/$G$239)*$G$240+(H150/$H$239)*$H$240+(I150/$I$239)*$I$240+(J150/$J$239)*$J$240+(K150/$K$239)*$K$240+(L150/$L$239)*$L$240+(M150/$M$239)*$M$240+(N150/$N$239)*$N$240+(O150/$O$239)*$O$240+(P150/$P$239)*$P$240+(Q150/$Q$239)*$Q$240+(R150/$R$239)*$R$240+(S150/$S$239)*$S$240","v":4.5621471196210491E-12}]
["CHOCOLATE","retail","CHOCOLATE retail",{"$f":"VLOOKUP($A151,retail,D$1,FALSE)","v":1.6922075085948176},2.3304305490136827E-7,6.7054218704194593E-7,1.5501821329500443E-8,1.180842014864382E-7,8.8076357625662363E-2,7.6103377902932172E-3,1.6002488208030255E-2,4.7302632966823743E-2,1.21003533288905E-4,4.7894248950610934E-3,54.843140908754791,58.99120658382509,0.97851651569558573,27.956814746428098,1.5221576225460915E-5,{"$f":"(D151/$D$239)*$D$240+(E151/$E$239)*$E$240+(F151/$F$239)*$F$240+(G151/$G$239)*$G$240+(H151/$H$239)*$H$240+(I151/$I$239)*$I$240+(J151/$J$239)*$J$240+(K151/$K$239)*$K$240+(L151/$L$239)*$L$240+(M151/$M$239)*$M$240+(N151/$N$239)*$N$240+(O151/$O$239)*$O$240+(P151/$P$239)*$P$240+(Q151/$Q$239)*$Q$240+(R151/$R$239)*$R$240+(S151/$S$239)*$S$240","v":4.7456001501992265E-12}]
["CHOCOLATE","use","CHOCOLATE use",{"$f":"VLOOKUP($A152,use,D$1,FALSE)","v":1.9545718660058571},2.6349625065149438E-7,7.5849798890718269E-7,1.942349715139648E-8,1.326315358873474E-7,9.9637394631265988E-2,8.4820319251455063E-3,1.7764929246811254E-2,5.2690502910210851E-2,1.1499317292729923E-3,1.0373838289034451E-2,60.619638301837306,67.920404604648539,2.4148499622754072,31.005496940424337,1.6949619687163518E-5,5.842061120914135E-12]
[]
["Nuts","ALMONDS"]
["ALMONDS","agriculture",{"$f":"CONCATENATE(A155,\" \", B155)","v":"ALMONDS agriculture"},{"$f":"VLOOKUP($A155,primary,D$1,FALSE)","v":4.26},1.91E-7,6.1599999999999996E-8,6.3600000000000004E-9,6.8700000000000005E-7,7.5800000000000006E-2,1.8599999999999998E-2,8.3500000000000005E-2,0.371,4.4299999999999999E-3,1.9199999999999998E-2,36.6,1150,326,44,1.43E-5,{"$f":"(D155/$D$239)*$D$240+(E155/$E$239)*$E$240+(F155/$F$239)*$F$240+(G155/$G$239)*$G$240+(H155/$H$239)*$H$240+(I155/$I$239)*$I$240+(J155/$J$239)*$J$240+(K155/$K$239)*$K$240+(L155/$L$239)*$L$240+(M155/$M$239)*$M$240+(N155/$N$239)*$N$240+(O155/$O$239)*$O$240+(P155/$P$239)*$P$240+(Q155/$Q$239)*$Q$240+(R155/$R$239)*$R$240+(S155/$S$239)*$S$240","v":4.5534334406176213E-11}]
["ALMONDS","manufacturing",{"$f":"CONCATENATE(A156,\" \", B156)","v":"ALMONDS manufacturing"},{"$f":"VLOOKUP($A156,manufacturing,D$1,FALSE)","v":5.0081693388577007},2.6279908992455126E-7,1.3105163437181289E-7,1.0775282893062123E-8,7.6537421496086694E-7,0.11180543458239278,2.2677807495950785E-2,9.4087816667220617E-2,0.41072612148782539,4.8112371110031246E-3,2.1637532500987555E-2,42.20556229386834,1247.9188815643431,352.52930180319436,53.462745867508545,1.6220470471298479E-5,{"$f":"(D156/$D$239)*$D$240+(E156/$E$239)*$E$240+(F156/$F$239)*$F$240+(G156/$G$239)*$G$240+(H156/$H$239)*$H$240+(I156/$I$239)*$I$240+(J156/$J$239)*$J$240+(K156/$K$239)*$K$240+(L156/$L$239)*$L$240+(M156/$M$239)*$M$240+(N156/$N$239)*$N$240+(O156/$O$239)*$O$240+(P156/$P$239)*$P$240+(Q156/$Q$239)*$Q$240+(R156/$R$239)*$R$240+(S156/$S$239)*$S$240","v":5.0011462179493095E-11}]
["ALMONDS","retail","ALMONDS retail",{"$f":"VLOOKUP($A157,retail,D$1,FALSE)","v":5.0948364424426007},2.806800654392739E-7,1.5166090418352675E-7,1.1690646006684116E-8,7.7386732131788083E-7,0.11760670844604967,2.326987334495198E-2,9.4646838111801704E-2,0.41291326478815565,4.8148593317172295E-3,2.1838508517897818E-2,42.959531659689198,1249.4163256835479,352.56706758131565,54.737863181493992,1.6421099854218773E-5,{"$f":"(D157/$D$239)*$D$240+(E157/$E$239)*$E$240+(F157/$F$239)*$F$240+(G157/$G$239)*$G$240+(H157/$H$239)*$H$240+(I157/$I$239)*$I$240+(J157/$J$239)*$J$240+(K157/$K$239)*$K$240+(L157/$L$239)*$L$240+(M157/$M$239)*$M$240+(N157/$N$239)*$N$240+(O157/$O$239)*$O$240+(P157/$P$239)*$P$240+(Q157/$Q$239)*$Q$240+(R157/$R$239)*$R$240+(S157/$S$239)*$S$240","v":5.0193481368009207E-11}]
["ALMONDS","use","ALMONDS use",{"$f":"VLOOKUP($A158,use,D$1,FALSE)","v":5.6642486350812407},3.2449195428521363E-7,2.4045795516089276E-7,1.6393020097029133E-8,8.4033108104266739E-7,0.13385504562350603,2.5645695352380218E-2,0.10297418285326382,0.44808859851051958,7.5897265224254646E-3,4.8652132179593965E-2,48.909738765398181,1335.4131748074249,376.54328136380735,60.178232238911576,1.8674981279803302E-5,5.5202102641876942E-11]
[]
["Drinks","COFFEE"]
["COFFEE","agriculture",{"$f":"CONCATENATE(A161,\" \", B161)","v":"COFFEE agriculture"},{"$f":"VLOOKUP($A161,primary,D$1,FALSE)","v":2.68},4.2699999999999999E-8,6.9899999999999997E-8,3.77E-9,5.44E-7,2.18E-2,6.2100000000000002E-3,7.3200000000000001E-2,0.32400000000000001,3.77E-4,5.7799999999999997E-2,111,984,0.126,20.7,5.2800000000000003E-6,{"$f":"(D161/$D$239)*$D$240+(E161/$E$239)*$E$240+(F161/$F$239)*$F$240+(G161/$G$239)*$G$240+(H161/$H$239)*$H$240+(I161/$I$239)*$I$240+(J161/$J$239)*$J$240+(K161/$K$239)*$K$240+(L161/$L$239)*$L$240+(M161/$M$239)*$M$240+(N161/$N$239)*$N$240+(O161/$O$239)*$O$240+(P161/$P$239)*$P$240+(Q161/$Q$239)*$Q$240+(R161/$R$239)*$R$240+(S161/$S$239)*$S$240","v":9.6417677879006946E-12}]
["COFFEE","manufacturing",{"$f":"CONCATENATE(A162,\" \", B162)","v":"COFFEE manufacturing"},{"$f":"VLOOKUP($A162,manufacturing,D$1,FALSE)","v":9.7830000000000013},7.7670000000000001E-7,5.7650000000000001E-7,6.3879999999999987E-8,7.0510000000000003E-7,0.91810000000000003,2.3771E-2,0.11385000000000001,0.38546000000000002,1.0081000000000001E-3,6.3425999999999996E-2,113.83099999999999,1062.471,2.0533000000000001,168.88,2.2920000000000001E-5,{"$f":"(D162/$D$239)*$D$240+(E162/$E$239)*$E$240+(F162/$F$239)*$F$240+(G162/$G$239)*$G$240+(H162/$H$239)*$H$240+(I162/$I$239)*$I$240+(J162/$J$239)*$J$240+(K162/$K$239)*$K$240+(L162/$L$239)*$L$240+(M162/$M$239)*$M$240+(N162/$N$239)*$N$240+(O162/$O$239)*$O$240+(P162/$P$239)*$P$240+(Q162/$Q$239)*$Q$240+(R162/$R$239)*$R$240+(S162/$S$239)*$S$240","v":2.2972838378271471E-11}]
["COFFEE","retail","COFFEE retail",{"$f":"VLOOKUP($A163,retail,D$1,FALSE)","v":9.8850000000000016},7.9950000000000003E-7,5.933E-7,6.4662999999999988E-8,7.159E-7,0.92530000000000001,2.4525000000000002E-2,0.11453500000000001,0.38817000000000002,1.0101300000000001E-3,6.3671999999999992E-2,114.121,1064.3610000000001,2.0937000000000001,170.5,2.3177000000000002E-5,{"$f":"(D163/$D$239)*$D$240+(E163/$E$239)*$E$240+(F163/$F$239)*$F$240+(G163/$G$239)*$G$240+(H163/$H$239)*$H$240+(I163/$I$239)*$I$240+(J163/$J$239)*$J$240+(K163/$K$239)*$K$240+(L163/$L$239)*$L$240+(M163/$M$239)*$M$240+(N163/$N$239)*$N$240+(O163/$O$239)*$O$240+(P163/$P$239)*$P$240+(Q163/$Q$239)*$Q$240+(R163/$R$239)*$R$240+(S163/$S$239)*$S$240","v":2.3173853490324498E-11}]
["COFFEE","use","COFFEE use",{"$f":"VLOOKUP($A164,use,D$1,FALSE)","v":19.984295976282354},1.6268401638776472E-6,1.3319163520000001E-6,1.5594702337882351E-7,1.1756740862870589E-6,2.0484669657336467,4.7561067990588242E-2,0.19685430717741176,0.61227402499011763,2.5476127622776471E-3,0.10152080894004707,169.979400352,1703.6539753938825,27.92951026823529,356.92502134964707,4.6595619417411762E-5,4.6986846983593305E-11]
[]
["Drinks","TEA"]
["TEA","agriculture",{"$f":"CONCATENATE(A167,\" \", B167)","v":"TEA agriculture"},{"$f":"VLOOKUP($A167,primary,D$1,FALSE)","v":1.79},4.0000000000000001E-8,2.96E-8,1.97E-9,4.8699999999999995E-7,1.6899999999999998E-2,3.0699999999999998E-3,6.7400000000000002E-2,0.29899999999999999,2.0899999999999998E-2,1.49E-2,0.51300000000000001,753,1.55,16.399999999999999,1.48E-6,{"$f":"(D167/$D$239)*$D$240+(E167/$E$239)*$E$240+(F167/$F$239)*$F$240+(G167/$G$239)*$G$240+(H167/$H$239)*$H$240+(I167/$I$239)*$I$240+(J167/$J$239)*$J$240+(K167/$K$239)*$K$240+(L167/$L$239)*$L$240+(M167/$M$239)*$M$240+(N167/$N$239)*$N$240+(O167/$O$239)*$O$240+(P167/$P$239)*$P$240+(Q167/$Q$239)*$Q$240+(R167/$R$239)*$R$240+(S167/$S$239)*$S$240","v":1.0399939169559249E-11}]
["TEA","manufacturing",{"$f":"CONCATENATE(A168,\" \", B168)","v":"TEA manufacturing"},{"$f":"VLOOKUP($A168,manufacturing,D$1,FALSE)","v":6.9285779819225963},5.9917834799138963E-7,3.6994007447055838E-6,6.703430876705637E-8,1.9981852607534334E-6,0.48828512601586443,3.6711727047213712E-2,0.11206694143469355,0.44130151097959097,2.3668734255585525E-2,2.6452457082434513E-2,9.347697397273194,2328.2280241629319,2.6145121062980081,100.43448703734477,3.0346988000370428E-5,{"$f":"(D168/$D$239)*$D$240+(E168/$E$239)*$E$240+(F168/$F$239)*$F$240+(G168/$G$239)*$G$240+(H168/$H$239)*$H$240+(I168/$I$239)*$I$240+(J168/$J$239)*$J$240+(K168/$K$239)*$K$240+(L168/$L$239)*$L$240+(M168/$M$239)*$M$240+(N168/$N$239)*$N$240+(O168/$O$239)*$O$240+(P168/$P$239)*$P$240+(Q168/$Q$239)*$Q$240+(R168/$R$239)*$R$240+(S168/$S$239)*$S$240","v":2.6589997160093887E-11}]
["TEA","retail","TEA retail",{"$f":"VLOOKUP($A169,retail,D$1,FALSE)","v":7.0853450855074964},6.3305932350611231E-7,3.7320100145172975E-6,6.8484671880678358E-8,2.0145383671104471E-6,0.49873639987952134,3.7850792896214909E-2,0.11310096287927464,0.44543865427992124,2.3673366476299629E-2,2.6831433099344781E-2,10.313666763094052,2331.0554682821366,2.6613778844192879,102.79960435133022,3.0726617383290721E-5,{"$f":"(D169/$D$239)*$D$240+(E169/$E$239)*$E$240+(F169/$F$239)*$F$240+(G169/$G$239)*$G$240+(H169/$H$239)*$H$240+(I169/$I$239)*$I$240+(J169/$J$239)*$J$240+(K169/$K$239)*$K$240+(L169/$L$239)*$L$240+(M169/$M$239)*$M$240+(N169/$N$239)*$N$240+(O169/$O$239)*$O$240+(P169/$P$239)*$P$240+(Q169/$Q$239)*$Q$240+(R169/$R$239)*$R$240+(S169/$S$239)*$S$240","v":2.6908630416663982E-11}]
["TEA","use","TEA use",{"$f":"VLOOKUP($A170,use,D$1,FALSE)","v":17.780941074105797},1.2058565602501489E-6,6.2362908360402164E-6,1.8410105432247402E-7,3.2590476119537634E-6,0.97457184035924072,6.7819802868983731E-2,0.18935705884022222,0.7167996520257035,3.6962881425936851E-2,4.7865024676991531E-2,18.807528594654027,3881.9625238070821,91.696201827279154,250.24694559114099,5.758756829451201E-5,5.8685258548344344E-11]
[]
["Drinks","BEER"]
["BEER","agriculture",{"$f":"CONCATENATE(A173,\" \", B173)","v":"BEER agriculture"},{"$f":"VLOOKUP($A173,primary,D$1,FALSE)","v":0.107},3.6E-9,8.7599999999999996E-7,4.2199999999999999E-9,3.6300000000000001E-8,8.6899999999999998E-4,2.0799999999999999E-4,5.0499999999999998E-3,2.2499999999999999E-2,4.7700000000000001E-5,2.9099999999999998E-3,0.79700000000000004,46.4,2.7799999999999999E-3,0.64800000000000002,2.7700000000000001E-7,{"$f":"(D173/$D$239)*$D$240+(E173/$E$239)*$E$240+(F173/$F$239)*$F$240+(G173/$G$239)*$G$240+(H173/$H$239)*$H$240+(I173/$I$239)*$I$240+(J173/$J$239)*$J$240+(K173/$K$239)*$K$240+(L173/$L$239)*$L$240+(M173/$M$239)*$M$240+(N173/$N$239)*$N$240+(O173/$O$239)*$O$240+(P173/$P$239)*$P$240+(Q173/$Q$239)*$Q$240+(R173/$R$239)*$R$240+(S173/$S$239)*$S$240","v":9.3994539685379897E-13}]
["BEER","manufacturing",{"$f":"CONCATENATE(A174,\" \", B174)","v":"BEER manufacturing"},{"$f":"VLOOKUP($A174,manufacturing,D$1,FALSE)","v":0.87199999999999989},1.2419999999999999E-7,9.0379999999999993E-7,7.2699999999999999E-9,4.1794000000000004E-8,4.0769E-2,1.4239999999999999E-3,7.0179999999999999E-3,2.741E-2,1.6157999999999998E-4,3.4069999999999994E-3,1.0587,41.75,0.7599800000000001,13.818,1.844E-6,{"$f":"(D174/$D$239)*$D$240+(E174/$E$239)*$E$240+(F174/$F$239)*$F$240+(G174/$G$239)*$G$240+(H174/$H$239)*$H$240+(I174/$I$239)*$I$240+(J174/$J$239)*$J$240+(K174/$K$239)*$K$240+(L174/$L$239)*$L$240+(M174/$M$239)*$M$240+(N174/$N$239)*$N$240+(O174/$O$239)*$O$240+(P174/$P$239)*$P$240+(Q174/$Q$239)*$Q$240+(R174/$R$239)*$R$240+(S174/$S$239)*$S$240","v":1.9580438278984859E-12}]
["BEER","retail","BEER retail",{"$f":"VLOOKUP($A175,retail,D$1,FALSE)","v":0.98899999999999988},1.504E-7,9.231999999999999E-7,8.1660000000000001E-9,5.4294000000000003E-8,4.8948999999999999E-2,2.2929999999999999E-3,7.8040000000000002E-3,2.8459999999999999E-2,1.6381999999999999E-4,3.6909999999999994E-3,1.3936999999999999,43.92,0.8022800000000001,15.667999999999999,2.1390000000000002E-6,{"$f":"(D175/$D$239)*$D$240+(E175/$E$239)*$E$240+(F175/$F$239)*$F$240+(G175/$G$239)*$G$240+(H175/$H$239)*$H$240+(I175/$I$239)*$I$240+(J175/$J$239)*$J$240+(K175/$K$239)*$K$240+(L175/$L$239)*$L$240+(M175/$M$239)*$M$240+(N175/$N$239)*$N$240+(O175/$O$239)*$O$240+(P175/$P$239)*$P$240+(Q175/$Q$239)*$Q$240+(R175/$R$239)*$R$240+(S175/$S$239)*$S$240","v":2.1818111123877888E-12}]
["BEER","use","BEER use",{"$f":"VLOOKUP($A176,use,D$1,FALSE)","v":1.5189211888888887},1.7901323111111109E-7,1.0398830277777776E-6,1.1015423333333333E-8,6.5189096666666671E-8,6.214866977777779E-2,2.8318927777777779E-3,9.1582621111111102E-3,3.266257422222222E-2,2.6222389222222217E-4,4.5521424111111108E-3,1.7005920555555556,54.890256000000001,2.3875822222222225,18.919297888888892,2.9668226666666666E-6,2.9106941812989234E-12]
[]
["Drinks","WINE"]
["WINE","agriculture",{"$f":"CONCATENATE(A179,\" \", B179)","v":"WINE agriculture"},{"$f":"VLOOKUP($A179,primary,D$1,FALSE)","v":0.48399999999999999},4.4899999999999998E-8,1.9400000000000001E-6,5.7100000000000002E-8,3.99E-8,1.7500000000000002E-2,2.7000000000000001E-3,5.8999999999999999E-3,2.3099999999999999E-2,9.5600000000000006E-5,5.4900000000000001E-3,38.9,219,68.599999999999994,6.02,6.3600000000000001E-6,{"$f":"(D179/$D$239)*$D$240+(E179/$E$239)*$E$240+(F179/$F$239)*$F$240+(G179/$G$239)*$G$240+(H179/$H$239)*$H$240+(I179/$I$239)*$I$240+(J179/$J$239)*$J$240+(K179/$K$239)*$K$240+(L179/$L$239)*$L$240+(M179/$M$239)*$M$240+(N179/$N$239)*$N$240+(O179/$O$239)*$O$240+(P179/$P$239)*$P$240+(Q179/$Q$239)*$Q$240+(R179/$R$239)*$R$240+(S179/$S$239)*$S$240","v":1.0900474640207804E-11}]
["WINE","manufacturing",{"$f":"CONCATENATE(A180,\" \", B180)","v":"WINE manufacturing"},{"$f":"VLOOKUP($A180,manufacturing,D$1,FALSE)","v":1.5411785015977935},1.6417388506439317E-7,2.0002378706394183E-6,6.2382546150351066E-8,5.3124055848846538E-8,0.1043434570508726,5.1765440718655976E-3,9.9012663153560682E-3,3.007642981777332E-2,1.3782784348014042E-4,6.2652025438144432E-3,39.503620954578736,215.82568471109326,68.930508872216649,22.656291106509528,8.2775422928385157E-6,{"$f":"(D180/$D$239)*$D$240+(E180/$E$239)*$E$240+(F180/$F$239)*$F$240+(G180/$G$239)*$G$240+(H180/$H$239)*$H$240+(I180/$I$239)*$I$240+(J180/$J$239)*$J$240+(K180/$K$239)*$K$240+(L180/$L$239)*$L$240+(M180/$M$239)*$M$240+(N180/$N$239)*$N$240+(O180/$O$239)*$O$240+(P180/$P$239)*$P$240+(Q180/$Q$239)*$Q$240+(R180/$R$239)*$R$240+(S180/$S$239)*$S$240","v":1.2411059028813408E-11}]
["WINE","retail","WINE retail",{"$f":"VLOOKUP($A181,retail,D$1,FALSE)","v":1.7241817315977934},2.0467409706439317E-7,2.0248383956394181E-6,6.3662755150351052E-8,6.9824298848846537E-8,0.11644354625087261,6.9465555718655975E-3,1.2071281415356069E-2,3.6556465017773321E-2,1.4057801048014045E-4,6.8512056738144426E-3,39.918624604578731,218.49571031109323,68.953124872216648,25.466332006509528,8.633557892838516E-6,{"$f":"(D181/$D$239)*$D$240+(E181/$E$239)*$E$240+(F181/$F$239)*$F$240+(G181/$G$239)*$G$240+(H181/$H$239)*$H$240+(I181/$I$239)*$I$240+(J181/$J$239)*$J$240+(K181/$K$239)*$K$240+(L181/$L$239)*$L$240+(M181/$M$239)*$M$240+(N181/$N$239)*$N$240+(O181/$O$239)*$O$240+(P181/$P$239)*$P$240+(Q181/$Q$239)*$Q$240+(R181/$R$239)*$R$240+(S181/$S$239)*$S$240","v":1.2775864799797333E-11}]
["WINE","use","WINE use",{"$f":"VLOOKUP($A182,use,D$1,FALSE)","v":1.9809408652051554},2.3911491131806193E-7,2.2759811485852054E-6,7.2083993647980999E-8,8.0108646440905206E-8,0.13321949609750014,7.8845736665158223E-3,1.3566066056516351E-2,4.1262932266861181E-2,2.1377721487108917E-4,7.8753754905886014E-3,44.912084316586686,250.14552009774778,78.794627870052352,29.096150870381063,9.5098954981352582E-6,1.4564051400556035E-11]
[]
["Drinks","MINERAL WATER"]
["MINERAL WATER","agriculture",{"$f":"CONCATENATE(A185,\" \", B185)","v":"MINERAL WATER agriculture"},{"$f":"VLOOKUP($A185,primary,D$1,FALSE)","v":0},0,0,0,0,0,0,0,0,0,0,0,0,0,0,0,{"$f":"(D185/$D$239)*$D$240+(E185/$E$239)*$E$240+(F185/$F$239)*$F$240+(G185/$G$239)*$G$240+(H185/$H$239)*$H$240+(I185/$I$239)*$I$240+(J185/$J$239)*$J$240+(K185/$K$239)*$K$240+(L185/$L$239)*$L$240+(M185/$M$239)*$M$240+(N185/$N$239)*$N$240+(O185/$O$239)*$O$240+(P185/$P$239)*$P$240+(Q185/$Q$239)*$Q$240+(R185/$R$239)*$R$240+(S185/$S$239)*$S$240","v":0}]
["MINERAL WATER","manufacturing",{"$f":"CONCATENATE(A186,\" \", B186)","v":"MINERAL WATER manufacturing"},{"$f":"VLOOKUP($A186,manufacturing,D$1,FALSE)","v":7.7600000000000002E-2},5.2599999999999996E-9,5.7500000000000002E-9,6.3199999999999999E-10,1.7019999999999999E-9,6.4700000000000001E-3,1.6249999999999999E-4,3.3199999999999999E-4,5.5999999999999995E-4,4.7100000000000006E-6,5.3600000000000002E-5,8.4000000000000005E-2,1.1589999999999998,7.1059999999999998E-2,1.1773,2.0800000000000001E-7,{"$f":"(D186/$D$239)*$D$240+(E186/$E$239)*$E$240+(F186/$F$239)*$F$240+(G186/$G$239)*$G$240+(H186/$H$239)*$H$240+(I186/$I$239)*$I$240+(J186/$J$239)*$J$240+(K186/$K$239)*$K$240+(L186/$L$239)*$L$240+(M186/$M$239)*$M$240+(N186/$N$239)*$N$240+(O186/$O$239)*$O$240+(P186/$P$239)*$P$240+(Q186/$Q$239)*$Q$240+(R186/$R$239)*$R$240+(S186/$S$239)*$S$240","v":1.2341856100278865E-13}]
["MINERAL WATER","retail","MINERAL WATER retail",{"$f":"VLOOKUP($A187,retail,D$1,FALSE)","v":0.1573},2.2959999999999998E-8,1.8749999999999999E-8,1.2449999999999999E-9,1.0011999999999999E-8,1.2199999999999999E-2,7.4350000000000002E-4,8.6600000000000002E-4,2.6499999999999996E-3,6.4200000000000004E-6,2.4360000000000001E-4,0.307,2.6289999999999996,0.10855999999999999,2.4573,4.08E-7,{"$f":"(D187/$D$239)*$D$240+(E187/$E$239)*$E$240+(F187/$F$239)*$F$240+(G187/$G$239)*$G$240+(H187/$H$239)*$H$240+(I187/$I$239)*$I$240+(J187/$J$239)*$J$240+(K187/$K$239)*$K$240+(L187/$L$239)*$L$240+(M187/$M$239)*$M$240+(N187/$N$239)*$N$240+(O187/$O$239)*$O$240+(P187/$P$239)*$P$240+(Q187/$Q$239)*$Q$240+(R187/$R$239)*$R$240+(S187/$S$239)*$S$240","v":2.8122646875136001E-13}]
["MINERAL WATER","use","MINERAL WATER use",{"$f":"VLOOKUP($A188,use,D$1,FALSE)","v":0.25691007777777775},3.5023231111111108E-8,3.2838583333333336E-8,3.1354233333333332E-9,1.5446874444444446E-8,1.8766447555555555E-2,1.0582261111111112E-3,1.3233732222222223E-3,3.7407964444444446E-3,1.4965003333333333E-5,3.9869796666666663E-4,0.45414761111111113,9.0413671111111107,1.6767822222222222,3.8307423333333332,9.5148933333333337E-7,6.2070660506706331E-13]
[]
["Pre-prepared","MEAT BASED DISHES"]
["MEAT BASED DISHES","agriculture",{"$f":"CONCATENATE(A191,\" \", B191)","v":"MEAT BASED DISHES agriculture"},{"$f":"VLOOKUP($A191,primary,D$1,FALSE)","v":3.57},1.35E-7,1.4100000000000001E-6,3.8799999999999997E-8,3.6199999999999999E-7,0.10100000000000001,8.9099999999999995E-3,4.3799999999999999E-2,0.16600000000000001,6.9899999999999997E-4,1.2999999999999999E-2,14.4,364,0.69399999999999995,27,4.5700000000000003E-6,{"$f":"(D191/$D$239)*$D$240+(E191/$E$239)*$E$240+(F191/$F$239)*$F$240+(G191/$G$239)*$G$240+(H191/$H$239)*$H$240+(I191/$I$239)*$I$240+(J191/$J$239)*$J$240+(K191/$K$239)*$K$240+(L191/$L$239)*$L$240+(M191/$M$239)*$M$240+(N191/$N$239)*$N$240+(O191/$O$239)*$O$240+(P191/$P$239)*$P$240+(Q191/$Q$239)*$Q$240+(R191/$R$239)*$R$240+(S191/$S$239)*$S$240","v":6.7905756707492467E-12}]
["MEAT BASED DISHES","manufacturing",{"$f":"CONCATENATE(A192,\" \", B192)","v":"MEAT BASED DISHES manufacturing"},{"$f":"VLOOKUP($A192,manufacturing,D$1,FALSE)","v":5.1018256042895711},3.1790310840848313E-7,1.5488628154882937E-6,5.1558950284947465E-8,3.9817752513247834E-7,0.22357231629377522,1.1674209562385813E-2,5.0951263404644676E-2,0.18098323231734978,8.0559725707622437E-4,1.4263076188040156E-2,16.25718629207671,375.82097872524997,3.8244839588111281,49.845801689037607,7.7703978777362766E-6,{"$f":"(D192/$D$239)*$D$240+(E192/$E$239)*$E$240+(F192/$F$239)*$F$240+(G192/$G$239)*$G$240+(H192/$H$239)*$H$240+(I192/$I$239)*$I$240+(J192/$J$239)*$J$240+(K192/$K$239)*$K$240+(L192/$L$239)*$L$240+(M192/$M$239)*$M$240+(N192/$N$239)*$N$240+(O192/$O$239)*$O$240+(P192/$P$239)*$P$240+(Q192/$Q$239)*$Q$240+(R192/$R$239)*$R$240+(S192/$S$239)*$S$240","v":9.40747437617606E-12}]
["MEAT BASED DISHES","retail","MEAT BASED DISHES retail",{"$f":"VLOOKUP($A193,retail,D$1,FALSE)","v":5.5122091560820206},2.9979435961658447E-6,1.5835174503941506E-6,5.4249131841758457E-8,4.1255407831098534E-7,0.25949795322560371,1.2848742486886409E-2,5.2763274126935225E-2,0.18520180396751493,8.2925336743327636E-4,1.4649564196495289E-2,16.86267097498714,380.27470078485231,3.9200168478717683,55.823360346030327,8.4432125691964236E-6,{"$f":"(D193/$D$239)*$D$240+(E193/$E$239)*$E$240+(F193/$F$239)*$F$240+(G193/$G$239)*$G$240+(H193/$H$239)*$H$240+(I193/$I$239)*$I$240+(J193/$J$239)*$J$240+(K193/$K$239)*$K$240+(L193/$L$239)*$L$240+(M193/$M$239)*$M$240+(N193/$N$239)*$N$240+(O193/$O$239)*$O$240+(P193/$P$239)*$P$240+(Q193/$Q$239)*$Q$240+(R193/$R$239)*$R$240+(S193/$S$239)*$S$240","v":1.0101090823634457E-11}]
["MEAT BASED DISHES","use","MEAT BASED DISHES use",{"$f":"VLOOKUP($A194,use,D$1,FALSE)","v":8.2220809271834714},4.0630079915305134E-6,2.357344387464875E-6,8.4701880358362039E-8,5.7312564997622161E-7,0.44162110169504326,1.9144377834903165E-2,7.5076685104220858E-2,0.25636424268929076,1.1873923852720398E-3,3.3407037627183001E-2,36.613671020980711,519.63829051239884,6.9552436431636711,89.629605446367151,1.4055192842905234E-5,1.5911011127347937E-11]
[]
["Average","AVERAGE BASKET"]
["UNSPECIFIED/UNKOWN","agriculture",{"$f":"CONCATENATE(\"UNKNOWN/OTHER\",\" \", B197)","v":"UNKNOWN/OTHER agriculture"},{"$f":"VLOOKUP($A197,primary,D$1,FALSE)","v":2.3004174000054234},2.8675493006563472E-8,2.4451909396419474E-6,3.1671294181892226E-8,3.1164091584662223E-7,1.6289191136824168E-2,3.3648239794760197E-3,4.252338687664918E-2,0.18782076356249744,5.3155865400755927E-4,1.6327390953490197E-2,8.6881727540260751,313.4448594803481,4.9629068775062244,7.8672860089682226,9.4114850360843759E-7,{"$f":"(D197/$D$239)*$D$240+(E197/$E$239)*$E$240+(F197/$F$239)*$F$240+(G197/$G$239)*$G$240+(H197/$H$239)*$H$240+(I197/$I$239)*$I$240+(J197/$J$239)*$J$240+(K197/$K$239)*$K$240+(L197/$L$239)*$L$240+(M197/$M$239)*$M$240+(N197/$N$239)*$N$240+(O197/$O$239)*$O$240+(P197/$P$239)*$P$240+(Q197/$Q$239)*$Q$240+(R197/$R$239)*$R$240+(S197/$S$239)*$S$240","v":6.1393685838079015E-12}]
["UNSPECIFIED/UNKOWN","manufacturing",{"$f":"CONCATENATE(\"UNKNOWN/OTHER\",\" \", B198)","v":"UNKNOWN/OTHER manufacturing"},{"$f":"VLOOKUP($A198,manufacturing,D$1,FALSE)","v":2.9437300272337192},1.078768592755559E-6,2.5777902608161763E-6,3.5948358647957242E-8,3.3290571253587941E-7,5.0610273081526956E-2,4.6512365271333036E-3,4.6092952975669794E-2,0.19895950334343315,5.8595332094099888E-4,1.7323604014449032E-2,10.025309835485272,323.39830315808962,5.4766102929841871,15.574669312183808,2.3084975398126609E-6,{"$f":"(D198/$D$239)*$D$240+(E198/$E$239)*$E$240+(F198/$F$239)*$F$240+(G198/$G$239)*$G$240+(H198/$H$239)*$H$240+(I198/$I$239)*$I$240+(J198/$J$239)*$J$240+(K198/$K$239)*$K$240+(L198/$L$239)*$L$240+(M198/$M$239)*$M$240+(N198/$N$239)*$N$240+(O198/$O$239)*$O$240+(P198/$P$239)*$P$240+(Q198/$Q$239)*$Q$240+(R198/$R$239)*$R$240+(S198/$S$239)*$S$240","v":7.1466110301089374E-12}]
["UNSPECIFIED/UNKOWN","retail",{"$f":"CONCATENATE(\"UNKNOWN/OTHER\",\" \", B199)","v":"UNKNOWN/OTHER retail"},{"$f":"VLOOKUP($A199,retail,D$1,FALSE)","v":3.1651212723628284},4.7953047569674585E-6,2.6043180809714292E-6,3.7166284951269955E-8,3.4318860460801926E-7,5.7733788857273156E-2,5.3942262634108142E-3,4.6838668509257338E-2,0.20150673274782205,5.9094252201115642E-4,1.7577619613093728E-2,11.054939360521743,325.2221600793518,5.6137809762570914,17.164303888816672,2.6145868921241414E-6,{"$f":"(D199/$D$239)*$D$240+(E199/$E$239)*$E$240+(F199/$F$239)*$F$240+(G199/$G$239)*$G$240+(H199/$H$239)*$H$240+(I199/$I$239)*$I$240+(J199/$J$239)*$J$240+(K199/$K$239)*$K$240+(L199/$L$239)*$L$240+(M199/$M$239)*$M$240+(N199/$N$239)*$N$240+(O199/$O$239)*$O$240+(P199/$P$239)*$P$240+(Q199/$Q$239)*$Q$240+(R199/$R$239)*$R$240+(S199/$S$239)*$S$240","v":7.499584428829242E-12}]
["UNSPECIFIED/UNKOWN","use",{"$f":"CONCATENATE(\"UNKNOWN/OTHER\",\" \", B200)","v":"UNKNOWN/OTHER use"},{"$f":"VLOOKUP($A200,use,D$1,FALSE)","v":4.0816774361434609},5.6585968195536876E-6,3.192024166774545E-6,4.8950024343366629E-8,4.1585907699302792E-7,8.3593506630654763E-2,7.0355329838580781E-3,5.6765642623482472E-2,0.24089214597355521,1.078723684312939E-3,2.6699130008443889E-2,20.450999147436733,391.31975154973992,8.3128679483488632,23.969684691135342,3.9798185754667005E-6,9.9103143192346538E-12]
[]
["CEREAL PRODUCTS","CEREAL PRODUCTS"]
["CEREAL PRODUCTS","agriculture",{"$f":"CONCATENATE(A203,\" \", B203)","v":"CEREAL PRODUCTS agriculture"},{"$f":"(D77*$C276+D83*$D276+D89*$E276)/SUM($C276,$D276,$E276)","v":0.85285129713674157},3.143946000259991E-8,1.2397277841776378E-6,7.5216768878202162E-9,8.9206828128461967E-8,7.8569435303409239E-3,9.6850585839294205E-4,1.2246869023977263E-2,5.3318780868878451E-2,1.6672867436230547E-4,7.0565159342891965E-3,4.7772915755401977,207.96764741230805,9.7718707276572871,3.0733795049860313,1.7057544028903204E-6,3.2487535083863136E-12]
["CEREAL PRODUCTS","manufacturing",{"$f":"CONCATENATE(A204,\" \", B204)","v":"CEREAL PRODUCTS manufacturing"},{"$f":"(D78*$C277+D84*$D277+D90*$E277)/SUM($C277,$D277,$E277)","v":1.4623999806775272},8.5372249678816739E-8,1.371252915236684E-6,1.2711505920634781E-8,1.0765792634753302E-7,6.7635913273556003E-2,2.5952471867201898E-3,1.6033403226468467E-2,6.2791213579684035E-2,2.2173675021798896E-4,8.0742827546138075E-3,7.3257271095743564,219.60139229992814,11.803104604693063,13.058655291111466,3.1362767626973691E-6,4.5995374947272295E-12]
["CEREAL PRODUCTS","retail","CEREAL PRODUCTS retail",{"$f":"(D79*$C278+D85*$D278+D91*$E278)/SUM($C278,$D278,$E278)","v":1.5404929999682337},1.052440003391634E-7,1.4068130014135645E-6,1.3913407876814784E-8,1.156051918578922E-7,7.4344285386509737E-2,3.2547432323727882E-3,1.6646633893161122E-2,6.5103841987691508E-2,2.2400036206220099E-4,8.3087632213763689E-3,7.8971827379488557,218.883889826039,12.515224714438565,14.579774546102032,3.3278783459259866E-6,4.866944054688804E-12]
["CEREAL PRODUCTS","use","CEREAL PRODUCTS use",{"$f":"(D80*$C279+D86*$D279+D92*$E279)/SUM($C279,$D279,$E279)","v":2.4707508142162582},1.6761758581284115E-7,2.1313793557510499E-6,2.5749817627317786E-8,1.7693701655088725E-7,0.12193159775516219,5.2659870645888123E-3,2.5215114375967029E-2,9.314437607724857E-2,7.8406923714310613E-4,1.9265387347086185E-2,25.311305338734957,303.51414527751649,18.69960299156498,24.266498585724925,5.3040968348809879E-6,8.0802410773251115E-12]
[]
["Dairy","Dairy"]
["Dairy","agriculture",{"$f":"CONCATENATE(A209,\" \", B209)","v":"Dairy agriculture"},{"$f":"SUM(D41*$F276,D47*$G276,D53*$H276)/SUM($F276:$H276)","v":4.0231673014764544},{"$f":"SUM(E41*$F276,E47*$G276,E53*$H276)/SUM($F276:$H276)","v":1.319255483694471E-8},{"$f":"SUM(F41*$F276,F47*$G276,F53*$H276)/SUM($F276:$H276)","v":6.6674682912374788E-6},4.6534761927757317E-8,5.171833236989382E-7,2.1397786501830083E-2,3.4661252442272309E-3,7.2838375116089954E-2,0.32333245317192327,5.4291620460576067E-4,2.3375403413346513E-2,10.759067603884059,332.08617870106139,0.39392618853705463,9.5554849252246257,6.3834321822346808E-8,1.0405352478602183E-11]
["Dairy","manufacturing",{"$f":"CONCATENATE(A210,\" \", B210)","v":"Dairy manufacturing"},{"$f":"SUM(D42*$F277,D48*$G277,D54*$H277)/SUM($F277:$H277)","v":4.7175153598249118},1.0467230628245066E-7,{"$f":"SUM(F42*$F277,F48*$G277,F54*$H277)/SUM($F277:$H277)","v":7.004194228554392E-6},5.2033227429810011E-8,5.4956494797497304E-7,5.7157212098313037E-2,4.6543835979255856E-3,7.7983533612338701E-2,0.34089943137000528,5.8620318855291719E-4,2.4694928419795852E-2,11.870717740722885,345.22634649595182,0.93719763549911361,17.344725928410725,1.192954703145783E-6,1.1614750426279864E-11]
["Dairy","retail","Dairy retail",5.0941316976054845,5.4861308302504991E-6,{"$f":"SUM(F43*$F278,F49*$G278,F55*$H278)/SUM($F278:$H278)","v":7.0903422398975442E-6},5.3420974364695916E-8,5.6501414340691785E-7,6.46516543642328E-2,5.4137862567743156E-3,7.9402717758760621E-2,0.34673012005084508,5.9478198665660576E-4,2.5166220586740368E-2,12.5184899109938,350.34274737666664,0.98544933018609726,19.081236313972575,1.7197064741738694E-6,1.2122741052092138E-11]
["Dairy","use","Dairy use",5.6668254730345895,5.938050848095832E-6,{"$f":"SUM(F44*$F279,F50*$G279,F56*$H279)/SUM($F279:$H279)","v":7.7216796241731699E-6},6.1286995667686181E-8,6.187442152343235E-7,7.8316015011397816E-2,6.347803215777722E-3,8.6687496402503533E-2,0.37732346458150168,1.3583867276950122E-3,3.3661749935167289E-2,17.449771517127932,384.57729425987219,2.656847819830511,22.416830169556093,2.8481447568608057E-6,1.3956213183661093E-11]
[]
["Fish","Fish and seafood"]
["Fish and seafood","agriculture",{"$f":"CONCATENATE(A215,\" \", B215)","v":"Fish and seafood agriculture"},{"$f":"SUM(D23*$I276,D29*$J276,D35*$K276)/SUM($I276:$K276)","v":3.6318780096308187},{"$f":"SUM(E23*$I276,E29*$J276,E35*$K276)/SUM($I276:$K276)","v":4.8534903691813801E-7},1.2558576243980739E-6,1.9657817014446227E-8,1.9137897271268059E-7,3.8515730337078655E-2,3.128515248796148E-2,3.4870385232744786E-2,0.15071027287319425,3.5735735152487963E-3,4.0838443017656503E-2,5.5302728731942219,144.42271268057783,12.016742375601929,36.378009630818624,9.4117977528089909E-7,8.4134689149215457E-12]
["Fish and seafood","manufacturing",{"$f":"CONCATENATE(A216,\" \", B216)","v":"Fish and seafood manufacturing"},{"$f":"SUM(D24*$I277,D30*$J277,D36*$K277)/SUM($I277:$K277)","v":4.6204398118236698},3.4374118152334559E-6,1.4246449434412984E-6,2.6516727808748846E-8,2.2260012974498637E-7,9.4169105479960949E-2,3.5931428437866252E-2,4.1366374338175027E-2,0.17016939346046459,3.8427697725737868E-3,4.4380754186341465E-2,8.2227369415648113,139.65228788086728,12.882101540775025,49.374990710424498,3.3794552383423144E-6,1.0181360688623694E-11]
["Fish and seafood","retail","Fish and seafood retail",5.1066421792398282,1.1956684712272822E-5,1.4757264649776384E-6,2.8716654757447484E-8,2.3442321750082652E-7,0.10210493417460315,3.6745853971854772E-2,4.221624852739346E-2,0.17336854473249655,3.8539000306347664E-3,4.468179554012626E-2,10.897072603007471,141.8121668346237,12.927877317601684,51.099728093663984,3.6852417150951854E-6,1.0794122776083177E-11]
["Fish and seafood","use","Fish and seafood use",6.934794306930411,1.4783739856173694E-5,1.9817177173789979E-6,4.1923830102202781E-8,3.1535834116488264E-7,0.13709879295707161,4.6480109971406121E-2,5.5873134666423491E-2,0.22341807139954484,5.689115928989988E-3,7.4011435768668449E-2,20.238445455968872,192.44586810777429,17.867646952296315,72.901128544064662,5.6995114900412693E-6,1.5154784230165567E-11]
[]
["Fruit","Fruit"]
["Fruit","agriculture",{"$f":"CONCATENATE(A221,\" \", B221)","v":"Fruit agriculture"},{"$f":"SUM(D119*$L276,D125*$M276,D131*$N276)/SUM($L276:$N276)","v":0.13287268113018469},{"$f":"SUM(E119*$L276,E125*$M276,E131*$N276)/SUM($L276:$N276)","v":3.9767999357948213E-9},6.0041103895258792E-9,3.738616768830988E-10,2.1814814824455232E-8,4.868704452282103E-3,3.7387428799493292E-4,2.9600740528651559E-3,1.2612358282251171E-2,4.017717080746689E-5,1.5597504761161072E-3,3.0481461882513199,45.216161918520157,5.200380675976418,1.5485306558038443,1.8906920710942212E-7,9.5380215181517885E-13]
["Fruit","manufacturing",{"$f":"CONCATENATE(A222,\" \", B222)","v":"Fruit manufacturing"},{"$f":"SUM(D120*$L277,D126*$M277,D132*$N277)/SUM($L277:$N277)","v":0.86258033538080181},9.7605250878131855E-6,9.7729438679080199E-8,4.993499156353886E-9,2.8465888775207772E-8,2.6651760112656516E-2,1.6462179744813378E-3,5.5456423730925715E-3,1.9626985964271537E-2,7.7065074475163011E-5,2.377275160913296E-3,8.4586274354531827,41.063001241867418,6.2583909595216198,6.475003887257742,1.6079355526602875E-6,2.1001677752712141E-12]
["Fruit","retail","Fruit retail",0.98028440293536101,9.678133388154078E-6,1.4790870157507307E-7,7.0953894577493854E-9,3.8254897226226709E-8,3.2969206896363644E-2,2.3606804341413717E-3,6.2940745830608455E-3,2.2495296095297494E-2,8.7704397307425972E-5,2.5816873867920529E-3,11.084588742427059,41.987534273996225,6.1978606730021433,7.9025487795519167,1.8424860078696077E-6,2.3694703663612801E-12]
["Fruit","use","Fruit use",1.6036356433035976,1.3288995656406228E-5,3.6642750098566108E-7,1.5081223093698146E-8,5.862152941541404E-8,5.0868478256296569E-2,3.6351868909266527E-3,9.2212469597877187E-3,3.2542251359372894E-2,1.9806133741008636E-4,4.6969665282476985E-3,26.289103786367267,62.943555175612097,9.7668120818471369,12.097639315003207,3.1892412061901297E-6,4.0278519451641854E-12]
[]
["Meat","Meat"]
["Meat","agriculture",{"$f":"CONCATENATE(A227,\" \", B227)","v":"Meat agriculture"},{"$f":"SUM(D5*$O276,D11*$P276,D17*$Q276)/SUM($O276:$Q276)","v":9.8534164183148203},{"$f":"SUM(E5*$O276,E11*$P276,E17*$Q276)/SUM($O276:$Q276)","v":2.9846423733405582E-8},5.1267420753183419E-6,1.0855627201300461E-7,1.3258555946897859E-6,4.8209509617989699E-2,1.1214458141425089E-2,0.17792365212679492,0.78850406393931194,1.7999295583852614E-3,6.0781183960986189E-2,18.923936602546735,1176.2011649959363,2.3886411541587642,27.309035491736658,2.1464819832023842E-7,1.9716677776680947E-11]
["Meat","manufacturing",{"$f":"CONCATENATE(A228,\" \", B228)","v":"Meat manufacturing"},{"$f":"SUM(D6*$O277,D12*$P277,D18*$Q277)/SUM($O277:$Q277)","v":11.163062117192506},{"$f":"SUM(E6*$O277,E12*$P277,E18*$Q277)/SUM($O277:$Q277)","v":1.0820350328144143E-6},5.429204487925848E-6,1.1595451991499862E-7,1.4081553809862812E-6,6.5290118589141133E-2,1.270165836577123E-2,0.18873684093024912,0.83470910872928394,1.9025306262428941E-3,6.4329014683237873E-2,21.49978381072366,1239.5202605227396,2.7152879463885431,32.536936471303072,3.7323941547633519E-7,2.1405345302870176E-11]
["Meat","retail","Meat retail",11.781337166952387,{"$f":"SUM(E7*$O278,E13*$P278,E19*$Q278)/SUM($O278:$Q278)","v":2.1079704434399263E-5},5.4619230275492754E-6,1.175082461422426E-7,1.4199615937003089E-6,7.2952666316454903E-2,1.3478790063773621E-2,0.18958588381941127,0.83759339532994437,1.9093650676711021E-3,6.4595966717058403E-2,22.830722542365372,1241.4951487611488,2.7678195026311023,34.327171099273961,8.0649818131691949E-7,2.2237413426638455E-11]
["Meat","use","Meat use",14.32547974682207,{"$f":"SUM(E8*$O279,E14*$P279,E20*$Q279)/SUM($O279:$Q279)","v":2.470482662279622E-5},6.5828254235058247E-6,1.4517582118845304E-7,1.6927019139846493E-6,0.1057041604223861,1.7160593063597157E-2,0.22647380062110853,0.99178986817494774,3.158754992833961E-3,9.8211673911168501E-2,34.179830302174189,1472.0068818034983,5.0464893993301754,46.685620471439023,2.5358084750094146E-6,2.796300748342438E-11]
[]
["Vegetables","Vegetables"]
["Vegetables","agriculture",{"$f":"CONCATENATE(A233,\" \", B233)","v":"Vegetables agriculture"},{"$f":"SUM(D95*$R276,D101*$S276)/SUM($R276:$S276)","v":0.10223198236163723},{"$f":"SUM(E95*$R276,E101*$S276)/SUM($R276:$S276)","v":3.8564394635254786E-9},6.419063972293444E-7,5.836102682526687E-9,2.443310306840439E-8,3.3504587543291497E-3,2.8716968583592336E-4,3.3768708433149597E-3,1.4534354216574801E-2,9.9389417598662918E-5,1.5963813338626647E-3,1.3176241410452691,27.46391236516304,0.25487097920286639,1.154236285112443,2.7302502296340813E-7,7.7986916906642739E-13]
["Vegetables","manufacturing",{"$f":"CONCATENATE(A234,\" \", B234)","v":"Vegetables manufacturing"},{"$f":"SUM(D96*$R277,D102*$S277)/SUM($R277:$S277)","v":0.2976262982988917},1.5764073973761511E-6,6.566369926877965E-7,7.3191582071300033E-9,2.7508635038536821E-8,1.1971339910674837E-2,5.6718240031286137E-4,4.0781154117152845E-3,1.5814251167235022E-2,1.1092803167648746E-4,1.7150786991737045E-3,1.7035157789730648,24.918937679399992,0.29747736981881862,3.2189599573905125,2.4677205077867107E-6,1.0699464379052568E-12]
["Vegetables","retail","Vegetables retail",0.42947941910348686,2.1311340801555214E-6,7.0446998588595639E-7,9.1536083077319133E-9,3.7230055829355552E-8,1.8369641911442261E-2,1.2301817167979371E-3,4.7562036548051577E-3,1.8471768301648275E-2,1.1938557112897526E-4,1.9713313488258113E-3,3.9132507239384116,26.995707608019451,0.3278346868410309,4.5777016678801772,2.6862976974351598E-6,1.3504340240043799E-12]
["Vegetables","use","Vegetables use",1.076425950685961,2.8108635030152829E-6,1.0822403998627591E-6,1.8088240537663534E-8,5.8496329147417851E-8,4.4831899795259568E-2,2.4373885726287296E-3,7.7225235225299839E-3,2.7748401353125399E-2,4.428156633512608E-4,5.5733018241294185E-3,15.317131443353412,41.94343469621208,1.7620694984204974,11.342027028661429,4.4854702903936443E-6,2.9228345925705269E-12]
[]
[]
[null,"Normalisation factors",null,{"$f":"VLOOKUP(D2,normalisation,4,FALSE)","v":55466520067618.766},333481860.98390257,3274782.60869565,265544.36450839299,4105966.4840226704,954100900865.26355,280000000000,383000000000,1220000000000,11128073945.012051,134781402818.69528,81469333333333.297,1.5402325687916336E+16,79086941966456.641,448262160340312.94,438856295.72083163]
[null,"Weighting",null,{"$f":"VLOOKUP(D2,normalisation,6,FALSE)","v":21.06},6.31,1.84,2.13,8.9600000000000009,5.01,4.78,6.2,3.71,2.8,2.96,1.92,7.94,8.51,8.32,7.55]
[]
[]
[]
[]
[]
[]
[]
[]
[]
[]
[]
[]
[null,"Impact category","Model","Unit","global NFs for EF","global NFs 2010 for EF per person","FINAL WFs with toxicity (including robustness)"]
["IPCC GWP 100a","IPCC GWP 100a","IPCC, 2013 ","kg CO2 eq",55466520067618.766,8043.4183210949604,21.06]
["Ozone depletion","Ozone depletion","World Metereological Organisation (WMO), 1999","kg CFC-11 eq",333481860.98390257,4.8359516824216756E-2,6.31]
["Human toxicity, cancer","Human toxicity, cancer effects","USEtox (Rosenbaum   et   al., 2008)","CTUh",265544.36450839299,3.8507633144219056E-5,2.13]
["Human toxicity, non-cancer","Human toxicity, non-cancer effects","USEtox (Rosenbaum   et   al., 2008)","CTUh",3274782.60869565,4.7488911149057734E-4,1.84]
["Particulate matter ","Particulate matter","Fantke et al., 2016","disease incidences",4105966.4840226704,5.9542235574050971E-4,8.9600000000000009]
["Ionising radiation","Ionizing radiation HH","Frischknecht et al., 2000","kBq U-235 eq. ",954100900865.26355,138.35792576922583,5.01]
["Photochemical ozone formation","Photochemical ozone formation","Van Zelm et al., 2008, as applied in ReCiPe, 2008","kg NMVOC eq.",280000000000,40.603901725960171,4.78]
["Acidification","Acidification","Posch et al., 2008","mol H+ eq",383000000000,55.54033700372409,6.2]
["Eutrophication, terrestrial ","Terrestrial eutrophication","Posch et al., 2008","mol N eq",1220000000000,176.9170003773979,3.71]
["Eutrophication, freshwater","Freshwater eutrophication","Struijs et al., 2009","kg P eq",11128073945.012051,1.6137257887945973,2.8]
["Eutrophication, marine ","Marine eutrophication","Struijs et al., 2009","kg N eq",134781402818.69528,19.545181551919125,2.96]
["Land use","Land use","Bos et al., 2016 (based on) ","pt",1.5402325687916336E+16,2233551.8520835242,7.94]
["Ecotoxicity freshwater","Freshwater ecotoxicity","USEtox (Rosenbaum   et   al., 2008)","CTUe",81469333333333.297,11814.188586950559,1.92]
["Water use","Water scarcity","AWARE 100 (based on; UNEP, 2016)","m3 water eq of deprived water",79086941966456.641,11468.708640759718,8.51]
["Resource use, fossils","ADP Fossil","ADP fossils (van Oers et al., 2002)","MJ",448262160340312.94,65256.270631007421,8.32]
["Resource use, mineral and metals","ADP (ultimate)","ADP ultimate reserve (van Oers et al., 2002)","kg Sb eq",438856295.72083163,6.3640278225955582E-2,7.55]
[]
[]
[]
[]
[null,null,"Cereal products",null,null,"Dairy",null,null,"Fish and seafood",null,null,"Fruit",null,null,"Meat",null,null,"Vegetables"]
[null,null,"BREAD","PASTA","RICE","MILK","CHEESE","BUTTER","COD","SALMON","SHRIMP","APPLES","ORANGES","BANANAS","PORK","BEEF","POULTRY","TOMATOES","POTATOES"]
[null,"agriculture ",42.105263157894733,10.00658327847268,10.672713529856386,82.651465083387464,15.646940350198738,4.5641536436704619,11.059941731708408,3.717296330253538,1.589374049331018,20.592269829742595,16.255144032921809,12.100209371164537,47.260003942440378,16.003843879361327,27.683323477232406,15.262435925203958,68.506283197305365]
[null,"processsing",42.105263157894733,10.00658327847268,10.672713529856386,79.758663805468899,15.099297437941782,4.4044082661419957,11.059941731708408,3.717296330253538,1.589374049331018,20.592269829742595,16.255144032921809,12.100209371164537,47.260003942440378,16.003843879361327,27.683323477232406,15.262435925203958,68.506283197305365]
[null,"retail",39.999999999999993,9.3061224489795915,9.6054421768707474,78.402766520775927,15.099297437941782,4.4044082661419957,10.396345227805902,3.4942585504383255,1.4940116063711568,17.503429355281206,13.004115226337449,11.49519890260631,44.897003745318358,15.203651685393259,26.299157303370784,14.499314128943759,68.506283197305365]
[null,"use ",29.4,6.84,7.06,72.55,14.09,4.1100000000000003,8.42,2.83,1.21,12.76,9.48,8.3800000000000008,38.36,12.99,22.47,10.57,52.88]
[]
[]
[]
["TYPE","STAGE","WEIGHT"]
["PORK","PORK"]
["PORK","agriculture ",47.260003942440378]
["PORK","processsing",47.260003942440378]
["PORK","packaging",44.897003745318358]
["PORK","retail",44.897003745318358]
["PORK","use ",38.36]
["PORK","end of life P&R",4.1588803469347537]
["PORK","end of life HH",4.2195999999999998]
[]
["BEEF","BEEF"]
["BEEF","agriculture ",16.003843879361327]
["BEEF","processsing",16.003843879361327]
["BEEF","packaging",15.203651685393259]
["BEEF","retail",15.203651685393259]
["BEEF","use ",12.99]
["BEEF","end of life P&R",1.4083382613837969]
["BEEF","end of life HH",1.4289000000000001]
[]
["POULTRY","POULTRY"]
["POULTRY","agriculture ",27.683323477232406]
["POULTRY","processsing",27.683323477232406]
["POULTRY","packaging",26.299157303370784]
["POULTRY","retail",26.299157303370784]
["POULTRY","use ",22.47]
["POULTRY","end of life P&R",2.4361324659964518]
["POULTRY","end of life HH",2.4716999999999998]
[]
["COD","COD"]
["COD","agriculture ",11.059941731708408]
["COD","processsing",11.059941731708408]
["COD","packaging",10.396345227805902]
["COD","retail",10.396345227805902]
["COD","use ",8.42]
["COD","end of life P&R",1.5992675744050358]
["COD","end of life HH",0.92620000000000002]
[]
["SALMON","SALMON"]
["SALMON","agriculture ",3.717296330253538]
["SALMON","processsing",3.717296330253538]
["SALMON","packaging",3.4942585504383255]
["SALMON","retail",3.4942585504383255]
["SALMON","use ",2.83]
["SALMON","end of life P&R",0.53752104935466161]
["SALMON","end of life HH",0.31130000000000002]
[]
["SHRIMP","SHRIMP"]
["SHRIMP","agriculture ",1.589374049331018]
["SHRIMP","processsing",1.589374049331018]
["SHRIMP","packaging",1.4940116063711568]
["SHRIMP","retail",1.4940116063711568]
["SHRIMP","use ",1.21]
["SHRIMP","end of life P&R",0.22982348753326517]
["SHRIMP","end of life HH",0.1331]
[]
["MILK","MILK"]
["MILK","agriculture ",82.651465083387464]
["MILK","processsing",79.758663805468899]
["MILK","packaging",78.402766520775927]
["MILK","retail",78.402766520775927]
["MILK","use ",72.55]
["MILK","end of life P&R",4.6407123952154121]
["MILK","end of life HH",5.0785]
[]
["CHEESE","CHEESE"]
["CHEESE","agriculture ",15.646940350198738]
["CHEESE","processsing",15.099297437941782]
["CHEESE","packaging",15.099297437941782]
["CHEESE","retail",15.099297437941782]
["CHEESE","use ",14.09]
["CHEESE","end of life P&R",1.0610190251469764]
["CHEESE","end of life HH",0.47906000000000004]
[]
["BUTTER","BUTTER"]
["BUTTER","agriculture ",4.5641536436704619]
["BUTTER","processsing",4.4044082661419957]
["BUTTER","packaging",4.4044082661419957]
["BUTTER","retail",4.4044082661419957]
["BUTTER","use ",4.1100000000000003]
["BUTTER","end of life P&R",0.30949525857729404]
["BUTTER","end of life HH",0.13974000000000003]
[]
["EGGS","EGGS"]
[null,"agriculture ",14.159768144779743]
[null,"processsing",14.159768144779743]
[null,"packaging",14.004010695187166]
[null,"retail",14.004010695187166]
[null,"use ",12.57]
[null,"end of life P&R",0.71591787740006385]
[null,"end of life HH",0.81705000000000005]
[]
["BEANS","BEANS"]
["BEANS","agriculture ",2.9461279461279464]
["BEANS","processsing",2.9461279461279464]
["BEANS","packaging",2.7988215488215489]
["BEANS","retail",2.7988215488215489]
["BEANS","use ",2.66]
["BEANS","end of life P&R",0.17529461279461281]
["BEANS","end of life HH",0.10640000000000001]
[]
["TOFU","TOFU"]
["TOFU","agriculture ",4.5299486088959782]
["TOFU","processsing",4.5299486088959782]
["TOFU","packaging",4.3034511784511791]
["TOFU","retail",4.3034511784511791]
["TOFU","use ",4.09]
["TOFU","end of life P&R",0.26953194222931071]
["TOFU","end of life HH",0.1636]
[]
["BREAD","BREAD"]
["BREAD","agriculture ",42.105263157894733]
["BREAD","processsing",42.105263157894733]
["BREAD","packaging",39.999999999999993]
["BREAD","retail",39.999999999999993]
["BREAD","use ",29.4]
["BREAD","end of life P&R",2.9052631578947365]
["BREAD","end of life HH",7.35]
[]
["PASTA","PASTA"]
["PASTA","agriculture ",10.00658327847268]
["PASTA","processsing",10.00658327847268]
["PASTA","packaging",9.3061224489795915]
["PASTA","retail",9.3061224489795915]
["PASTA","use ",6.84]
["PASTA","end of life P&R",0.88658327847267959]
["PASTA","end of life HH",1.71]
[]
["RICE","RICE"]
["RICE","agriculture ",10.672713529856386]
["RICE","processsing",10.672713529856386]
["RICE","packaging",9.6054421768707474]
["RICE","retail",9.6054421768707474]
["RICE","use ",7.06]
["RICE","end of life P&R",1.2593801965230536]
["RICE","end of life HH",1.7649999999999999]
[]
["TOMATOES","TOMATOES"]
["TOMATOES","agriculture ",15.262435925203958]
["TOMATOES","processsing",15.262435925203958]
["TOMATOES","packaging",14.499314128943759]
["TOMATOES","retail",14.499314128943759]
["TOMATOES","use ",10.57]
["TOMATOES","end of life P&R",2.213053209154574]
["TOMATOES","end of life HH",2.0083000000000002]
[]
["POTATOES","POTATOES"]
["POTATOES","agriculture ",68.506283197305365]
["POTATOES","processsing",68.506283197305365]
["POTATOES","packaging",68.506283197305365]
["POTATOES","retail",68.506283197305365]
["POTATOES","use ",52.88]
["POTATOES","end of life P&R",4.7954398238113756]
["POTATOES","end of life HH",8.9896000000000011]
[]
["SUNFLOWER OIL","SUNFLOWER OIL"]
["SUNFLOWER OIL","agriculture ",6.7409715754869417]
["SUNFLOWER OIL","processsing",6.0668744179382479]
["SUNFLOWER OIL","packaging",5.7028619528619524]
["SUNFLOWER OIL","retail",5.7028619528619524]
["SUNFLOWER OIL","use ",5.42]
["SUNFLOWER OIL","end of life P&R",1.0951382421536087]
["SUNFLOWER OIL","end of life HH",0.21679999999999999]
[]
["OLIVE OIL","OLIVE OIL"]
["OLIVE OIL","agriculture ",4.6990740740740735]
["OLIVE OIL","processsing",4.6990740740740735]
["OLIVE OIL","packaging",4.6990740740740735]
["OLIVE OIL","retail",4.6990740740740735]
["OLIVE OIL","use ",4.0599999999999996]
["OLIVE OIL","end of life P&R",0]
["OLIVE OIL","end of life HH",0.55215999999999998]
[]
["APPLES","APPLES"]
["APPLES","agriculture ",20.592269829742595]
["APPLES","processsing",20.592269829742595]
["APPLES","packaging",17.503429355281206]
["APPLES","retail",17.503429355281206]
["APPLES","use ",12.76]
["APPLES","end of life P&R",4.8391834099895092]
["APPLES","end of life HH",2.4243999999999999]
[]
["ORANGES","ORANGES"]
["ORANGES","agriculture ",16.255144032921809]
["ORANGES","processsing",16.255144032921809]
["ORANGES","packaging",13.004115226337449]
["ORANGES","retail",13.004115226337449]
["ORANGES","use ",9.48]
["ORANGES","end of life P&R",4.5514403292181065]
["ORANGES","end of life HH",1.8012000000000001]
[]
["BANANAS","BANANAS"]
["BANANAS","agriculture ",12.100209371164537]
["BANANAS","processsing",12.100209371164537]
["BANANAS","packaging",11.49519890260631]
["BANANAS","retail",11.49519890260631]
["BANANAS","use ",8.3800000000000008]
["BANANAS","end of life P&R",1.7545303588188579]
["BANANAS","end of life HH",1.5922000000000001]
[]
["SUGAR","SUGAR"]
[null,"agriculture ",28.599033816425116]
[null,"processsing",28.599033816425116]
[null,"packaging",28.599033816425116]
[null,"retail",28.599033816425116]
[null,"use ",23.68]
[null,"end of life P&R",0]
[null,"end of life HH",4.0729599999999992]
[]
["BISCUITS","BISCUITS"]
[null,"agriculture ",7.2684474013565286]
[null,"processsing",7.2684474013565286]
[null,"packaging",7.1012731111253284]
[null,"retail",7.1012731111253284]
[null,"use ",6.66]
[null,"end of life P&R",0.30919975245370668]
[null,"end of life HH",0.28637999999999997]
[]
["CHOCOLATE","CHOCOLATE"]
[null,"agriculture ",6.3173020671369056]
[null,"processsing",6.3173020671369056]
[null,"packaging",6.0014369637800602]
[null,"retail",6.0014369637800602]
[null,"use ",5.68]
[null,"end of life P&R",0.37587947299464591]
[null,"end of life HH",0.24991999999999998]
[]
["ALMONDS","ALMONDS"]
["ALMONDS","agriculture ",0.64350064350064351]
["ALMONDS","processsing",0.64350064350064351]
["ALMONDS","packaging",0.59523809523809523]
["ALMONDS","retail",0.59523809523809523]
["ALMONDS","use ",0.56000000000000005]
["ALMONDS","end of life P&R",6.0167310167310167E-2]
["ALMONDS","end of life HH",2.2400000000000003E-2]
[]
["COFFEE","COFFEE"]
[null,"agriculture ",4.4558823529411766]
[null,"processsing",4.4558823529411766]
[null,"packaging",4.4558823529411766]
[null,"retail",4.4558823529411766]
[null,"use ",3.03]
[null,"end of life P&R",0]
[null,"end of life HH",4.9837439999999988]
[]
["TEA","TEA"]
[null,"agriculture ",0.66663738020398078]
[null,"processsing",0.66663738020398078]
[null,"packaging",0.59664045528256282]
[null,"retail",0.59664045528256282]
[null,"use ",0.39]
[null,"end of life P&R",8.192973402706924E-2]
[null,"end of life HH",16.233750000000001]
[]
["BEER","BEER"]
["BEER","agriculture ",70]
["BEER","processsing",70]
["BEER","packaging",70]
["BEER","retail",70]
["BEER","use ",63]
["BEER","end of life A&P",0]
["BEER","end of life beer",6.3000000000000007]
[]
["WINE","WINE"]
["WINE","agriculture ",26.082737550474096]
["WINE","processsing",26.082737550474096]
["WINE","packaging",26.004489337822672]
["WINE","retail",26.004489337822672]
["WINE","use ",23.17]
["WINE","end of life A&P",0]
["WINE","end of life wine",2.6550583613916947]
[]
["MINERAL WATER","MINERAL WATER"]
["MINERAL WATER","agriculture ",122.29999999999998]
["MINERAL WATER","processsing",122.29999999999998]
["MINERAL WATER","packaging",122.29999999999998]
["MINERAL WATER","retail",122.29999999999998]
["MINERAL WATER","use ",110.07]
["MINERAL WATER","end of life",11.007]

{"sheet":"EoL emissions","index":4,"n_rows":113,"n_cols":38,"rows_kept":113,"cut":false,"hidden":true,"merged":[[47,9,48,20]]}
["Impacts per kg of biowaste (BoP)"]
[null,"IPCC GWP 100a","Ozone depletion","Human toxicity, non-cancer effects","Human toxicity, cancer effects","Particulate matter","Ionizing radiation HH","Photochemical ozone formation","Acidification","Terrestrial eutrophication","Freshwater eutrophication","Marine eutrophication","Freshwater ecotoxicity","Land use","Water scarcity","ADP Fossil","ADP (ultimate)","Single point"]
[null,"kg CO2 eq","kg CFC11 eq","CTUh","CTUh","Death","kBq U235 eq","kg NMVOC eq","molc H+ eq","molc N eq","kg P eq","kg N eq","CTUe","Pt","m3 water eq","MJ","kg Sb eq","Pt"]
["Processing & retail (mix)",{"$f":"SUMPRODUCT(B7:B10,$E$52:$E$55)","v":0.33835517924498587},{"$f":"SUMPRODUCT(C7:C10,$E$52:$E$55)","v":4.0487757361320267E-9},{"$f":"SUMPRODUCT(D7:D10,$E$52:$E$55)","v":3.7546349058569253E-7},{"$f":"SUMPRODUCT(E7:E10,$E$52:$E$55)","v":1.5018155681099546E-8},7.6553178506936498E-9,2.5636931828444069E-3,4.5329245005976652E-4,1.2010722290544881E-3,4.8571650165136334E-3,9.5611035705205817E-5,5.4880084551325609E-4,26.548468291042937,1.3722059602326411,1.3288906063975722E-2,-0.24413430072783304,-1.853085398539317E-8,1.1911600377468302E-12]
["Household (mix)",{"$f":"SUMPRODUCT(B7:B10,$E$46:$E$49)","v":0.44546857572889564},{"$f":"SUMPRODUCT(C7:C10,$E$46:$E$49)","v":3.7511998367097156E-9},7.8884406972367007E-7,1.6918455054232849E-8,4.2006730192492777E-9,2.1978761836945917E-3,3.6403174339187335E-4,5.4190892189746691E-4,2.0674078056189689E-3,4.728371015753052E-5,9.8579497938376887E-4,57.224281749505749,0.92785861175629014,2.1777363794629974E-2,0.14949268904123214,1.4523113843883441E-8,2.178132790477753E-12]
["Wastewater (wasted drinks)",3.2299999999999999E-4,2.1199999999999999E-11,5.25E-11,2.09E-11,2.4299999999999999E-11,8.9199999999999993E-6,1.15E-6,1.5099999999999999E-6,3.5200000000000002E-6,1.6700000000000001E-8,3.1300000000000001E-7,3.6499999999999998E-4,2.5600000000000002E-3,-3.8399999999999997E-2,4.0899999999999999E-3,1.56E-9,{"$f":"(B6/$B$35)*$B$36+(C6/$C$35)*$C$36+(D6/$D$35)*$D$36+(E6/$E$35)*$E$36+(F6/$F$35)*$F$36+(G6/$G$35)*$G$36+(H6/$H$35)*$H$36+(I6/$I$35)*$I$36+(J6/$J$35)*$J$36+(K6/$K$35)*$K$36+(L6/$L$35)*$L$36+(M6/$M$35)*$M$36+(N6/$N$35)*$N$36+(O6/$O$35)*$O$36+(P6/$P$35)*$P$36+(Q6/$Q$35)*$Q$36","v":-3.5333811475865822E-15}]
["Anaerobic digestion",0.46015782,1.1346325999999999E-8,2.4619743000000002E-7,5.1754339E-8,1.9972316E-8,8.3372557000000007E-3,1.1706431999999999E-3,2.2231843000000001E-3,6.3885089000000001E-3,5.6859670999999997E-4,4.7271214000000001E-4,13.897479000000001,6.4807806000000001,3.2026541999999998E-2,-2.9891055999999998,2.2456932E-7,1.3273046818920368E-12]
["Composting",0.22169807,2.0603888999999998E-9,-1.4292765E-9,1.4836581E-9,8.1002821000000003E-9,1.2330446E-3,3.4077319E-4,1.7309968999999999E-3,8.0041385000000007E-3,6.4056417E-7,1.458222E-4,1.9070320000000001E-4,0.32938802,-7.5158513999999997E-3,0.15874387000000001,-1.4579331E-7,1.8081071782170161E-13]
["Incineration",3.4317711000000001E-2,3.2650776000000001E-9,8.6503022999999995E-8,9.2031344999999996E-9,2.7910843E-9,1.2653302999999999E-3,2.6453560999999999E-4,2.5654582999999999E-4,1.0507003E-3,3.4332848999999998E-5,1.3402041000000001E-4,2.3054808000000002,0.22396425,4.8861492999999999E-2,0.26539432000000002,4.6813946999999998E-8,2.3713495138509571E-13]
["Landfill",0.76169717999999997,3.7962565999999996E-9,1.5076350000000001E-6,2.2767506E-8,2.3223083999999999E-9,2.4432418999999999E-3,3.5127433999999999E-4,1.9281328999999999E-4,4.8159306000000003E-4,1.7168379999999998E-5,1.8076468E-3,112.15188999999999,0.98266324000000005,1.2995402E-2,0.38887444999999998,2.1829915E-8,4.0440942751652257E-12]
[]
[]
[]
["Waste treatment","impacts per tonne"]
[null,"IPCC GWP 100a","Ozone depletion","Human toxicity, non-cancer effects","Human toxicity, cancer effects","Particulate matter","Ionizing radiation HH","Photochemical ozone formation","Acidification","Terrestrial eutrophication","Freshwater eutrophication","Marine eutrophication","Freshwater ecotoxicity","Land use","Water scarcity","ADP Fossil","ADP (ultimate)","Single point"]
[null,"kg CO2 eq","kg CFC11 eq","CTUh","CTUh","Death","kBq U235 eq","kg NMVOC eq","molc H+ eq","molc N eq","kg P eq","kg N eq","CTUe","Pt","m3 water eq","MJ","kg Sb eq","Pt"]
["Anaerobic Digestion",{"$f":"B7*10^3","v":460.15782000000002},{"$f":"C7*10^3","v":1.1346326E-5},2.4619742999999999E-4,5.1754339E-5,1.9972315999999999E-5,8.3372557,1.1706432,2.2231843000000002,6.3885088999999997,0.56859671000000001,0.47271214,13897.479000000001,6480.7806,32.026541999999999,-2989.1055999999999,2.2456932000000001E-4,{"$f":"R7*10^3","v":1.3273046818920368E-9}]
["Composting",{"$f":"B8*10^3","v":221.69807},2.0603888999999998E-6,-1.4292764999999999E-6,1.4836581000000001E-6,8.1002821000000001E-6,1.2330445999999999,0.34077319,1.7309968999999998,8.0041384999999998,6.4056417000000001E-4,0.14582220000000001,0.19070320000000002,329.38801999999998,-7.5158513999999998,158.74387000000002,-1.4579331E-4,{"$f":"R8*10^3","v":1.8081071782170161E-10}]
["Incineration",{"$f":"B9*10^3","v":34.317711000000003},3.2650775999999999E-6,8.6503022999999998E-5,9.2031344999999994E-6,2.7910843000000001E-6,1.2653303,0.26453560999999998,0.25654582999999997,1.0507002999999999,3.4332848999999999E-2,0.13402041000000001,2305.4808000000003,223.96424999999999,48.861492999999996,265.39431999999999,4.6813946999999998E-5,{"$f":"R9*10^3","v":2.371349513850957E-10}]
["Landfill",{"$f":"B10*10^3","v":761.69718},3.7962565999999997E-6,1.507635E-3,2.2767506000000002E-5,2.3223083999999997E-6,2.4432418999999999,0.35127434000000002,0.19281329,0.48159306000000002,1.7168379999999997E-2,1.8076468000000001,112151.89,982.66324000000009,12.995402,388.87444999999997,2.1829915E-5,{"$f":"R10*10^3","v":4.0440942751652256E-9}]
["Other/Unknown use",{"$f":"B5*10^3","v":445.46857572889564},{"$f":"C5*10^3","v":3.7511998367097154E-6},7.8884406972367011E-4,1.6918455054232847E-5,4.2006730192492775E-6,2.1978761836945919,0.36403174339187333,0.54190892189746687,2.0674078056189691,4.7283710157530523E-2,0.98579497938376892,57224.281749505746,927.85861175629009,21.777363794629974,149.49268904123215,1.452311384388344E-5,{"$f":"R5*10^3","v":2.1781327904777531E-9}]
["Other/Unknown",{"$f":"B4*10^3","v":338.35517924498589},{"$f":"C4*10^3","v":4.0487757361320263E-6},3.7546349058569255E-4,1.5018155681099545E-5,7.6553178506936501E-6,2.5636931828444069,0.45329245005976654,1.2010722290544882,4.8571650165136333,9.5611035705205821E-2,0.54880084551325614,26548.468291042936,1372.205960232641,13.288906063975721,-244.13430072783305,-1.8530853985393171E-5,{"$f":"R4*10^3","v":1.1911600377468301E-9},"other phases"]
[]
[]
[null,"COST of waste management"]
[null,"Euro per tonne (including collection)"]
["Anaerobic Digestion",193]
["Composting",170]
["Incineration",208]
["Landfill",114]
["Other/Unknown use",{"$f":"SUMPRODUCT(B27:B30,E46:E49)","v":154.80093869894006}]
["Other/Unknown",{"$f":"SUMPRODUCT(B27:B30,E52:E55)","v":168.51066319261028}]
[]
[null,"IPCC GWP 100a","Ozone depletion","Human toxicity, non-cancer effects","Human toxicity, cancer effects","Particulate matter","Ionizing radiation HH","Photochemical ozone formation","Acidification","Terrestrial eutrophication","Freshwater eutrophication","Marine eutrophication","Freshwater ecotoxicity","Land use","Water scarcity","ADP Fossil","ADP (ultimate)"]
["Normalisation factors",{"$f":"VLOOKUP(B34,normalisation,4,FALSE)","v":55466520067618.766},333481860.98390257,3274782.60869565,265544.36450839299,4105966.4840226704,954100900865.26355,280000000000,383000000000,1220000000000,11128073945.012051,134781402818.69528,81469333333333.297,1.5402325687916336E+16,79086941966456.641,448262160340312.94,438856295.72083163]
["Weighting",{"$f":"VLOOKUP(B34,normalisation,6,FALSE)","v":21.06},6.31,1.84,2.13,8.9600000000000009,5.01,4.78,6.2,3.71,2.8,2.96,1.92,7.94,8.51,8.32,7.55]
[]
[]
[]
[]
[]
["Shares of waste treatment considered in the BoP",null,null,"Updated based on Sara EPFN calculations"]
[]
[]
["Household",null,null,"Household"]
["Anaerobic Digestion",5.0000000000000001E-3,null,"Anaerobic Digestion",4.9623253237561733E-2]
["Composting",9.2999999999999999E-2,null,"Composting",0.14886975971268521]
["Incineration",0.33300000000000002,null,"Incineration",0.30365952286449283]
["Landfill",0.56899999999999995,null,"Landfill",0.49784746418526021]
[]
["Industry",null,null,"Industry"]
["Anaerobic Digestion",0.04,null,"Anaerobic Digestion",0.14995094262724476]
["Composting",0.83,null,"Composting",0.44985282788173431]
["Incineration",0.05,null,"Incineration",0.18588064216681699]
["Landfill",0.08,null,"Landfill",0.21431558732420405]
[]
[]
[]
[]
["Other/Unknown use","household",null,null,null,null,null,null,null,null,null,null,null,null,null,null,null,null,null,null,"Other/Unknown","Processing and retail"]
[]
["Waste treatment","impacts per tonne",null,null,null,null,null,null,null,null,null,null,null,null,null,null,null,null,null,null,"Waste treatment","impacts per tonne"]
[null,"IPCC GWP 100a","Ozone depletion","Human toxicity, non-cancer effects","Human toxicity, cancer effects","Particulate matter","Ionizing radiation HH","Photochemical ozone formation","Acidification","Terrestrial eutrophication","Freshwater eutrophication","Marine eutrophication","Freshwater ecotoxicity","Land use","Water scarcity","ADP Fossil","ADP (ultimate)","Single point",null,null,null,"IPCC GWP 100a","Ozone depletion","Human toxicity, non-cancer effects","Human toxicity, cancer effects","Particulate matter","Ionizing radiation HH","Photochemical ozone formation","Acidification","Terrestrial eutrophication","Freshwater eutrophication","Marine eutrophication","Freshwater ecotoxicity","Land use","Water scarcity","ADP Fossil","ADP (ultimate)","Single point"]
[null,"kg CO2 eq","kg CFC11 eq","CTUh","CTUh","Death","kBq U235 eq","kg NMVOC eq","molc H+ eq","molc N eq","kg P eq","kg N eq","CTUe","Pt","m3 water eq","MJ","kg Sb eq","Pt",null,null,null,"kg CO2 eq","kg CFC11 eq","CTUh","CTUh","Death","kBq U235 eq","kg NMVOC eq","molc H+ eq","molc N eq","kg P eq","kg N eq","CTUe","Pt","m3 water eq","MJ","kg Sb eq","Pt"]
["Austria",{"$f":"SUMPRODUCT(B$17:B$20,$B$102:$B$105)","v":116.23007308671757},{"$f":"SUMPRODUCT(C$17:C$20,$B$102:$B$105)","v":3.6114016280713289E-6},9.0931411272417734E-5,1.0804748811875352E-5,5.3194746528688309E-6,1.8091202835255917,0.35209374990594844,0.74475744555145085,3.0496196632937798,6.7317449036012403E-2,0.17722759894946186,3620.9285280249201,733.35173325652261,34.324246401016111,-6.9370467568252767,1.5995224689431806E-5,3.4079050455157308E-10,null,null,"Austria",{"$f":"SUMPRODUCT(B$17:B$20,$B$110:$B$113)","v":148.19406804475446},{"$f":"SUMPRODUCT(C$17:C$20,$B$110:$B$113)","v":3.7609667259181375E-6},8.4826540489396326E-5,1.1433463221210971E-5,6.4360368989820285E-6,2.0420146987104575,0.39017658239980862,0.96020470558742643,3.9334874772693862,8.194640763494826E-2,0.18677578371680745,3577.7847904749024,953.46617081717875,28.12304336715729,-127.61502159316746,2.5593860881091774E-6,3.6487673264312273E-10]
["Belgium",{"$f":"SUMPRODUCT(B$17:B$20,$C$102:$C$105)","v":73.086292804892082},{"$f":"SUMPRODUCT(C$17:C$20,$C$102:$C$105)","v":3.383858787271361E-6},1.1311121631716605E-4,9.949497017310506E-6,3.5811563415707647E-6,1.4579377174968271,0.29372245508017825,0.40957744962337922,1.6718019090968526,4.4443884410817355E-2,0.17735282067673988,4669.4538479758858,398.27189177704992,43.634840062680141,181.5909112302881,3.6639145387783985E-5,3.3739886354241135E-10,null,null,"Belgium",{"$f":"SUMPRODUCT(B$17:B$20,$C$110:$C$113)","v":202.48312107923141},{"$f":"SUMPRODUCT(C$17:C$20,$C$110:$C$113)","v":4.0069767510647184E-6},7.8812505587529691E-5,1.2499225970318858E-5,8.2602206937455581E-6,2.4260669617232531,0.45268117126565749,1.3122662979155499,5.3769539275970812,0.10581570297673135,0.20705808982302418,3813.873846491033,1315.4539736908328,17.884442477378855,-324.56943162292123,-1.9476904447962235E-5,4.1488260178179891E-10]
["Bulgaria",{"$f":"SUMPRODUCT(B$17:B$20,$D$102:$D$105)","v":761.69718},{"$f":"SUMPRODUCT(C$17:C$20,$D$102:$D$105)","v":3.7962565999999997E-6},1.507635E-3,2.2767506000000002E-5,2.3223083999999997E-6,2.4432418999999999,0.35127434000000002,0.19281329,0.48159306000000002,1.7168379999999997E-2,1.8076468000000001,112151.89,982.66324000000009,12.995402,388.87444999999997,2.1829915E-5,{"$f":"SUMPRODUCT(R$17:R$20,$D$102:$D$105)","v":4.0440942751652256E-9},null,null,"Bulgaria",{"$f":"SUMPRODUCT(B$17:B$20,$D$110:$D$113)","v":715.23157021326392},{"$f":"SUMPRODUCT(C$17:C$20,$D$110:$D$113)","v":3.8526004894299113E-6},1.3678204915334E-3,2.1924347847742725E-5,3.1655651719178773E-6,2.4975436889395772,0.37024452640461158,0.35297791296143988,1.1679867858869459,2.9267120638684085E-2,1.6549622614389825,101651.56038148364,1067.7798449829438,11.978633750947546,290.79532097830986,1.4601685040128154E-5,3.6984793214545434E-9]
["Croatia",{"$f":"SUMPRODUCT(B$17:B$20,$E$102:$E$105)","v":445.46857572889564},{"$f":"SUMPRODUCT(C$17:C$20,$E$102:$E$105)","v":3.7511998367097154E-6},7.888440697236699E-4,1.6918455054232847E-5,4.2006730192492775E-6,2.1978761836945919,0.36403174339187327,0.54190892189746687,2.0674078056189686,4.7283710157530523E-2,0.98579497938376881,57224.281749505746,927.8586117562902,21.77736379462997,149.49268904123213,1.452311384388344E-5,{"$f":"SUMPRODUCT(R$17:R$20,$E$102:$E$105)","v":2.1781327904777531E-9},null,null,"Croatia",{"$f":"SUMPRODUCT(B$17:B$20,$E$110:$E$113)","v":703.42703546425332},{"$f":"SUMPRODUCT(C$17:C$20,$E$110:$E$113)","v":3.8302804571953361E-6},1.352197782273817E-3,2.1700670952328252E-5,3.0497509835049263E-6,2.4587683508594718,0.36511723385993317,0.33032468246169472,1.0785778211350547,2.7876061048217347E-2,1.6347472167396055,100397.47046917721,1035.1955012021722,13.062684682133675,302.47809724171077,1.6346245348786629E-5,3.65223970259642E-9]
["Cyprus",{"$f":"SUMPRODUCT(B$17:B$20,$F$102:$F$105)","v":690.07159733111621},{"$f":"SUMPRODUCT(C$17:C$20,$F$102:$F$105)","v":3.8835395535581074E-6},1.2918807303216524E-3,2.1467909925065732E-5,3.6260439304422041E-6,2.5275641722354618,0.38063322892666029,0.44044700386931068,1.5427499610101407,3.5870723881109075E-2,1.5720692334214887,95949.291977371147,1114.5050165818707,11.412313715664364,237.25806665254038,1.0645722592825001E-5,{"$f":"SUMPRODUCT(R$17:R$20,$F$102:$F$105)","v":3.5108492729676188E-9},null,null,"Cyprus",{"$f":"SUMPRODUCT(B$17:B$20,$F$110:$F$113)","v":441.88797814146221},{"$f":"SUMPRODUCT(C$17:C$20,$F$110:$F$113)","v":4.0706063989479639E-6},6.0694975012979061E-4,1.6934957365155906E-5,7.1041210171674523E-6,2.6541842695666933,0.4510377739401763,1.0990191224771984,4.3889453382579964,8.6614079073158573E-2,0.81428469603004083,44258.545148203353,1400.6240394182046,10.154307948087389,-172.83353175785706,-1.6830583900202657E-5,1.7940415145114243E-9]
["Czech Republic",{"$f":"SUMPRODUCT(B$17:B$20,$G$102:$G$105)","v":660.99240125881181},{"$f":"SUMPRODUCT(C$17:C$20,$G$102:$G$105)","v":3.7350059554199881E-6},1.3042057854552307E-3,2.0892713999070668E-5,2.4979361834790368E-6,2.2977984925948203,0.34260248230936463,0.22288794740636855,0.64888326218791526,2.1042656584066198E-2,1.5697038098691696,96469.572986852087,895.80865271438915,17.510667785471746,359.49991906783822,2.4087568471149655E-5,{"$f":"SUMPRODUCT(R$17:R$20,$G$102:$G$105)","v":3.5030813423351243E-9},null,null,"Czech Republic",{"$f":"SUMPRODUCT(B$17:B$20,$G$110:$G$113)","v":514.73037127408952},{"$f":"SUMPRODUCT(C$17:C$20,$G$110:$G$113)","v":3.7511406575668268E-6},9.5166887018124306E-4,1.8196972917343186E-5,3.6998249438210867E-6,2.2373708276061355,0.35854205641461406,0.44828276503756731,1.6485904582630309,3.947779138444335E-2,1.1708341825874364,69637.82583932433,925.17196915133763,20.217673888053312,211.84151874918555,1.7093887954523814E-5,2.5980875167385677E-9]
["Denmark",{"$f":"SUMPRODUCT(B$17:B$20,$H$102:$H$105)","v":82.62869656091641},{"$f":"SUMPRODUCT(C$17:C$20,$H$102:$H$105)","v":3.3593653247574816E-6},1.4884271927211276E-4,1.0119310362117995E-5,3.2915610496446814E-6,1.4282421490192818,0.28631804255608834,0.35434155568824227,1.4377921030425094,4.0384328885402353E-2,0.2152607967076437,7324.4562248932925,361.67043631015616,44.31715556239449,214.64316792374893,3.9386698965933843E-5,{"$f":"SUMPRODUCT(R$17:R$20,$H$102:$H$105)","v":4.2303722273856375E-10},null,null,"Denmark",{"$f":"SUMPRODUCT(B$17:B$20,$H$110:$H$113)","v":98.906885733699795},{"$f":"SUMPRODUCT(C$17:C$20,$H$110:$H$113)","v":3.4654193918897417E-6},1.2950202930252561E-4,1.0447221867658084E-5,4.1294325964922878E-6,1.589733811182942,0.31382667796286789,0.51573578908206674,2.1031094397523713,5.1476627779280255E-2,0.20497073699596641,6149.3665787790123,517.989512470514,40.064013816071217,123.32845953919055,2.9623045315879427E-5,4.0139666911015025E-10]
["Estonia",{"$f":"SUMPRODUCT(B$17:B$20,$I$102:$I$105)","v":692.76713730614699},{"$f":"SUMPRODUCT(C$17:C$20,$I$102:$I$105)","v":3.8802863783061908E-6},1.299983206176344E-3,2.1516826786032021E-5,3.5772642441633053E-6,2.5244361696765276,0.37953692620558022,0.4311822727585426,1.5030422502713277,3.5170736841339312E-2,1.5809188758038766,96557.836988584866,1109.5900893355215,11.470732999281298,242.93238048938994,1.1063535969882365E-5,{"$f":"SUMPRODUCT(R$17:R$20,$I$102:$I$105)","v":3.5308814234798457E-9},null,null,"Estonia",{"$f":"SUMPRODUCT(B$17:B$20,$I$110:$I$113)","v":379.85742161805626},{"$f":"SUMPRODUCT(C$17:C$20,$I$110:$I$113)","v":4.2617417352382167E-6},3.573425051387884E-4,1.5839336072760999E-5,9.27416883106944E-6,2.8930196616790655,0.50783566893923093,1.5132644492503087,6.1399373286220333,0.11689290239922275,0.55168158642835952,25768.229097306663,1685.7778122296029,4.5494585463948951,-419.57542732267348,-3.7810720735093628E-5,1.2011383791937697E-9]
["Finland",{"$f":"SUMPRODUCT(B$17:B$20,$J$102:$J$105)","v":421.00938951565718},{"$f":"SUMPRODUCT(C$17:C$20,$J$102:$J$105)","v":3.9691382470221442E-6},6.129869420748818E-4,1.652331102591343E-5,6.3407958350983784E-6,2.4966445864021605,0.42513783477654232,0.95176613840480351,3.7844389205206665,7.6598675383446391E-2,0.80996120516677284,44432.328426873311,1251.2634479550661,14.343150437662883,-90.237734194708793,-7.6855583645108658E-6,{"$f":"SUMPRODUCT(R$17:R$20,$J$102:$J$105)","v":1.7825899708083738E-9},null,null,"Finland",{"$f":"SUMPRODUCT(B$17:B$20,$J$110:$J$113)","v":384.43207379582907},{"$f":"SUMPRODUCT(C$17:C$20,$J$110:$J$113)","v":4.0567151884569456E-6},4.7945031171738517E-4,1.5870761955711642E-5,7.3940076070627787E-6,2.6014170252018798,0.45180675188934616,1.1525826895568836,4.635995877735871,9.1390500666917493E-2,0.66785403852816194,34498.807227273799,1382.2250440949681,11.958948866188452,-210.62762009809995,-1.7600535967539326E-5,1.4614854431246103E-9]
["France",{"$f":"SUMPRODUCT(B$17:B$20,$K$102:$K$105)","v":341.76330938737794},{"$f":"SUMPRODUCT(C$17:C$20,$K$102:$K$105)","v":3.5272056884644427E-6},6.6675299756532706E-4,1.4946190521302613E-5,2.9317933731407964E-6,1.81717826988507,0.31141001632541054,0.29464070385852192,1.0809777241927885,3.1661710322520867E-2,0.82235164129991045,47283.660676840213,600.30242010329425,32.323590891967903,280.0100985235365,3.2577371024220065E-5,{"$f":"SUMPRODUCT(R$17:R$20,$K$102:$K$105)","v":1.8035714884204238E-9},null,null,"France",{"$f":"SUMPRODUCT(B$17:B$20,$K$110:$K$113)","v":289.91773289041851},{"$f":"SUMPRODUCT(C$17:C$20,$K$110:$K$113)","v":3.9457771900693686E-6},3.1755764819639548E-4,1.4097392818624992E-5,7.0772774500149426E-6,2.3882088812906743,0.42915490942045592,1.0883856692437859,4.4081142812713336,8.8512176524533165E-2,0.47163923429222138,21842.9339065897,1221.6149760124256,18.155279933403047,-184.79425360118583,-1.0256830828417271E-5,1.0143740315343485E-9]
["Germany ",{"$f":"SUMPRODUCT(B$17:B$20,$L$102:$L$105)","v":107.00081153948007},{"$f":"SUMPRODUCT(C$17:C$20,$L$102:$L$105)","v":3.5850917442918997E-6},8.3528612479209701E-5,1.0627578218045244E-5,5.149112697902806E-6,1.7660910727375652,0.34567964182127198,0.71172811687136217,2.9159249993820979,6.5150162812198126E-2,0.16591445567829094,2982.256835331616,694.7669034395841,35.496422171050853,11.047866174547245,1.822515254912541E-5,{"$f":"SUMPRODUCT(R$17:R$20,$L$102:$L$105)","v":3.1468974008354706E-10},null,null,"Germany ",{"$f":"SUMPRODUCT(B$17:B$20,$L$110:$L$113)","v":178.34871572824855},{"$f":"SUMPRODUCT(C$17:C$20,$L$110:$L$113)","v":3.9125266466025434E-6},7.3385543613284083E-5,1.2029293972226618E-5,7.5836406957019714E-6,2.2767377716193282,0.42894402445071472,1.1815442998652324,4.8426489085681652,9.7022210333489303E-2,0.19047949832923902,3133.4487747654207,1176.600276465866,21.88954629808218,-251.91315571914035,-1.1138446869889209E-5,3.7573087014136186E-10]
["Greece",{"$f":"SUMPRODUCT(B$17:B$20,$M$102:$M$105)","v":761.69718},{"$f":"SUMPRODUCT(C$17:C$20,$M$102:$M$105)","v":3.7962565999999997E-6},1.507635E-3,2.2767506000000002E-5,2.3223083999999997E-6,2.4432418999999999,0.35127434000000002,0.19281329,0.48159306000000002,1.7168379999999997E-2,1.8076468000000001,112151.89,982.66324000000009,12.995402,388.87444999999997,2.1829915E-5,{"$f":"SUMPRODUCT(R$17:R$20,$M$102:$M$105)","v":4.0440942751652256E-9},null,null,"Greece",{"$f":"SUMPRODUCT(B$17:B$20,$M$110:$M$113)","v":325.17699018768133},{"$f":"SUMPRODUCT(C$17:C$20,$M$110:$M$113)","v":4.2256091363631992E-6},2.4844643792752957E-4,1.4820622714966062E-5,9.3436305690427108E-6,2.8099216618615084,0.50234647877786165,1.5246234599303816,6.210071416467942,0.11864617630233228,0.42394151398756064,17364.008837398531,1634.3637235728027,7.1064885025240798,-432.65296662906343,-3.6303854614607537E-5,9.1064222272629138E-10]
["Hungary",{"$f":"SUMPRODUCT(B$17:B$20,$N$102:$N$105)","v":659.88020050763316},{"$f":"SUMPRODUCT(C$17:C$20,$N$102:$N$105)","v":3.7327015997036568E-6},1.3028432321000058E-3,2.0871587505551923E-5,2.4852099039119224E-6,2.2938561345805812,0.34206471453170345,0.22040536076243533,0.63900909108616799,2.0887047684510909E-2,1.5679013034646034,96359.18611621864,892.44059597204136,17.62018493831145,360.80186332642887,2.4271624375787047E-5,{"$f":"SUMPRODUCT(R$17:R$20,$N$102:$N$105)","v":3.498953238642191E-9},null,null,"Hungary",{"$f":"SUMPRODUCT(B$17:B$20,$N$110:$N$113)","v":366.29054798591886},{"$f":"SUMPRODUCT(C$17:C$20,$N$110:$N$113)","v":3.9540134007256837E-6},4.9259070717469586E-4,1.5509321215464326E-5,6.5997971422556429E-6,2.4436711434138103,0.42535555993755647,0.99950082526812822,4.0060727490902783,8.0916562952541529E-2,0.67146715452936245,35210.65338049586,1230.9363124604765,16.131273678721751,-124.33780507641353,-8.2335636516835588E-6,1.4680264950027017E-9]
["Iceland",{"$f":"SUMPRODUCT(B$17:B$20,$O$102:$O$105)","v":580.25960447943498},{"$f":"SUMPRODUCT(C$17:C$20,$O$102:$O$105)","v":3.8371206256522271E-6},1.0589904410354338E-3,1.9428839417357148E-5,4.0010792267512745E-6,2.3982002412533752,0.37670810112285846,0.50846411529391256,1.8718510679247025,4.2578043727173179E-2,1.3022794388276595,78062.748584094836,1049.9389122760003,15.589479260679493,184.87531706645782,1.1116347559910743E-5,{"$f":"SUMPRODUCT(R$17:R$20,$O$102:$O$105)","v":2.897798030967136E-9},null,null,"Iceland",{"$f":"SUMPRODUCT(B$17:B$20,$O$110:$O$113)","v":349.90550153876046},{"$f":"SUMPRODUCT(C$17:C$20,$O$110:$O$113)","v":4.2918342590529184E-6},2.705995489598981E-4,1.5294222628981297E-5,9.7616357687145451E-6,2.9190869919854898,0.51837322254049367,1.605740355934077,6.5375517529747151,0.12393289616252454,0.45641772439882961,19239.938368178613,1731.4301639882315,4.1222164619232764,-476.57651394697973,-4.1861397625730401E-5,9.8541843171523193E-10]
["Ireland",{"$f":"SUMPRODUCT(B$17:B$20,$P$102:$P$105)","v":700.0420017543961},{"$f":"SUMPRODUCT(C$17:C$20,$P$102:$P$105)","v":3.8675261462212429E-6},1.3240124529931877E-3,2.1647816848182025E-5,3.4097550981164309E-6,2.5102822172964592,0.37549743837696653,0.39929576628626851,1.367215921915669,3.2796470728378296E-2,1.6068208979568008,98353.791263926061,1090.4355752525594,11.774248845284482,262.2231633254957,1.25802247926216E-5,{"$f":"SUMPRODUCT(R$17:R$20,$P$102:$P$105)","v":3.5894612170588946E-9},null,null,"Ireland",{"$f":"SUMPRODUCT(B$17:B$20,$P$110:$P$113)","v":390.73174796249134},{"$f":"SUMPRODUCT(C$17:C$20,$P$110:$P$113)","v":4.2265167881633762E-6},4.0203311852514021E-4,1.6030960800335265E-5,8.8782707366941265E-6,2.8486853435934365,0.49741225872682981,1.437674611804431,5.820608982563563,0.11137549188004203,0.59858842974081872,29075.971396611578,1633.246824327945,5.5949656266043251,-374.60393505133652,-3.3964869183084368E-5,1.3070267539852691E-9]
["Italy",{"$f":"SUMPRODUCT(B$17:B$20,$Q$102:$Q$105)","v":476.76990692390638},{"$f":"SUMPRODUCT(C$17:C$20,$Q$102:$Q$105)","v":3.9843152930856101E-6},7.3580317683472984E-4,1.7556543076611563E-5,6.0747402228468831E-6,2.550288201390801,0.42485196100610267,0.90271513906622647,3.5568884858624803,7.2169859463308991E-2,0.9512112702476474,53838.650878994384,1271.6287350213038,12.529624611426961,-55.252996146816486,-7.1040788132009251E-6,{"$f":"SUMPRODUCT(R$17:R$20,$Q$102:$Q$105)","v":2.1034092018386426E-9},null,null,"Italy",{"$f":"SUMPRODUCT(B$17:B$20,$Q$110:$Q$113)","v":267.45847107819731},{"$f":"SUMPRODUCT(C$17:C$20,$Q$110:$Q$113)","v":4.3173836010183811E-6},6.2939813785040414E-5,1.3778904584848578E-5,1.0587372678286948E-5,2.9086365082418175,0.53182582477377804,1.761244663753226,7.2195610419233738,0.13633001559143126,0.22323461930988239,3480.1632833907343,1772.3297942277511,5.0452155528838301,-576.2494963513999,-4.7412055860848146E-5,4.5661050420604544E-10]
["Latvia",{"$f":"SUMPRODUCT(B$17:B$20,$R$102:$R$105)","v":760.48504404909511},{"$f":"SUMPRODUCT(C$17:C$20,$R$102:$R$105)","v":3.7977270008381177E-6},1.503987385136232E-3,2.2745510906638044E-5,2.344311375011399E-6,2.444659278305978,0.35176936572039891,0.19699245222402864,0.49950295458891197,1.7484066429913018E-2,1.8036634687821655,111877.94860314006,984.8845017860865,12.968856847915786,386.31531365365333,2.1641298101823359E-5,{"$f":"SUMPRODUCT(R$17:R$20,$R$102:$R$105)","v":4.0350776602619706E-9},null,null,"Latvia",{"$f":"SUMPRODUCT(B$17:B$20,$R$110:$R$113)","v":388.1351773618245},{"$f":"SUMPRODUCT(C$17:C$20,$R$110:$R$113)","v":4.2516490472434871E-6},3.8228012718155558E-4,1.598952875835452E-5,9.1234475857228934E-6,2.8832667844687947,0.50444119779083341,1.4846361064189215,6.0172606413359366,0.11473081620549411,0.57890998790659887,27640.96929111435,1670.5328724867561,4.7326141096033405,-402.04774147710583,-3.6517636547584807E-5,1.2627715494814724E-9]
["Lithuania",{"$f":"SUMPRODUCT(B$17:B$20,$S$102:$S$105)","v":754.26096422672401},{"$f":"SUMPRODUCT(C$17:C$20,$S$102:$S$105)","v":3.8053217846197254E-6},1.4852333956452963E-3,2.2632581950416516E-5,2.4576938151023787E-6,2.4520011881894739,0.35432332533530503,0.21852868375539788,0.59178763240192545,1.9110485425558477E-2,1.7831872508649802,110469.59388583949,996.35618725774486,12.830919762225609,373.13012899182343,2.0668431350259452E-5,{"$f":"SUMPRODUCT(R$17:R$20,$S$102:$S$105)","v":3.9887285543038477E-9},null,null,"Lithuania",{"$f":"SUMPRODUCT(B$17:B$20,$S$110:$S$113)","v":495.6047740440456},{"$f":"SUMPRODUCT(C$17:C$20,$S$110:$S$113)","v":4.1206389013536849E-6},7.0603147184008109E-4,1.7939477057642774E-5,7.1668465272290788E-6,2.7566782149029425,0.46037712404123232,1.1129951678671706,4.424719481787303,8.6663338331380679E-2,0.93240319809627148,51953.768509757792,1472.6422012796747,7.1096832795054423,-174.50945183142053,-1.973181320437283E-5,2.0629255839022913E-9]
["Luxembourg",{"$f":"SUMPRODUCT(B$17:B$20,$T$102:$T$105)","v":227.14016575710383},{"$f":"SUMPRODUCT(C$17:C$20,$T$102:$T$105)","v":3.8184985244249769E-6},2.3913404226362446E-4,1.290564071568058E-5,6.3840800203476185E-6,2.1696875232508135,0.39955826907642822,0.95308054488786509,3.8708576115941682,8.0068875704541034E-2,0.36848343360889924,15504.578012787206,1035.6344238063677,24.234704532194961,-114.09353369386884,-1.4055531213293724E-7,{"$f":"SUMPRODUCT(R$17:R$20,$T$102:$T$105)","v":7.7820068555254622E-10},null,null,"Luxembourg",{"$f":"SUMPRODUCT(B$17:B$20,$T$110:$T$113)","v":224.021453074683},{"$f":"SUMPRODUCT(C$17:C$20,$T$110:$T$113)","v":3.7860652310777049E-6},2.4941924639378273E-4,1.2839683856813279E-5,6.1144115592900168E-6,2.1213629741562028,0.3909986708595789,0.90121238948421789,3.6561588064073343,7.6467275346105756E-2,0.37659723101345821,16197.144911862086,987.75938506845807,25.493462949111986,-84.495528616323071,2.9142121715637684E-6,7.9609140941002176E-10]
["Malta",{"$f":"SUMPRODUCT(B$17:B$20,$U$102:$U$105)","v":761.69718},{"$f":"SUMPRODUCT(C$17:C$20,$U$102:$U$105)","v":3.7962565999999997E-6},1.507635E-3,2.2767506000000002E-5,2.3223083999999997E-6,2.4432418999999999,0.35127434000000002,0.19281329,0.48159306000000002,1.7168379999999997E-2,1.8076468000000001,112151.89,982.66324000000009,12.995402,388.87444999999997,2.1829915E-5,{"$f":"SUMPRODUCT(R$17:R$20,$U$102:$U$105)","v":4.0440942751652256E-9},null,null,"Malta",{"$f":"SUMPRODUCT(B$17:B$20,$U$110:$U$113)","v":613.15971871594513},{"$f":"SUMPRODUCT(C$17:C$20,$U$110:$U$113)","v":3.6880735775612382E-6},1.2172702982370745E-3,1.999761336471268E-5,2.4206360862008933E-6,2.2031157515221076,0.3336398470773379,0.20632693818795256,0.59988748047265439,2.0708683850108611E-2,1.4657308748932369,89709.127741937278,828.15699185518417,20.309009516884917,363.37043304714217,2.6903677138252967E-5,3.2663514224950209E-9]
["Netherlands",{"$f":"SUMPRODUCT(B$17:B$20,$V$102:$V$105)","v":161.14513136676646},{"$f":"SUMPRODUCT(C$17:C$20,$V$102:$V$105)","v":3.7874972362020799E-6},1.0085721957308897E-4,1.1679393202724044E-5,6.5815019515394842E-6,2.087487331539243,0.39635646703170774,0.98858998323584724,4.0462884086115469,8.3721516738370902E-2,0.20791858516652023,4874.8662699416418,992.23780327094676,26.858856437216964,-142.47319883372671,4.4572302804395299E-7,{"$f":"SUMPRODUCT(R$17:R$20,$V$102:$V$105)","v":4.1328995974114443E-10},null,null,"Netherlands",{"$f":"SUMPRODUCT(B$17:B$20,$B$110:$B$113)","v":148.19406804475446},{"$f":"SUMPRODUCT(C$17:C$20,$B$110:$B$113)","v":3.7609667259181375E-6},8.4826540489396326E-5,1.1433463221210971E-5,6.4360368989820285E-6,2.0420146987104575,0.39017658239980862,0.96020470558742643,3.9334874772693862,8.194640763494826E-2,0.18677578371680745,3577.7847904749024,953.46617081717875,28.12304336715729,-127.61502159316746,2.5593860881091774E-6,3.6487673264312273E-10]
["Norway",{"$f":"SUMPRODUCT(B$17:B$20,$W$102:$W$105)","v":168.68619414790345},{"$f":"SUMPRODUCT(C$17:C$20,$W$102:$W$105)","v":3.6478760980352516E-6},1.9441378832238388E-4,1.1782491078708432E-5,5.2691602658811341E-6,1.8914377951622079,0.35785154527558966,0.73699302727874971,2.9953836805814538,6.5856291997451799E-2,0.29885285105420867,11613.376022072651,785.35516216378721,31.804847849350239,3.7985381397132016,1.4372568181825981E-5,{"$f":"SUMPRODUCT(R$17:R$20,$W$102:$W$105)","v":6.1741429464438931E-10},null,null,"Norway",{"$f":"SUMPRODUCT(B$17:B$20,$W$110:$W$113)","v":274.95619320940762},{"$f":"SUMPRODUCT(C$17:C$20,$W$110:$W$113)","v":4.1283973658895335E-6},1.8320605794727463E-4,1.3868436671239934E-5,8.8306062237845778E-6,2.6417223948063442,0.47992105804780938,1.4243506715013161,5.8134614673471985,0.11245337269775972,0.33908227282761039,12115.630307132746,1492.4024458213889,11.801036151100165,-380.69808422294045,-2.8661515831261242E-5,7.1647954459985586E-10]
["Poland",{"$f":"SUMPRODUCT(B$17:B$20,$X$102:$X$105)","v":716.29126989649956},{"$f":"SUMPRODUCT(C$17:C$20,$X$102:$X$105)","v":3.8336256572696506E-6},1.3806169593011382E-3,2.1939002432923947E-5,2.9869631793460671E-6,2.4709200244718206,0.36500886514790637,0.31873825047514942,1.0249558974471447,2.6835271468612615E-2,1.6674135314369432,102573.58452561716,1039.6627128302987,12.650019386397826,310.7053284290966,1.6495665846896293E-5,{"$f":"SUMPRODUCT(R$17:R$20,$X$102:$X$105)","v":3.7264315698083593E-9},null,null,"Poland",{"$f":"SUMPRODUCT(B$17:B$20,$X$110:$X$113)","v":283.14492676122052},{"$f":"SUMPRODUCT(C$17:C$20,$X$110:$X$113)","v":4.3350303624203441E-6},9.0224757158697741E-5,1.4073031021028008E-5,1.0633043455357735E-5,2.9429239367562809,0.53537748277766017,1.770575758905395,7.2518702064265206,0.13671443253929938,0.25618833611842934,5610.1834785116935,1797.8533529459378,4.0448665327656244,-579.77224278174538,-4.8556056883345826E-5,5.3168567920735763E-10]
["Portugal",{"$f":"SUMPRODUCT(B$17:B$20,$Y$102:$Y$105)","v":564.16597334288429},{"$f":"SUMPRODUCT(C$17:C$20,$Y$102:$Y$105)","v":3.7691060058811274E-6},1.058104644472398E-3,1.9114171696303924E-5,3.5045778202566517E-6,2.2914013419148165,0.3595130884250981,0.41259342640245139,1.4793244315994625,3.6100965459254522E-2,1.2937756708359729,77803.179810998306,949.90049699447763,18.444605475178268,238.35234647765952,1.7168586590406537E-5,{"$f":"SUMPRODUCT(R$17:R$20,$Y$102:$Y$105)","v":2.8773995649050244E-9},null,null,"Portugal",{"$f":"SUMPRODUCT(B$17:B$20,$Y$110:$Y$113)","v":425.48496436450455},{"$f":"SUMPRODUCT(C$17:C$20,$Y$110:$Y$113)","v":3.757208807341309E-6},7.3861102884001048E-4,1.6551122919409492E-5,4.3991610630586757E-6,2.195079555712689,0.36724252181462391,0.57928259814472449,2.2313912299629211,5.0266149646939748E-2,0.92936892004020388,53411.496666174229,937.50007528544666,22.007812992757639,125.517367587387,1.3195695688352969E-5,2.0501681119476346E-9]
["Romania",{"$f":"SUMPRODUCT(B$17:B$20,$Z$102:$Z$105)","v":702.57041741470755},{"$f":"SUMPRODUCT(C$17:C$20,$Z$102:$Z$105)","v":3.8653036803788421E-6},1.3311623138452123E-3,2.1693915229831393E-5,3.3714684614594176E-6,2.5085377984650457,0.37469419424945294,0.39203886784623254,1.3359394541098366,3.2240917657269635E-2,1.6147015332311236,98892.619366444589,1087.0520768178014,11.798669206374701,266.71743636475293,1.2891100055824114E-5,{"$f":"SUMPRODUCT(R$17:R$20,$Z$102:$Z$105)","v":3.6073108082877702E-9},null,null,"Romania",{"$f":"SUMPRODUCT(B$17:B$20,$Z$110:$Z$113)","v":602.08117706642292},{"$f":"SUMPRODUCT(C$17:C$20,$Z$110:$Z$113)","v":3.8215270611643214E-6},1.1187490757017221E-3,1.9827620703317065E-5,3.7029655101685227E-6,2.3882931037530986,0.37074972964700248,0.45203624511705565,1.6277505276702158,3.8220546157682583E-2,1.3684745765344837,82574.700290293564,1026.0459997817434,15.668785696011156,220.0791617639602,1.3448698592349662E-5,3.0477792849123445E-9]
["Slovakia",{"$f":"SUMPRODUCT(B$17:B$20,$AA$102:$AA$105)","v":674.48843761672299},{"$f":"SUMPRODUCT(C$17:C$20,$AA$102:$AA$105)","v":3.7358233076417925E-6},1.3354828910624452E-3,2.1142054484209985E-5,2.4078107620276644E-6,2.3066837010852153,0.34175783978849678,0.20607757841497898,0.57324286281560788,1.9622649955138349E-2,1.6053394401164729,98856.437358678973,896.51165832598258,17.17638153052561,370.8208227907391,2.4507476694335024E-5,{"$f":"SUMPRODUCT(R$17:R$20,$AA$102:$AA$105)","v":3.5839713829035085E-9},null,null,"Slovakia",{"$f":"SUMPRODUCT(B$17:B$20,$AA$110:$AA$113)","v":248.31172016062308},{"$f":"SUMPRODUCT(C$17:C$20,$AA$110:$AA$113)","v":4.1430302690773184E-6},1.1263345812874134E-4,1.3380378973070172E-5,9.1549035777117872E-6,2.6474949254254554,0.48599974143463814,1.4856298306525215,6.0797785011508454,0.1172368377224504,0.26049148182373777,6776.5129454435082,1515.0548333353181,11.865687322985551,-419.2795850213119,-3.1078572600369839E-5,5.3835021949424167E-10]
["Slovenia",{"$f":"SUMPRODUCT(B$17:B$20,$AB$102:$AB$105)","v":720.16237822410676},{"$f":"SUMPRODUCT(C$17:C$20,$AB$102:$AB$105)","v":3.8468899675248259E-6},1.3825113854219503E-3,2.2013891012873022E-5,3.0785003329765555E-6,2.4921666904767896,0.36830437320245346,0.33644599442715406,1.0970821556690113,2.8015962471765937E-2,1.6710285850603843,102755.46609832649,1059.1448628332269,12.07669047388125,300.93492913231097,1.5342476411775464E-5,{"$f":"SUMPRODUCT(R$17:R$20,$AB$102:$AB$105)","v":3.7348503920841259E-9},null,null,"Slovenia",{"$f":"SUMPRODUCT(B$17:B$20,$AB$110:$AB$113)","v":545.57978812051488},{"$f":"SUMPRODUCT(C$17:C$20,$AB$110:$AB$113)","v":4.0597164183610989E-6},8.5658123089697974E-4,1.8846232789694153E-5,6.2569901928008785E-6,2.697811505824653,0.43988644844808861,0.94017512013181448,3.6841579549516337,7.3611438152653766E-2,1.0967833545623629,63259.622797646931,1380.6188855478504,8.2150845210408452,-68.699899231329113,-1.1926073898908647E-5,2.4350103597831709E-9]
["Spain",{"$f":"SUMPRODUCT(B$17:B$20,$AC$102:$AC$105)","v":628.0350266939181},{"$f":"SUMPRODUCT(C$17:C$20,$AC$102:$AC$105)","v":3.8084651718844523E-6},1.1868451759781964E-3,2.0303336149809108E-5,3.3978104066715571E-6,2.384380350708653,0.36515217566992941,0.39440601934622349,1.3769175475394417,3.3706308614588905E-2,1.444424065704506,87729.445792101891,1005.744182894323,15.562142531117354,256.4700234008784,1.5686617122429468E-5,{"$f":"SUMPRODUCT(R$17:R$20,$AC$102:$AC$105)","v":3.2199394229557122E-9},null,null,"Spain",{"$f":"SUMPRODUCT(B$17:B$20,$AC$110:$AC$113)","v":352.29358446017068},{"$f":"SUMPRODUCT(C$17:C$20,$AC$110:$AC$113)","v":4.2609880359538364E-6},2.9296592281762056E-4,1.5330328484329947E-5,9.466486946341504E-6,2.8761867690112655,0.50980934379834986,1.5491805546286266,6.3010157332698604,0.11990466611637693,0.47843636436792947,20858.050832688336,1685.6968942828116,5.1986423086971998,-443.61162006280932,-3.8757827264010721E-5,1.0348925262132576E-9]
["Sweden",{"$f":"SUMPRODUCT(B$17:B$20,$AD$102:$AD$105)","v":74.416092606926298},{"$f":"SUMPRODUCT(C$17:C$20,$AD$102:$AD$105)","v":3.4297742873818511E-6},9.1298800574385694E-5,9.9859180467301585E-6,3.9852103743291766E-6,1.5245872059494365,0.30608402308946459,0.48717280300644594,1.9943865631015318,4.9890035937777334E-2,0.15762478788128512,3136.1223348727231,466.16389988142873,41.922402375807891,136.9145479730345,3.2200280705145031E-5,{"$f":"SUMPRODUCT(R$17:R$20,$AD$102:$AD$105)","v":2.933668524887708E-10},null,null,"Sweden",{"$f":"SUMPRODUCT(B$17:B$20,$AD$110:$AD$113)","v":159.1970794856403},{"$f":"SUMPRODUCT(C$17:C$20,$AD$110:$AD$113)","v":3.8234725971885871E-6},7.6739317000503319E-5,1.1652736456908054E-5,6.9196813963229261E-6,2.1379994156653295,0.40627819909929497,1.0534242359190267,4.3170990209128215,8.8325306476936788E-2,0.18447475528568247,3137.6996791756783,1045.544229072633,25.584564329860726,-180.1666687163314,-3.1429104114598662E-6,3.6066418439082569E-10]
["Switzerland",445.46857572889564,3.7511998367097154E-6,7.8884406972367011E-4,1.6918455054232847E-5,4.2006730192492775E-6,2.1978761836945919,0.36403174339187333,0.54190892189746687,2.0674078056189691,4.7283710157530523E-2,0.98579497938376892,57224.281749505746,927.85861175629009,21.777363794629974,149.49268904123215,1.452311384388344E-5,2.1781327904777531E-9,null,null,"Switzerland",338.35517924498589,4.0487757361320263E-6,3.7546349058569255E-4,1.5018155681099545E-5,7.6553178506936501E-6,2.5636931828444069,0.45329245005976654,1.2010722290544882,4.8571650165136333,9.5611035705205821E-2,0.54880084551325614,26548.468291042936,1372.205960232641,13.288906063975721,-244.13430072783305,-1.8530853985393171E-5,1.1911600377468301E-9]
["United Kingdom",{"$f":"SUMPRODUCT(B$17:B$20,$AF$102:$AF$105)","v":553.30407813573572},{"$f":"SUMPRODUCT(C$17:C$20,$AF$102:$AF$105)","v":3.7212078307613495E-6},1.0585897051075648E-3,1.8901280915711405E-5,3.1515169731292287E-6,2.2164595747567093,0.34736650033925492,0.34444103259010106,1.2000441292210473,3.1486468649176078E-2,1.2890472294210977,77704.922545361813,879.43238793462638,20.444642403852583,276.43695181793692,2.1448247710896153E-5,{"$f":"SUMPRODUCT(R$17:R$20,$AF$102:$AF$105)","v":2.8658943612828693E-9},null,null,"United Kingdom",{"$f":"SUMPRODUCT(B$17:B$20,$AF$110:$AF$113)","v":428.23972671053099},{"$f":"SUMPRODUCT(C$17:C$20,$AF$110:$AF$113)","v":3.7972008933223875E-6},7.233650088727824E-4,1.661231615638871E-5,4.7395568709281744E-6,2.2540431304581836,0.37788319344434018,0.64471185246583029,2.5027161455840128,5.4829946586655076E-2,0.91645048465852386,52362.06061816257,996.57363930333941,20.480289956774122,88.040367321587752,9.3885991378453973E-6,2.0214951314634369E-9]
[]
[]
["Share of different waste treatment options in each european country (calculated from Eurostat, see file \"waste_treatment\")"]
[]
["Household"]
[null,"Austria","Belgium","Bulgaria","Croatia","Cyprus","Czech Republic","Denmark","Estonia","Finland","France","Germany ","Greece","Hungary","Iceland","Ireland","Italy","Latvia","Lithuania","Luxembourg","Malta","Netherlands","Norway","Poland","Portugal","Romania","Slovakia","Slovenia","Spain","Sweden","Switzerland","United Kingdom"]
["AD",7.6489506857972414E-2,2.4153029938361114E-2,0,4.9623253237561733E-2,3.7266388292050111E-2,3.2812130961078654E-3,1.5753538331193386E-2,3.5872353128918455E-2,0.11257553728619504,1.0041300882646539E-2,7.1264819458395537E-2,0,2.8828476380291031E-3,4.6282821492161029E-2,3.1047400209523807E-2,0.10575628277557023,6.2887657795507952E-4,3.8699317124545585E-3,0.1101556878453049,0,0.11474562501004217,7.6000320265339275E-2,1.8828909277459904E-2,3.1262373409588907E-2,2.9961119465812799E-2,8.6822541615710642E-4,2.1615409162909601E-2,2.9318248139758103E-2,3.6151975959084037E-2,null,2.0592491882817841E-2]
["Composting",0.22946852057391726,7.2459089815083338E-2,0,0.14886975971268521,0.11179916487615033,9.8436392883235954E-3,4.7260614993580155E-2,0.10761705938675536,0.3377266118585851,3.0123902647939616E-2,0.21379445837518662,0,8.6485429140873097E-3,0.13884846447648308,9.3142200628571425E-2,0.31726884832671065,1.8866297338652385E-3,1.1609795137363675E-2,0.33046706353591471,0,0.34423687503012651,0.22800096079601784,5.6486727832379707E-2,9.3787120228766729E-2,8.9883358397438398E-2,2.6046762484713193E-3,6.48462274887288E-2,8.7954744419274311E-2,0.10845592787725211,null,6.1777475648453525E-2]
["Incineration",0.68532277075541392,0.88289535430079447,0,0.30365952286449283,2.3165710115886465E-5,0.12978068726505176,0.89196562343220909,0,0.17098333193737145,0.55079798045727812,0.71181333159815519,0,0.13236211095781442,0.12717355912427739,2.7447291255484887E-3,0.11233846844365683,5.1232307776381212E-6,0,0.44390697317847416,0,0.5225114762751929,0.61449848539854313,1.2683159873708025E-2,0.18897895114236468,2.1383230137058669E-3,0.11760081090622682,0,0.10630773497816784,0.84936922954543259,null,0.23209876050667394]
["Landfill",8.7192018126962551E-3,2.0492525945761279E-2,1,0.49784746418526021,0.85091128112168368,0.85709446035051673,4.5020223243017451E-2,0.85651058748432629,0.37871451891784841,0.40903681601213571,3.1273905682627193E-3,1,0.85610649849006915,0.68769515490707833,0.87306567003635638,0.46463640045406224,0.99747937045740209,0.98452027315018176,0.11547027544030625,1,1.850602368463846E-2,8.1500233540099734E-2,0.91200120301645238,0.68597155521927966,0.87801719912304288,0.8789262874291448,0.91353836334836136,0.77641927246279974,6.0228666182313532E-3,null,0.68553127196205477]
[]
[]
["Processing and retail"]
[null,"Austria","Belgium","Bulgaria","Croatia","Cyprus","Czech Republic","Denmark","Estonia","Finland","France","Germany ","Greece","Hungary","Iceland","Ireland","Italy","Latvia","Lithuania","Luxembourg","Malta","Netherlands","Norway","Poland","Portugal","Romania","Slovakia","Slovenia","Spain","Sweden","Switzerland","United Kingdom"]
["AD",0.11018764191084361,0.16528146901068552,2.4101279624726933E-2,2.044385285359724E-2,0.13559430026836847,3.6104115240976863E-2,4.0893515266937561E-2,0.19871583007969718,0.14308737241434732,0.13189650394410948,0.14477109295517704,0.19972994051548362,0.11920564171410883,0.21258917734135238,0.18719164765164906,0.23548410862031177,0.19440751522122324,0.13847896183338262,0.10210489678746909,7.7029733477122176E-5,0.11819972511503378,0.18356809900138749,0.237137075017743,5.5123508876217094E-2,3.7865406313542752E-2,0.19266932021186572,0.11247112428516007,0.20388848183074965,0.12472987370576094,null,6.5263250554462554E-2]
["Composting",0.33056292573253082,0.49584440703205657,7.2303838874180792E-2,6.133155856079172E-2,0.40678290080510537,0.10831234572293058,0.12268054580081268,0.59614749023909153,0.42926211724304197,0.39568951183232848,0.43431327886553112,0.59918982154645084,0.35761692514232646,0.63776753202405712,0.56157494295494714,0.70645232586093532,0.58322254566366971,0.4154368855001479,0.30631469036240727,2.3108920043136651E-4,0.35459917534510133,0.55070429700416246,0.71141122505322896,0.16537052662865129,0.11359621894062825,0.57800796063559723,0.33741337285548023,0.61166544549224899,0.37418962111728282,null,0.19578975166338766]
["Incineration",0.55235751401030797,0.33217826779166126,2.1187938131628074E-4,2.6102649307246897E-2,8.1470238662992633E-2,0.24415237740286735,0.80317348673722955,0,0.14066587605912828,0.300167223304244,0.41954098309444898,7.2495558738817439E-2,0.22869578383085562,4.5282750521438691E-3,1.5493718882121418E-2,5.7394188419041481E-2,1.1401598437135687E-6,0,0.4694625516293367,0.20400554614081035,0.5092890762097193,0.18423416546264096,3.1461794026666164E-2,0.31660279216418713,0.11940979794185946,0.19682201397812391,0,2.4229989688704885E-2,0.49881401292297656,null,0.28602913844466304]
["Landfill",6.8919183463176424E-3,6.6958561655967048E-3,0.90338300211977596,0.89212193927836425,0.37615256026353344,0.6114311616332252,3.3252452195020238E-2,0.20513667968121127,0.28698463428348225,0.17224676091931809,1.3746450848428915E-3,0.12858467919924807,0.29448164931270909,0.14511501558244666,0.23573969051128246,6.6937709971147397E-4,0.22236879895526346,0.4460841526664695,0.12211786122078695,0.79568633492528118,1.7912023330145403E-2,8.1493438531809029E-2,1.9989905902361677E-2,0.46290317233094463,0.72912857680396959,3.2500705174413141E-2,0.55011550285935973,0.16021608298829665,2.2664922539797172E-3,null,0.45291785933748691]

{"sheet":"Food cost","index":5,"n_rows":160,"n_cols":35,"rows_kept":160,"cut":false,"hidden":true,"merged":[[142,0,147,0],[148,0,153,0],[154,0,159,0],[4,0,36,0],[37,0,69,0],[70,0,102,0],[103,0,135,0],[136,0,141,0]]}
[null,"Food cost",null,"Cost in Euros for 1 kg"]
[]
[]
[null,null,null,"Austria","Belgium","Bulgaria","Croatia","Cyprus","Czech Republic","Denmark","Estonia","Finland","France","Germany ","Greece","Hungary","Iceland","Ireland","Italy","Latvia","Lithuania","Luxembourg","Malta","Netherlands","Norway","Poland","Portugal","Romania","Slovakia","Slovenia","Spain","Sweden","Switzerland","United Kingdom","Unknown"]
["Agriculture","UNKOWN/OTHER",{"$f":"CONCATENATE(B5,\" \",\"agriculture\")","v":"UNKOWN/OTHER agriculture"},1.2528636554520272,1.1401751385289174,1.0972496216881924,1.3313378571841934,1.2915119016643442,1.1547309339820586,1.2738164640531877,1.1079684029216099,1.2879971613458092,1.2532104929767605,1.2150180541745521,1.2609931487191073,1.1275930805835674,1.2181757936886251,1.1004881600367584,1.5940243574007462,1.0943693435190207,1.1420206524050067,1.2748558989373922,1.3268444455891735,1.1390052338288614,1.2181757936886251,1.0433600565777017,1.2126350399422401,1.1474874593048845,1.1895995832759312,1.2738835809254938,1.3181582331795592,1.2832073281828347,1.2181757936886251,1.2708865452759406,1.2181757936886251]
[null,"ALMONDS",{"$f":"CONCATENATE(B6,\" \",\"agriculture\")","v":"ALMONDS agriculture"},1.9571714285714286,1.9571714285714286,1.9571714285714286,2.8055000000000003,1.165,1.9571714285714286,1.9571714285714286,1.9571714285714286,1.9571714285714286,1.9571714285714286,1.9571714285714286,3.6736,1.6048,1.9571714285714286,1.9571714285714286,1.5809,1.9571714285714286,1.9571714285714286,1.9571714285714286,1.9571714285714286,1.9571714285714286,1.9571714285714286,1.9571714285714286,1.0156000000000001,1.9571714285714286,1.9571714285714286,1.9571714285714286,1.8548,1.9571714285714286,1.9571714285714286,1.9571714285714286,1.9571714285714286]
[null,"APPLES","APPLES agriculture",0.39039999999999997,0.39419999999999999,0.23920000000000002,0.29820000000000002,0.70299999999999996,0.34610000000000002,0.43709999999999999,0.53329600000000021,1.6369999999999998,0.53329600000000021,0.4168,0.60329999999999995,0.25800000000000001,0.53329600000000021,0.53329600000000021,0.44179999999999997,0.33350000000000002,0.4007,1.38,0.44829999999999998,0.48210000000000003,0.53329600000000021,0.18590000000000001,0.57590000000000008,0.60060000000000002,0.33329999999999999,0.46110000000000001,0.37729999999999997,0.67189999999999994,0.53329600000000021,0.91670000000000007,0.53329600000000021]
[null,"BANANAS","BANANAS agriculture",0.65705097555322423,0.65705097555322423,0.65705097555322423,0.65705097555322423,0.65705097555322423,0.65705097555322423,0.65705097555322423,0.65705097555322423,0.65705097555322423,0.65705097555322423,0.65705097555322423,0.65705097555322423,0.65705097555322423,0.65705097555322423,0.65705097555322423,0.65705097555322423,0.65705097555322423,0.65705097555322423,0.65705097555322423,0.65705097555322423,0.65705097555322423,0.65705097555322423,0.65705097555322423,0.65705097555322423,0.65705097555322423,0.65705097555322423,0.65705097555322423,0.65705097555322423,0.65705097555322423,0.65705097555322423,0.65705097555322423,0.65705097555322423]
[null,"BEANS","BEANS agriculture",2.4545936250000002,2.4545936250000002,2.4545936250000002,2.4545936250000002,2.4545936250000002,2.4545936250000002,2.4545936250000002,2.4545936250000002,2.4545936250000002,2.4545936250000002,2.4545936250000002,2.4545936250000002,2.4545936250000002,2.4545936250000002,2.4545936250000002,2.4545936250000002,2.4545936250000002,2.4545936250000002,2.4545936250000002,2.4545936250000002,2.4545936250000002,2.4545936250000002,2.4545936250000002,2.4545936250000002,2.4545936250000002,2.4545936250000002,2.4545936250000002,2.4545936250000002,2.4545936250000002,2.4545936250000002,2.4545936250000002,2.4545936250000002]
[null,"BEEF","BEEF agriculture",3.4009393333333331,2.9259112777777778,2.0685863333333332,3.1257337777777776,3.5050844722222223,2.8521724444444447,3.4862023611111113,2.925106833333333,3.3359729999999996,3.6246299166666671,3.5304788055555552,3.546955638888889,2.1976044166666666,3.5050844722222223,3.6431132222222224,3.6337516666666665,2.2799839722222224,2.7080765176767683,3.5303244999999999,2.7010389166666671,2.9413535277777778,3.5050844722222223,3.0764993333333335,3.1620086388888895,2.475967361111111,2.6614430222222221,3.0059388888888892,3.3032948333333327,4.455433277777777,3.5050844722222223,3.8003316944444445,3.5050844722222223]
[null,"BEER","BEER agriculture"]
[null,"BISCUITS","BISCUITS agriculture"]
[null,"BREAD","BREAD agriculture"]
[null,"BUTTER","BUTTER agriculture",5.0823955633333338,4.5603566666666664,5.0823955633333338,4.3929414285714294,5.0823955633333338,4.5654490000000001,5.0823955633333338,5.2876262500000006,5.0823955633333338,5.0823955633333338,5.4720000000000004,5.0823955633333338,5.0823955633333338,5.0823955633333338,5.0048700000000004,4.7767083333333336,4.9026570833333336,5.0823955633333338,5.0823955633333338,5.0823955633333338,5.2017916666666668,5.0823955633333338,4.6214118181818176,5.0823955633333338,5.0823955633333338,5.3160290909090904,5.0823955633333338,5.7723466666666674,5.0823955633333338,5.0823955633333338,5.1393795833333344,5.0823955633333338]
[null,"CHEESE","CHEESE agriculture",4.7232341666666677,4.4202489738606303,4.4202489738606303,3.772312857142857,4.4202489738606303,4.2599914999999999,4.4202489738606303,3.1386542500000001,4.4202489738606303,4.4202489738606303,3.5125491666666671,4.4202489738606303,4.4202489738606303,4.4202489738606303,4.0628032698412708,4.4202489738606303,3.9876783333333332,3.6379016666666666,4.4202489738606303,4.4202489738606303,4.4202489738606303,4.4202489738606303,3.4773060606060606,4.4202489738606303,4.4202489738606303,5.0237468181818192,4.4202489738606303,8.8890124999999998,4.4202489738606303,4.4202489738606303,4.5577970972222221,4.4202489738606303]
[null,"CHOCOLATE","CHOCOLATE agriculture"]
[null,"COD","COD agriculture",2.7872599999999998,2.7872599999999998,2.7872599999999998,5.6635499999999999,2.7872599999999998,2.7872599999999998,3.1590199999999999,2.7872599999999998,2.8,2.7872599999999998,2.7872599999999998,1.01623,2.7872599999999998,2.7872599999999998,1.5830599999999999,3.6543600000000005,2.7872599999999998,2.7872599999999998,2.7872599999999998,2.7872599999999998,2.93127,2.7872599999999998,1.2631800000000002,2.7872599999999998,2.7872599999999998,2.7872599999999998,2.7872599999999998,2.4053899999999997,1.6092599999999999,2.7872599999999998,3.0561500000000001,2.7872599999999998]
[null,"COFFEE","COFFEE agriculture"]
[null,"EGGS","EGGS agriculture",1.753009166666667,1.2896240000000003,1.2626075000000003,1.6056118333333333,1.7641000000000004,1.28843175,1.7207546666666667,1.1497683333333333,1.3492125000000001,1.3644830833333332,1.5240004166666667,1.3758344166666669,1.588432416666667,1.3949903333333331,1.3621780000000001,1.8393097500000002,1.2170792500000001,1.1111265833333335,1.3949903333333331,1.6647271666666668,1.2676685833333337,1.3949903333333331,1.4787202499999998,1.2967528333333334,1.2735195833333335,1.2907343333333332,1.4105069999999997,1.1410660000000001,1.917074583333334,1.3949903333333331,1.0473039166666667,1.3949903333333331]
[null,"MEAT BASED DISHES","MEAT BASED DISHES agriculture"]
[null,"MILK","MILK agriculture",0.37342499999999995,0.3505416666666667,0.30519166666666664,0.31378333333333336,0.55884166666666668,0.31589166666666668,0.36789166666666667,0.32678333333333337,0.37631666666666669,0.34399166666666664,0.36408333333333331,0.38788333333333336,0.30476666666666669,0.34859583333333333,0.36417500000000003,0.37024166666666664,0.30614166666666665,0.29756666666666665,0.35424166666666673,0.480875,0.37958333333333338,0.34859583333333333,0.32364999999999999,0.29681666666666667,0.29189166666666666,0.30985833333333335,0.30320000000000003,0.30954999999999999,0.37942500000000001,0.34859583333333333,0.31572727272727269,0.34859583333333333]
[null,"MINERAL WATER","MINERAL WATER agriculture"]
[null,"OLIVE OIL","OLIVE OIL agriculture",3.6630657499999999,3.6630657499999999,3.6630657499999999,3.6630657499999999,3.6630657499999999,3.6630657499999999,3.6630657499999999,3.6630657499999999,3.6630657499999999,3.6630657499999999,3.6630657499999999,3.4888796388888887,3.6630657499999999,3.6630657499999999,3.6630657499999999,3.7104513888888886,3.6630657499999999,3.6630657499999999,3.6630657499999999,3.6630657499999999,3.6630657499999999,3.6630657499999999,3.6630657499999999,3.627651515151515,3.6630657499999999,3.6630657499999999,3.6630657499999999,3.6832511309523808,3.6630657499999999,3.6630657499999999,3.6630657499999999,3.6630657499999999]
[null,"ORANGES","ORANGES agriculture",0.51100699999999999,0.51100699999999999,0.51100699999999999,0.51100699999999999,0.51100699999999999,0.51100699999999999,0.51100699999999999,0.51100699999999999,0.51100699999999999,0.51100699999999999,0.51100699999999999,0.38500000000000001,0.51100699999999999,0.51100699999999999,0.51100699999999999,0.80240400000000012,0.51100699999999999,0.51100699999999999,0.51100699999999999,0.51100699999999999,0.51100699999999999,0.51100699999999999,0.51100699999999999,0.44,0.51100699999999999,0.51100699999999999,0.51100699999999999,0.41662400000000005,0.51100699999999999,0.51100699999999999,0.51100699999999999,0.51100699999999999]
[null,"PASTA","PASTA agriculture"]
[null,"PORK","PORK agriculture",1.7867845833333333,1.5111034999999999,1.6202812500000001,1.6765724166666669,1.6202812500000001,1.6544054166666669,1.5459740000000002,1.6084175000000003,1.5907943333333336,1.5704526666666669,1.7058470833333335,1.8872387499999999,1.7266705000000002,1.6202812500000001,1.6015271666666668,1.6202812500000001,1.5714696666666672,1.655127666666667,1.708996,2.1800000000000002,1.4712850833333337,1.6202812500000001,1.6228182500000004,1.7446778333333335,1.7194815000000003,1.7274139166666669,1.7963903333333335,1.6011755000000003,1.8114720833333331,1.6202812500000001,1.8059743333333336,1.6202812500000001]
[null,"POTATOES","POTATOES agriculture",0.1885,9.9600000000000008E-2,0.19760000000000003,0.1439,0.35899999999999999,0.16570000000000001,0.25579999999999997,0.22496923076923078,0.17739999999999997,0.43700000000000006,0.12839999999999999,0.47889999999999999,0.21600000000000003,0.22496923076923078,0.22496923076923078,0.36340000000000006,0.13619999999999999,0.1152,0.312,0.3271,0.115,0.22496923076923078,0.1222,0.1956,0.26989999999999997,0.24719999999999998,0.13109999999999999,0.19829999999999998,0.2722,0.22496923076923078,0.19600000000000001,0.22496923076923078]
[null,"POULTRY","POULTRY agriculture",1.825374416666667,1.6619962500000001,1.4666368333333335,1.8486771666666666,2.5394999999999994,1.8076493333333337,2.4104532499999998,1.6141955714285716,2.5564618333333335,2.2999999999999998,2.6883960833333331,2.0440084999999999,1.44906275,1.8205072500000004,0.97390849999999995,2.0620075,1.5868138333333335,1.4353050833333336,1.8205072500000004,2.2275228333333335,1.71,1.8205072500000004,1.2342898333333334,1.5261146666666667,1.4803255000000002,1.5102390000000003,1.9243732500000008,1.6545309999999998,2.4796327500000004,1.8205072500000004,1.4911076666666667,1.8205072500000004]
[null,"RICE","RICE agriculture",0.32063333333333338,0.32063333333333338,0.3357,0.32063333333333338,0.32063333333333338,0.32063333333333338,0.32063333333333338,0.32063333333333338,0.32063333333333338,0.32063333333333338,0.32063333333333338,0.2293,0.24299999999999999,0.32063333333333338,0.32063333333333338,0.56459999999999999,0.32063333333333338,0.32063333333333338,0.32063333333333338,0.32063333333333338,0.32063333333333338,0.32063333333333338,0.32063333333333338,0.27440000000000003,0.32063333333333338,0.32063333333333338,0.32063333333333338,0.27679999999999999,0.32063333333333338,0.32063333333333338,0.32063333333333338,0.32063333333333338]
[null,"SALMON","SALMON agriculture",6.1423299999999994,6.1423299999999994,6.1423299999999994,12.539190000000001,6.1423299999999994,6.1423299999999994,6.1423299999999994,6.1423299999999994,5.3503800000000004,6.1423299999999994,6.1423299999999994,5.92577,6.1423299999999994,6.1423299999999994,4.0124400000000007,38.070660000000004,6.1423299999999994,6.1423299999999994,6.1423299999999994,6.1423299999999994,6.1423299999999994,6.1423299999999994,6.7062499999999998,9.7299000000000007,6.1423299999999994,6.1423299999999994,6.1423299999999994,6.1423299999999994,3.9711099999999999,6.1423299999999994,12.970499999999999,6.1423299999999994]
[null,"SHRIMP","SHRIMP agriculture",9.7857981249999995,9.7857981249999995,6.8914300000000006,20.87294,3.0585000000000004,9.7857981249999995,9.7857981249999995,6.8914300000000006,9.7857981249999995,3.0596199999999998,2.2100900000000001,9.7857981249999995,9.7857981249999995,9.7857981249999995,8.2716700000000003,11.39146,9.5669699999999995,24,9.7857981249999995,9.7857981249999995,6.1046000000000005,9.7857981249999995,9.7857981249999995,21.351559999999999,9.7857981249999995,9.7857981249999995,14.715,10.85502,2.2940799999999997,9.7857981249999995,5.0383999999999993,9.7857981249999995]
[null,"SUGAR","SUGAR agriculture",0.47375,0.47375,0.47375,0.47375,0.47375,0.47375,0.47375,0.47375,0.47375,0.47375,0.47375,0.47375,0.47375,0.47375,0.47375,0.47375,0.47375,0.47375,0.47375,0.47375,0.47375,0.47375,0.47375,0.47375,0.47375,0.47375,0.47375,0.47375,0.47375,0.47375,0.47375,0.47375]
[null,"SUNFLOWER OIL","SUNFLOWER OIL agriculture"]
[null,"TEA","TEA agriculture"]
[null,"TOFU","TOFU agriculture"]
[null,"TOMATOES","TOMATOES agriculture",1.0372044166666665,1.0473471666666667,0.87805290909090916,0.75298220000000005,1.0372044166666665,0.96144585714285724,1.0372044166666665,1.0372044166666665,1.0372044166666665,1.1105,1.0372044166666665,0.70696725000000005,0.61069600000000002,1.0372044166666665,1.0372044166666665,1.6424885833333334,1.0372044166666665,1.0372044166666665,1.0372044166666665,1.0372044166666665,0.73355155555555551,1.0372044166666665,0.60177071428571427,0.58111108333333339,0.60527566666666677,1.0372044166666665,1.0372044166666665,0.7787305000000001,1.0372044166666665,1.0372044166666665,1.0372044166666665,1.0372044166666665]
[null,"WINE","WINE agriculture",0.72620000000000007,0.72620000000000007,0.72620000000000007,1.0318000000000001,0.23300000000000001,0.72620000000000007,0.72620000000000007,0.72620000000000007,0.72620000000000007,0.66299999999999992,0.72620000000000007,0.8397,0.72620000000000007,0.72620000000000007,0.72620000000000007,0.72620000000000007,0.72620000000000007,0.72620000000000007,0.72620000000000007,0.72620000000000007,0.72620000000000007,0.72620000000000007,0.72620000000000007,0.41259999999999997,0.71760000000000002,0.72620000000000007,1.5731999999999999,0.3387,0.72620000000000007,0.72620000000000007,0.72620000000000007,0.72620000000000007]
["Manufacturing","UNKOWN/OTHER",{"$f":"CONCATENATE(B38,\" \",\"manufacturing\")","v":"UNKOWN/OTHER manufacturing"},1.2528636554520272,1.1401751385289174,1.0972496216881924,1.3313378571841934,1.2915119016643442,1.1547309339820586,1.2738164640531877,1.1079684029216099,1.2879971613458092,1.2532104929767605,1.2150180541745521,1.2609931487191073,1.1275930805835674,1.2181757936886251,1.1004881600367584,1.5940243574007462,1.0943693435190207,1.1420206524050067,1.2748558989373922,1.3268444455891735,1.1390052338288614,1.2181757936886251,1.0433600565777017,1.2126350399422401,1.1474874593048845,1.1895995832759312,1.2738835809254938,1.3181582331795592,1.2832073281828347,1.2181757936886251,1.2708865452759406,1.2181757936886251]
[null,"ALMONDS",{"$f":"CONCATENATE(B39,\" \",\"manufacturing\")","v":"ALMONDS manufacturing"},1.9571714285714286,1.9571714285714286,1.9571714285714286,2.8055000000000003,1.165,1.9571714285714286,1.9571714285714286,1.9571714285714286,1.9571714285714286,1.9571714285714286,1.9571714285714286,3.6736,1.6048,1.9571714285714286,1.9571714285714286,1.5809,1.9571714285714286,1.9571714285714286,1.9571714285714286,1.9571714285714286,1.9571714285714286,1.9571714285714286,1.9571714285714286,1.0156000000000001,1.9571714285714286,1.9571714285714286,1.9571714285714286,1.8548,1.9571714285714286,1.9571714285714286,1.9571714285714286,1.9571714285714286]
[null,"APPLES","APPLES manufacturing",0.39039999999999997,0.39419999999999999,0.23920000000000002,0.29820000000000002,0.70299999999999996,0.34610000000000002,0.43709999999999999,0.53329600000000021,1.6369999999999998,0.53329600000000021,0.4168,0.60329999999999995,0.25800000000000001,0.53329600000000021,0.53329600000000021,0.44179999999999997,0.33350000000000002,0.4007,1.38,0.44829999999999998,0.48210000000000003,0.53329600000000021,0.18590000000000001,0.57590000000000008,0.60060000000000002,0.33329999999999999,0.46110000000000001,0.37729999999999997,0.67189999999999994,0.53329600000000021,0.91670000000000007,0.53329600000000021]
[null,"BANANAS","BANANAS manufacturing",0.65705097555322423,0.65705097555322423,0.65705097555322423,0.65705097555322423,0.65705097555322423,0.65705097555322423,0.65705097555322423,0.65705097555322423,0.65705097555322423,0.65705097555322423,0.65705097555322423,0.65705097555322423,0.65705097555322423,0.65705097555322423,0.65705097555322423,0.65705097555322423,0.65705097555322423,0.65705097555322423,0.65705097555322423,0.65705097555322423,0.65705097555322423,0.65705097555322423,0.65705097555322423,0.65705097555322423,0.65705097555322423,0.65705097555322423,0.65705097555322423,0.65705097555322423,0.65705097555322423,0.65705097555322423,0.65705097555322423,0.65705097555322423]
[null,"BEANS","BEANS manufacturing",2.4545936250000002,2.4545936250000002,2.4545936250000002,2.4545936250000002,2.4545936250000002,2.4545936250000002,2.4545936250000002,2.4545936250000002,2.4545936250000002,2.4545936250000002,2.4545936250000002,2.4545936250000002,2.4545936250000002,2.4545936250000002,2.4545936250000002,2.4545936250000002,2.4545936250000002,2.4545936250000002,2.4545936250000002,2.4545936250000002,2.4545936250000002,2.4545936250000002,2.4545936250000002,2.4545936250000002,2.4545936250000002,2.4545936250000002,2.4545936250000002,2.4545936250000002,2.4545936250000002,2.4545936250000002,2.4545936250000002,2.4545936250000002]
[null,"BEEF","BEEF manufacturing",3.4009393333333331,2.9259112777777778,2.0685863333333332,3.1257337777777776,3.5050844722222223,2.8521724444444447,3.4862023611111113,2.925106833333333,3.3359729999999996,3.6246299166666671,3.5304788055555552,3.546955638888889,2.1976044166666666,3.5050844722222223,3.6431132222222224,3.6337516666666665,2.2799839722222224,2.7080765176767683,3.5303244999999999,2.7010389166666671,2.9413535277777778,3.5050844722222223,3.0764993333333335,3.1620086388888895,2.475967361111111,2.6614430222222221,3.0059388888888892,3.3032948333333327,4.455433277777777,3.5050844722222223,3.8003316944444445,3.5050844722222223]
[null,"BEER","BEER manufacturing"]
[null,"BISCUITS","BISCUITS manufacturing"]
[null,"BREAD","BREAD manufacturing"]
[null,"BUTTER","BUTTER manufacturing",5.0823955633333338,4.5603566666666664,5.0823955633333338,4.3929414285714294,5.0823955633333338,4.5654490000000001,5.0823955633333338,5.2876262500000006,5.0823955633333338,5.0823955633333338,5.4720000000000004,5.0823955633333338,5.0823955633333338,5.0823955633333338,5.0048700000000004,4.7767083333333336,4.9026570833333336,5.0823955633333338,5.0823955633333338,5.0823955633333338,5.2017916666666668,5.0823955633333338,4.6214118181818176,5.0823955633333338,5.0823955633333338,5.3160290909090904,5.0823955633333338,5.7723466666666674,5.0823955633333338,5.0823955633333338,5.1393795833333344,5.0823955633333338]
[null,"CHEESE","CHEESE manufacturing",4.7232341666666677,4.4202489738606303,4.4202489738606303,3.772312857142857,4.4202489738606303,4.2599914999999999,4.4202489738606303,3.1386542500000001,4.4202489738606303,4.4202489738606303,3.5125491666666671,4.4202489738606303,4.4202489738606303,4.4202489738606303,4.0628032698412708,4.4202489738606303,3.9876783333333332,3.6379016666666666,4.4202489738606303,4.4202489738606303,4.4202489738606303,4.4202489738606303,3.4773060606060606,4.4202489738606303,4.4202489738606303,5.0237468181818192,4.4202489738606303,8.8890124999999998,4.4202489738606303,4.4202489738606303,4.5577970972222221,4.4202489738606303]
[null,"CHOCOLATE","CHOCOLATE manufacturing"]
[null,"COD","COD manufacturing",2.7872599999999998,2.7872599999999998,2.7872599999999998,5.6635499999999999,2.7872599999999998,2.7872599999999998,3.1590199999999999,2.7872599999999998,2.8,2.7872599999999998,2.7872599999999998,1.01623,2.7872599999999998,2.7872599999999998,1.5830599999999999,3.6543600000000005,2.7872599999999998,2.7872599999999998,2.7872599999999998,2.7872599999999998,2.93127,2.7872599999999998,1.2631800000000002,2.7872599999999998,2.7872599999999998,2.7872599999999998,2.7872599999999998,2.4053899999999997,1.6092599999999999,2.7872599999999998,3.0561500000000001,2.7872599999999998]
[null,"COFFEE","COFFEE manufacturing"]
[null,"EGGS","EGGS manufacturing",1.753009166666667,1.2896240000000003,1.2626075000000003,1.6056118333333333,1.7641000000000004,1.28843175,1.7207546666666667,1.1497683333333333,1.3492125000000001,1.3644830833333332,1.5240004166666667,1.3758344166666669,1.588432416666667,1.3949903333333331,1.3621780000000001,1.8393097500000002,1.2170792500000001,1.1111265833333335,1.3949903333333331,1.6647271666666668,1.2676685833333337,1.3949903333333331,1.4787202499999998,1.2967528333333334,1.2735195833333335,1.2907343333333332,1.4105069999999997,1.1410660000000001,1.917074583333334,1.3949903333333331,1.0473039166666667,1.3949903333333331]
[null,"MEAT BASED DISHES","MEAT BASED DISHES manufacturing"]
[null,"MILK","MILK manufacturing",0.37342499999999995,0.3505416666666667,0.30519166666666664,0.31378333333333336,0.55884166666666668,0.31589166666666668,0.36789166666666667,0.32678333333333337,0.37631666666666669,0.34399166666666664,0.36408333333333331,0.38788333333333336,0.30476666666666669,0.34859583333333333,0.36417500000000003,0.37024166666666664,0.30614166666666665,0.29756666666666665,0.35424166666666673,0.480875,0.37958333333333338,0.34859583333333333,0.32364999999999999,0.29681666666666667,0.29189166666666666,0.30985833333333335,0.30320000000000003,0.30954999999999999,0.37942500000000001,0.34859583333333333,0.31572727272727269,0.34859583333333333]
[null,"MINERAL WATER","MINERAL WATER manufacturing"]
[null,"OLIVE OIL","OLIVE OIL manufacturing",3.6630657499999999,3.6630657499999999,3.6630657499999999,3.6630657499999999,3.6630657499999999,3.6630657499999999,3.6630657499999999,3.6630657499999999,3.6630657499999999,3.6630657499999999,3.6630657499999999,3.4888796388888887,3.6630657499999999,3.6630657499999999,3.6630657499999999,3.7104513888888886,3.6630657499999999,3.6630657499999999,3.6630657499999999,3.6630657499999999,3.6630657499999999,3.6630657499999999,3.6630657499999999,3.627651515151515,3.6630657499999999,3.6630657499999999,3.6630657499999999,3.6832511309523808,3.6630657499999999,3.6630657499999999,3.6630657499999999,3.6630657499999999]
[null,"ORANGES","ORANGES manufacturing",0.51100699999999999,0.51100699999999999,0.51100699999999999,0.51100699999999999,0.51100699999999999,0.51100699999999999,0.51100699999999999,0.51100699999999999,0.51100699999999999,0.51100699999999999,0.51100699999999999,0.38500000000000001,0.51100699999999999,0.51100699999999999,0.51100699999999999,0.80240400000000012,0.51100699999999999,0.51100699999999999,0.51100699999999999,0.51100699999999999,0.51100699999999999,0.51100699999999999,0.51100699999999999,0.44,0.51100699999999999,0.51100699999999999,0.51100699999999999,0.41662400000000005,0.51100699999999999,0.51100699999999999,0.51100699999999999,0.51100699999999999]
[null,"PASTA","PASTA manufacturing"]
[null,"PORK","PORK manufacturing",1.7867845833333333,1.5111034999999999,1.6202812500000001,1.6765724166666669,1.6202812500000001,1.6544054166666669,1.5459740000000002,1.6084175000000003,1.5907943333333336,1.5704526666666669,1.7058470833333335,1.8872387499999999,1.7266705000000002,1.6202812500000001,1.6015271666666668,1.6202812500000001,1.5714696666666672,1.655127666666667,1.708996,2.1800000000000002,1.4712850833333337,1.6202812500000001,1.6228182500000004,1.7446778333333335,1.7194815000000003,1.7274139166666669,1.7963903333333335,1.6011755000000003,1.8114720833333331,1.6202812500000001,1.8059743333333336,1.6202812500000001]
[null,"POTATOES","POTATOES manufacturing",0.1885,9.9600000000000008E-2,0.19760000000000003,0.1439,0.35899999999999999,0.16570000000000001,0.25579999999999997,0.22496923076923078,0.17739999999999997,0.43700000000000006,0.12839999999999999,0.47889999999999999,0.21600000000000003,0.22496923076923078,0.22496923076923078,0.36340000000000006,0.13619999999999999,0.1152,0.312,0.3271,0.115,0.22496923076923078,0.1222,0.1956,0.26989999999999997,0.24719999999999998,0.13109999999999999,0.19829999999999998,0.2722,0.22496923076923078,0.19600000000000001,0.22496923076923078]
[null,"POULTRY","POULTRY manufacturing",1.825374416666667,1.6619962500000001,1.4666368333333335,1.8486771666666666,2.5394999999999994,1.8076493333333337,2.4104532499999998,1.6141955714285716,2.5564618333333335,2.2999999999999998,2.6883960833333331,2.0440084999999999,1.44906275,1.8205072500000004,0.97390849999999995,2.0620075,1.5868138333333335,1.4353050833333336,1.8205072500000004,2.2275228333333335,1.71,1.8205072500000004,1.2342898333333334,1.5261146666666667,1.4803255000000002,1.5102390000000003,1.9243732500000008,1.6545309999999998,2.4796327500000004,1.8205072500000004,1.4911076666666667,1.8205072500000004]
[null,"RICE","RICE manufacturing",0.32063333333333338,0.32063333333333338,0.3357,0.32063333333333338,0.32063333333333338,0.32063333333333338,0.32063333333333338,0.32063333333333338,0.32063333333333338,0.32063333333333338,0.32063333333333338,0.2293,0.24299999999999999,0.32063333333333338,0.32063333333333338,0.56459999999999999,0.32063333333333338,0.32063333333333338,0.32063333333333338,0.32063333333333338,0.32063333333333338,0.32063333333333338,0.32063333333333338,0.27440000000000003,0.32063333333333338,0.32063333333333338,0.32063333333333338,0.27679999999999999,0.32063333333333338,0.32063333333333338,0.32063333333333338,0.32063333333333338]
[null,"SALMON","SALMON manufacturing",6.1423299999999994,6.1423299999999994,6.1423299999999994,12.539190000000001,6.1423299999999994,6.1423299999999994,6.1423299999999994,6.1423299999999994,5.3503800000000004,6.1423299999999994,6.1423299999999994,5.92577,6.1423299999999994,6.1423299999999994,4.0124400000000007,38.070660000000004,6.1423299999999994,6.1423299999999994,6.1423299999999994,6.1423299999999994,6.1423299999999994,6.1423299999999994,6.7062499999999998,9.7299000000000007,6.1423299999999994,6.1423299999999994,6.1423299999999994,6.1423299999999994,3.9711099999999999,6.1423299999999994,12.970499999999999,6.1423299999999994]
[null,"SHRIMP","SHRIMP manufacturing",9.7857981249999995,9.7857981249999995,6.8914300000000006,20.87294,3.0585000000000004,9.7857981249999995,9.7857981249999995,6.8914300000000006,9.7857981249999995,3.0596199999999998,2.2100900000000001,9.7857981249999995,9.7857981249999995,9.7857981249999995,8.2716700000000003,11.39146,9.5669699999999995,24,9.7857981249999995,9.7857981249999995,6.1046000000000005,9.7857981249999995,9.7857981249999995,21.351559999999999,9.7857981249999995,9.7857981249999995,14.715,10.85502,2.2940799999999997,9.7857981249999995,5.0383999999999993,9.7857981249999995]
[null,"SUGAR","SUGAR manufacturing",0.47375,0.47375,0.47375,0.47375,0.47375,0.47375,0.47375,0.47375,0.47375,0.47375,0.47375,0.47375,0.47375,0.47375,0.47375,0.47375,0.47375,0.47375,0.47375,0.47375,0.47375,0.47375,0.47375,0.47375,0.47375,0.47375,0.47375,0.47375,0.47375,0.47375,0.47375,0.47375]
[null,"SUNFLOWER OIL","SUNFLOWER OIL manufacturing"]
[null,"TEA","TEA manufacturing"]
[null,"TOFU","TOFU manufacturing"]
[null,"TOMATOES","TOMATOES manufacturing",1.0372044166666665,1.0473471666666667,0.87805290909090916,0.75298220000000005,1.0372044166666665,0.96144585714285724,1.0372044166666665,1.0372044166666665,1.0372044166666665,1.1105,1.0372044166666665,0.70696725000000005,0.61069600000000002,1.0372044166666665,1.0372044166666665,1.6424885833333334,1.0372044166666665,1.0372044166666665,1.0372044166666665,1.0372044166666665,0.73355155555555551,1.0372044166666665,0.60177071428571427,0.58111108333333339,0.60527566666666677,1.0372044166666665,1.0372044166666665,0.7787305000000001,1.0372044166666665,1.0372044166666665,1.0372044166666665,1.0372044166666665]
[null,"WINE","WINE manufacturing",0.72620000000000007,0.72620000000000007,0.72620000000000007,1.0318000000000001,0.23300000000000001,0.72620000000000007,0.72620000000000007,0.72620000000000007,0.72620000000000007,0.66299999999999992,0.72620000000000007,0.8397,0.72620000000000007,0.72620000000000007,0.72620000000000007,0.72620000000000007,0.72620000000000007,0.72620000000000007,0.72620000000000007,0.72620000000000007,0.72620000000000007,0.72620000000000007,0.72620000000000007,0.41259999999999997,0.71760000000000002,0.72620000000000007,1.5731999999999999,0.3387,0.72620000000000007,0.72620000000000007,0.72620000000000007,0.72620000000000007]
["Retail","UNKOWN/OTHER",{"$f":"CONCATENATE(B71,\" \",\"retail\")","v":"UNKOWN/OTHER retail"},1.4841698223347068,1.325872901062694,1.073794649549157,1.3224980622035947,1.4127112821438044,1.1472426917454286,1.4456063927236034,1.3325940435732575,1.7657646446614865,1.6332270195769163,1.1968238672020248,1.486405611597539,1.0862496448029937,1.8505649924627605,1.323412489201091,1.4340723617863309,1.233108951594911,1.1526009013292395,1.3905692503396805,1.3931256701478136,1.1513253398290604,1.81042172938112,1.0722661314095585,1.3362513202180442,1.0956854000222165,1.1918351083728822,1.3275332077687709,1.1418194710123832,1.5278221527187255,1.3633944473753226,1.7278809768839478,1.3633944473753226]
[null,"ALMONDS",{"$f":"CONCATENATE(B72,\" \",\"retail\")","v":"ALMONDS retail"},1.9571714285714286,1.9571714285714286,1.9571714285714286,2.8055000000000003,1.165,1.9571714285714286,1.9571714285714286,1.9571714285714286,1.9571714285714286,1.9571714285714286,1.9571714285714286,3.6736,1.6048,1.9571714285714286,1.9571714285714286,1.5809,1.9571714285714286,1.9571714285714286,1.9571714285714286,1.9571714285714286,1.9571714285714286,1.9571714285714286,1.9571714285714286,1.0156000000000001,1.9571714285714286,1.9571714285714286,1.9571714285714286,1.8548,1.9571714285714286,1.9571714285714286,1.9571714285714286,1.9571714285714286]
[null,"APPLES","APPLES retail",0.39039999999999997,0.39419999999999999,0.23920000000000002,0.29820000000000002,0.70299999999999996,0.34610000000000002,0.43709999999999999,0.53329600000000021,1.6369999999999998,0.53329600000000021,0.4168,0.60329999999999995,0.25800000000000001,0.53329600000000021,0.53329600000000021,0.44179999999999997,0.33350000000000002,0.4007,1.38,0.44829999999999998,0.48210000000000003,0.53329600000000021,0.18590000000000001,0.57590000000000008,0.60060000000000002,0.33329999999999999,0.46110000000000001,0.37729999999999997,0.67189999999999994,0.53329600000000021,0.91670000000000007,0.53329600000000021]
[null,"BANANAS","BANANAS retail",0.657050975553224,0.657050975553224,0.657050975553224,0.657050975553224,0.657050975553224,0.657050975553224,0.657050975553224,0.657050975553224,0.657050975553224,0.657050975553224,0.657050975553224,0.657050975553224,0.657050975553224,0.657050975553224,0.657050975553224,0.657050975553224,0.657050975553224,0.657050975553224,0.657050975553224,0.657050975553224,0.657050975553224,0.657050975553224,0.657050975553224,0.657050975553224,0.657050975553224,0.657050975553224,0.657050975553224,0.657050975553224,0.657050975553224,0.657050975553224,0.657050975553224,0.657050975553224]
[null,"BEANS","BEANS retail",0.90948158104406385,0.90948158104406385,0.90849446253052257,1.0890666666666666,0.90948158104406385,0.90948158104406385,0.90948158104406385,0.90948158104406385,0.90948158104406385,0.95730431826381623,0.76376571293181406,0.90948158104406385,0.81116051502145925,0.90948158104406385,0.90948158104406385,0.73474441365485521,0.90948158104406385,1.3504373177842566,0.90948158104406385,0.90948158104406385,0.90948158104406385,0.90948158104406385,0.96347144896502501,0.90948158104406385,0.48326935124863252,0.90948158104406385,0.90948158104406385,0.99432401287917305,0.90948158104406385,0.90948158104406385,0.94825917153847838,0.90948158104406385]
[null,"BEEF","BEEF retail",4.9025401349384357,5.1910068345007812,3.0362264022281367,5.0206211673858734,4.6735981538828186,3.9734743285664456,3.8313450051504252,2.7624788415249633,5.7372748749752338,7.3422207048252108,4.1730744034264866,4.3338916734398083,2.598135732179458,4.6735981538828186,4.9091491364006963,3.6507204556599149,2.8958606912250389,3.5646780735795716,4.6735981538828186,4.6735981538828186,2.4897308203423356,10.755144144013045,3.5284557212952743,6.6899452387519673,3.188176711839255,4.5636050785611237,4.0539860706718827,5.2400008244108038,6.4372092924144964,4.6735981538828186,6.6445996386466231,4.6735981538828186]
[null,"BEER","BEER retail",1.0271534052456865,1.1009321637327096,0.43516779598907568,0.8252646828911484,0.88302779685205968,0.53582370965959103,0.84729772860314578,0.56429729120275107,0.57164644364808959,1.0892234273732266,0.66688953402357076,0.91925793456589255,0.4279776534516575,2.8428320328047683,0.88302779685205968,1.5441365526080029,0.68811680919134643,0.67091124349735554,0.88302779685205968,0.88302779685205968,0.87979949624414799,1.3229263311530508,0.45081283857707721,0.90149171743580103,0.60432941541991214,0.7441377746394392,0.88302779685205968,0.92269718432035519,0.71634543155870367,0.88302779685205968,0.77622632346498055,0.88302779685205968]
[null,"BISCUITS","BISCUITS retail",3.746744755310508,2.3747696188106411,1.965482154888224,1.9397944319460068,2.6882405726210039,1.9846904043282461,4.5241069889572101,3.1516261682242992,3.4995038288668283,5.3011629706388046,2.9104166466265018,2.6882405726210039,0.70520666502906737,2.6882405726210039,2.6882405726210039,2.8346148509585367,1.695008603269293,2.2116618902869907,2.6882405726210039,2.6882405726210039,2.179263565891473,2.6882405726210039,2.1805697608448984,3.7217882968583309,1.3114200692850555,1.9166299783859722,3.7215737071641541,1.8650396386051507,3.113320571481931,2.6882405726210039,2.9751376036249675,2.6882405726210039]
[null,"BREAD","BREAD retail",2.09979572892555,1.4384740994222147,0.47197053355918261,1.3835324174214771,1.3625070950962475,0.89939661148503403,1.4469950339999862,0.97736967647847894,2.4645926805287477,1.2463787039603518,2.0218136067024286,1.5512572847570825,0.81681468105123733,1.3625070950962475,1.2383803785971144,2.3336510138130238,1.0130782765940685,0.8581257938648732,1.3625070950962475,1.3625070950962475,1.4806431873398243,2.0680754617047024,0.96703503934633339,1.4238635759997134,0.64602587538871803,0.90362778125713172,1.5849302477914979,1.4222089945995224,1.3625070950962475,1.3625070950962475,1.3046406928178926,1.3625070950962475]
[null,"BUTTER","BUTTER retail",3.8340696388190016,3.8366063203974972,4.0921760003623273,4.353210619469027,3.8366063203974972,3.4388532866268289,4.8509398725976052,3.5576711509715992,3.1194624781559575,4.1465460986340315,3.2854082433876171,6.7278454367944578,3.4645280181293781,3.8366063203974972,2.9699370409373826,4.1172716442585884,3.0625772993727893,2.5245923262785657,3.8366063203974972,3.8366063203974972,3.8366063203974972,3.8366063203974972,3.2363557568512049,3.3760853210679125,4.4802588283355265,3.8096885545894241,4.6102749070613864,3.9003012477718362,3.8366063203974972,3.8366063203974972,3.447285278272501,3.8366063203974972]
[null,"CHEESE","CHEESE retail",2.9887861138316447,3.9546046460037863,3.4276131793824698,4.9557903225806452,3.9546046460037863,3.3514064198154934,4.1300540150364098,3.7816466005665723,6.803355253769138,3.4013222698496208,3.3763581865910886,3.9546046460037863,3.0788409618698029,3.9546046460037863,2.6356667544315804,4.1887988881408935,3.9546046460037863,3.504489075262549,3.9546046460037863,3.9546046460037863,4.370758651786721,3.9546046460037863,3.9546046460037863,5.0736307947354584,4.4214908920552949,3.9546046460037863,3.9546046460037863,3.0494130762405103,3.9546046460037863,3.9546046460037863,4.6434621721222635,3.9546046460037863]
[null,"CHOCOLATE","CHOCOLATE retail",8.0580306453574959,3.2715886411059905,6.0363426566090999,4.4137917339360673,5.8190427547252961,5.8190427547252961,7.6097607260996032,8.2342731152204838,8.3574554312863736,5.6686574948741972,5.8782192670330895,6.6248994666943597,7.7294339925173707,5.8190427547252961,5.8190427547252961,3.9003213117588578,5.8190427547252961,4.4087068051155578,5.8190427547252961,5.8190427547252961,6.545108695652174,5.8190427547252961,3.5493770181036934,5.8190427547252961,2.8038853733802513,6.6846228873126572,5.8190427547252961,3.6840408540832317,5.8190427547252961,5.8190427547252961,7.1032962236400694,5.8190427547252961]
[null,"COD","COD retail",4.8554131015600781,4.8554131015600781,3.3649042412771148,0.60787892049598835,4.8554131015600781,3.2953666962939692,7.9299006096054079,9.5439904929922577,7.9590607622396146,7.0774546591881764,3.7734237665518942,6.5821746298881667,5.8542500000000004,5.0628274881274722,1.5007225528603136,4.8454570409003566,4.8554131015600781,5.3488385974826,4.8554131015600781,4.8554131015600781,4.4085522762652092,1.1718614830000762,5.2923811458756607,4.590324602897657,4.8554131015600781,4.8554131015600781,4.8554131015600781,4.5718041907514451,4.8554131015600781,4.8554131015600781,4.3270878745081589,4.8554131015600781]
[null,"COFFEE","COFFEE retail",7.9574849900048985,7.7994152218505031,3.8077758381725753,6.66407896039604,6.2382250022289174,6.2382250022289174,5.247472231175724,6.2382250022289174,6.5871472360215622,8.9882639039070185,3.1366822090087081,8.3061230647106132,4.7260254482359745,6.2382250022289174,6.2382250022289174,7.4928810481572565,4.5634157693298327,7.7912401237694047,6.2382250022289174,6.2382250022289174,4.2019111236346154,7.2017264247708184,4.4306571824320429,7.3104653343222097,5.2591480622885012,6.2382250022289174,6.2382250022289174,7.0455289107986605,4.191809491976306,6.2382250022289174,8.293472471843975,6.2382250022289174]
[null,"EGGS","EGGS retail",1.753009166666667,1.2896240000000003,1.2626075000000003,1.6056118333333333,1.7641000000000004,1.28843175,1.7207546666666667,1.1497683333333333,1.3492125000000001,1.3644830833333332,1.5240004166666667,1.3758344166666669,1.588432416666667,1.3949903333333331,1.3621780000000001,1.8393097500000002,1.2170792500000001,1.1111265833333335,1.3949903333333331,1.6647271666666668,1.2676685833333337,1.3949903333333331,1.4787202499999998,1.2967528333333334,1.2735195833333335,1.2907343333333332,1.4105069999999997,1.1410660000000001,1.917074583333334,1.3949903333333331,1.0473039166666667,1.3949903333333331]
[null,"MEAT BASED DISHES","MEAT BASED DISHES retail",3.6449108090391977,3.7574881015021258,2.7385667466760042,3.6285114604760507,3.6449108090391977,2.2562066463003858,3.6449108090391977,2.7737988718148219,4.336296615272043,3.8010749754070057,3.7397371087294182,5.6555580692004641,1.5970564542753385,3.6449108090391977,1.8062369679642598,3.7492902486871125,4.2358995061288258,3.6570719292098297,3.6449108090391977,3.6449108090391977,2.990932566465168,6.9217358471582369,2.2706670325426348,3.7008498851856055,3.6449108090391977,3.6449108090391977,3.4578005243175878,3.3409827759838868,5.047197723303797,3.6449108090391977,4.7250777422617718,3.6449108090391977]
[null,"MILK","MILK retail",0.37342499999999995,0.3505416666666667,0.30519166666666664,0.31378333333333336,0.55884166666666668,0.31589166666666668,0.36789166666666667,0.32678333333333337,0.37631666666666669,0.34399166666666664,0.36408333333333331,0.38788333333333336,0.30476666666666669,0.34859583333333333,0.36417500000000003,0.37024166666666664,0.30614166666666665,0.29756666666666665,0.35424166666666673,0.480875,0.37958333333333338,0.34859583333333333,0.32364999999999999,0.29681666666666667,0.29189166666666666,0.30985833333333335,0.30320000000000003,0.30954999999999999,0.37942500000000001,0.34859583333333333,0.31572727272727269,0.34859583333333333]
[null,"MINERAL WATER","MINERAL WATER retail",0.20398253194868821,0.27139786047864289,0.15599713698042156,0.34938351920242788,0.27139786047864289,0.15725515333522092,0.31339625352624284,0.2473168445303604,0.50008643422207089,0.36654571270203984,0.17242341411466539,0.14496296708017584,0.10655800449264639,0.27139786047864289,0.3234800463510929,0.15010697674930912,0.19534029195235661,0.22891982693484306,0.27139786047864289,0.27139786047864289,0.29873876349025097,1.1139197791124567,0.12698204172138569,0.27139786047864289,0.17532321972870799,0.17718454526109861,0.3696114951189382,0.13759917604822794,0.27139786047864289,0.27139786047864289,0.22703665640515797,0.27139786047864289]
[null,"OLIVE OIL","OLIVE OIL retail",4.8786917546151161,4.8786917546151161,4.8786917546151161,6.530715483870968,4.8786917546151161,4.8786917546151161,6.8611376146788992,4.8786917546151161,6.4238336143901069,4.8786917546151161,4.8786917546151161,4.0656625218239784,4.8786917546151161,4.8786917546151161,4.8786917546151161,4.4407132636312134,4.8786917546151161,4.8786917546151161,4.8786917546151161,4.8786917546151161,4.8786917546151161,4.8786917546151161,4.8786917546151161,3.4771797538730365,4.8786917546151161,4.8786917546151161,4.8786917546151161,2.351600030037611,4.8786917546151161,4.8786917546151161,4.8786917546151161,4.8786917546151161]
[null,"ORANGES","ORANGES retail",0.51100699999999999,0.51100699999999999,0.51100699999999999,0.51100699999999999,0.51100699999999999,0.51100699999999999,0.51100699999999999,0.51100699999999999,0.51100699999999999,0.51100699999999999,0.51100699999999999,0.38500000000000001,0.51100699999999999,0.51100699999999999,0.51100699999999999,0.80240400000000012,0.51100699999999999,0.51100699999999999,0.51100699999999999,0.51100699999999999,0.51100699999999999,0.51100699999999999,0.51100699999999999,0.44,0.51100699999999999,0.51100699999999999,0.51100699999999999,0.41662400000000005,0.51100699999999999,0.51100699999999999,0.51100699999999999,0.51100699999999999]
[null,"PASTA","PASTA retail",1.7003651561900901,0.87768784266795219,0.60708121084550215,1.2331613455448087,0.87768784266795219,0.5813845449099686,0.87768784266795219,0.87768784266795219,0.90634024639018917,0.87768784266795219,0.87768784266795219,0.86642284329178276,0.7077280858676207,0.87768784266795219,0.87768784266795219,1.0871626869595965,0.87768784266795219,0.55263788870739505,0.87768784266795219,0.87768784266795219,0.87768784266795219,0.87768784266795219,0.87768784266795219,0.87768784266795219,0.73583809386576926,0.80177209850427733,0.87768784266795219,0.75235991093842636,0.87768784266795219,0.87768784266795219,0.87768784266795219,0.87768784266795219]
[null,"PORK","PORK retail",2.2764107419739417,2.2879010823499977,2.1830930874454384,2.156874613003096,2.5421384610030207,2.2593740033474345,2.1313410321778252,2.6190073550872688,3.7178687664401742,2.3447250026179325,1.770785135238101,3.2058757859881148,2.6139920432749939,2.5421384610030207,3.0665922651005082,2.1963929577311627,2.6492484256973525,2.4962214349994127,2.5421384610030207,2.5421384610030207,0.63573558248723949,5.5877645614886742,1.933770596337365,2.3341752369918627,2.10177702779322,2.1747623494365338,2.1879163067783618,1.9346310362561234,3.936733854465571,2.5421384610030207,3.2926297015708363,2.5421384610030207]
[null,"POTATOES","POTATOES retail",0.1885,9.9600000000000008E-2,0.19760000000000003,0.1439,0.35899999999999999,0.16570000000000001,0.25579999999999997,0.22496923076923078,0.17739999999999997,0.43700000000000006,0.12839999999999999,0.47889999999999999,0.21600000000000003,0.22496923076923078,0.22496923076923078,0.36340000000000006,0.13619999999999999,0.1152,0.312,0.3271,0.115,0.22496923076923078,0.1222,0.1956,0.26989999999999997,0.24719999999999998,0.13109999999999999,0.19829999999999998,0.2722,0.22496923076923078,0.19600000000000001,0.22496923076923078]
[null,"POULTRY","POULTRY retail",2.958143402299656,1.4507734179838918,1.5603047350987727,2.1865186098335783,2.1229166029465101,1.6705548146536389,2.6896666171810049,1.5706590632073829,3.3950690816774887,3.2045844939533681,1.9616292209396009,1.9253836976967307,1.3589064578559829,8.1264232542139325,2.1229166029465101,1.6912812859732687,2.1229166029465101,1.3722344871273648,2.1229166029465101,2.1229166029465101,1.6844124596275984,0.37502022374194699,1.163646318974247,1.5059146098836071,1.5873146530383397,1.5030910810932763,2.1229166029465101,1.4664747623578047,2.4318567670541662,2.1229166029465101,2.1101349552495878,2.1229166029465101]
[null,"RICE","RICE retail",0.92984148644725717,1.1217163810957,0.49346120659150189,0.92984148644725717,0.92984148644725717,0.92984148644725717,1.3638547420232716,0.92984148644725717,1.0303327521069456,0.90058393199712405,0.92984148644725717,0.68800914016017101,0.66139983394615109,0.92984148644725717,0.92984148644725717,0.93636569132236591,0.92984148644725717,0.92984148644725717,0.92984148644725717,0.92984148644725717,0.92984148644725717,0.92984148644725717,0.8738047306915615,0.69334163834071216,0.92984148644725717,0.92984148644725717,0.92984148644725717,0.61224165832727018,0.92984148644725717,0.92984148644725717,1.7829861307643133,0.92984148644725717]
[null,"SALMON","SALMON retail",16.521648548381872,16.521648548381872,16.521648548381872,16.521648548381872,16.521648548381872,16.521648548381872,13.3673887656006,20.261375000000001,13.202396765289903,23.595509888234449,12.934464577035747,16.521648548381872,16.521648548381872,23.857532857532856,19.332168836335562,22.661744022503516,16.521648548381872,8.479815919383844,16.521648548381872,16.521648548381872,16.521648548381872,10.346182807377474,12.148682456048828,16.521648548381872,16.521648548381872,16.521648548381872,16.521648548381872,17.081401657606275,16.521648548381872,16.521648548381872,17.512767576015285,16.521648548381872]
[null,"SHRIMP","SHRIMP retail",10.425002627994845,10.425002627994845,8.2690679046987405,27.811,10.425002627994845,10.425002627994845,13.120518306921982,5.4880462287104619,10.425002627994845,11.997408131129317,10.425002627994845,5.2594752670625962,10.425002627994845,12.623196175180246,8.6870188082147699,7.1491841491841495,10.425002627994845,7.2773794283667526,10.425002627994845,10.425002627994845,7.7066921606118548,10.099296996453811,10.425002627994845,5.0104461829651523,10.425002627994845,10.425002627994845,10.425002627994845,7.0898495127389332,18.329454342984409,10.425002627994845,10.882008452694331,10.425002627994845]
[null,"SUGAR","SUGAR retail",0.50023821229290932,0.50023821229290932,0.50023821229290932,0.52003382491412808,0.50023821229290932,0.44140347051390566,0.46540470303679543,0.50023821229290932,0.52889626211620955,0.43976052773902213,0.50249598498049297,0.50023821229290932,0.50023821229290932,0.50023821229290932,0.50023821229290932,0.54860008176289488,0.50023821229290932,0.48565935863568932,0.50023821229290932,0.50023821229290932,0.50023821229290932,0.50023821229290932,0.55125985989578286,0.50626640789430011,0.52705238666677723,0.50023821229290932,0.50023821229290932,0.48602567935891366,0.50023821229290932,0.50023821229290932,0.50023821229290932,0.50023821229290932]
[null,"SUNFLOWER OIL","SUNFLOWER OIL retail",1.7975754060463851,1.0447298722616349,0.86420364969844288,0.96010847983453984,1.0447298722616349,1.0447298722616349,0.17467488021902805,1.0447298722616349,3.1259209645010047,0.94653757729090771,0.68552798196768239,1.0067460293438251,0.9148162653834887,1.0447298722616349,1.0447298722616349,0.95164725411591478,1.0447298722616349,1.0447298722616349,1.0447298722616349,1.0447298722616349,0.85583405434605975,1.0447298722616349,0.77193639053254437,0.84830342818844839,0.87205545596379874,1.0447298722616349,1.0447298722616349,0.91615619462894216,1.0447298722616349,1.0447298722616349,1.0236339441251463,1.0447298722616349]
[null,"TEA","TEA retail",12.254093819364597,12.254093819364597,12.254093819364597,18.903716666666668,12.254093819364597,9.5442818791946316,10.270787602072176,12.254093819364597,12.254093819364597,22.330115836552249,7.2455714808697653,12.254093819364597,17.20231746031746,12.254093819364597,12.254093819364597,10.462793733681462,12.254093819364597,12.195765849977638,12.254093819364597,12.254093819364597,12.254093819364597,12.254093819364597,5.2367992296858379,12.254093819364597,8.4692892868418816,16.619130015770107,12.254093819364597,14.063163874649897,12.254093819364597,12.254093819364597,6.7594867354600234,12.254093819364597]
[null,"TOFU","TOFU retail",1.28,1.28,1.28,1.28,1.28,1.28,1.28,1.28,1.28,1.28,1.28,1.28,1.28,1.28,1.28,1.28,1.28,1.28,1.28,1.28,1.28,1.28,1.28,1.28,1.28,1.28,1.28,1.28,1.28,1.28,1.28,1.28]
[null,"TOMATOES","TOMATOES retail",1.0372044166666665,1.0473471666666667,0.87805290909090916,0.75298220000000005,1.0372044166666665,0.96144585714285724,1.0372044166666665,1.0372044166666665,1.0372044166666665,1.1105,1.0372044166666665,0.70696725000000005,0.61069600000000002,1.0372044166666665,1.0372044166666665,1.6424885833333334,1.0372044166666665,1.0372044166666665,1.0372044166666665,1.0372044166666665,0.73355155555555551,1.0372044166666665,0.60177071428571427,0.58111108333333339,0.60527566666666677,1.0372044166666665,1.0372044166666665,0.7787305000000001,1.0372044166666665,1.0372044166666665,1.0372044166666665,1.0372044166666665]
[null,"WINE","WINE retail",3.3066009264031573,2.7976537278366531,2.7390404230086824,2.2437785076219652,2.7976537278366531,2.7277902019446523,2.7976537278366531,2.7976537278366531,2.7976537278366531,3.3609155241063791,2.4952980134888443,3.5309301095455656,1.5935897816865969,2.7976537278366531,2.7976537278366531,2.2438783698310862,2.7976537278366531,2.7976537278366531,2.7976537278366531,2.7976537278366531,2.7976537278366531,2.7976537278366531,2.7976537278366531,2.0131235218317323,1.6109758345009477,1.3673445832764421,2.0560283823428604,1.5916590038520206,2.7976537278366531,2.7976537278366531,9.0838527341088593,2.7976537278366531]
["Use","UNKOWN/OTHER",{"$f":"CONCATENATE(B104,\" \",\"use\")","v":"UNKOWN/OTHER use"},2.8591401589916927,2.8591401589916927,2.3912404464991455,2.8638720929597867,3.4653485129587454,2.6252253493640354,2.8591401589916927,2.8591401589916927,3.3451392017959676,2.8591401589916927,2.7994019307336968,2.8591401589916927,2.8591401589916927,2.8591401589916927,2.8591401589916927,3.5183856034512995,2.8591401589916927,2.5741902197170505,2.8591401589916927,3.2191473877494756,3.1759502440584022,5.8668675561563832,2.2638241325567878,2.8591401589916927,2.4621394397524559,2.6574875105576528,2.8800747099805091,2.8583228952931927,2.8591401589916927,2.8591401589916927,2.8591401589916927,2.8591401589916927]
[null,"ALMONDS",{"$f":"CONCATENATE(B105,\" \",\"use\")","v":"ALMONDS use"},12.52,12.52,12.52,12.52,12.52,12.52,12.52,12.52,12.52,12.52,12.52,12.52,12.52,12.52,12.52,12.52,12.52,12.52,12.52,12.52,12.52,12.52,12.52,12.52,12.52,12.52,12.52,12.52,12.52,12.52,12.52,12.52]
[null,"APPLES","APPLES use",1.3666666666666667,1.3666666666666667,0.92,1.06,1.67,1.1000000000000001,1.3666666666666667,1.3666666666666667,2.09,1.3666666666666667,1.94,1.3666666666666667,1.3666666666666667,1.3666666666666667,1.3666666666666667,1.81,1.3666666666666667,1.28,1.3666666666666667,1.78,1.31,2.8,0.65,1.3666666666666667,0.79,1.0900000000000001,1.17,1.84,1.3666666666666667,1.3666666666666667,1.3666666666666667,1.3666666666666667]
[null,"BANANAS","BANANAS use",1.3984615384615384,1.3984615384615384,1.39,1.44,1.34,1.17,1.3984615384615384,1.3984615384615384,1.7,1.3984615384615384,1.3984615384615384,1.3984615384615384,1.3984615384615384,1.3984615384615384,1.3984615384615384,1.79,1.3984615384615384,1.32,1.3984615384615384,1.48,1.48,2.67,1.17,1.3984615384615384,1.23,1.36,1.31,1.3984615384615384,1.3984615384615384,1.3984615384615384,1.3984615384615384,1.3984615384615384]
[null,"BEANS","BEANS use",2.8112677119299638,2.8112677119299638,2.8112677119299638,2.8112677119299638,2.8112677119299638,2.8112677119299638,2.8112677119299638,2.8112677119299638,2.8112677119299638,2.8112677119299638,2.8112677119299638,2.8112677119299638,2.8112677119299638,2.8112677119299638,2.8112677119299638,2.8112677119299638,2.8112677119299638,2.8112677119299638,2.8112677119299638,2.8112677119299638,2.8112677119299638,2.8112677119299638,2.8112677119299638,2.8112677119299638,2.8112677119299638,2.8112677119299638,2.8112677119299638,2.8112677119299638,2.8112677119299638,2.8112677119299638,2.8112677119299638,2.8112677119299638]
[null,"BEEF","BEEF use",6.4908333333333337,6.4908333333333337,6.4908333333333337,7.16,7.48,3.75,6.4908333333333337,6.4908333333333337,10.17,6.4908333333333337,7.45,6.4908333333333337,6.4908333333333337,6.4908333333333337,6.4908333333333337,10.37,6.4908333333333337,4.3099999999999996,6.4908333333333337,6.99,5.9,11.04,3.15,6.4908333333333337,4.13,6.4908333333333337,7.03,6.4908333333333337,6.4908333333333337,6.4908333333333337,6.4908333333333337,6.4908333333333337]
[null,"BEER","BEER use",1.756153846153846,1.756153846153846,1.0900000000000001,1.72,3.19,1.54,1.756153846153846,1.756153846153846,1.756153846153846,1.756153846153846,1.63,1.756153846153846,1.756153846153846,1.756153846153846,1.756153846153846,1.81,1.756153846153846,1.35,1.756153846153846,2.67,1.65,1.756153846153846,1.27,1.756153846153846,1.61,1.32,1.98,1.756153846153846,1.756153846153846,1.756153846153846,1.756153846153846,1.756153846153846]
[null,"BISCUITS","BISCUITS use",5.1508462104488597,5.1508462104488597,5.1508462104488597,5.1508462104488597,5.1508462104488597,5.1508462104488597,5.1508462104488597,5.1508462104488597,5.1508462104488597,5.1508462104488597,5.1508462104488597,5.1508462104488597,5.1508462104488597,5.1508462104488597,5.1508462104488597,5.1508462104488597,5.1508462104488597,5.1508462104488597,5.1508462104488597,5.1508462104488597,5.1508462104488597,5.1508462104488597,5.1508462104488597,5.1508462104488597,5.1508462104488597,5.1508462104488597,5.1508462104488597,5.1508462104488597,5.1508462104488597,5.1508462104488597,5.1508462104488597,5.1508462104488597]
[null,"BREAD","BREAD use",1.8215384615384618,1.8215384615384618,0.69,1.59,2.0699999999999998,0.82,1.8215384615384618,1.8215384615384618,3.84,1.8215384615384618,1.8215384615384618,1.8215384615384618,1.8215384615384618,1.8215384615384618,1.8215384615384618,2.91,1.8215384615384618,1.6,1.8215384615384618,2.09,1.59,2.1800000000000002,1.05,1.8215384615384618,0.98,1.8215384615384618,1.66,2.79,1.8215384615384618,1.8215384615384618,1.8215384615384618,1.8215384615384618]
[null,"BUTTER","BUTTER use",7.569230769230769,7.569230769230769,8.7200000000000006,8.56,10.4,5.68,7.569230769230769,7.569230769230769,4.96,7.569230769230769,7.569230769230769,7.569230769230769,7.569230769230769,7.569230769230769,7.569230769230769,8.76,7.569230769230769,6.68,7.569230769230769,10.88,5.12,11.24,4.92,7.569230769230769,7.96,8.0399999999999991,7.72,7.569230769230769,7.569230769230769,7.569230769230769,7.569230769230769,7.569230769230769]
[null,"CHEESE","CHEESE use",8.3642307692307689,8.3642307692307689,8.3642307692307689,8.06,11.17,8.33,8.3642307692307689,8.3642307692307689,8.3642307692307689,8.3642307692307689,5.12,8.3642307692307689,8.3642307692307689,8.3642307692307689,8.3642307692307689,11.99,8.3642307692307689,8.93,8.3642307692307689,15.43,6.8550000000000004,17.64,6.7850000000000001,8.3642307692307689,7.71,8.7949999999999999,9.5599999999999987,8.3642307692307689,8.3642307692307689,8.3642307692307689,8.3642307692307689,8.3642307692307689]
[null,"CHOCOLATE","CHOCOLATE use",9.9692307692307693,9.9692307692307693,8.0299999999999994,10.61,14.51,9.9600000000000009,9.9692307692307693,9.9692307692307693,11.7,9.9692307692307693,9.9692307692307693,9.9692307692307693,9.9692307692307693,9.9692307692307693,9.9692307692307693,11.63,9.9692307692307693,8.9,9.9692307692307693,11.23,8.84,23.78,8.83,9.9692307692307693,8,9.91,7.45,9.9692307692307693,9.9692307692307693,9.9692307692307693,9.9692307692307693,9.9692307692307693]
[null,"COD","COD use",28,28,28,28,28,28,28,28,28,28,28,28,28,28,28,28,28,28,28,28,28,28,28,28,28,28,28,28,28,28,28,28]
[null,"COFFEE","COFFEE use",10.068461538461538,10.068461538461538,9.2799999999999994,10.57,9.41,11.43,10.068461538461538,10.068461538461538,7.78,10.068461538461538,10.068461538461538,10.068461538461538,10.068461538461538,10.068461538461538,10.068461538461538,11.57,10.068461538461538,12.03,10.068461538461538,10.068461538461538,10.39,13.54,9.86,10.068461538461538,10.78,11.13,9.52,7.14,10.068461538461538,10.068461538461538,10.068461538461538,10.068461538461538]
[null,"EGGS","EGGS use",2.8192307692307699,2.8192307692307699,2.2833333333333337,3.15,4.0833333333333339,1.9,2.8192307692307699,2.8192307692307699,2.8192307692307699,2.8192307692307699,2.8192307692307699,2.8192307692307699,2.8192307692307699,2.8192307692307699,2.8192307692307699,4.166666666666667,2.8192307692307699,2.0166666666666666,2.8192307692307699,2.9666666666666668,3.2666666666666666,6.8166666666666664,2.0166666666666666,2.8192307692307699,2.4166666666666665,2.9833333333333334,3,2.4,2.8192307692307699,2.8192307692307699,2.8192307692307699,2.8192307692307699]
[null,"MEAT BASED DISHES","MEAT BASED DISHES use",6.9999999999999991,6.9999999999999991,6.9999999999999991,6.9999999999999991,6.9999999999999991,6.9999999999999991,6.9999999999999991,6.9999999999999991,6.9999999999999991,6.9999999999999991,6.9999999999999991,6.9999999999999991,6.9999999999999991,6.9999999999999991,6.9999999999999991,6.9999999999999991,6.9999999999999991,6.9999999999999991,6.9999999999999991,6.9999999999999991,6.9999999999999991,6.9999999999999991,6.9999999999999991,6.9999999999999991,6.9999999999999991,6.9999999999999991,6.9999999999999991,6.9999999999999991,6.9999999999999991,6.9999999999999991,6.9999999999999991,6.9999999999999991]
[null,"MILK","MILK use",0.93846153846153868,0.93846153846153868,1.06,0.81,1.32,0.77,0.93846153846153868,0.93846153846153868,0.93846153846153868,0.93846153846153868,0.93846153846153868,0.93846153846153868,0.93846153846153868,0.93846153846153868,0.93846153846153868,1.43,0.93846153846153868,0.82,0.93846153846153868,0.83,0.93,1.87,0.63,0.93846153846153868,1.02,0.92,0.88,0.78,0.93846153846153868,0.93846153846153868,0.93846153846153868,0.93846153846153868]
[null,"MINERAL WATER","MINERAL WATER use",0.3481818181818182,0.3481818181818182,0.23,0.46,0.32,0.3481818181818182,0.3481818181818182,0.3481818181818182,0.3481818181818182,0.3481818181818182,0.3481818181818182,0.3481818181818182,0.3481818181818182,0.3481818181818182,0.3481818181818182,0.25,0.3481818181818182,0.38,0.3481818181818182,0.56000000000000005,0.44,1.34,0.28999999999999998,0.3481818181818182,0.27,0.36,0.27,0.3481818181818182,0.3481818181818182,0.3481818181818182,0.3481818181818182,0.3481818181818182]
[null,"OLIVE OIL","OLIVE OIL use",7.8038461538461528,7.8038461538461528,9.1300000000000008,8.16,5.4,10.48,7.8038461538461528,7.8038461538461528,7.8038461538461528,7.8038461538461528,7.8038461538461528,7.8038461538461528,7.8038461538461528,7.8038461538461528,7.8038461538461528,5.5,7.8038461538461528,8.1999999999999993,7.8038461538461528,7.45,5.96,11.09,9.0299999999999994,7.8038461538461528,8.16,10.79,9.56,3.63,7.8038461538461528,7.8038461538461528,7.8038461538461528,7.8038461538461528]
[null,"ORANGES","ORANGES use",1.96,1.96,1.96,1.96,1.96,1.96,1.96,1.96,1.96,1.96,1.96,1.96,1.96,1.96,1.96,1.96,1.96,1.96,1.96,1.96,1.96,1.96,1.96,1.96,1.96,1.96,1.96,1.96,1.96,1.96,1.96,1.96]
[null,"PASTA","PASTA use",1.9463636363636363,1.9463636363636363,2.0499999999999998,2.61,2.0699999999999998,1.28,1.9463636363636363,1.9463636363636363,1.9463636363636363,1.9463636363636363,1.9463636363636363,1.9463636363636363,1.9463636363636363,1.9463636363636363,1.9463636363636363,1.51,1.9463636363636363,2.2400000000000002,1.9463636363636363,1.64,1.98,5.07,1.9463636363636363,1.9463636363636363,1.82,2.4300000000000002,1.78,1.9463636363636363,1.9463636363636363,1.9463636363636363,1.9463636363636363,1.9463636363636363]
[null,"PORK","PORK use",5.3909090909090907,5.3909090909090907,3.78,5.07,5.61,5.3909090909090907,5.3909090909090907,5.3909090909090907,5.3909090909090907,5.3909090909090907,5.3909090909090907,5.3909090909090907,5.3909090909090907,5.3909090909090907,5.3909090909090907,8.6300000000000008,5.3909090909090907,3.61,5.3909090909090907,5.52,9.19,15.41,2.89,5.3909090909090907,4.62,4.32,6.06,5.3909090909090907,5.3909090909090907,5.3909090909090907,5.3909090909090907,5.3909090909090907]
[null,"POTATOES","POTATOES use",0.62642857142857145,0.62642857142857145,0.46,0.62,0.71,0.49,0.62642857142857145,0.62642857142857145,0.88,0.62642857142857145,0.62642857142857145,0.62642857142857145,0.62642857142857145,0.62642857142857145,0.62642857142857145,1.04,0.62642857142857145,0.36,0.62642857142857145,0.64,1.0900000000000001,2.3199999999999998,0.26,0.62642857142857145,0.35,0.51,0.54,0.82,0.62642857142857145,0.62642857142857145,0.62642857142857145,0.62642857142857145]
[null,"POULTRY","POULTRY use",7.1276923076923078,7.1276923076923078,5.12,7.35,9.0299999999999994,5.51,7.1276923076923078,7.1276923076923078,13.26,7.1276923076923078,7.1276923076923078,7.1276923076923078,7.1276923076923078,7.1276923076923078,7.1276923076923078,9.66,7.1276923076923078,4.6900000000000004,7.1276923076923078,7.26,9.0500000000000007,13.81,3.67,7.1276923076923078,4.63,5.51,7.92,7.1276923076923078,7.1276923076923078,7.1276923076923078,7.1276923076923078,7.1276923076923078]
[null,"RICE","RICE use",1.9746153846153842,1.9746153846153842,1.9746153846153842,3.02,2.2599999999999998,1.32,1.9746153846153842,1.9746153846153842,2.41,1.9746153846153842,1.9746153846153842,1.9746153846153842,1.9746153846153842,1.9746153846153842,1.9746153846153842,2.59,1.9746153846153842,1.02,1.9746153846153842,2.88,2.31,3.73,1.65,1.9746153846153842,1.29,1.49,2.14,1.29,1.9746153846153842,1.9746153846153842,1.9746153846153842,1.9746153846153842]
[null,"SALMON","SALMON use",13.43125,13.43125,13.43125,13.43125,17.72,15.76,13.43125,13.43125,13.43125,13.43125,13.43125,13.43125,13.43125,13.43125,13.43125,13.64,13.43125,11.31,13.43125,12.28,13.43125,13.43125,10.51,13.43125,10.56,13.43125,15.67,13.43125,13.43125,13.43125,13.43125,13.43125]
[null,"SHRIMP","SHRIMP use",13.1,13.1,13.1,13.1,13.1,13.1,13.1,13.1,13.1,13.1,13.1,13.1,13.1,13.1,13.1,13.1,13.1,13.1,13.1,13.1,13.1,13.1,13.1,13.1,13.1,13.1,13.1,13.1,13.1,13.1,13.1,13.1]
[null,"SUGAR","SUGAR use",0.81733333333333347,0.81733333333333347,0.72,0.69,0.82,0.65,0.81733333333333347,0.81733333333333347,0.93,0.81733333333333347,0.78,0.81733333333333347,0.81733333333333347,0.81733333333333347,0.81733333333333347,1.03,0.81733333333333347,0.79,0.81733333333333347,1.06,0.98,2.15,0.53,0.81733333333333347,0.66,0.74,0.97,0.91,0.81733333333333347,0.81733333333333347,0.81733333333333347,0.81733333333333347]
[null,"SUNFLOWER OIL","SUNFLOWER OIL use",1.7084615384615383,1.7084615384615383,1.28,1.29,2.08,1.43,1.7084615384615383,1.7084615384615383,3.61,1.7084615384615383,1.7084615384615383,1.7084615384615383,1.7084615384615383,1.7084615384615383,1.7084615384615383,1.88,1.7084615384615383,1.35,1.7084615384615383,1.59,1.3,2.96,1.41,1.7084615384615383,1.28,1.7,2.0099999999999998,1.7084615384615383,1.7084615384615383,1.7084615384615383,1.7084615384615383,1.7084615384615383]
[null,"TEA","TEA use",15.150545454545449,15.150545454545449,17.535999999999998,15.150545454545449,20.863999999999997,14.080000000000002,15.150545454545449,15.150545454545449,15.150545454545449,15.150545454545449,15.150545454545449,15.150545454545449,15.150545454545449,15.150545454545449,15.150545454545449,19.071999999999999,15.150545454545449,17.280000000000005,15.150545454545449,10.24,14.591999999999999,40.832000000000001,17.663999999999998,15.150545454545449,15.150545454545449,14.591999999999999,20.736000000000004,15.150545454545449,15.150545454545449,15.150545454545449,15.150545454545449,15.150545454545449]
[null,"TOFU","TOFU use",8,8,8,8,8,8,8,8,8,8,8,8,8,8,8,8,8,8,8,8,8,8,8,8,8,8,8,8,8,8,8,8]
[null,"TOMATOES","TOMATOES use",1.7607692307692309,1.7607692307692309,1.04,1.88,1.32,1.58,1.7607692307692309,1.7607692307692309,2.19,1.7607692307692309,1.7607692307692309,1.7607692307692309,1.7607692307692309,1.7607692307692309,1.7607692307692309,2.93,1.7607692307692309,1.49,1.7607692307692309,1.89,2.12,3.6,1.43,1.7607692307692309,1.2,1.88,1.94,1.7607692307692309,1.7607692307692309,1.7607692307692309,1.7607692307692309,1.7607692307692309]
[null,"WINE","WINE use",3.8249999999999997,3.8249999999999997,1.6333333333333335,3.5199999999999996,6.5466666666666669,4.6399999999999997,3.8249999999999997,3.8249999999999997,3.8249999999999997,3.8249999999999997,3.8249999999999997,3.8249999999999997,3.8249999999999997,3.8249999999999997,3.8249999999999997,2.1733333333333333,3.8249999999999997,6.34,3.8249999999999997,3.0133333333333332,4.4066666666666663,23.3,5.9799999999999995,3.8249999999999997,3.4533333333333331,2.6799999999999997,1.5133333333333334,3.8249999999999997,3.8249999999999997,3.8249999999999997,3.8249999999999997,3.8249999999999997]
["agriculture","cereal products","cereal products use",{"$f":"AVERAGE(D12,D13,D25,D29)","v":0.32063333333333338},{"$f":"AVERAGE(E12,E13,E25,E29)","v":0.32063333333333338},0.3357,0.32063333333333338,0.32063333333333338,0.32063333333333338,0.32063333333333338,0.32063333333333338,0.32063333333333338,0.32063333333333338,0.32063333333333338,0.2293,0.24299999999999999,0.32063333333333338,0.32063333333333338,0.56459999999999999,0.32063333333333338,0.32063333333333338,0.32063333333333338,0.32063333333333338,0.32063333333333338,0.32063333333333338,0.32063333333333338,0.27440000000000003,0.32063333333333338,0.32063333333333338,0.32063333333333338,0.27679999999999999,0.32063333333333338,0.32063333333333338,0.32063333333333338,0.32063333333333338]
[null,"dairy","dairy use",{"$f":"AVERAGE(D14,D15,D21)","v":3.3930182433333336},{"$f":"AVERAGE(E14,E15,E21)","v":3.1103824357313212},3.2692787346202103,2.8263458730158733,3.35382873462021,3.047110722222222,3.2901787346202105,2.9176879444444448,3.2929870679535433,3.2822120679535431,3.1162108333333336,3.2968426235090988,3.2691370679535439,3.2837467901757655,3.1439494232804237,3.1890663246202102,3.0654923611111111,3.0059546322222221,3.2856287346202104,3.327839845731321,3.3338746579535434,3.2837467901757655,2.8074559595959596,3.2664870679535434,3.2648454012868768,3.5498780808080812,3.2686148457313213,4.9903030555555556,3.2940231790646544,3.2837467901757655,3.3376346510942767,3.2837467901757655]
[null,"fish and seafood","fish and seafood use",{"$f":"AVERAGE(D17,D30,D31)","v":6.2384627083333326},{"$f":"AVERAGE(E17,E30,E31)","v":6.2384627083333326},5.2736733333333339,13.025226666666669,3.9960299999999997,6.2384627083333326,6.3623827083333326,5.2736733333333339,5.9787260416666657,3.9964033333333333,3.713226666666666,5.5759327083333332,6.2384627083333326,6.2384627083333326,4.6223900000000002,17.705493333333333,6.1655199999999999,10.976529999999999,6.2384627083333326,6.2384627083333326,5.0594000000000001,6.2384627083333326,5.9184093749999995,11.289573333333331,6.2384627083333326,6.2384627083333326,7.8815300000000006,6.467579999999999,2.6248166666666664,6.2384627083333326,7.0216833333333328,6.2384627083333326]
[null,"fruit","fruit use",{"$f":"AVERAGE(D7,D8,D24)","v":0.51948599185107469},{"$f":"AVERAGE(E7,E8,E24)","v":0.52075265851774144},0.46908599185107475,0.48875265851774136,0.62368599185107476,0.5047193251844081,0.53505265851774142,0.56711799185107481,0.93501932518440789,0.56711799185107481,0.52828599185107472,0.54845032518440806,0.47535265851774139,0.56711799185107481,0.56711799185107481,0.6337516585177414,0.50051932518440811,0.52291932518440809,0.84935265851774133,0.53878599185107479,0.55005265851774143,0.56711799185107481,0.45131932518440809,0.55765032518440805,0.58955265851774141,0.50045265851774146,0.54305265851774143,0.48365832518440816,0.61331932518440813,0.56711799185107481,0.69491932518440824,0.56711799185107481]
[null,"meat","meat use",{"$f":"AVERAGE(D10,D26,D28)","v":2.3376994444444446},{"$f":"AVERAGE(E10,E26,E28)","v":2.0330036759259258},1.7185014722222223,2.2169944537037036,2.5549552407407403,2.1047423981481486,2.4808765370370369,2.0492399682539681,2.4944097222222221,2.4983608611111112,2.6415739907407407,2.4927342962962964,1.7911125555555554,2.3152909907407406,2.0728496296296299,2.438680138888889,1.8127558240740742,1.932836422558923,2.3532759166666666,2.3695205833333337,2.040879537037037,2.3152909907407406,1.9778691388888892,2.1442670462962963,1.891924787037037,1.966365312962963,2.2422341574074078,2.1863337777777776,2.9155127037037034,2.3152909907407406,2.3658045648148147,2.3152909907407406]
[null,"vegetables","vegetables use",{"$f":"AVERAGE(D27,D36)","v":0.6128522083333332},{"$f":"AVERAGE(E27,E36)","v":0.57347358333333331},0.53782645454545464,0.44844110000000004,0.69810220833333325,0.5635729285714286,0.64650220833333327,0.63108682371794866,0.60730220833333326,0.77375000000000005,0.58280220833333329,0.59293362500000002,0.41334800000000005,0.63108682371794866,0.63108682371794866,1.0029442916666667,0.58670220833333331,0.57620220833333324,0.67460220833333329,0.68215220833333323,0.42427577777777775,0.63108682371794866,0.36198535714285712,0.38835554166666669,0.4375878333333334,0.64220220833333319,0.58415220833333326,0.48851525000000007,0.65470220833333326,0.63108682371794866,0.61660220833333323,0.63108682371794866]
["manufacturing","cereal products",null,{"$f":"AVERAGE(D45,D46,D58,D62)","v":0.32063333333333338},{"$f":"AVERAGE(E45,E46,E58,E62)","v":0.32063333333333338},0.3357,0.32063333333333338,0.32063333333333338,0.32063333333333338,0.32063333333333338,0.32063333333333338,0.32063333333333338,0.32063333333333338,0.32063333333333338,0.2293,0.24299999999999999,0.32063333333333338,0.32063333333333338,0.56459999999999999,0.32063333333333338,0.32063333333333338,0.32063333333333338,0.32063333333333338,0.32063333333333338,0.32063333333333338,0.32063333333333338,0.27440000000000003,0.32063333333333338,0.32063333333333338,0.32063333333333338,0.27679999999999999,0.32063333333333338,0.32063333333333338,0.32063333333333338,0.32063333333333338]
[null,"dairy",null,{"$f":"AVERAGE(D47,D48,D54)","v":3.3930182433333336},{"$f":"AVERAGE(E47,E48,E54)","v":3.1103824357313212},3.2692787346202103,2.8263458730158733,3.35382873462021,3.047110722222222,3.2901787346202105,2.9176879444444448,3.2929870679535433,3.2822120679535431,3.1162108333333336,3.2968426235090988,3.2691370679535439,3.2837467901757655,3.1439494232804237,3.1890663246202102,3.0654923611111111,3.0059546322222221,3.2856287346202104,3.327839845731321,3.3338746579535434,3.2837467901757655,2.8074559595959596,3.2664870679535434,3.2648454012868768,3.5498780808080812,3.2686148457313213,4.9903030555555556,3.2940231790646544,3.2837467901757655,3.3376346510942767,3.2837467901757655]
[null,"fish and seafood",null,{"$f":"AVERAGE(D50,D63,D64)","v":6.2384627083333326},{"$f":"AVERAGE(E50,E63,E64)","v":6.2384627083333326},5.2736733333333339,13.025226666666669,3.9960299999999997,6.2384627083333326,6.3623827083333326,5.2736733333333339,5.9787260416666657,3.9964033333333333,3.713226666666666,5.5759327083333332,6.2384627083333326,6.2384627083333326,4.6223900000000002,17.705493333333333,6.1655199999999999,10.976529999999999,6.2384627083333326,6.2384627083333326,5.0594000000000001,6.2384627083333326,5.9184093749999995,11.289573333333331,6.2384627083333326,6.2384627083333326,7.8815300000000006,6.467579999999999,2.6248166666666664,6.2384627083333326,7.0216833333333328,6.2384627083333326]
[null,"fruit",null,{"$f":"AVERAGE(D40,D41,D57)","v":0.51948599185107469},{"$f":"AVERAGE(E40,E41,E57)","v":0.52075265851774144},0.46908599185107475,0.48875265851774136,0.62368599185107476,0.5047193251844081,0.53505265851774142,0.56711799185107481,0.93501932518440789,0.56711799185107481,0.52828599185107472,0.54845032518440806,0.47535265851774139,0.56711799185107481,0.56711799185107481,0.6337516585177414,0.50051932518440811,0.52291932518440809,0.84935265851774133,0.53878599185107479,0.55005265851774143,0.56711799185107481,0.45131932518440809,0.55765032518440805,0.58955265851774141,0.50045265851774146,0.54305265851774143,0.48365832518440816,0.61331932518440813,0.56711799185107481,0.69491932518440824,0.56711799185107481]
[null,"meat",null,{"$f":"AVERAGE(D43,D59,D61)","v":2.3376994444444446},{"$f":"AVERAGE(E43,E59,E61)","v":2.0330036759259258},1.7185014722222223,2.2169944537037036,2.5549552407407403,2.1047423981481486,2.4808765370370369,2.0492399682539681,2.4944097222222221,2.4983608611111112,2.6415739907407407,2.4927342962962964,1.7911125555555554,2.3152909907407406,2.0728496296296299,2.438680138888889,1.8127558240740742,1.932836422558923,2.3532759166666666,2.3695205833333337,2.040879537037037,2.3152909907407406,1.9778691388888892,2.1442670462962963,1.891924787037037,1.966365312962963,2.2422341574074078,2.1863337777777776,2.9155127037037034,2.3152909907407406,2.3658045648148147,2.3152909907407406]
[null,"vegetables",null,{"$f":"AVERAGE(D60,D69)","v":0.6128522083333332},{"$f":"AVERAGE(E60,E69)","v":0.57347358333333331},0.53782645454545464,0.44844110000000004,0.69810220833333325,0.5635729285714286,0.64650220833333327,0.63108682371794866,0.60730220833333326,0.77375000000000005,0.58280220833333329,0.59293362500000002,0.41334800000000005,0.63108682371794866,0.63108682371794866,1.0029442916666667,0.58670220833333331,0.57620220833333324,0.67460220833333329,0.68215220833333323,0.42427577777777775,0.63108682371794866,0.36198535714285712,0.38835554166666669,0.4375878333333334,0.64220220833333319,0.58415220833333326,0.48851525000000007,0.65470220833333326,0.63108682371794866,0.61660220833333323,0.63108682371794866]
["retail","cereal products",null,{"$f":"AVERAGE(D78,D79,D91,D95)","v":2.1191867817183514},{"$f":"AVERAGE(E78,E79,E91,E95)","v":1.4531619854991269},0.88449877647110275,1.3715824203398874,1.4645692492081153,1.0988282617926264,2.0531611519121049,1.484131293454497,1.9751923769731778,2.0814533623160578,1.6849398956110349,1.4484824602075101,0.72278731647351913,1.4645692492081153,1.4335375700833319,1.7979485607633807,1.1289040522446427,1.1380667648266289,1.4645692492081153,1.4645692492081153,1.3668590205866267,1.640961340860229,1.2247743433876863,1.6791703384666772,0.90578138124670005,1.1379678361486596,1.7785083210177153,1.1629625506175925,1.5708392489233469,1.4645692492081153,1.7351130674687814,1.4645692492081153]
[null,"dairy",null,{"$f":"AVERAGE(D80,D81,D87)","v":2.3987602508835488},{"$f":"AVERAGE(E80,E81,E87)","v":2.7139175443559833},2.6083269488038212,3.2075947584610014,2.7833508776893168,2.3687171243696628,3.1162951847668938,2.5553670282905014,3.4330447995305868,2.6306200117167728,2.3419499211040127,3.6901111387105257,2.2827118822219492,2.7132689332448723,1.9899262651229879,2.8921040663553828,2.4411078706810811,2.1088826894025936,2.7151508776893167,2.7573619888004277,2.8623161018391836,2.7132689332448723,2.5048701342849968,2.9155109274900126,3.0645471290191626,2.6913838446421807,2.9560265176883909,2.4197547746707819,2.7235453221337611,2.7132689332448723,2.8021582410406793,2.7132689332448723]
[null,"fish and seafood",null,{"$f":"AVERAGE(D83,D96,D97)","v":10.600688092645598},{"$f":"AVERAGE(E83,E96,E97)","v":10.600688092645598},9.3852068981192414,14.980175822959287,10.600688092645598,10.080672624223562,11.472602560709328,11.764470573900907,10.528820051841455,14.223457559517314,9.0442969905274939,9.454432815110879,10.933633725458906,13.847852173613525,9.8399700658035485,11.552128404196006,10.600688092645598,7.0353446484110655,10.600688092645598,10.600688092645598,9.5456309950863112,7.205780428943787,9.2886887433064445,8.7074731114148936,10.600688092645598,10.600688092645598,10.600688092645598,9.5810184536988849,13.235505330975451,10.600688092645598,10.907287967739258,10.600688092645598]
[null,"fruit",null,{"$f":"AVERAGE(D73,D74,D90)","v":0.51948599185107469},{"$f":"AVERAGE(E73,E74,E90)","v":0.52075265851774133},0.46908599185107464,0.48875265851774136,0.62368599185107465,0.50471932518440799,0.53505265851774131,0.56711799185107481,0.93501932518440789,0.56711799185107481,0.52828599185107461,0.54845032518440795,0.47535265851774139,0.56711799185107481,0.56711799185107481,0.6337516585177414,0.500519325184408,0.52291932518440798,0.84935265851774133,0.53878599185107467,0.55005265851774132,0.56711799185107481,0.45131932518440804,0.55765032518440805,0.5895526585177413,0.50045265851774134,0.54305265851774132,0.48365832518440799,0.6133193251844079,0.56711799185107481,0.69491932518440791,0.56711799185107481]
[null,"meat",null,{"$f":"AVERAGE(D76,D92,D94)","v":3.3790314264040116},{"$f":"AVERAGE(E76,E92,E94)","v":2.9765604449448904},2.2598747415907825,3.1213381300741827,3.1128844059441168,2.6344677155225065,2.8841175515030848,2.3173817532732048,4.2834042410309658,4.2971767337988371,2.6351629198680628,3.1550503857082179,2.1903447444368114,5.1140532896999238,3.3662193348159053,2.5127982331214489,2.5560085732896343,2.4777113319021162,3.1128844059441168,3.1128844059441168,1.6032929541523913,5.5726429764145564,2.2086242122022957,3.5100116952091458,2.2924227975569385,2.7471528363636444,2.788272993465585,2.8803688743415776,4.2685999713114109,3.1128844059441168,4.0157880984890157,3.1128844059441168]
[null,"vegetables",null,{"$f":"AVERAGE(D93,D102)","v":0.6128522083333332},{"$f":"AVERAGE(E93,E102)","v":0.57347358333333331},0.53782645454545464,0.44844110000000004,0.69810220833333325,0.5635729285714286,0.64650220833333327,0.63108682371794866,0.60730220833333326,0.77375000000000005,0.58280220833333329,0.59293362500000002,0.41334800000000005,0.63108682371794866,0.63108682371794866,1.0029442916666667,0.58670220833333331,0.57620220833333324,0.67460220833333329,0.68215220833333323,0.42427577777777775,0.63108682371794866,0.36198535714285712,0.38835554166666669,0.4375878333333334,0.64220220833333319,0.58415220833333326,0.48851525000000007,0.65470220833333326,0.63108682371794866,0.61660220833333323,0.63108682371794866]
["use","cereal products",null,{"$f":"AVERAGE(D111,D112,D124,D128)","v":2.7233409232415857},{"$f":"AVERAGE(E111,E112,E124,E128)","v":2.7233409232415857},2.4663653987660608,3.0927115526122146,2.887711552612215,2.1427115526122149,2.7233409232415857,2.7233409232415857,3.3368024617031242,2.7233409232415857,2.7233409232415857,2.7233409232415857,2.7233409232415857,2.7233409232415857,2.7233409232415857,3.0402115526122149,2.7233409232415857,2.5027115526122148,2.7233409232415857,2.9402115526122152,2.7577115526122151,4.0327115526122146,2.449302461703124,2.7233409232415857,2.3102115526122153,2.7230961679968306,2.6827115526122149,2.7943024617031238,2.7233409232415857,2.7233409232415857,2.7233409232415857,2.7233409232415857]
[null,"dairy",null,{"$f":"AVERAGE(D113,D114,D120)","v":5.6239743589743583},{"$f":"AVERAGE(E113,E114,E120)","v":5.6239743589743583},6.0480769230769234,5.81,7.63,4.9266666666666667,5.6239743589743583,5.6239743589743583,4.7542307692307695,5.6239743589743583,4.5425641025641026,5.6239743589743583,5.6239743589743583,5.6239743589743583,5.6239743589743583,7.3933333333333335,5.6239743589743583,5.4766666666666666,5.6239743589743583,9.0466666666666669,4.3016666666666667,10.250000000000002,4.1116666666666672,5.6239743589743583,5.5633333333333335,5.9183333333333339,6.0533333333333319,5.5711538461538455,5.6239743589743583,5.6239743589743583,5.6239743589743583,5.6239743589743583]
[null,"fish and seafood",null,{"$f":"AVERAGE(D116,D129,D130)","v":18.177083333333332},{"$f":"AVERAGE(E116,E129,E130)","v":18.177083333333332},18.177083333333332,18.177083333333332,19.606666666666666,18.953333333333333,18.177083333333332,18.177083333333332,18.177083333333332,18.177083333333332,18.177083333333332,18.177083333333332,18.177083333333332,18.177083333333332,18.177083333333332,18.246666666666666,18.177083333333332,17.470000000000002,18.177083333333332,17.793333333333333,18.177083333333332,18.177083333333332,17.203333333333333,18.177083333333332,17.220000000000002,18.177083333333332,18.923333333333336,18.177083333333332,18.177083333333332,18.177083333333332,18.177083333333332,18.177083333333332]
[null,"fruit",null,{"$f":"AVERAGE(D106,D107,D123)","v":1.575042735042735},{"$f":"AVERAGE(E106,E107,E123)","v":1.575042735042735},1.4233333333333331,1.4866666666666666,1.6566666666666665,1.4100000000000001,1.575042735042735,1.575042735042735,1.9166666666666667,1.575042735042735,1.766153846153846,1.575042735042735,1.575042735042735,1.575042735042735,1.575042735042735,1.8533333333333335,1.575042735042735,1.5200000000000002,1.575042735042735,1.74,1.5833333333333333,2.4766666666666666,1.26,1.575042735042735,1.3266666666666667,1.47,1.4799999999999998,1.7328205128205127,1.575042735042735,1.575042735042735,1.575042735042735,1.575042735042735]
[null,"meat",null,{"$f":"AVERAGE(D109,D125,D127)","v":6.3364782439782443},{"$f":"AVERAGE(E109,E125,E127)","v":6.3364782439782443},5.1302777777777777,6.5266666666666664,7.3733333333333322,4.8836363636363638,6.3364782439782443,6.3364782439782443,9.6069696969696974,6.3364782439782443,6.6562004662004659,6.3364782439782443,6.3364782439782443,6.3364782439782443,6.3364782439782443,9.5533333333333328,6.3364782439782443,4.2033333333333331,6.3364782439782443,6.59,8.0466666666666669,13.42,3.2366666666666668,6.3364782439782443,4.46,5.4402777777777773,7.003333333333333,6.3364782439782443,6.3364782439782443,6.3364782439782443,6.3364782439782443,6.3364782439782443]
[null,"vegetables",null,{"$f":"AVERAGE(D126,D135)","v":1.1935989010989012},{"$f":"AVERAGE(E126,E135)","v":1.1935989010989012},0.75,1.25,1.0150000000000001,1.0350000000000001,1.1935989010989012,1.1935989010989012,1.5349999999999999,1.1935989010989012,1.1935989010989012,1.1935989010989012,1.1935989010989012,1.1935989010989012,1.1935989010989012,1.9850000000000001,1.1935989010989012,0.92500000000000004,1.1935989010989012,1.2649999999999999,1.605,2.96,0.84499999999999997,1.1935989010989012,0.77499999999999991,1.1949999999999998,1.24,1.2903846153846155,1.1935989010989012,1.1935989010989012,1.1935989010989012,1.1935989010989012]

{"sheet":"Action impacts","index":6,"n_rows":38,"n_cols":18,"rows_kept":38,"cut":false,"hidden":true,"merged":[]}
[]
["Action impact"]
[]
[null,"IPCC GWP 100a","Ozone depletion","Human toxicity, non-cancer effects","Human toxicity, cancer effects","Particulate matter","Ionizing radiation HH","Photochemical ozone formation","Acidification","Terrestrial eutrophication","Freshwater eutrophication","Marine eutrophication","Freshwater ecotoxicity","Land use","Water scarcity","ADP Fossil","ADP (ultimate)"]
["Action type","kg CO2 eq","kg CFC11 eq","CTUh","CTUh","Death","kBq U235 eq","kg NMVOC eq","molc H+ eq","molc N eq","kg P eq","kg N eq","CTUe","Pt","m3 water eq","MJ","kg Sb eq"]
["Food redistribution/donations"]
["Gleaning"]
["Production of animal feed"]
["Increasing supply chain efficiency"]
["Changes to packaging and labels"]
["Awareness/Educational campaign/Training"]
["Fiscal incentives/policies/voluntary agreement"]
["Improving logistics in public procurement"]
[]
[]
[]
[]
[]
[]
[null,"IPCC GWP 100a","Ozone depletion","Human toxicity, non-cancer effects","Human toxicity, cancer effects","Particulate matter","Ionizing radiation HH","Photochemical ozone formation","Acidification","Terrestrial eutrophication","Freshwater eutrophication","Marine eutrophication","Freshwater ecotoxicity","Land use","Water scarcity","ADP Fossil","ADP (ultimate)","Single point"]
[null,"kg CO2 eq","kg CFC11 eq","CTUh","CTUh","Death","kBq U235 eq","kg NMVOC eq","molc H+ eq","molc N eq","kg P eq","kg N eq","CTUe","Pt","m3 water eq","MJ","kg Sb eq","Pt"]
["Action impact (per 1 unit of paper)",0.13107338792311415,8.8002685291588005E-9,2.1216751951346551E-8,1.5705657568319551E-9,9.4614350522354738E-9,7.1082380676619206E-3,3.8459597376437415E-4,8.3611550731859004E-4,1.3107126218605365E-3,7.7933900922668381E-6,1.255807332297912E-4,0.14666724365572328,11.05109007011856,6.9826476841277602E-2,2.1680925782797389,2.7146588503804113E-7,{"$f":"(B22/$B$37)*$B$38+(C22/$C$37)*$C$38+(D22/$D$37)*$D$38+(E22/$E$37)*$E$38+(F22/$F$37)*$F$38+(G22/$G$37)*$G$38+(H22/$H$37)*$H$38+(I22/$I$37)*$I$38+(J22/$J$37)*$J$38+(K22/$K$37)*$K$38+(L22/$L$37)*$L$38+(M22/$M$37)*$M$38+(N22/$N$37)*$N$38+(O22/$O$37)*$O$38+(P22/$P$37)*$P$38+(Q22/$Q$37)*$Q$38","v":2.2280828682012757E-13}]
["Action impact (per 1 km transport)",0.38977422626160302,7.7332224392660399E-8,2.55955226187366E-8,7.3139630340643208E-9,2.5329473358091E-8,2.298181986891E-2,1.39331082503293E-3,1.7138539926344E-3,4.2612589275536098E-3,2.0109392018173701E-5,3.8567927907105797E-4,0.93728603419089496,3.5841949851267301,8.0193680796255898E-2,5.8458007164647103,5.3632561783241096E-6,{"$f":"(B23/$B$37)*$B$38+(C23/$C$37)*$C$38+(D23/$D$37)*$D$38+(E23/$E$37)*$E$38+(F23/$F$37)*$F$38+(G23/$G$37)*$G$38+(H23/$H$37)*$H$38+(I23/$I$37)*$I$38+(J23/$J$37)*$J$38+(K23/$K$37)*$K$38+(L23/$L$37)*$L$38+(M23/$M$37)*$M$38+(N23/$N$37)*$N$38+(O23/$O$37)*$O$38+(P23/$P$37)*$P$38+(Q23/$Q$37)*$Q$38","v":7.0980997011953015E-13}]
["Action impact (per 1 kWh electricity)",4.6538640704262779E-2,8.4768002469135844E-9,1.0724378357826082E-9,2.9458209859675557E-11,3.9428922685185272E-9,1.3398553062104277E-2,1.0635942417967721E-4,3.9209280639388886E-4,3.485813082173222E-4,2.373858101851853E-8,3.2024924318773611E-5,2.6744669621054252E-3,0,5.1039458152919168E-3,0.85690705246913612,1.0846563628037694E-9,1.2409740408168205E-13]
["Total Action impact",{"$f":"B22*$B$29+B23*$B$31+B24*$B$33","v":325.96050105391566},{"$f":"C22*$B$29+C23*$B$31+C24*$B$33","v":4.7466380725489E-5},3.401451326071485E-5,5.2275472738641153E-6,2.2126171731280974E-5,18.59914800211692,1.0812513862808393,1.6930425036357901,3.4413420856373413,1.7848086101353688E-2,0.3184203727653202,615.31026075117074,12843.187562681926,109.92331723940555,5090.9929365120943,2.953093974200096E-3,5.7771327187989259E-10]
[]
[]
[]
["Paper used (leaflets, letters)",{"$f":"Calculator!D37","v":1000}]
[]
["Transport distances",{"$f":"Calculator!D39","v":500}]
[]
["Electricity use",{"$f":"Calculator!D41","v":0}]
[]
[]
[null,"IPCC GWP 100a","Ozone depletion","Human toxicity, non-cancer effects","Human toxicity, cancer effects","Particulate matter","Ionizing radiation HH","Photochemical ozone formation","Acidification","Terrestrial eutrophication","Freshwater eutrophication","Marine eutrophication","Freshwater ecotoxicity","Land use","Water scarcity","ADP Fossil","ADP (ultimate)"]
["Normalisation factors",{"$f":"VLOOKUP(B36,normalisation,4,FALSE)","v":55466520067618.766},333481860.98390257,3274782.60869565,265544.36450839299,4105966.4840226704,954100900865.26355,280000000000,383000000000,1220000000000,11128073945.012051,134781402818.69528,81469333333333.297,1.5402325687916336E+16,79086941966456.641,448262160340312.94,438856295.72083163]
["Weighting",{"$f":"VLOOKUP(B36,normalisation,6,FALSE)","v":21.06},6.31,1.84,2.13,8.9600000000000009,5.01,4.78,6.2,3.71,2.8,2.96,1.92,7.94,8.51,8.32,7.55]

{"sheet":"Calculation_use","index":7,"n_rows":326,"n_cols":20,"rows_kept":326,"cut":false,"hidden":true,"merged":[]}
[null,null,"Amount","Foodwaste","IPCC GWP 100a","Ozone depletion","Human toxicity, non-cancer effects","Human toxicity, cancer effects","Particulate matter","Ionizing radiation HH","Photochemical ozone formation","Acidification","Terrestrial eutrophication","Freshwater eutrophication","Marine eutrophication","Freshwater ecotoxicity","Land use","Water scarcity","ADP Fossil","ADP (ultimate)"]
[null,null,"kg","%","kg CO2 eq","kg CFC11 eq","CTUh","CTUh","Death","kBq U235 eq","kg NMVOC eq","molc H+ eq","molc N eq","kg P eq","kg N eq","CTUe","Pt","m3 water eq","MJ","kg Sb eq"]
["Meat","PORK"]
[null,"agriculture ",{"$f":"C5/(1-D4)","v":1.232012615809186},{"$f":"Calculation_original!D4","v":0},{"$f":"$C$4*'Emissions per kg'!C4","v":7.5275970825941263},{"$f":"$C$4*'Emissions per kg'!D4","v":4.2134831460674163E-8},{"$f":"$C$4*'Emissions per kg'!E4","v":2.722747880938301E-6},{"$f":"$C$4*'Emissions per kg'!F4","v":8.6117681845062098E-8},{"$f":"$C$4*'Emissions per kg'!G4","v":1.1174354425389316E-6},{"$f":"$C$4*'Emissions per kg'!H4","v":6.8253498915828895E-2},{"$f":"$C$4*'Emissions per kg'!I4","v":9.3016952493593548E-3},{"$f":"$C$4*'Emissions per kg'!J4","v":0.15523358959195743},{"$f":"$C$4*'Emissions per kg'!K4","v":0.68869505223733507},{"$f":"$C$4*'Emissions per kg'!L4","v":1.6385767790262173E-3},{"$f":"$C$4*'Emissions per kg'!M4","v":4.8294894539720086E-2},{"$f":"$C$4*'Emissions per kg'!N4","v":20.697811945594324},{"$f":"$C$4*'Emissions per kg'!O4","v":968.36191602602014},{"$f":"$C$4*'Emissions per kg'!P4","v":1.490735265129115},{"$f":"$C$4*'Emissions per kg'!Q4","v":25.749063670411985},{"$f":"$C$4*'Emissions per kg'!R4","v":2.2299428346146266E-7}]
[null,"processsing",{"$f":"(C6/(1-D5))/(1-D6)","v":1.232012615809186},{"$f":"Calculation_original!D5","v":0.05},{"$f":"$C$5*'Emissions per kg'!C5","v":0.40040410013798544},{"$f":"$C$5*'Emissions per kg'!D5","v":9.9177015572639473E-7},{"$f":"$C$5*'Emissions per kg'!E5","v":1.2110684013404297E-8},{"$f":"$C$5*'Emissions per kg'!F5","v":8.5132071752414753E-10},{"$f":"$C$5*'Emissions per kg'!G5","v":1.0706189631381827E-8},{"$f":"$C$5*'Emissions per kg'!H5","v":1.7001774098166767E-2},{"$f":"$C$5*'Emissions per kg'!I5","v":8.574807806031934E-4},{"$f":"$C$5*'Emissions per kg'!J5","v":1.2566528681253698E-3},{"$f":"$C$5*'Emissions per kg'!K5","v":4.9034102109205601E-3},{"$f":"$C$5*'Emissions per kg'!L5","v":1.8480189237137791E-6},{"$f":"$C$5*'Emissions per kg'!M5","v":3.2771535580524347E-4},{"$f":"$C$5*'Emissions per kg'!N5","v":0.16878572836585848},{"$f":"$C$5*'Emissions per kg'!O5","v":1.3428937512320127},{"$f":"$C$5*'Emissions per kg'!P5","v":0.24517051054602801},{"$f":"$C$5*'Emissions per kg'!Q5","v":3.9424403705893951},{"$f":"$C$5*'Emissions per kg'!R5","v":1.4414547604967475E-7}]
[null,"packaging",{"$f":"C7","v":1.1704119850187267},{"$f":"Calculation_original!D6","v":0},{"$f":"$C$6*'Emissions per kg'!C6","v":5.957397003745319E-2},{"$f":"$C$6*'Emissions per kg'!D6","v":1.8609550561797756E-9},{"$f":"$C$6*'Emissions per kg'!E6","v":1.9311797752808992E-9},{"$f":"$C$6*'Emissions per kg'!F6","v":1.9779962546816483E-10},{"$f":"$C$6*'Emissions per kg'!G6","v":1.4864232209737829E-9},{"$f":"$C$6*'Emissions per kg'!H6","v":1.4044943820224719E-3},{"$f":"$C$6*'Emissions per kg'!I6","v":8.6025280898876402E-5},{"$f":"$C$6*'Emissions per kg'!J6","v":1.6034644194756555E-4},{"$f":"$C$6*'Emissions per kg'!K6","v":3.0547752808988764E-4},{"$f":"$C$6*'Emissions per kg'!L6","v":1.264044943820225E-6},{"$f":"$C$6*'Emissions per kg'!M6","v":2.8441011235955059E-5},{"$f":"$C$6*'Emissions per kg'!N6","v":3.5931647940074911E-2},{"$f":"$C$6*'Emissions per kg'!O6","v":0.18258426966292135},{"$f":"$C$6*'Emissions per kg'!P6","v":5.7701310861423228E-3},{"$f":"$C$6*'Emissions per kg'!Q6","v":0.389747191011236},{"$f":"$C$6*'Emissions per kg'!R6","v":1.6853932584269663E-8}]
[null,"retail",{"$f":"(C8/(1-D8))/(1-D7)","v":1.1704119850187267},{"$f":"Calculation_original!D7","v":0.04},{"$f":"$C$7*'Emissions per kg'!C7","v":0.82397003745318353},{"$f":"$C$7*'Emissions per kg'!D7","v":1.4747191011235955E-5},{"$f":"$C$7*'Emissions per kg'!E7","v":2.0716292134831461E-8},{"$f":"$C$7*'Emissions per kg'!F7","v":1.1154026217228464E-9},{"$f":"$C$7*'Emissions per kg'!G7","v":1.3459737827715357E-8},{"$f":"$C$7*'Emissions per kg'!H7","v":8.8483146067415731E-3},{"$f":"$C$7*'Emissions per kg'!I7","v":8.883426966292136E-4},{"$f":"$C$7*'Emissions per kg'!J7","v":9.3749999999999997E-4},{"$f":"$C$7*'Emissions per kg'!K7","v":3.1484082397003747E-3},{"$f":"$C$7*'Emissions per kg'!L7","v":3.5229400749063673E-6},{"$f":"$C$7*'Emissions per kg'!M7","v":2.8675093632958803E-4},{"$f":"$C$7*'Emissions per kg'!N7","v":0.31484082397003749},{"$f":"$C$7*'Emissions per kg'!O7","v":2.2471910112359552},{"$f":"$C$7*'Emissions per kg'!P7","v":6.0861423220973786E-2},{"$f":"$C$7*'Emissions per kg'!Q7","v":2.106741573033708},{"$f":"$C$7*'Emissions per kg'!R7","v":5.0795880149812737E-7}]
[null,"use ",1,{"$f":"Calculation_original!D8","v":0.11},{"$f":"$C$8*'Emissions per kg'!C8","v":0.48980000000000001},{"$f":"$C$8*'Emissions per kg'!D8","v":3.2548999999999996E-8},{"$f":"$C$8*'Emissions per kg'!E8","v":1.0307E-7},{"$f":"$C$8*'Emissions per kg'!F8","v":5.7960000000000003E-9},{"$f":"$C$8*'Emissions per kg'!G8","v":3.051E-8},{"$f":"$C$8*'Emissions per kg'!H8","v":2.0121E-2},{"$f":"$C$8*'Emissions per kg'!I8","v":1.3626000000000001E-3},{"$f":"$C$8*'Emissions per kg'!J8","v":4.5566999999999995E-3},{"$f":"$C$8*'Emissions per kg'!K8","v":1.1439999999999999E-2},{"$f":"$C$8*'Emissions per kg'!L8","v":9.4035499999999992E-4},{"$f":"$C$8*'Emissions per kg'!M8","v":2.3278399999999998E-2},{"$f":"$C$8*'Emissions per kg'!N8","v":1.1574},{"$f":"$C$8*'Emissions per kg'!O8","v":18.869700000000002},{"$f":"$C$8*'Emissions per kg'!P8","v":1.8123100000000001},{"$f":"$C$8*'Emissions per kg'!Q8","v":6.5008999999999997},{"$f":"$C$8*'Emissions per kg'!R8","v":1.5915600000000001E-6}]
[null,"end of life P&R",{"$f":"D5*C5+D7*C7+C6*D6+C4*D4","v":0.10841711019120837},null,{"$f":"$C$9*'EoL emissions'!B4","v":3.6683490751969694E-2},{"$f":"$C$9*'EoL emissions'!C4","v":4.389565651237167E-10},{"$f":"$C$9*'EoL emissions'!D4","v":4.070666663160475E-8},{"$f":"$C$9*'EoL emissions'!E4","v":1.6282250393464914E-9},{"$f":"$C$9*'EoL emissions'!F4","v":8.2996743896737786E-10},{"$f":"$C$9*'EoL emissions'!G4","v":2.7794820630089176E-4},{"$f":"$C$9*'EoL emissions'!H4","v":4.9144657506972522E-5},{"$f":"$C$9*'EoL emissions'!I4","v":1.302167802050007E-4},{"$f":"$C$9*'EoL emissions'!J4","v":5.2659979481224097E-4},{"$f":"$C$9*'EoL emissions'!K4","v":1.0365872193546856E-5},{"$f":"$C$9*'EoL emissions'!L4","v":5.9499401741039003E-5},{"$f":"$C$9*'EoL emissions'!M4","v":2.8783082121178034},{"$f":"$C$9*'EoL emissions'!N4","v":0.14877060479557513},{"$f":"$C$9*'EoL emissions'!O4","v":1.4407447930586729E-3},{"$f":"$C$9*'EoL emissions'!P4","v":-2.6468335383463076E-2},{"$f":"$C$9*'EoL emissions'!Q4","v":-2.0090616384715642E-9}]
[null,"end of life HH",{"$f":"D8*C8","v":0.11},null,{"$f":"$C$10*'EoL emissions'!B5","v":4.9001543330178518E-2},{"$f":"$C$10*'EoL emissions'!C5","v":4.1263198203806873E-10},{"$f":"$C$10*'EoL emissions'!D5","v":8.6772847669603705E-8},{"$f":"$C$10*'EoL emissions'!E5","v":1.8610300559656133E-9},{"$f":"$C$10*'EoL emissions'!F5","v":4.6207403211742055E-10},{"$f":"$C$10*'EoL emissions'!G5","v":2.417663802064051E-4},{"$f":"$C$10*'EoL emissions'!H5","v":4.0043491773106072E-5},{"$f":"$C$10*'EoL emissions'!I5","v":5.9609981408721357E-5},{"$f":"$C$10*'EoL emissions'!J5","v":2.274148586180866E-4},{"$f":"$C$10*'EoL emissions'!K5","v":5.2012081173283574E-6},{"$f":"$C$10*'EoL emissions'!L5","v":1.0843744773221458E-4},{"$f":"$C$10*'EoL emissions'!M5","v":6.2946709924456323},{"$f":"$C$10*'EoL emissions'!N5","v":0.10206444729319192},{"$f":"$C$10*'EoL emissions'!O5","v":2.3955100174092971E-3},{"$f":"$C$10*'EoL emissions'!P5","v":1.6444195794535536E-2},{"$f":"$C$10*'EoL emissions'!Q5","v":1.5975425228271785E-9}]
["PORK",null,null,null,{"$f":"SUM(E4:E10)","v":9.3870302243048958},{"$f":"SUM(F4:F10)","v":1.5816357542026367E-5},2.9880555511630259E-6,9.7567459905089353E-8,1.1748898346900876E-6,0.11614879658926699,1.2585332156770717E-2,0.1623346156636441,0.70924636286947629,2.6011338632795332E-3,7.2384138692564118E-2,31.54774935043373,991.25512011023977,3.6186835847927274,38.678868665457394,2.48310097447789E-6]
["Meat","BEEF"]
[null,"agriculture ",{"$f":"C14/(1-D13)","v":1.232012615809186},{"$f":"Calculation_original!D13","v":0},{"$f":"$C$13*'Emissions per kg'!C11","v":34.865957027399965},{"$f":"$C$13*'Emissions per kg'!D11","v":1.5276956436033908E-8},{"$f":"$C$13*'Emissions per kg'!E11","v":2.4763453577764638E-5},{"$f":"$C$13*'Emissions per kg'!F11","v":3.9917208752217622E-7},{"$f":"$C$13*'Emissions per kg'!G11","v":4.4229252907549779E-6},{"$f":"$C$13*'Emissions per kg'!H11","v":2.4517051054602803E-2},{"$f":"$C$13*'Emissions per kg'!I11","v":3.8069189828503845E-2},{"$f":"$C$13*'Emissions per kg'!J11","v":0.59506209343583683},{"$f":"$C$13*'Emissions per kg'!K11","v":2.636506997831658},{"$f":"$C$13*'Emissions per kg'!L11","v":5.2483737433471319E-3},{"$f":"$C$13*'Emissions per kg'!M11","v":0.23285038438793615},{"$f":"$C$13*'Emissions per kg'!N11","v":45.584466784939877},{"$f":"$C$13*'Emissions per kg'!O11","v":4090.2818844864973},{"$f":"$C$13*'Emissions per kg'!P11","v":10.878671397595113},{"$f":"$C$13*'Emissions per kg'!Q11","v":75.522373349103091},{"$f":"$C$13*'Emissions per kg'!R11","v":4.2874039030159672E-7}]
[null,"processsing",{"$f":"(C15/(1-D14))/(1-D15)","v":1.232012615809186},{"$f":"Calculation_original!D14","v":0.05},{"$f":"$C$14*'Emissions per kg'!C12","v":0.58274196727774497},{"$f":"$C$14*'Emissions per kg'!D12","v":3.0307510348905979E-6},{"$f":"$C$14*'Emissions per kg'!E12","v":1.7864182929233199E-8},{"$f":"$C$14*'Emissions per kg'!F12","v":1.065690912674946E-9},{"$f":"$C$14*'Emissions per kg'!G12","v":2.3038635915631775E-8},{"$f":"$C$14*'Emissions per kg'!H12","v":8.895131086142323E-3},{"$f":"$C$14*'Emissions per kg'!I12","v":1.3552138773901047E-3},{"$f":"$C$14*'Emissions per kg'!J12","v":2.7350680070963931E-3},{"$f":"$C$14*'Emissions per kg'!K12","v":6.2709442144687566E-3},{"$f":"$C$14*'Emissions per kg'!L12","v":3.6837177212694664E-6},{"$f":"$C$14*'Emissions per kg'!M12","v":4.7555686970234581E-4},{"$f":"$C$14*'Emissions per kg'!N12","v":0.19958604376108813},{"$f":"$C$14*'Emissions per kg'!O12","v":1.6262566528681255},{"$f":"$C$14*'Emissions per kg'!P12","v":0.25749063670411987},{"$f":"$C$14*'Emissions per kg'!Q12","v":5.2237334910309485},{"$f":"$C$14*'Emissions per kg'!R12","v":2.0574610684013406E-7}]
[null,"packaging",{"$f":"C16","v":1.1704119850187267},{"$f":"Calculation_original!D15","v":0},{"$f":"$C$15*'Emissions per kg'!C13","v":5.957397003745319E-2},{"$f":"$C$15*'Emissions per kg'!D13","v":1.8609550561797756E-9},{"$f":"$C$15*'Emissions per kg'!E13","v":1.9311797752808992E-9},{"$f":"$C$15*'Emissions per kg'!F13","v":1.9779962546816483E-10},{"$f":"$C$15*'Emissions per kg'!G13","v":1.4864232209737829E-9},{"$f":"$C$15*'Emissions per kg'!H13","v":1.4044943820224719E-3},{"$f":"$C$15*'Emissions per kg'!I13","v":8.6025280898876402E-5},{"$f":"$C$15*'Emissions per kg'!J13","v":1.6034644194756555E-4},{"$f":"$C$15*'Emissions per kg'!K13","v":3.0547752808988764E-4},{"$f":"$C$15*'Emissions per kg'!L13","v":1.264044943820225E-6},{"$f":"$C$15*'Emissions per kg'!M13","v":2.8441011235955059E-5},{"$f":"$C$15*'Emissions per kg'!N13","v":3.5931647940074911E-2},{"$f":"$C$15*'Emissions per kg'!O13","v":0.18258426966292135},{"$f":"$C$15*'Emissions per kg'!P13","v":5.7701310861423228E-3},{"$f":"$C$15*'Emissions per kg'!Q13","v":0.389747191011236},{"$f":"$C$15*'Emissions per kg'!R13","v":1.6853932584269663E-8}]
[null,"retail",{"$f":"(C17/(1-D17))/(1-D16)","v":1.1704119850187267},{"$f":"Calculation_original!D16","v":0.04},{"$f":"$C$16*'Emissions per kg'!C14","v":1.4864232209737829},{"$f":"$C$16*'Emissions per kg'!D14","v":3.2771535580524349E-5},{"$f":"$C$16*'Emissions per kg'!E14","v":2.0716292134831461E-8},{"$f":"$C$16*'Emissions per kg'!F14","v":1.1154026217228464E-9},{"$f":"$C$16*'Emissions per kg'!G14","v":1.3459737827715357E-8},{"$f":"$C$16*'Emissions per kg'!H14","v":8.8483146067415731E-3},{"$f":"$C$16*'Emissions per kg'!I14","v":8.883426966292136E-4},{"$f":"$C$16*'Emissions per kg'!J14","v":9.3749999999999997E-4},{"$f":"$C$16*'Emissions per kg'!K14","v":3.1484082397003747E-3},{"$f":"$C$16*'Emissions per kg'!L14","v":3.5229400749063673E-6},{"$f":"$C$16*'Emissions per kg'!M14","v":2.8675093632958803E-4},{"$f":"$C$16*'Emissions per kg'!N14","v":0.31484082397003749},{"$f":"$C$16*'Emissions per kg'!O14","v":2.2471910112359552},{"$f":"$C$16*'Emissions per kg'!P14","v":6.0861423220973786E-2},{"$f":"$C$16*'Emissions per kg'!Q14","v":2.106741573033708},{"$f":"$C$16*'Emissions per kg'!R14","v":5.0795880149812737E-7}]
[null,"use ",1,{"$f":"Calculation_original!D17","v":0.11},{"$f":"$C$17*'Emissions per kg'!C15","v":0.49380000000000002},{"$f":"$C$17*'Emissions per kg'!D15","v":3.2648999999999997E-8},{"$f":"$C$17*'Emissions per kg'!E15","v":1.2006999999999999E-7},{"$f":"$C$17*'Emissions per kg'!F15","v":5.8360000000000001E-9},{"$f":"$C$17*'Emissions per kg'!G15","v":3.1909999999999999E-8},{"$f":"$C$17*'Emissions per kg'!H15","v":2.0220999999999999E-2},{"$f":"$C$17*'Emissions per kg'!I15","v":1.3826000000000001E-3},{"$f":"$C$17*'Emissions per kg'!J15","v":4.7666999999999996E-3},{"$f":"$C$17*'Emissions per kg'!K15","v":1.234E-2},{"$f":"$C$17*'Emissions per kg'!L15","v":9.3035500000000001E-4},{"$f":"$C$17*'Emissions per kg'!M15","v":2.5078400000000001E-2},{"$f":"$C$17*'Emissions per kg'!N15","v":1.6574},{"$f":"$C$17*'Emissions per kg'!O15","v":19.069700000000001},{"$f":"$C$17*'Emissions per kg'!P15","v":1.8723100000000001},{"$f":"$C$17*'Emissions per kg'!Q15","v":6.5209000000000001},{"$f":"$C$17*'Emissions per kg'!R15","v":1.60156E-6}]
[null,"end of life P&R",{"$f":"D14*C14+D16*C16+C15*D15+C13*D13","v":0.10841711019120837},null,{"$f":"$C$18*'EoL emissions'!B4","v":3.6683490751969694E-2},{"$f":"$C$18*'EoL emissions'!C4","v":4.389565651237167E-10},{"$f":"$C$18*'EoL emissions'!D4","v":4.070666663160475E-8},{"$f":"$C$18*'EoL emissions'!E4","v":1.6282250393464914E-9},{"$f":"$C$18*'EoL emissions'!F4","v":8.2996743896737786E-10},{"$f":"$C$18*'EoL emissions'!G4","v":2.7794820630089176E-4},{"$f":"$C$18*'EoL emissions'!H4","v":4.9144657506972522E-5},{"$f":"$C$18*'EoL emissions'!I4","v":1.302167802050007E-4},{"$f":"$C$18*'EoL emissions'!J4","v":5.2659979481224097E-4},{"$f":"$C$18*'EoL emissions'!K4","v":1.0365872193546856E-5},{"$f":"$C$18*'EoL emissions'!L4","v":5.9499401741039003E-5},{"$f":"$C$18*'EoL emissions'!M4","v":2.8783082121178034},{"$f":"$C$18*'EoL emissions'!N4","v":0.14877060479557513},{"$f":"$C$18*'EoL emissions'!O4","v":1.4407447930586729E-3},{"$f":"$C$18*'EoL emissions'!P4","v":-2.6468335383463076E-2},{"$f":"$C$18*'EoL emissions'!Q4","v":-2.0090616384715642E-9}]
[null,"end of life HH",{"$f":"D17*C17","v":0.11},null,{"$f":"$C$19*'EoL emissions'!B5","v":4.9001543330178518E-2},{"$f":"$C$19*'EoL emissions'!C5","v":4.1263198203806873E-10},{"$f":"$C$19*'EoL emissions'!D5","v":8.6772847669603705E-8},{"$f":"$C$19*'EoL emissions'!E5","v":1.8610300559656133E-9},{"$f":"$C$19*'EoL emissions'!F5","v":4.6207403211742055E-10},{"$f":"$C$19*'EoL emissions'!G5","v":2.417663802064051E-4},{"$f":"$C$19*'EoL emissions'!H5","v":4.0043491773106072E-5},{"$f":"$C$19*'EoL emissions'!I5","v":5.9609981408721357E-5},{"$f":"$C$19*'EoL emissions'!J5","v":2.274148586180866E-4},{"$f":"$C$19*'EoL emissions'!K5","v":5.2012081173283574E-6},{"$f":"$C$19*'EoL emissions'!L5","v":1.0843744773221458E-4},{"$f":"$C$19*'EoL emissions'!M5","v":6.2946709924456323},{"$f":"$C$19*'EoL emissions'!N5","v":0.10206444729319192},{"$f":"$C$19*'EoL emissions'!O5","v":2.3955100174092971E-3},{"$f":"$C$19*'EoL emissions'!P5","v":1.6444195794535536E-2},{"$f":"$C$19*'EoL emissions'!Q5","v":1.5975425228271785E-9}]
["BEEF",null,null,null,{"$f":"SUM(E13:E19)","v":37.574181219771098},{"$f":"SUM(F13:F19)","v":3.5852925115454316E-5},2.5051514746905193E-5,4.1087623577735431E-7,4.4941121291903835E-6,6.4405705716016462E-2,4.1870559832702117E-2,0.60385153464649455,2.6593258424673469,6.2027665263980035E-3,0.25888747005467727,56.965204505174512,4113.6584514723527,13.078939843416817,89.753471464590049,2.760447712108483E-6]
["Meat","POULTRY"]
[null,"agriculture ",{"$f":"C23/(1-D22)","v":1.232012615809186},{"$f":"Calculation_original!D22","v":0},{"$f":"$C$22*'Emissions per kg'!C18","v":6.8746303962152577},{"$f":"$C$22*'Emissions per kg'!D18","v":4.0040410013798542E-8},{"$f":"$C$22*'Emissions per kg'!E18","v":1.7864182929233197E-6},{"$f":"$C$22*'Emissions per kg'!F18","v":6.160063079045929E-8},{"$f":"$C$22*'Emissions per kg'!G18","v":9.0183323477232417E-7},{"$f":"$C$22*'Emissions per kg'!H18","v":6.4434259806820424E-2},{"$f":"$C$22*'Emissions per kg'!I18","v":7.5029568302779426E-3},{"$f":"$C$22*'Emissions per kg'!J18","v":0.11112753794598858},{"$f":"$C$22*'Emissions per kg'!K18","v":0.4915730337078652},{"$f":"$C$22*'Emissions per kg'!L18","v":1.4537748866548395E-3},{"$f":"$C$22*'Emissions per kg'!M18","v":2.895229647151587E-2},{"$f":"$C$22*'Emissions per kg'!N18","v":14.90735265129115},{"$f":"$C$22*'Emissions per kg'!O18","v":742.90360733293915},{"$f":"$C$22*'Emissions per kg'!P18","v":0.83407254090281902},{"$f":"$C$22*'Emissions per kg'!Q18","v":22.915434654050859},{"$f":"$C$22*'Emissions per kg'!R18","v":2.4024246008279129E-7}]
[null,"processsing",{"$f":"(C24/(1-D23))/(1-D24)","v":1.232012615809186},{"$f":"Calculation_original!D23","v":0.05},{"$f":"$C$23*'Emissions per kg'!C19","v":0.33017938103686184},{"$f":"$C$23*'Emissions per kg'!D19","v":5.8767001774098175E-7},{"$f":"$C$23*'Emissions per kg'!E19","v":1.219692489651094E-8},{"$f":"$C$23*'Emissions per kg'!F19","v":7.2072738024837387E-10},{"$f":"$C$23*'Emissions per kg'!G19","v":1.01394638281096E-8},{"$f":"$C$23*'Emissions per kg'!H19","v":1.6632170313424011E-2},{"$f":"$C$23*'Emissions per kg'!I19","v":8.2914449043958215E-4},{"$f":"$C$23*'Emissions per kg'!J19","v":1.0767790262172286E-3},{"$f":"$C$23*'Emissions per kg'!K19","v":4.1149221368026812E-3},{"$f":"$C$23*'Emissions per kg'!L19","v":1.4784151389710231E-6},{"$f":"$C$23*'Emissions per kg'!M19","v":3.0307510348905975E-4},{"$f":"$C$23*'Emissions per kg'!N19","v":0.18110585452395034},{"$f":"$C$23*'Emissions per kg'!O19","v":1.3305736250739209},{"$f":"$C$23*'Emissions per kg'!P19","v":0.18356987975556871},{"$f":"$C$23*'Emissions per kg'!Q19","v":3.597476838162823},{"$f":"$C$23*'Emissions per kg'!R19","v":1.503055391287207E-7}]
[null,"packaging",{"$f":"C25","v":1.1704119850187267},{"$f":"Calculation_original!D24","v":0},{"$f":"$C$24*'Emissions per kg'!C20","v":1.4864232209737829},{"$f":"$C$24*'Emissions per kg'!D20","v":1.8024344569288392E-9},{"$f":"$C$24*'Emissions per kg'!E20","v":1.8843632958801501E-9},{"$f":"$C$24*'Emissions per kg'!F20","v":1.9662921348314606E-10},{"$f":"$C$24*'Emissions per kg'!G20","v":1.4513108614232212E-9},{"$f":"$C$24*'Emissions per kg'!H20","v":1.3927902621722848E-3},{"$f":"$C$24*'Emissions per kg'!I20","v":8.4152621722846454E-5},{"$f":"$C$24*'Emissions per kg'!J20","v":1.5800561797752811E-4},{"$f":"$C$24*'Emissions per kg'!K20","v":2.9845505617977534E-4},{"$f":"$C$24*'Emissions per kg'!L20","v":1.2523408239700374E-6},{"$f":"$C$24*'Emissions per kg'!M20","v":2.7738764044943823E-5},{"$f":"$C$24*'Emissions per kg'!N20","v":3.5229400749063673E-2},{"$f":"$C$24*'Emissions per kg'!O20","v":0.17790262172284646},{"$f":"$C$24*'Emissions per kg'!P20","v":5.7467228464419479E-3},{"$f":"$C$24*'Emissions per kg'!Q20","v":0.3862359550561798},{"$f":"$C$24*'Emissions per kg'!R20","v":1.6268726591760302E-8}]
[null,"retail",{"$f":"(C26/(1-D26))/(1-D25)","v":1.1704119850187267},{"$f":"Calculation_original!D25","v":0.04},{"$f":"$C$25*'Emissions per kg'!C21","v":5.9339887640449444E-2},{"$f":"$C$25*'Emissions per kg'!D21","v":3.2771535580524349E-5},{"$f":"$C$25*'Emissions per kg'!E21","v":2.0716292134831461E-8},{"$f":"$C$25*'Emissions per kg'!F21","v":1.1154026217228464E-9},{"$f":"$C$25*'Emissions per kg'!G21","v":1.3459737827715357E-8},{"$f":"$C$25*'Emissions per kg'!H21","v":8.8483146067415731E-3},{"$f":"$C$25*'Emissions per kg'!I21","v":8.883426966292136E-4},{"$f":"$C$25*'Emissions per kg'!J21","v":9.3749999999999997E-4},{"$f":"$C$25*'Emissions per kg'!K21","v":3.1484082397003747E-3},{"$f":"$C$25*'Emissions per kg'!L21","v":3.5229400749063673E-6},{"$f":"$C$25*'Emissions per kg'!M21","v":2.8675093632958803E-4},{"$f":"$C$25*'Emissions per kg'!N21","v":0.31484082397003749},{"$f":"$C$25*'Emissions per kg'!O21","v":2.2471910112359552},{"$f":"$C$25*'Emissions per kg'!P21","v":6.0861423220973786E-2},{"$f":"$C$25*'Emissions per kg'!Q21","v":2.106741573033708},{"$f":"$C$25*'Emissions per kg'!R21","v":5.0795880149812737E-7}]
[null,"use ",1,{"$f":"Calculation_original!D26","v":0.11},{"$f":"$C$26*'Emissions per kg'!C22","v":0.4798},{"$f":"$C$26*'Emissions per kg'!D22","v":3.2249E-8},{"$f":"$C$26*'Emissions per kg'!E22","v":9.4170000000000002E-8},{"$f":"$C$26*'Emissions per kg'!F22","v":5.7260000000000003E-9},{"$f":"$C$26*'Emissions per kg'!G22","v":2.901E-8},{"$f":"$C$26*'Emissions per kg'!H22","v":1.9921000000000001E-2},{"$f":"$C$26*'Emissions per kg'!I22","v":1.2926000000000001E-3},{"$f":"$C$26*'Emissions per kg'!J22","v":4.3166999999999997E-3},{"$f":"$C$26*'Emissions per kg'!K22","v":1.0239999999999999E-2},{"$f":"$C$26*'Emissions per kg'!L22","v":8.7535499999999997E-4},{"$f":"$C$26*'Emissions per kg'!M22","v":1.9678399999999999E-2},{"$f":"$C$26*'Emissions per kg'!N22","v":0.88939999999999997},{"$f":"$C$26*'Emissions per kg'!O22","v":18.669700000000002},{"$f":"$C$26*'Emissions per kg'!P22","v":1.75231},{"$f":"$C$26*'Emissions per kg'!Q22","v":6.4608999999999996},{"$f":"$C$26*'Emissions per kg'!R22","v":1.58156E-6}]
[null,"end of life P&R",{"$f":"D23*C23+D25*C25+C24*D24+C22*D22","v":0.10841711019120837},null,{"$f":"$C$27*'EoL emissions'!B4","v":3.6683490751969694E-2},{"$f":"$C$27*'EoL emissions'!C4","v":4.389565651237167E-10},{"$f":"$C$27*'EoL emissions'!D4","v":4.070666663160475E-8},{"$f":"$C$27*'EoL emissions'!E4","v":1.6282250393464914E-9},{"$f":"$C$27*'EoL emissions'!F4","v":8.2996743896737786E-10},{"$f":"$C$27*'EoL emissions'!G4","v":2.7794820630089176E-4},{"$f":"$C$27*'EoL emissions'!H4","v":4.9144657506972522E-5},{"$f":"$C$27*'EoL emissions'!I4","v":1.302167802050007E-4},{"$f":"$C$27*'EoL emissions'!J4","v":5.2659979481224097E-4},{"$f":"$C$27*'EoL emissions'!K4","v":1.0365872193546856E-5},{"$f":"$C$27*'EoL emissions'!L4","v":5.9499401741039003E-5},{"$f":"$C$27*'EoL emissions'!M4","v":2.8783082121178034},{"$f":"$C$27*'EoL emissions'!N4","v":0.14877060479557513},{"$f":"$C$27*'EoL emissions'!O4","v":1.4407447930586729E-3},{"$f":"$C$27*'EoL emissions'!P4","v":-2.6468335383463076E-2},{"$f":"$C$27*'EoL emissions'!Q4","v":-2.0090616384715642E-9}]
[null,"end of life HH",{"$f":"D26*C26","v":0.11},null,{"$f":"$C$28*'EoL emissions'!B5","v":4.9001543330178518E-2},{"$f":"$C$28*'EoL emissions'!C5","v":4.1263198203806873E-10},{"$f":"$C$28*'EoL emissions'!D5","v":8.6772847669603705E-8},{"$f":"$C$28*'EoL emissions'!E5","v":1.8610300559656133E-9},{"$f":"$C$28*'EoL emissions'!F5","v":4.6207403211742055E-10},{"$f":"$C$28*'EoL emissions'!G5","v":2.417663802064051E-4},{"$f":"$C$28*'EoL emissions'!H5","v":4.0043491773106072E-5},{"$f":"$C$28*'EoL emissions'!I5","v":5.9609981408721357E-5},{"$f":"$C$28*'EoL emissions'!J5","v":2.274148586180866E-4},{"$f":"$C$28*'EoL emissions'!K5","v":5.2012081173283574E-6},{"$f":"$C$28*'EoL emissions'!L5","v":1.0843744773221458E-4},{"$f":"$C$28*'EoL emissions'!M5","v":6.2946709924456323},{"$f":"$C$28*'EoL emissions'!N5","v":0.10206444729319192},{"$f":"$C$28*'EoL emissions'!O5","v":2.3955100174092971E-3},{"$f":"$C$28*'EoL emissions'!P5","v":1.6444195794535536E-2},{"$f":"$C$28*'EoL emissions'!Q5","v":1.5975425228271785E-9}]
["POULTRY",null,null,null,{"$f":"SUM(E22:E28)","v":9.3160579199484985},{"$f":"SUM(F22:F28)","v":3.343414903128321E-5},2.0428653875517508E-6,7.284864510122576E-8,9.5718578876065722E-7,0.11174824957566559,1.0686384788349662E-2,0.11780634935179704,0.51012883379397844,2.3509506630035619E-3,4.941619812485272E-2,25.500907935097636,765.57980964306068,2.8403968215362716,35.456764880714644,2.4959240081857551E-6]
["Fish","COD"]
[null,"agriculture ",{"$f":"C32/(1-D31)","v":1.3135322721743952},{"$f":"Calculation_original!D31","v":0},{"$f":"'Emissions per kg'!C25*$C$31","v":2.9554476123923892},{"$f":"'Emissions per kg'!D25*$C$31","v":8.695583641794496E-7},{"$f":"'Emissions per kg'!E25*$C$31","v":4.3740624663407362E-8},{"$f":"'Emissions per kg'!F25*$C$31","v":7.1193449151852219E-9},{"$f":"'Emissions per kg'!G25*$C$31","v":1.1243836249812822E-7},{"$f":"'Emissions per kg'!H25*$C$31","v":1.9702984082615928E-2},{"$f":"'Emissions per kg'!I25*$C$31","v":4.8732047297670063E-2},{"$f":"'Emissions per kg'!J25*$C$31","v":4.0850853664623689E-2},{"$f":"'Emissions per kg'!K25*$C$31","v":0.19177571173746169},{"$f":"'Emissions per kg'!L25*$C$31","v":1.352938240339627E-5},{"$f":"'Emissions per kg'!M25*$C$31","v":1.7469979219919454E-2},{"$f":"'Emissions per kg'!N25*$C$31","v":4.741851502549566},{"$f":"'Emissions per kg'!O25*$C$31","v":2.4300347035226313},{"$f":"'Emissions per kg'!P25*$C$31","v":23.118167990269356},{"$f":"'Emissions per kg'!Q25*$C$31","v":40.194087528536492},{"$f":"'Emissions per kg'!R25*$C$31","v":3.9405968165231853E-7}]
[null,"processsing",{"$f":"(C33/(1-D32))/(1-D33)","v":1.3135322721743952},{"$f":"Calculation_original!D32","v":0.06},{"$f":"'Emissions per kg'!C26*$C$32","v":0.82489826692552015},{"$f":"'Emissions per kg'!D26*$C$32","v":4.4266037572277113E-6},{"$f":"'Emissions per kg'!E26*$C$32","v":6.5807966835937198E-8},{"$f":"'Emissions per kg'!F26*$C$32","v":5.3198057023063002E-9},{"$f":"'Emissions per kg'!G26*$C$32","v":3.2312893895490122E-8},{"$f":"'Emissions per kg'!H26*$C$32","v":7.3820513696201004E-2},{"$f":"'Emissions per kg'!I26*$C$32","v":3.165612775940292E-3},{"$f":"'Emissions per kg'!J26*$C$32","v":4.8206634388800306E-3},{"$f":"'Emissions per kg'!K26*$C$32","v":1.1375189477030262E-2},{"$f":"'Emissions per kg'!L26*$C$32","v":4.452874402671199E-5},{"$f":"'Emissions per kg'!M26*$C$32","v":1.0350634304734233E-3},{"$f":"'Emissions per kg'!N26*$C$32","v":0.75134045968375396},{"$f":"'Emissions per kg'!O26*$C$32","v":9.2341318733859978},{"$f":"'Emissions per kg'!P26*$C$32","v":0.14054795312266027},{"$f":"'Emissions per kg'!Q26*$C$32","v":12.557368521987218},{"$f":"'Emissions per kg'!R26*$C$32","v":1.366073563061371E-6}]
[null,"packaging",{"$f":"C34","v":1.2347203358439314},{"$f":"Calculation_original!D33","v":0},{"$f":"'Emissions per kg'!C27*$C$33","v":0.10630942091616248},{"$f":"'Emissions per kg'!D27*$C$33","v":3.3213977034201753E-9},{"$f":"'Emissions per kg'!E27*$C$33","v":2.2595382145943943E-8},{"$f":"'Emissions per kg'!F27*$C$33","v":1.077910853191752E-9},{"$f":"'Emissions per kg'!G27*$C$33","v":-1.6051364365971109E-8},{"$f":"'Emissions per kg'!H27*$C$33","v":2.2471910112359553E-3},{"$f":"'Emissions per kg'!I27*$C$33","v":3.0250648228176316E-5},{"$f":"'Emissions per kg'!J27*$C$33","v":1.9261637239165329E-4},{"$f":"'Emissions per kg'!K27*$C$33","v":2.210149401160637E-4},{"$f":"'Emissions per kg'!L27*$C$33","v":4.8401037165082104E-6},{"$f":"'Emissions per kg'!M27*$C$33","v":8.1738486232868255E-5},{"$f":"'Emissions per kg'!N27*$C$33","v":0.14322755895789605},{"$f":"'Emissions per kg'!O27*$C$33","v":-32.473144832695397},{"$f":"'Emissions per kg'!P27*$C$33","v":-0.11581676750216076},{"$f":"'Emissions per kg'!Q27*$C$33","v":1.4322755895789603},{"$f":"'Emissions per kg'!R27*$C$33","v":2.210149401160637E-6}]
[null,"retail",{"$f":"(C35/(1-D35))/(1-D34)","v":1.2347203358439314},{"$f":"Calculation_original!D34","v":0.09},{"$f":"'Emissions per kg'!C28*$C$34","v":0.47166316829238181},{"$f":"'Emissions per kg'!D28*$C$34","v":8.4207926904556125E-6},{"$f":"'Emissions per kg'!E28*$C$34","v":2.0743301642178048E-8},{"$f":"'Emissions per kg'!F28*$C$34","v":1.0112359550561798E-9},{"$f":"'Emissions per kg'!G28*$C$34","v":1.3334979627114459E-8},{"$f":"'Emissions per kg'!H28*$C$34","v":9.3097913322632425E-3},{"$f":"'Emissions per kg'!I28*$C$34","v":9.297444128904803E-4},{"$f":"'Emissions per kg'!J28*$C$34","v":8.8652920113594269E-4},{"$f":"'Emissions per kg'!K28*$C$34","v":3.3213977034201756E-3},{"$f":"'Emissions per kg'!L28*$C$34","v":3.0250648228176317E-6},{"$f":"'Emissions per kg'!M28*$C$34","v":3.0250648228176316E-4},{"$f":"'Emissions per kg'!N28*$C$34","v":0.34325225336461296},{"$f":"'Emissions per kg'!O28*$C$34","v":2.4570934683294232},{"$f":"'Emissions per kg'!P28*$C$34","v":5.3833806642795405E-2},{"$f":"'Emissions per kg'!Q28*$C$34","v":2.0990245709346831},{"$f":"'Emissions per kg'!R28*$C$34","v":3.5806889739474006E-7}]
[null,"use ",1,{"$f":"Calculation_original!D35","v":0.11},{"$f":"'Emissions per kg'!C29*$C$35","v":0.72},{"$f":"'Emissions per kg'!D29*$C$35","v":2.0730000000000001E-8},{"$f":"'Emissions per kg'!E29*$C$35","v":7.1900000000000002E-8},{"$f":"'Emissions per kg'!F29*$C$35","v":4.4099999999999995E-9},{"$f":"'Emissions per kg'!G29*$C$35","v":1.8889999999999999E-8},{"$f":"'Emissions per kg'!H29*$C$35","v":1.193E-2},{"$f":"'Emissions per kg'!I29*$C$35","v":1.0349999999999999E-3},{"$f":"'Emissions per kg'!J29*$C$35","v":2.6199999999999999E-3},{"$f":"'Emissions per kg'!K29*$C$35","v":9.470000000000001E-3},{"$f":"'Emissions per kg'!L29*$C$35","v":8.807000000000001E-4},{"$f":"'Emissions per kg'!M29*$C$35","v":1.8577E-2},{"$f":"'Emissions per kg'!N29*$C$35","v":0.33940000000000003},{"$f":"'Emissions per kg'!O29*$C$35","v":18.5},{"$f":"'Emissions per kg'!P29*$C$35","v":1.6367},{"$f":"'Emissions per kg'!Q29*$C$35","v":10.358000000000001},{"$f":"'Emissions per kg'!R29*$C$35","v":1.2439999999999999E-6}]
[null,"end of life P&R",{"$f":"D32*C32+D34*C34+C33*D33+C31*D31","v":0.18993676655641753},null,{"$f":"'EoL emissions'!B4*$C$36","v":6.426608869340969E-2},{"$f":"'EoL emissions'!C4*$C$36","v":7.6901137183299627E-10},{"$f":"'EoL emissions'!D4*$C$36","v":7.1314321361832357E-8},{"$f":"'EoL emissions'!E4*$C$36","v":2.8524999297089401E-9},{"$f":"'EoL emissions'!F4*$C$36","v":1.4540263195223757E-9},{"$f":"'EoL emissions'!G4*$C$36","v":4.8693959359219713E-4},{"$f":"'EoL emissions'!H4*$C$36","v":8.6096902268788421E-5},{"$f":"'EoL emissions'!I4*$C$36","v":2.2812777558731836E-4},{"$f":"'EoL emissions'!J4*$C$36","v":9.2255421786754791E-4},{"$f":"'EoL emissions'!K4*$C$36","v":1.816005096895698E-5},{"$f":"'EoL emissions'!L4*$C$36","v":1.0423745808021589E-4},{"$f":"'EoL emissions'!M4*$C$36","v":5.0425302242262751},{"$f":"'EoL emissions'!N4*$C$36","v":0.26063236313603189},{"$f":"'EoL emissions'!O4*$C$36","v":2.5240518488635179E-3},{"$f":"'EoL emissions'!P4*$C$36","v":-4.6370079685756661E-2},{"$f":"'EoL emissions'!Q4*$C$36","v":-3.5196904875146819E-9}]
[null,"end of life HH",{"$f":"D35*C35","v":0.11},null,{"$f":"'EoL emissions'!B5*$C$37","v":4.9001543330178518E-2},{"$f":"'EoL emissions'!C5*$C$37","v":4.1263198203806873E-10},{"$f":"'EoL emissions'!D5*$C$37","v":8.6772847669603705E-8},{"$f":"'EoL emissions'!E5*$C$37","v":1.8610300559656133E-9},{"$f":"'EoL emissions'!F5*$C$37","v":4.6207403211742055E-10},{"$f":"'EoL emissions'!G5*$C$37","v":2.417663802064051E-4},{"$f":"'EoL emissions'!H5*$C$37","v":4.0043491773106072E-5},{"$f":"'EoL emissions'!I5*$C$37","v":5.9609981408721357E-5},{"$f":"'EoL emissions'!J5*$C$37","v":2.274148586180866E-4},{"$f":"'EoL emissions'!K5*$C$37","v":5.2012081173283574E-6},{"$f":"'EoL emissions'!L5*$C$37","v":1.0843744773221458E-4},{"$f":"'EoL emissions'!M5*$C$37","v":6.2946709924456323},{"$f":"'EoL emissions'!N5*$C$37","v":0.10206444729319192},{"$f":"'EoL emissions'!O5*$C$37","v":2.3955100174092971E-3},{"$f":"'EoL emissions'!P5*$C$37","v":1.6444195794535536E-2},{"$f":"'EoL emissions'!Q5*$C$37","v":1.5975425228271785E-9}]
["COD",null,null,null,{"$f":"SUM(E31:E37)","v":5.1915861005500421},{"$f":"SUM(F31:F37)","v":1.3742187852920063E-5},3.8287444431890262E-7,2.3651827411414007E-8,1.628409720064015E-7,0.11773918609611472,5.4018795528770903E-2,4.9658400434027354E-2,0.21731328293451382,9.6998455405571951E-4,3.7678962524719938E-2,17.656272991227738,0.51081202297187644,24.838352544398923,66.610830327146132,5.5704293953043797E-6]
["Fish","SALMON"]
[null,"agriculture ",{"$f":"C41/(1-D40)","v":1.3135322721743952},{"$f":"Calculation_original!D40","v":0},{"$f":"$C$40*'Emissions per kg'!C32","v":8.4985538009683363},{"$f":"$C$40*'Emissions per kg'!D32","v":1.3043375462691743E-7},{"$f":"$C$40*'Emissions per kg'!E32","v":6.4757141018197686E-6},{"$f":"$C$40*'Emissions per kg'!F32","v":7.4083220150635896E-8},{"$f":"$C$40*'Emissions per kg'!G32","v":4.9257460206539818E-7},{"$f":"$C$40*'Emissions per kg'!H32","v":0.11992549644952229},{"$f":"$C$40*'Emissions per kg'!I32","v":2.2067342172529838E-2},{"$f":"$C$40*'Emissions per kg'!J32","v":5.4905648976889716E-2},{"$f":"$C$40*'Emissions per kg'!K32","v":0.23249521217486793},{"$f":"$C$40*'Emissions per kg'!L32","v":1.4448854993918346E-2},{"$f":"$C$40*'Emissions per kg'!M32","v":0.13135322721743953},{"$f":"$C$40*'Emissions per kg'!N32","v":14.448854993918347},{"$f":"$C$40*'Emissions per kg'!O32","v":633.12255518805841},{"$f":"$C$40*'Emissions per kg'!P32","v":0.37961082665840018},{"$f":"$C$40*'Emissions per kg'!Q32","v":47.943927934365426},{"$f":"$C$40*'Emissions per kg'!R32","v":1.7995392128789214E-6}]
[null,"processsing",{"$f":"(C42/(1-D41))/(1-D42)","v":1.3135322721743952},{"$f":"Calculation_original!D41","v":0.06},{"$f":"$C$41*'Emissions per kg'!C33","v":0.39274614938014413},{"$f":"$C$41*'Emissions per kg'!D33","v":8.1833060556464817E-7},{"$f":"$C$41*'Emissions per kg'!E33","v":3.7041610075317948E-8},{"$f":"$C$41*'Emissions per kg'!F33","v":2.8503650306184378E-9},{"$f":"$C$41*'Emissions per kg'!G33","v":1.9440277628181047E-8},{"$f":"$C$41*'Emissions per kg'!H33","v":3.8355142347492342E-2},{"$f":"$C$41*'Emissions per kg'!I33","v":2.0885163127572883E-3},{"$f":"$C$41*'Emissions per kg'!J33","v":3.0868008396098289E-3},{"$f":"$C$41*'Emissions per kg'!K33","v":7.5659458877245164E-3},{"$f":"$C$41*'Emissions per kg'!L33","v":2.180463571809496E-5},{"$f":"$C$41*'Emissions per kg'!M33","v":6.8566384607503424E-4},{"$f":"$C$41*'Emissions per kg'!N33","v":0.45316863390016632},{"$f":"$C$41*'Emissions per kg'!O33","v":4.9651519888192137},{"$f":"$C$41*'Emissions per kg'!P33","v":7.2506981424026617E-2},{"$f":"$C$41*'Emissions per kg'!Q33","v":6.7384205562546473},{"$f":"$C$41*'Emissions per kg'!R33","v":7.2375628196809172E-7}]
[null,"packaging",{"$f":"C43","v":1.2347203358439314},{"$f":"Calculation_original!D42","v":0},{"$f":"$C$42*'Emissions per kg'!C34","v":9.9024570934683281E-2},{"$f":"$C$42*'Emissions per kg'!D34","v":6.2476848993702934E-9},{"$f":"$C$42*'Emissions per kg'!E34","v":5.4945054945054951E-9},{"$f":"$C$42*'Emissions per kg'!F34","v":6.3711569329546853E-10},{"$f":"$C$42*'Emissions per kg'!G34","v":2.0002469440671689E-9},{"$f":"$C$42*'Emissions per kg'!H34","v":9.3838745524138789E-3},{"$f":"$C$42*'Emissions per kg'!I34","v":1.7779972836152612E-4},{"$f":"$C$42*'Emissions per kg'!J34","v":4.2844795653784414E-4},{"$f":"$C$42*'Emissions per kg'!K34","v":6.2353376960118541E-4},{"$f":"$C$42*'Emissions per kg'!L34","v":6.9267810840844542E-6},{"$f":"$C$42*'Emissions per kg'!M34","v":5.766143968391159E-5},{"$f":"$C$42*'Emissions per kg'!N34","v":3.8646746511915055E-2},{"$f":"$C$42*'Emissions per kg'!O34","v":0.83590566736634164},{"$f":"$C$42*'Emissions per kg'!P34","v":1.9261637239165328E-2},{"$f":"$C$42*'Emissions per kg'!Q34","v":1.531053216446475},{"$f":"$C$42*'Emissions per kg'!R34","v":1.3088035559945671E-7}]
[null,"retail",{"$f":"(C44/(1-D44))/(1-D43)","v":1.2347203358439314},{"$f":"Calculation_original!D43","v":0.09},{"$f":"$C$43*'Emissions per kg'!C35","v":0.87047783676997159},{"$f":"$C$43*'Emissions per kg'!D35","v":1.765650080256822E-5},{"$f":"$C$43*'Emissions per kg'!E35","v":2.3089270280281514E-8},{"$f":"$C$43*'Emissions per kg'!F35","v":1.1556982343499199E-9},{"$f":"$C$43*'Emissions per kg'!G35","v":1.4940116063711569E-8},{"$f":"$C$43*'Emissions per kg'!H35","v":1.0075317940486481E-2},{"$f":"$C$43*'Emissions per kg'!I35","v":1.026052599086307E-3},{"$f":"$C$43*'Emissions per kg'!J35","v":1.0025929127052723E-3},{"$f":"$C$43*'Emissions per kg'!K35","v":3.6547721940980368E-3},{"$f":"$C$43*'Emissions per kg'!L35","v":3.4078281269292502E-6},{"$f":"$C$43*'Emissions per kg'!M35","v":3.3337449067786146E-4},{"$f":"$C$43*'Emissions per kg'!N35","v":0.3753549820965551},{"$f":"$C$43*'Emissions per kg'!O35","v":2.6669959254228921},{"$f":"$C$43*'Emissions per kg'!P35","v":5.8896160019755527E-2},{"$f":"$C$43*'Emissions per kg'!Q35","v":2.3212742313865911},{"$f":"$C$43*'Emissions per kg'!R35","v":4.4820348191134708E-7}]
[null,"use ",1,{"$f":"Calculation_original!D44","v":0.11},{"$f":"$C$44*'Emissions per kg'!C36","v":0.32300000000000001},{"$f":"$C$44*'Emissions per kg'!D36","v":2E-8},{"$f":"$C$44*'Emissions per kg'!E36","v":9.5900000000000005E-8},{"$f":"$C$44*'Emissions per kg'!F36","v":6.0799999999999997E-9},{"$f":"$C$44*'Emissions per kg'!G36","v":5.1200000000000002E-8},{"$f":"$C$44*'Emissions per kg'!H36","v":8.0300000000000007E-3},{"$f":"$C$44*'Emissions per kg'!I36","v":1.3699999999999999E-3},{"$f":"$C$44*'Emissions per kg'!J36","v":7.8300000000000002E-3},{"$f":"$C$44*'Emissions per kg'!K36","v":9.7900000000000001E-3},{"$f":"$C$44*'Emissions per kg'!L36","v":1.25E-3},{"$f":"$C$44*'Emissions per kg'!M36","v":2.1600000000000001E-2},{"$f":"$C$44*'Emissions per kg'!N36","v":0.96199999999999997},{"$f":"$C$44*'Emissions per kg'!O36","v":18.399999999999999},{"$f":"$C$44*'Emissions per kg'!P36","v":2.93},{"$f":"$C$44*'Emissions per kg'!Q36","v":11.5},{"$f":"$C$44*'Emissions per kg'!R36","v":1.0100000000000001E-6}]
[null,"end of life P&R",{"$f":"D41*C41+D43*C43+C42*D42+C40*D40","v":0.18993676655641753},null,{"$f":"$C$45*'EoL emissions'!B4","v":6.426608869340969E-2},{"$f":"$C$45*'EoL emissions'!C4","v":7.6901137183299627E-10},{"$f":"$C$45*'EoL emissions'!D4","v":7.1314321361832357E-8},{"$f":"$C$45*'EoL emissions'!E4","v":2.8524999297089401E-9},{"$f":"$C$45*'EoL emissions'!F4","v":1.4540263195223757E-9},{"$f":"$C$45*'EoL emissions'!G4","v":4.8693959359219713E-4},{"$f":"$C$45*'EoL emissions'!H4","v":8.6096902268788421E-5},{"$f":"$C$45*'EoL emissions'!I4","v":2.2812777558731836E-4},{"$f":"$C$45*'EoL emissions'!J4","v":9.2255421786754791E-4},{"$f":"$C$45*'EoL emissions'!K4","v":1.816005096895698E-5},{"$f":"$C$45*'EoL emissions'!L4","v":1.0423745808021589E-4},{"$f":"$C$45*'EoL emissions'!M4","v":5.0425302242262751},{"$f":"$C$45*'EoL emissions'!N4","v":0.26063236313603189},{"$f":"$C$45*'EoL emissions'!O4","v":2.5240518488635179E-3},{"$f":"$C$45*'EoL emissions'!P4","v":-4.6370079685756661E-2},{"$f":"$C$45*'EoL emissions'!Q4","v":-3.5196904875146819E-9}]
[null,"end of life HH",{"$f":"D44*C44","v":0.11},null,{"$f":"$C$46*'EoL emissions'!B5","v":4.9001543330178518E-2},{"$f":"$C$46*'EoL emissions'!C5","v":4.1263198203806873E-10},{"$f":"$C$46*'EoL emissions'!D5","v":8.6772847669603705E-8},{"$f":"$C$46*'EoL emissions'!E5","v":1.8610300559656133E-9},{"$f":"$C$46*'EoL emissions'!F5","v":4.6207403211742055E-10},{"$f":"$C$46*'EoL emissions'!G5","v":2.417663802064051E-4},{"$f":"$C$46*'EoL emissions'!H5","v":4.0043491773106072E-5},{"$f":"$C$46*'EoL emissions'!I5","v":5.9609981408721357E-5},{"$f":"$C$46*'EoL emissions'!J5","v":2.274148586180866E-4},{"$f":"$C$46*'EoL emissions'!K5","v":5.2012081173283574E-6},{"$f":"$C$46*'EoL emissions'!L5","v":1.0843744773221458E-4},{"$f":"$C$46*'EoL emissions'!M5","v":6.2946709924456323},{"$f":"$C$46*'EoL emissions'!N5","v":0.10206444729319192},{"$f":"$C$46*'EoL emissions'!O5","v":2.3955100174092971E-3},{"$f":"$C$46*'EoL emissions'!P5","v":1.6444195794535536E-2},{"$f":"$C$46*'EoL emissions'!Q5","v":1.5975425228271785E-9}]
["SALMON",null,null,null,{"$f":"SUM(E40:E46)","v":10.297069990076723},{"$f":"SUM(F40:F46)","v":1.8632694491013028E-5},6.7953266567013095E-6,8.9519929094574277E-8,5.8207134305299782E-7,0.1864985372637136,2.6855851206776853E-2,6.7541228442738702E-2,0.25527943310277734,1.5754355497933741E-2,0.15424260189968877,27.615226573098891,660.35330558009593,3.4651951672076207,70.00475005456191,4.1104571843931287E-6]
["Seafood","SHRIMP"]
[null,"agriculture ",{"$f":"C50/(1-D49)","v":1.3135322721743952},{"$f":"Calculation_original!D49","v":0},{"$f":"$C$49*'Emissions per kg'!C39","v":8.6824483190727531},{"$f":"$C$49*'Emissions per kg'!D39","v":2.0885163127572885E-7},{"$f":"$C$49*'Emissions per kg'!E39","v":1.5368327584440423E-6},{"$f":"$C$49*'Emissions per kg'!F39","v":4.3083858527320168E-8},{"$f":"$C$49*'Emissions per kg'!G39","v":6.5413907154284888E-7},{"$f":"$C$49*'Emissions per kg'!H39","v":0.10337498982012491},{"$f":"$C$49*'Emissions per kg'!I39","v":3.2444247122707562E-2},{"$f":"$C$49*'Emissions per kg'!J39","v":5.8977599020630343E-2},{"$f":"$C$49*'Emissions per kg'!K39","v":0.16025093720527619},{"$f":"$C$49*'Emissions per kg'!L39","v":1.4448854993918346E-2},{"$f":"$C$49*'Emissions per kg'!M39","v":0.12360338681161059},{"$f":"$C$49*'Emissions per kg'!N39","v":8.0125468602638108},{"$f":"$C$49*'Emissions per kg'!O39","v":455.7956984445151},{"$f":"$C$49*'Emissions per kg'!P39","v":0.78023816967159065},{"$f":"$C$49*'Emissions per kg'!Q39","v":100.22251236690634},{"$f":"$C$49*'Emissions per kg'!R39","v":5.7795419975673394E-6}]
[null,"processsing",{"$f":"(C51/(1-D50))/(1-D51)","v":1.3135322721743952},{"$f":"Calculation_original!D50","v":0.06},{"$f":"$C$50*'Emissions per kg'!C40","v":1.4711561448353228},{"$f":"$C$50*'Emissions per kg'!D40","v":4.3740624663407361E-6},{"$f":"$C$50*'Emissions per kg'!E40","v":6.6727439426459268E-8},{"$f":"$C$50*'Emissions per kg'!F40","v":5.0439639251496775E-9},{"$f":"$C$50*'Emissions per kg'!G40","v":8.4722831555248486E-8},{"$f":"$C$50*'Emissions per kg'!H40","v":2.4431700262443748E-2},{"$f":"$C$50*'Emissions per kg'!I40","v":5.4642942522454838E-3},{"$f":"$C$50*'Emissions per kg'!J40","v":9.1684552597772785E-3},{"$f":"$C$50*'Emissions per kg'!K40","v":2.0228396991485688E-2},{"$f":"$C$50*'Emissions per kg'!L40","v":2.3512227671921674E-5},{"$f":"$C$50*'Emissions per kg'!M40","v":1.8258098583224093E-3},{"$f":"$C$50*'Emissions per kg'!N40","v":0.64757141018197684},{"$f":"$C$50*'Emissions per kg'!O40","v":5.9634365156717539},{"$f":"$C$50*'Emissions per kg'!P40","v":0.95362442959861082},{"$f":"$C$50*'Emissions per kg'!Q40","v":16.025093720527622},{"$f":"$C$50*'Emissions per kg'!R40","v":8.616771705464033E-7}]
[null,"packaging",{"$f":"C52","v":1.2347203358439314},{"$f":"Calculation_original!D51","v":0},{"$f":"$C$51*'Emissions per kg'!C41","v":0.24570934683294235},{"$f":"$C$51*'Emissions per kg'!D41","v":7.9515989628349176E-9},{"$f":"$C$51*'Emissions per kg'!E41","v":4.0745771082849731E-8},{"$f":"$C$51*'Emissions per kg'!F41","v":1.3458451660698851E-9},{"$f":"$C$51*'Emissions per kg'!G41","v":-1.25941474256081E-8},{"$f":"$C$51*'Emissions per kg'!H41","v":8.8529448080009888E-3},{"$f":"$C$51*'Emissions per kg'!I41","v":3.1361896530435857E-4},{"$f":"$C$51*'Emissions per kg'!J41","v":1.043338683788122E-3},{"$f":"$C$51*'Emissions per kg'!K41","v":1.0840844548709718E-3},{"$f":"$C$51*'Emissions per kg'!L41","v":1.0667983701691567E-5},{"$f":"$C$51*'Emissions per kg'!M41","v":1.1458204716631684E-4},{"$f":"$C$51*'Emissions per kg'!N41","v":0.17656500802568217},{"$f":"$C$51*'Emissions per kg'!O41","v":-36.794666008149157},{"$f":"$C$51*'Emissions per kg'!P41","v":-0.10087665143844919},{"$f":"$C$51*'Emissions per kg'!Q41","v":3.2102728731942216},{"$f":"$C$51*'Emissions per kg'!R41","v":2.5064822817631805E-6}]
[null,"retail",{"$f":"(C53/(1-D53))/(1-D52)","v":1.2347203358439314},{"$f":"Calculation_original!D52","v":0.09},{"$f":"$C$52*'Emissions per kg'!C42","v":0.47660204963575753},{"$f":"$C$52*'Emissions per kg'!D42","v":8.4207926904556125E-6},{"$f":"$C$52*'Emissions per kg'!E42","v":2.1484133843684406E-8},{"$f":"$C$52*'Emissions per kg'!F42","v":1.0458081244598099E-9},{"$f":"$C$52*'Emissions per kg'!G42","v":1.382886776145203E-8},{"$f":"$C$52*'Emissions per kg'!H42","v":9.6184714162242252E-3},{"$f":"$C$52*'Emissions per kg'!I42","v":9.6678602296579818E-4},{"$f":"$C$52*'Emissions per kg'!J42","v":9.1739720953204094E-4},{"$f":"$C$52*'Emissions per kg'!K42","v":3.4572169403630079E-3},{"$f":"$C$52*'Emissions per kg'!L42","v":3.0868008396098286E-6},{"$f":"$C$52*'Emissions per kg'!M42","v":3.1485368564020252E-4},{"$f":"$C$52*'Emissions per kg'!N42","v":0.35683417705889614},{"$f":"$C$52*'Emissions per kg'!O42","v":2.5558710951969377},{"$f":"$C$52*'Emissions per kg'!P42","v":5.445116681071737E-2},{"$f":"$C$52*'Emissions per kg'!Q42","v":2.1731077910853194},{"$f":"$C$52*'Emissions per kg'!R42","v":3.6918138041733552E-7}]
[null,"use ",1,{"$f":"Calculation_original!D53","v":0.11},{"$f":"$C$53*'Emissions per kg'!C43","v":0.2122},{"$f":"$C$53*'Emissions per kg'!D43","v":1.6623999999999997E-8},{"$f":"$C$53*'Emissions per kg'!E43","v":2.5400000000000002E-8},{"$f":"$C$53*'Emissions per kg'!F43","v":2.52E-9},{"$f":"$C$53*'Emissions per kg'!G43","v":1.0865E-8},{"$f":"$C$53*'Emissions per kg'!H43","v":9.2710000000000015E-3},{"$f":"$C$53*'Emissions per kg'!I43","v":6.0380000000000004E-4},{"$f":"$C$53*'Emissions per kg'!J43","v":1.4350999999999999E-3},{"$f":"$C$53*'Emissions per kg'!K43","v":5.2100000000000002E-3},{"$f":"$C$53*'Emissions per kg'!L43","v":4.7753199999999997E-4},{"$f":"$C$53*'Emissions per kg'!M43","v":1.3117999999999999E-2},{"$f":"$C$53*'Emissions per kg'!N43","v":0.42309999999999998},{"$f":"$C$53*'Emissions per kg'!O43","v":5.8150000000000004},{"$f":"$C$53*'Emissions per kg'!P43","v":1.3534700000000002},{"$f":"$C$53*'Emissions per kg'!Q43","v":1.8464},{"$f":"$C$53*'Emissions per kg'!R43","v":7.9933999999999996E-7}]
[null,"end of life P&R",{"$f":"D50*C50+D52*C52+C51*D51+C49*D49","v":0.18993676655641753},null,{"$f":"$C$54*'EoL emissions'!B4","v":6.426608869340969E-2},{"$f":"$C$54*'EoL emissions'!C4","v":7.6901137183299627E-10},{"$f":"$C$54*'EoL emissions'!D4","v":7.1314321361832357E-8},{"$f":"$C$54*'EoL emissions'!E4","v":2.8524999297089401E-9},{"$f":"$C$54*'EoL emissions'!F4","v":1.4540263195223757E-9},{"$f":"$C$54*'EoL emissions'!G4","v":4.8693959359219713E-4},{"$f":"$C$54*'EoL emissions'!H4","v":8.6096902268788421E-5},{"$f":"$C$54*'EoL emissions'!I4","v":2.2812777558731836E-4},{"$f":"$C$54*'EoL emissions'!J4","v":9.2255421786754791E-4},{"$f":"$C$54*'EoL emissions'!K4","v":1.816005096895698E-5},{"$f":"$C$54*'EoL emissions'!L4","v":1.0423745808021589E-4},{"$f":"$C$54*'EoL emissions'!M4","v":5.0425302242262751},{"$f":"$C$54*'EoL emissions'!N4","v":0.26063236313603189},{"$f":"$C$54*'EoL emissions'!O4","v":2.5240518488635179E-3},{"$f":"$C$54*'EoL emissions'!P4","v":-4.6370079685756661E-2},{"$f":"$C$54*'EoL emissions'!Q4","v":-3.5196904875146819E-9}]
[null,"end of life HH",{"$f":"D53*C53","v":0.11},null,{"$f":"$C$55*'EoL emissions'!B5","v":4.9001543330178518E-2},{"$f":"$C$55*'EoL emissions'!C5","v":4.1263198203806873E-10},{"$f":"$C$55*'EoL emissions'!D5","v":8.6772847669603705E-8},{"$f":"$C$55*'EoL emissions'!E5","v":1.8610300559656133E-9},{"$f":"$C$55*'EoL emissions'!F5","v":4.6207403211742055E-10},{"$f":"$C$55*'EoL emissions'!G5","v":2.417663802064051E-4},{"$f":"$C$55*'EoL emissions'!H5","v":4.0043491773106072E-5},{"$f":"$C$55*'EoL emissions'!I5","v":5.9609981408721357E-5},{"$f":"$C$55*'EoL emissions'!J5","v":2.274148586180866E-4},{"$f":"$C$55*'EoL emissions'!K5","v":5.2012081173283574E-6},{"$f":"$C$55*'EoL emissions'!L5","v":1.0843744773221458E-4},{"$f":"$C$55*'EoL emissions'!M5","v":6.2946709924456323},{"$f":"$C$55*'EoL emissions'!N5","v":0.10206444729319192},{"$f":"$C$55*'EoL emissions'!O5","v":2.3955100174092971E-3},{"$f":"$C$55*'EoL emissions'!P5","v":1.6444195794535536E-2},{"$f":"$C$55*'EoL emissions'!Q5","v":1.5975425228271785E-9}]
["SHRIMP",null,null,null,{"$f":"SUM(E49:E55)","v":11.201383492400364},{"$f":"SUM(F49:F55)","v":1.3029464030388782E-5},1.849277271828472E-6,5.7753005728674095E-8,7.5287772378558103E-7,0.15627781228059248,3.9918886757265098E-2,7.1829627930723838E-2,0.19138060466848145,1.4987015265217852E-2,0.13918930730855195,20.953818672202271,433.69803685766385,3.0458266765087423,123.44746086782229,1.0314300682329573E-5]
["Dairy","MILK"]
[null,"agriculture ",{"$f":"C59/(1-D58)","v":1.1392345290611641},{"$f":"Calculation_original!D58","v":3.5000000000000003E-2},{"$f":"$C$58*'Emissions per kg'!C46","v":1.424043161326455},{"$f":"$C$58*'Emissions per kg'!D46","v":4.6138998426977144E-9},{"$f":"$C$58*'Emissions per kg'!E46","v":2.3468231298659981E-6},{"$f":"$C$58*'Emissions per kg'!F46","v":1.6291053765574646E-8},{"$f":"$C$58*'Emissions per kg'!G46","v":1.8227752464978624E-7},{"$f":"$C$58*'Emissions per kg'!H46","v":7.5303402370942947E-3},{"$f":"$C$58*'Emissions per kg'!I46","v":1.2189809460954456E-3},{"$f":"$C$58*'Emissions per kg'!J46","v":2.5746700356782306E-2},{"$f":"$C$58*'Emissions per kg'!K46","v":0.11392345290611641},{"$f":"$C$58*'Emissions per kg'!L46","v":1.9139140088227555E-4},{"$f":"$C$58*'Emissions per kg'!M46","v":8.2594503356934398E-3},{"$f":"$C$58*'Emissions per kg'!N46","v":3.4746653136365504},{"$f":"$C$58*'Emissions per kg'!O46","v":117.34115649329991},{"$f":"$C$58*'Emissions per kg'!P46","v":0.13898661254546202},{"$f":"$C$58*'Emissions per kg'!Q46","v":3.3835265513116575},{"$f":"$C$58*'Emissions per kg'!R46","v":2.2784690581223281E-8}]
[null,"processsing",{"$f":"(C60/(1-D59))/(1-D60)","v":1.0993613205440234},{"$f":"Calculation_original!D59","v":1.7000000000000001E-2},{"$f":"$C$59*'Emissions per kg'!C47","v":7.607580338164642E-2},{"$f":"$C$59*'Emissions per kg'!D47","v":6.7830593477566243E-9},{"$f":"$C$59*'Emissions per kg'!E47","v":4.1226049520400869E-9},{"$f":"$C$59*'Emissions per kg'!F47","v":5.9695319705540471E-10},{"$f":"$C$59*'Emissions per kg'!G47","v":1.5500994619670731E-9},{"$f":"$C$59*'Emissions per kg'!H47","v":5.3428960178439535E-3},{"$f":"$C$59*'Emissions per kg'!I47","v":2.0448120562118833E-4},{"$f":"$C$59*'Emissions per kg'!J47","v":3.7268348766442393E-4},{"$f":"$C$59*'Emissions per kg'!K47","v":7.3217463948231957E-4},{"$f":"$C$59*'Emissions per kg'!L47","v":3.9137263011367229E-6},{"$f":"$C$59*'Emissions per kg'!M47","v":6.5302062440314982E-5},{"$f":"$C$59*'Emissions per kg'!N47","v":2.5725054900730147E-2},{"$f":"$C$59*'Emissions per kg'!O47","v":0.67061040553185425},{"$f":"$C$59*'Emissions per kg'!P47","v":0.26934352353328572},{"$f":"$C$59*'Emissions per kg'!Q47","v":1.4181761035017901},{"$f":"$C$59*'Emissions per kg'!R47","v":1.03559836395247E-7}]
[null,"packaging",{"$f":"C61","v":1.080672178094775},{"$f":"Calculation_original!D60","v":0},{"$f":"$C$60*'Emissions per kg'!C48","v":0.10385259631490788},{"$f":"$C$60*'Emissions per kg'!D48","v":1.0233965526557518E-8},{"$f":"$C$60*'Emissions per kg'!E48","v":1.3292267790565732E-8},{"$f":"$C$60*'Emissions per kg'!F48","v":1.7398822067325877E-9},{"$f":"$C$60*'Emissions per kg'!G48","v":4.0201005025125631E-9},{"$f":"$C$60*'Emissions per kg'!H48","v":8.8615118603771557E-3},{"$f":"$C$60*'Emissions per kg'!I48","v":1.6750418760469013E-4},{"$f":"$C$60*'Emissions per kg'!J48","v":5.4898146647214567E-4},{"$f":"$C$60*'Emissions per kg'!K48","v":8.612957259415356E-4},{"$f":"$C$60*'Emissions per kg'!L48","v":1.167125952342357E-5},{"$f":"$C$60*'Emissions per kg'!M48","v":7.7268060733776413E-5},{"$f":"$C$60*'Emissions per kg'!N48","v":9.2073269573674829E-2},{"$f":"$C$60*'Emissions per kg'!O48","v":2.8745879937321015},{"$f":"$C$60*'Emissions per kg'!P48","v":0.11563192305614092},{"$f":"$C$60*'Emissions per kg'!Q48","v":1.1455125087804616},{"$f":"$C$60*'Emissions per kg'!R48","v":7.4458313070729997E-7}]
[null,"retail",{"$f":"(C62/(1-D62))/(1-D61)","v":1.080672178094775},{"$f":"Calculation_original!D61","v":5.0000000000000001E-3},{"$f":"$C$61*'Emissions per kg'!C49","v":0.1642621710704058},{"$f":"$C$61*'Emissions per kg'!D49","v":1.5345544928945805E-6},{"$f":"$C$61*'Emissions per kg'!E49","v":1.6318149889231102E-8},{"$f":"$C$61*'Emissions per kg'!F49","v":7.6835791862538501E-10},{"$f":"$C$61*'Emissions per kg'!G49","v":1.0590587345328796E-8},{"$f":"$C$61*'Emissions per kg'!H49","v":7.2621170367968887E-3},{"$f":"$C$61*'Emissions per kg'!I49","v":7.456638028853947E-4},{"$f":"$C$61*'Emissions per kg'!J49","v":6.8514616091208734E-4},{"$f":"$C$61*'Emissions per kg'!K49","v":2.6692602798940941E-3},{"$f":"$C$61*'Emissions per kg'!L49","v":2.1289241908467068E-6},{"$f":"$C$61*'Emissions per kg'!M49","v":2.4315124007132438E-4},{"$f":"$C$61*'Emissions per kg'!N49","v":0.27881342194845193},{"$f":"$C$61*'Emissions per kg'!O49","v":1.9776300859134384},{"$f":"$C$61*'Emissions per kg'!P49","v":4.3226887123791004E-2},{"$f":"$C$61*'Emissions per kg'!Q49","v":1.6318149889231102},{"$f":"$C$61*'Emissions per kg'!R49","v":2.5071594531798783E-7}]
[null,"use ",1,{"$f":"Calculation_original!D62","v":7.0000000000000007E-2},{"$f":"$C$62*'Emissions per kg'!C50","v":0.11899999999999999},{"$f":"$C$62*'Emissions per kg'!D50","v":1.5399999999999999E-8},{"$f":"$C$62*'Emissions per kg'!E50","v":1.8399999999999999E-8},{"$f":"$C$62*'Emissions per kg'!F50","v":2.2699999999999998E-9},{"$f":"$C$62*'Emissions per kg'!G50","v":7.0299999999999999E-9},{"$f":"$C$62*'Emissions per kg'!H50","v":7.5399999999999998E-3},{"$f":"$C$62*'Emissions per kg'!I50","v":3.8400000000000001E-4},{"$f":"$C$62*'Emissions per kg'!J50","v":7.4799999999999997E-4},{"$f":"$C$62*'Emissions per kg'!K50","v":2.1800000000000001E-3},{"$f":"$C$62*'Emissions per kg'!L50","v":4.8700000000000002E-4},{"$f":"$C$62*'Emissions per kg'!M50","v":3.8600000000000001E-3},{"$f":"$C$62*'Emissions per kg'!N50","v":0.246},{"$f":"$C$62*'Emissions per kg'!O50","v":6.35},{"$f":"$C$62*'Emissions per kg'!P50","v":1.57},{"$f":"$C$62*'Emissions per kg'!Q50","v":1.59},{"$f":"$C$62*'Emissions per kg'!R50","v":7.8999999999999995E-7}]
[null,"end of life P&R",{"$f":"D59*C59+D61*C61+C60*D60+C58*D58","v":6.396571185686302E-2},null,{"$f":"$C$63*'EoL emissions'!B4","v":2.1643129900862004E-2},{"$f":"$C$63*'EoL emissions'!C4","v":2.589828221104797E-10},{"$f":"$C$63*'EoL emissions'!D4","v":2.401678945157641E-8},{"$f":"$C$63*'EoL emissions'!E4","v":9.6064701891872393E-10},{"$f":"$C$63*'EoL emissions'!F4","v":4.8967785581016992E-10},{"$f":"$C$63*'EoL emissions'!G4","v":1.6398845942322936E-4},{"$f":"$C$63*'EoL emissions'!H4","v":2.8995174247414494E-5},{"$f":"$C$63*'EoL emissions'!I4","v":7.6827440122979567E-5},{"$f":"$C$63*'EoL emissions'!J4","v":3.1069201788754637E-4},{"$f":"$C$63*'EoL emissions'!K4","v":6.1158279602554369E-6},{"$f":"$C$63*'EoL emissions'!L4","v":3.5104436750903734E-5},{"$f":"$C$63*'EoL emissions'!M4","v":1.698191672945917},{"$f":"$C$63*'EoL emissions'!N4","v":8.7774131060511157E-2},{"$f":"$C$63*'EoL emissions'!O4","v":8.5003433618119069E-4},{"$f":"$C$63*'EoL emissions'!P4","v":-1.5616224334733312E-2},{"$f":"$C$63*'EoL emissions'!Q4","v":-1.1853392664912612E-9}]
[null,"end of life HH",{"$f":"D62*C62","v":7.0000000000000007E-2},null,{"$f":"$C$64*'EoL emissions'!B5","v":3.1182800301022696E-2},{"$f":"$C$64*'EoL emissions'!C5","v":2.625839885696801E-10},{"$f":"$C$64*'EoL emissions'!D5","v":5.5219084880656913E-8},{"$f":"$C$64*'EoL emissions'!E5","v":1.1842918537962995E-9},{"$f":"$C$64*'EoL emissions'!F5","v":2.9404711134744949E-10},{"$f":"$C$64*'EoL emissions'!G5","v":1.5385133285862143E-4},{"$f":"$C$64*'EoL emissions'!H5","v":2.5482222037431136E-5},{"$f":"$C$64*'EoL emissions'!I5","v":3.7933624532822685E-5},{"$f":"$C$64*'EoL emissions'!J5","v":1.4471854639332783E-4},{"$f":"$C$64*'EoL emissions'!K5","v":3.3098597110271367E-6},{"$f":"$C$64*'EoL emissions'!L5","v":6.9005648556863834E-5},{"$f":"$C$64*'EoL emissions'!M5","v":4.005699722465403},{"$f":"$C$64*'EoL emissions'!N5","v":6.4950102822940323E-2},{"$f":"$C$64*'EoL emissions'!O5","v":1.5244154656240984E-3},{"$f":"$C$64*'EoL emissions'!P5","v":1.0464488232886251E-2},{"$f":"$C$64*'EoL emissions'!Q5","v":1.0166179690718409E-9}]
["MILK",null,null,null,{"$f":"SUM(E58:E64)","v":1.9400596622952997},{"$f":"SUM(F58:F64)","v":1.5721069844222727E-6},2.4781920268300685E-6,2.3811185960703048E-8,2.0625203692675231E-7,3.6854704944394141E-2,2.7751075384915645E-3,2.8216272536486765E-2,0.12082159411571523,7.0553099856896526E-4,1.2609281784246622E-2,9.8211684554707279,129.36670921236075,2.1395633960604847,9.1638784164151712,1.9114748817043385E-6]
["Dairy","CHEESE"]
[null,"agriculture ",{"$f":"C68/(1-D67)","v":1.1104996699928131},{"$f":"Calculation_original!D67","v":3.5000000000000003E-2},{"$f":"$C$67*'Emissions per kg'!C53","v":12.881796171916632},{"$f":"$C$67*'Emissions per kg'!D53","v":4.1976887525728336E-8},{"$f":"$C$67*'Emissions per kg'!E53","v":2.1432643630861296E-5},{"$f":"$C$67*'Emissions per kg'!F53","v":1.4769645610904415E-7},{"$f":"$C$67*'Emissions per kg'!G53","v":1.6657495049892197E-6},{"$f":"$C$67*'Emissions per kg'!H53","v":6.8517829638556571E-2},{"$f":"$C$67*'Emissions per kg'!I53","v":1.1104996699928132E-2},{"$f":"$C$67*'Emissions per kg'!J53","v":0.23431543036848357},{"$f":"$C$67*'Emissions per kg'!K53","v":1.040538190783266},{"$f":"$C$67*'Emissions per kg'!L53","v":1.7323794851887885E-3},{"$f":"$C$67*'Emissions per kg'!M53","v":7.5180827658513444E-2},{"$f":"$C$67*'Emissions per kg'!N53","v":31.649240594795174},{"$f":"$C$67*'Emissions per kg'!O53","v":1068.3006825330863},{"$f":"$C$67*'Emissions per kg'!P53","v":1.2659696237918068},{"$f":"$C$67*'Emissions per kg'!Q53","v":30.760840858800922},{"$f":"$C$67*'Emissions per kg'!R53","v":2.0766343828865604E-7}]
[null,"processsing",{"$f":"(C69/(1-D68))/(1-D69)","v":1.0716321815430647},{"$f":"Calculation_original!D68","v":0},{"$f":"$C$68*'Emissions per kg'!C54","v":2.4111724084718955},{"$f":"$C$68*'Emissions per kg'!D54","v":4.9723733223598209E-7},{"$f":"$C$68*'Emissions per kg'!E54","v":2.8183926374582602E-7},{"$f":"$C$68*'Emissions per kg'!F54","v":8.3801636596667665E-9},{"$f":"$C$68*'Emissions per kg'!G54","v":5.2295650459301559E-8},{"$f":"$C$68*'Emissions per kg'!H54","v":0.15324340196065825},{"$f":"$C$68*'Emissions per kg'!I54","v":4.5115714842963025E-3},{"$f":"$C$68*'Emissions per kg'!J54","v":8.8945471068074371E-3},{"$f":"$C$68*'Emissions per kg'!K54","v":1.8860726395157939E-2},{"$f":"$C$68*'Emissions per kg'!L54","v":4.3293940134339817E-5},{"$f":"$C$68*'Emissions per kg'!M54","v":1.425270801452276E-3},{"$f":"$C$68*'Emissions per kg'!N54","v":1.0694889171799786},{"$f":"$C$68*'Emissions per kg'!O54","v":7.5121415926168833},{"$f":"$C$68*'Emissions per kg'!P54","v":1.6181645941300278},{"$f":"$C$68*'Emissions per kg'!Q54","v":33.649250500452233},{"$f":"$C$68*'Emissions per kg'!R54","v":1.6181645941300277E-6}]
[null,"packaging",{"$f":"C70","v":1.0716321815430647},{"$f":"Calculation_original!D69","v":0},{"$f":"$C$69*'Emissions per kg'!C55","v":0.12752422960362469},{"$f":"$C$69*'Emissions per kg'!D55","v":4.0079043589710619E-9},{"$f":"$C$69*'Emissions per kg'!E55","v":2.3147255121330201E-8},{"$f":"$C$69*'Emissions per kg'!F55","v":1.125213790620218E-9},{"$f":"$C$69*'Emissions per kg'!G55","v":-1.553866663237444E-8},{"$f":"$C$69*'Emissions per kg'!H55","v":2.7648110283811068E-3},{"$f":"$C$69*'Emissions per kg'!I55","v":6.0975871129800387E-5},{"$f":"$C$69*'Emissions per kg'!J55","v":2.4861866611799099E-4},{"$f":"$C$69*'Emissions per kg'!K55","v":3.3006271191526393E-4},{"$f":"$C$69*'Emissions per kg'!L55","v":5.3045792986381708E-6},{"$f":"$C$69*'Emissions per kg'!M55","v":9.1731714740086337E-5},{"$f":"$C$69*'Emissions per kg'!N55","v":0.15967319504991664},{"$f":"$C$69*'Emissions per kg'!O55","v":-32.256128664446251},{"$f":"$C$69*'Emissions per kg'!P55","v":-0.11466464342510792},{"$f":"$C$69*'Emissions per kg'!Q55","v":1.5645829850528745},{"$f":"$C$69*'Emissions per kg'!R55","v":4.190081829833383E-7}]
[null,"retail",{"$f":"(C71/(1-D71))/(1-D70)","v":1.0716321815430647},{"$f":"Calculation_original!D70","v":3.4000000000000002E-2},{"$f":"$C$70*'Emissions per kg'!C56","v":1.1144974688047873},{"$f":"$C$70*'Emissions per kg'!D56","v":2.282576546686728E-5},{"$f":"$C$70*'Emissions per kg'!E56","v":1.9718032140392391E-8},{"$f":"$C$70*'Emissions per kg'!F56","v":1.0180505724659115E-9},{"$f":"$C$70*'Emissions per kg'!G56","v":1.2752422960362471E-8},{"$f":"$C$70*'Emissions per kg'!H56","v":8.62663906142167E-3},{"$f":"$C$70*'Emissions per kg'!I56","v":8.7230859577605471E-4},{"$f":"$C$70*'Emissions per kg'!J56","v":8.8731144631765753E-4},{"$f":"$C$70*'Emissions per kg'!K56","v":3.1077333264748876E-3},{"$f":"$C$70*'Emissions per kg'!L56","v":3.1291659701057492E-6},{"$f":"$C$70*'Emissions per kg'!M56","v":2.8291089592736912E-4},{"$f":"$C$70*'Emissions per kg'!N56","v":0.31184496482903179},{"$f":"$C$70*'Emissions per kg'!O56","v":2.2289949376095746},{"$f":"$C$70*'Emissions per kg'!P56","v":5.3152956204536007E-2},{"$f":"$C$70*'Emissions per kg'!Q56","v":2.0039521794855313},{"$f":"$C$70*'Emissions per kg'!R56","v":2.2182786157941443E-6}]
[null,"use ",1,{"$f":"Calculation_original!D71","v":3.4000000000000002E-2},{"$f":"$C$71*'Emissions per kg'!C57","v":0.22900000000000001},{"$f":"$C$71*'Emissions per kg'!D57","v":3.2100000000000003E-8},{"$f":"$C$71*'Emissions per kg'!E57","v":4.29E-8},{"$f":"$C$71*'Emissions per kg'!F57","v":3.72E-9},{"$f":"$C$71*'Emissions per kg'!G57","v":1.7599999999999999E-8},{"$f":"$C$71*'Emissions per kg'!H57","v":1.12E-2},{"$f":"$C$71*'Emissions per kg'!I57","v":9.1699999999999995E-4},{"$f":"$C$71*'Emissions per kg'!J57","v":2.2100000000000002E-3},{"$f":"$C$71*'Emissions per kg'!K57","v":8.1600000000000006E-3},{"$f":"$C$71*'Emissions per kg'!L57","v":2.0500000000000002E-3},{"$f":"$C$71*'Emissions per kg'!M57","v":2.1399999999999999E-2},{"$f":"$C$71*'Emissions per kg'!N57","v":0.86299999999999999},{"$f":"$C$71*'Emissions per kg'!O57","v":7.2},{"$f":"$C$71*'Emissions per kg'!P57","v":1.67},{"$f":"$C$71*'Emissions per kg'!Q57","v":2.5499999999999998},{"$f":"$C$71*'Emissions per kg'!R57","v":1.6500000000000001E-6}]
[null,"end of life P&R",{"$f":"D68*C68+D70*C70+C69*D69+C67*D67","v":7.5302982622212661E-2},null,{"$f":"$C$72*'EoL emissions'!B4","v":2.5479154182820821E-2},{"$f":"$C$72*'EoL emissions'!C4","v":3.0488488889918629E-10},{"$f":"$C$72*'EoL emissions'!D4","v":2.8273520706849711E-8},{"$f":"$C$72*'EoL emissions'!E4","v":1.1309119162715233E-9},{"$f":"$C$72*'EoL emissions'!F4","v":5.7646826707829832E-10},{"$f":"$C$72*'EoL emissions'!G4","v":1.9305374319641744E-4},{"$f":"$C$72*'EoL emissions'!H4","v":3.4134273489630799E-5},{"$f":"$C$72*'EoL emissions'!I4","v":9.0444321192512342E-5},{"$f":"$C$72*'EoL emissions'!J4","v":3.6575901283174538E-4},{"$f":"$C$72*'EoL emissions'!K4","v":7.1997961602008676E-6},{"$f":"$C$72*'EoL emissions'!L4","v":4.1326340532740336E-5},{"$f":"$C$72*'EoL emissions'!M4","v":1.9991788463667701},{"$f":"$C$72*'EoL emissions'!N4","v":0.1033312015774952},{"$f":"$C$72*'EoL emissions'!O4","v":1.0006942624037802E-3},{"$f":"$C$72*'EoL emissions'!P4","v":-1.838404100519405E-2},{"$f":"$C$72*'EoL emissions'!Q4","v":-1.3954285756368221E-9}]
[null,"end of life HH",{"$f":"D71*C71","v":3.4000000000000002E-2},null,{"$f":"$C$73*'EoL emissions'!B5","v":1.5145931574782452E-2},{"$f":"$C$73*'EoL emissions'!C5","v":1.2754079444813033E-10},{"$f":"$C$73*'EoL emissions'!D5","v":2.6820698370604786E-8},{"$f":"$C$73*'EoL emissions'!E5","v":5.7522747184391689E-10},{"$f":"$C$73*'EoL emissions'!F5","v":1.4282288265447546E-10},{"$f":"$C$73*'EoL emissions'!G5","v":7.4727790245616128E-5},{"$f":"$C$73*'EoL emissions'!H5","v":1.2377079275323695E-5},{"$f":"$C$73*'EoL emissions'!I5","v":1.8424903344513875E-5},{"$f":"$C$73*'EoL emissions'!J5","v":7.0291865391044952E-5},{"$f":"$C$73*'EoL emissions'!K5","v":1.6076461453560379E-6},{"$f":"$C$73*'EoL emissions'!L5","v":3.3517029299048144E-5},{"$f":"$C$73*'EoL emissions'!M5","v":1.9456255794831956},{"$f":"$C$73*'EoL emissions'!N5","v":3.1547192799713866E-2},{"$f":"$C$73*'EoL emissions'!O5","v":7.404303690174192E-4},{"$f":"$C$73*'EoL emissions'!P5","v":5.0827514274018933E-3},{"$f":"$C$73*'EoL emissions'!Q5","v":4.93785870692037E-10}]
["CHEESE",null,null,null,{"$f":"SUM(E67:E73)","v":16.804615364554543},{"$f":"SUM(F67:F73)","v":2.3401520016671307E-5},2.18553424009463E-5,1.6364602351991246E-7,1.7335782029262421E-6,0.24462046322245962,1.7513364003895249E-2,0.24666477681226368,1.0714327640950365,3.8429146128974292E-3,9.8455584440464955E-2,37.998052097704075,1053.1205687932436,4.494363655332684,70.51532523421379,6.1122131884912229E-6]
["Dairy","BUTTER"]
[null,"agriculture ",{"$f":"C77/(1-D76)","v":1.1104996699928131},{"$f":"Calculation_original!D76","v":3.5000000000000003E-2},{"$f":"$C$76*'Emissions per kg'!C60","v":31.093990759798768},{"$f":"$C$76*'Emissions per kg'!D60","v":1.0127756990334456E-7},{"$f":"$C$76*'Emissions per kg'!E60","v":5.1638234654665811E-5},{"$f":"$C$76*'Emissions per kg'!F60","v":3.5758089373768582E-7},{"$f":"$C$76*'Emissions per kg'!G60","v":4.0089038086740554E-6},{"$f":"$C$76*'Emissions per kg'!H60","v":0.16546445082892916},{"$f":"$C$76*'Emissions per kg'!I60","v":2.6763042046826797E-2},{"$f":"$C$76*'Emissions per kg'!J60","v":0.56413383235634906},{"$f":"$C$76*'Emissions per kg'!K60","v":2.5097292541837573},{"$f":"$C$76*'Emissions per kg'!L60","v":4.1865837558729057E-3},{"$f":"$C$76*'Emissions per kg'!M60","v":0.18101144620882856},{"$f":"$C$76*'Emissions per kg'!N60","v":76.180277361506981},{"$f":"$C$76*'Emissions per kg'!O60","v":2576.3592343833266},{"$f":"$C$76*'Emissions per kg'!P60","v":3.0538740924802363},{"$f":"$C$76*'Emissions per kg'!Q60","v":74.18137795551992},{"$f":"$C$76*'Emissions per kg'!R60","v":4.9972485149676587E-7}]
[null,"processsing",{"$f":"(C78/(1-D77))/(1-D78)","v":1.0716321815430647},{"$f":"Calculation_original!D77","v":0},{"$f":"$C$77*'Emissions per kg'!C61","v":0.54117425167924771},{"$f":"$C$77*'Emissions per kg'!D61","v":1.0051909862873948E-7},{"$f":"$C$77*'Emissions per kg'!E61","v":6.858445961875615E-8},{"$f":"$C$77*'Emissions per kg'!F61","v":3.547102520907544E-9},{"$f":"$C$77*'Emissions per kg'!G61","v":2.6576478102268005E-8},{"$f":"$C$77*'Emissions per kg'!H61","v":4.5330041279271635E-2},{"$f":"$C$77*'Emissions per kg'!I61","v":2.0896827540089762E-3},{"$f":"$C$77*'Emissions per kg'!J61","v":2.8719742465354134E-3},{"$f":"$C$77*'Emissions per kg'!K61","v":7.7264680289254968E-3},{"$f":"$C$77*'Emissions per kg'!L61","v":2.0896827540089763E-5},{"$f":"$C$77*'Emissions per kg'!M61","v":6.8905949273219066E-4},{"$f":"$C$77*'Emissions per kg'!N61","v":0.65798215946744176},{"$f":"$C$77*'Emissions per kg'!O61","v":5.7225158494399651},{"$f":"$C$77*'Emissions per kg'!P61","v":0.52831466550073092},{"$f":"$C$77*'Emissions per kg'!Q61","v":8.7552349232068387},{"$f":"$C$77*'Emissions per kg'!R61","v":8.9481287158845908E-7}]
[null,"packaging",{"$f":"C79","v":1.0716321815430647},{"$f":"Calculation_original!D78","v":0},{"$f":"$C$78*'Emissions per kg'!C62","v":0.21754133285324215},{"$f":"$C$78*'Emissions per kg'!D62","v":7.0513397545533649E-8},{"$f":"$C$78*'Emissions per kg'!E62","v":1.8110583868077794E-8},{"$f":"$C$78*'Emissions per kg'!F62","v":3.7399963135852963E-9},{"$f":"$C$78*'Emissions per kg'!G62","v":1.8110583868077794E-8},{"$f":"$C$78*'Emissions per kg'!H62","v":6.4726583765201112E-3},{"$f":"$C$78*'Emissions per kg'!I62","v":6.8691622836910442E-4},{"$f":"$C$78*'Emissions per kg'!J62","v":1.4145544796368454E-3},{"$f":"$C$78*'Emissions per kg'!K62","v":2.4433213739181877E-3},{"$f":"$C$78*'Emissions per kg'!L62","v":1.0823485033584954E-5},{"$f":"$C$78*'Emissions per kg'!M62","v":2.3040091903175891E-4},{"$f":"$C$78*'Emissions per kg'!N62","v":0.14252708014522761},{"$f":"$C$78*'Emissions per kg'!O62","v":5.6046363094702292},{"$f":"$C$78*'Emissions per kg'!P62","v":0.13288239051134002},{"$f":"$C$78*'Emissions per kg'!Q62","v":3.2899107973372086},{"$f":"$C$78*'Emissions per kg'!R62","v":4.1043512553099378E-6}]
[null,"retail",{"$f":"(C80/(1-D80))/(1-D79)","v":1.0716321815430647},{"$f":"Calculation_original!D79","v":3.4000000000000002E-2},{"$f":"$C$79*'Emissions per kg'!C63","v":1.1037811469893566},{"$f":"$C$79*'Emissions per kg'!D63","v":2.282576546686728E-5},{"$f":"$C$79*'Emissions per kg'!E63","v":1.7896257431769181E-8},{"$f":"$C$79*'Emissions per kg'!F63","v":9.3874979103172458E-10},{"$f":"$C$79*'Emissions per kg'!G63","v":1.1573627560665101E-8},{"$f":"$C$79*'Emissions per kg'!H63","v":7.9300781434186798E-3},{"$f":"$C$79*'Emissions per kg'!I63","v":7.7907659598180803E-4},{"$f":"$C$79*'Emissions per kg'!J63","v":7.9836597524958323E-4},{"$f":"$C$79*'Emissions per kg'!K63","v":2.7648110283811068E-3},{"$f":"$C$79*'Emissions per kg'!L63","v":3.0112864301360119E-6},{"$f":"$C$79*'Emissions per kg'!M63","v":2.5183356266262019E-4},{"$f":"$C$79*'Emissions per kg'!N63","v":0.27969599938273992},{"$f":"$C$79*'Emissions per kg'!O63","v":2.0146685013009615},{"$f":"$C$79*'Emissions per kg'!P63","v":5.1759834368530031E-2},{"$f":"$C$79*'Emissions per kg'!Q63","v":1.8432073522540713},{"$f":"$C$79*'Emissions per kg'!R63","v":3.9436064280784782E-7}]
[null,"use ",1,{"$f":"Calculation_original!D80","v":3.4000000000000002E-2},{"$f":"$C$80*'Emissions per kg'!C64","v":0.27200000000000002},{"$f":"$C$80*'Emissions per kg'!D64","v":3.8799999999999997E-8},{"$f":"$C$80*'Emissions per kg'!E64","v":2.88E-8},{"$f":"$C$80*'Emissions per kg'!F64","v":4.3899999999999999E-9},{"$f":"$C$80*'Emissions per kg'!G64","v":1.2299999999999999E-8},{"$f":"$C$80*'Emissions per kg'!H64","v":1.46E-2},{"$f":"$C$80*'Emissions per kg'!I64","v":7.6999999999999996E-4},{"$f":"$C$80*'Emissions per kg'!J64","v":1.06E-3},{"$f":"$C$80*'Emissions per kg'!K64","v":2.4499999999999999E-3},{"$f":"$C$80*'Emissions per kg'!L64","v":1.35E-4},{"$f":"$C$80*'Emissions per kg'!M64","v":8.9599999999999999E-4},{"$f":"$C$80*'Emissions per kg'!N64","v":0.46100000000000002},{"$f":"$C$80*'Emissions per kg'!O64","v":7.82},{"$f":"$C$80*'Emissions per kg'!P64","v":1.72},{"$f":"$C$80*'Emissions per kg'!Q64","v":3.41},{"$f":"$C$80*'Emissions per kg'!R64","v":2.3E-6}]
[null,"end of life P&R",{"$f":"D77*C77+D79*C79+C78*D78+C76*D76","v":7.5302982622212661E-2},null,{"$f":"$C$81*'EoL emissions'!B4","v":2.5479154182820821E-2},{"$f":"$C$81*'EoL emissions'!C4","v":3.0488488889918629E-10},{"$f":"$C$81*'EoL emissions'!D4","v":2.8273520706849711E-8},{"$f":"$C$81*'EoL emissions'!E4","v":1.1309119162715233E-9},{"$f":"$C$81*'EoL emissions'!F4","v":5.7646826707829832E-10},{"$f":"$C$81*'EoL emissions'!G4","v":1.9305374319641744E-4},{"$f":"$C$81*'EoL emissions'!H4","v":3.4134273489630799E-5},{"$f":"$C$81*'EoL emissions'!I4","v":9.0444321192512342E-5},{"$f":"$C$81*'EoL emissions'!J4","v":3.6575901283174538E-4},{"$f":"$C$81*'EoL emissions'!K4","v":7.1997961602008676E-6},{"$f":"$C$81*'EoL emissions'!L4","v":4.1326340532740336E-5},{"$f":"$C$81*'EoL emissions'!M4","v":1.9991788463667701},{"$f":"$C$81*'EoL emissions'!N4","v":0.1033312015774952},{"$f":"$C$81*'EoL emissions'!O4","v":1.0006942624037802E-3},{"$f":"$C$81*'EoL emissions'!P4","v":-1.838404100519405E-2},{"$f":"$C$81*'EoL emissions'!Q4","v":-1.3954285756368221E-9}]
[null,"end of life HH",{"$f":"D80*C80","v":3.4000000000000002E-2},null,{"$f":"$C$82*'EoL emissions'!B5","v":1.5145931574782452E-2},{"$f":"$C$82*'EoL emissions'!C5","v":1.2754079444813033E-10},{"$f":"$C$82*'EoL emissions'!D5","v":2.6820698370604786E-8},{"$f":"$C$82*'EoL emissions'!E5","v":5.7522747184391689E-10},{"$f":"$C$82*'EoL emissions'!F5","v":1.4282288265447546E-10},{"$f":"$C$82*'EoL emissions'!G5","v":7.4727790245616128E-5},{"$f":"$C$82*'EoL emissions'!H5","v":1.2377079275323695E-5},{"$f":"$C$82*'EoL emissions'!I5","v":1.8424903344513875E-5},{"$f":"$C$82*'EoL emissions'!J5","v":7.0291865391044952E-5},{"$f":"$C$82*'EoL emissions'!K5","v":1.6076461453560379E-6},{"$f":"$C$82*'EoL emissions'!L5","v":3.3517029299048144E-5},{"$f":"$C$82*'EoL emissions'!M5","v":1.9456255794831956},{"$f":"$C$82*'EoL emissions'!N5","v":3.1547192799713866E-2},{"$f":"$C$82*'EoL emissions'!O5","v":7.404303690174192E-4},{"$f":"$C$82*'EoL emissions'!P5","v":5.0827514274018933E-3},{"$f":"$C$82*'EoL emissions'!Q5","v":4.93785870692037E-10}]
["BUTTER",null,null,null,{"$f":"SUM(E76:E82)","v":33.269112577078218},{"$f":"SUM(F76:F82)","v":2.3137307958628242E-5},5.1826720174661878E-5,3.719028817513258E-7,4.078183789354799E-6,0.2400650101615816,3.1135228977951641E-2,0.57038759628230795,2.5255499054932042,4.3651227971822724E-3,0.18315358355308692,81.66628702635235,2597.6559334379149,5.4885721074922582,91.46642973874026,8.192347978498066E-6]
["Eggs1","EGGS"]
[null,"agriculture ",{"$f":"C86/(1-D85)","v":1.1264732016531218},{"$f":"Calculation_original!D85","v":0},{"$f":"$C$85*'Emissions per kg'!C67","v":5.5535128841498906},{"$f":"$C$85*'Emissions per kg'!D67","v":6.3983677853897321E-8},{"$f":"$C$85*'Emissions per kg'!E67","v":8.6400494566794442E-6},{"$f":"$C$85*'Emissions per kg'!F67","v":8.4372842803818828E-8},{"$f":"$C$85*'Emissions per kg'!G67","v":1.1827968617357778E-6},{"$f":"$C$85*'Emissions per kg'!H67","v":0.10228376671010346},{"$f":"$C$85*'Emissions per kg'!I67","v":7.6487530392246967E-3},{"$f":"$C$85*'Emissions per kg'!J67","v":0.15320035542482457},{"$f":"$C$85*'Emissions per kg'!K67","v":0.67588392099187311},{"$f":"$C$85*'Emissions per kg'!L67","v":8.6175199926463817E-4},{"$f":"$C$85*'Emissions per kg'!M67","v":3.5258611211742716E-2},{"$f":"$C$85*'Emissions per kg'!N67","v":19.600633708764317},{"$f":"$C$85*'Emissions per kg'!O67","v":816.69307119851328},{"$f":"$C$85*'Emissions per kg'!P67","v":1.4306209660994647},{"$f":"$C$85*'Emissions per kg'!Q67","v":23.205347954054311},{"$f":"$C$85*'Emissions per kg'!R67","v":1.6559156064300893E-7}]
[null,"processsing",{"$f":"(C87/(1-D86))/(1-D87)","v":1.1264732016531218},{"$f":"Calculation_original!D86","v":1.0999999999999999E-2},{"$f":"$C$86*'Emissions per kg'!C68","v":0.11940615937523091},{"$f":"$C$86*'Emissions per kg'!D68","v":1.2165910577853717E-6},{"$f":"$C$86*'Emissions per kg'!E68","v":5.0916588714721105E-9},{"$f":"$C$86*'Emissions per kg'!F68","v":5.6774249363317337E-10},{"$f":"$C$86*'Emissions per kg'!G68","v":2.8049182721162732E-9},{"$f":"$C$86*'Emissions per kg'!H68","v":8.3359016922331022E-3},{"$f":"$C$86*'Emissions per kg'!I68","v":2.1966227432235875E-4},{"$f":"$C$86*'Emissions per kg'!J68","v":3.8750678136867395E-4},{"$f":"$C$86*'Emissions per kg'!K68","v":7.7163414313238842E-4},{"$f":"$C$86*'Emissions per kg'!L68","v":5.553512884149891E-6},{"$f":"$C$86*'Emissions per kg'!M68","v":7.0742517063816047E-5},{"$f":"$C$86*'Emissions per kg'!N68","v":3.5258611211742716E-2},{"$f":"$C$86*'Emissions per kg'!O68","v":0.76149588431751036},{"$f":"$C$86*'Emissions per kg'!P68","v":3.559655317223865E-2},{"$f":"$C$86*'Emissions per kg'!Q68","v":1.3742973060168087},{"$f":"$C$86*'Emissions per kg'!R68","v":1.3405031099672148E-7}]
[null,"packaging",{"$f":"C88","v":1.1140819964349375},{"$f":"Calculation_original!D87","v":0},{"$f":"$C$87*'Emissions per kg'!C69","v":0.11475044563279856},{"$f":"$C$87*'Emissions per kg'!D69","v":3.5539215686274508E-9},{"$f":"$C$87*'Emissions per kg'!E69","v":2.1278966131907307E-8},{"$f":"$C$87*'Emissions per kg'!F69","v":6.8070409982174682E-10},{"$f":"$C$87*'Emissions per kg'!G69","v":-8.4781639928698744E-9},{"$f":"$C$87*'Emissions per kg'!H69","v":3.7655971479500891E-3},{"$f":"$C$87*'Emissions per kg'!I69","v":1.2032085561497325E-4},{"$f":"$C$87*'Emissions per kg'!J69","v":4.5231729055258464E-4},{"$f":"$C$87*'Emissions per kg'!K69","v":4.3226381461675578E-4},{"$f":"$C$87*'Emissions per kg'!L69","v":5.1693404634581099E-6},{"$f":"$C$87*'Emissions per kg'!M69","v":5.5035650623885914E-5},{"$f":"$C$87*'Emissions per kg'!N69","v":9.0240641711229946E-2},{"$f":"$C$87*'Emissions per kg'!O69","v":-21.501782531194294},{"$f":"$C$87*'Emissions per kg'!P69","v":-6.9518716577540093E-2},{"$f":"$C$87*'Emissions per kg'!Q69","v":1.5262923351158646},{"$f":"$C$87*'Emissions per kg'!R69","v":1.4148841354723705E-6}]
[null,"retail",{"$f":"(C89/(1-D89))/(1-D88)","v":1.1140819964349375},{"$f":"Calculation_original!D88","v":0.04},{"$f":"$C$88*'Emissions per kg'!C70","v":0.11140819964349376},{"$f":"$C$88*'Emissions per kg'!D70","v":9.547682709447416E-8},{"$f":"$C$88*'Emissions per kg'!E70","v":1.7602495543672011E-8},{"$f":"$C$88*'Emissions per kg'!F70","v":8.1327985739750441E-10},{"$f":"$C$88*'Emissions per kg'!G70","v":1.1363636363636363E-8},{"$f":"$C$88*'Emissions per kg'!H70","v":7.7094474153297675E-3},{"$f":"$C$88*'Emissions per kg'!I70","v":8.043672014260249E-4},{"$f":"$C$88*'Emissions per kg'!J70","v":7.297237076648841E-4},{"$f":"$C$88*'Emissions per kg'!K70","v":2.8854723707664883E-3},{"$f":"$C$88*'Emissions per kg'!L70","v":2.1501782531194295E-6},{"$f":"$C$88*'Emissions per kg'!M70","v":2.6292335115864527E-4},{"$f":"$C$88*'Emissions per kg'!N70","v":0.30191622103386812},{"$f":"$C$88*'Emissions per kg'!O70","v":2.1390374331550799},{"$f":"$C$88*'Emissions per kg'!P70","v":4.4451871657754008E-2},{"$f":"$C$88*'Emissions per kg'!Q70","v":1.7379679144385027},{"$f":"$C$88*'Emissions per kg'!R70","v":2.5846702317290554E-7}]
[null,"use ",1,{"$f":"Calculation_original!D89","v":6.5000000000000002E-2},{"$f":"$C$89*'Emissions per kg'!C71","v":0.61220000000000008},{"$f":"$C$89*'Emissions per kg'!D71","v":3.4675999999999999E-8},{"$f":"$C$89*'Emissions per kg'!E71","v":3.1759999999999995E-8},{"$f":"$C$89*'Emissions per kg'!F71","v":4.5500000000000002E-9},{"$f":"$C$89*'Emissions per kg'!G71","v":1.5612000000000001E-8},{"$f":"$C$89*'Emissions per kg'!H71","v":3.5699999999999996E-2},{"$f":"$C$89*'Emissions per kg'!I71","v":1.3037000000000001E-3},{"$f":"$C$89*'Emissions per kg'!J71","v":2.7806000000000003E-3},{"$f":"$C$89*'Emissions per kg'!K71","v":7.3010000000000002E-3},{"$f":"$C$89*'Emissions per kg'!L71","v":8.8158499999999994E-4},{"$f":"$C$89*'Emissions per kg'!M71","v":1.1429E-2},{"$f":"$C$89*'Emissions per kg'!N71","v":0.21919999999999998},{"$f":"$C$89*'Emissions per kg'!O71","v":8.0250000000000004},{"$f":"$C$89*'Emissions per kg'!P71","v":1.4438199999999999},{"$f":"$C$89*'Emissions per kg'!Q71","v":7.2911000000000001},{"$f":"$C$89*'Emissions per kg'!R71","v":1.2925699999999999E-6}]
[null,"end of life P&R",{"$f":"D86*C86+D88*C88+C87*D87+C85*D85","v":5.6954485075581845E-2},null,{"$f":"$C$90*'EoL emissions'!B4","v":1.9270845006554366E-2},{"$f":"$C$90*'EoL emissions'!C4","v":2.3059593723790941E-10},{"$f":"$C$90*'EoL emissions'!D4","v":2.1384329770988689E-8},{"$f":"$C$90*'EoL emissions'!E4","v":8.5535132360194881E-10},{"$f":"$C$90*'EoL emissions'!F4","v":4.3600468627616678E-10},{"$f":"$C$90*'EoL emissions'!G4","v":1.460138251206827E-4},{"$f":"$C$90*'EoL emissions'!H4","v":2.5817038081802902E-5},{"$f":"$C$90*'EoL emissions'!I4","v":6.8406450344379662E-5},{"$f":"$C$90*'EoL emissions'!J4","v":2.7663733244266399E-4},{"$f":"$C$90*'EoL emissions'!K4","v":5.4454773061330674E-6},{"$f":"$C$90*'EoL emissions'!L4","v":3.1256669565251442E-5},{"$f":"$C$90*'EoL emissions'!M4","v":1.5120543410617628},{"$f":"$C$90*'EoL emissions'!N4","v":7.8153283882694408E-2},{"$f":"$C$90*'EoL emissions'!O4","v":7.5686280209151437E-4},{"$f":"$C$90*'EoL emissions'!P4","v":-1.3904543387240977E-2},{"$f":"$C$90*'EoL emissions'!Q4","v":-1.0554152467488617E-9}]
[null,"end of life HH",{"$f":"D89*C89","v":6.5000000000000002E-2},null,{"$f":"$C$91*'EoL emissions'!B5","v":2.8955457422378216E-2},{"$f":"$C$91*'EoL emissions'!C5","v":2.438279893861315E-10},{"$f":"$C$91*'EoL emissions'!D5","v":5.1274864532038557E-8},{"$f":"$C$91*'EoL emissions'!E5","v":1.0996995785251351E-9},{"$f":"$C$91*'EoL emissions'!F5","v":2.7304374625120307E-10},{"$f":"$C$91*'EoL emissions'!G5","v":1.4286195194014847E-4},{"$f":"$C$91*'EoL emissions'!H5","v":2.3662063320471768E-5},{"$f":"$C$91*'EoL emissions'!I5","v":3.5224079923335352E-5},{"$f":"$C$91*'EoL emissions'!J5","v":1.3438150736523298E-4},{"$f":"$C$91*'EoL emissions'!K5","v":3.0734411602394841E-6},{"$f":"$C$91*'EoL emissions'!L5","v":6.4076673659944981E-5},{"$f":"$C$91*'EoL emissions'!M5","v":3.7195783137178737},{"$f":"$C$91*'EoL emissions'!N5","v":6.0310809764158861E-2},{"$f":"$C$91*'EoL emissions'!O5","v":1.4155286466509484E-3},{"$f":"$C$91*'EoL emissions'!P5","v":9.717024787680089E-3},{"$f":"$C$91*'EoL emissions'!Q5","v":9.4400239985242373E-10}]
["EGGS",null,null,null,{"$f":"SUM(E85:E91)","v":6.5595039912303461},{"$f":"SUM(F85:F91)","v":1.4147559082289946E-6},8.7884417715295239E-6,9.293962015679834E-8,1.2048083008111881E-6,0.15808358874267728,1.0146282471990327E-2,0.15765413373467843,0.68768531016019674,1.7647289493317384E-3,4.7171646073814251E-2,25.478881837500793,806.2552860784383,2.8871430658006596,35.130817991025928,3.2654516174381096E-6]
["Legumes","BEANS"]
[null,"agriculture ",{"$f":"C95/(1-D94)","v":1.1075668970405814},{"$f":"Calculation_original!D94","v":0},{"$f":"$C$94*'Emissions per kg'!C74","v":1.2737019315966684},{"$f":"$C$94*'Emissions per kg'!D74","v":1.9050150629097997E-8},{"$f":"$C$94*'Emissions per kg'!E74","v":1.1009214956583378E-6},{"$f":"$C$94*'Emissions per kg'!F74","v":4.2087542087542098E-8},{"$f":"$C$94*'Emissions per kg'!G74","v":4.585326953748007E-7},{"$f":"$C$94*'Emissions per kg'!H74","v":5.5378344852029075E-3},{"$f":"$C$94*'Emissions per kg'!I74","v":9.8684210526315793E-4},{"$f":"$C$94*'Emissions per kg'!J74","v":6.5235690235690244E-2},{"$f":"$C$94*'Emissions per kg'!K74","v":0.29018252702463232},{"$f":"$C$94*'Emissions per kg'!L74","v":3.4777600567074255E-3},{"$f":"$C$94*'Emissions per kg'!M74","v":3.9540138224348757E-2},{"$f":"$C$94*'Emissions per kg'!N74","v":1.727804359383307},{"$f":"$C$94*'Emissions per kg'!O74","v":466.28566365408477},{"$f":"$C$94*'Emissions per kg'!P74","v":0.87608541555909991},{"$f":"$C$94*'Emissions per kg'!Q74","v":4.6407052986000368},{"$f":"$C$94*'Emissions per kg'!R74","v":1.1961722488038279E-6}]
[null,"processsing",{"$f":"(C96/(1-D95))/(1-D96)","v":1.1075668970405814},{"$f":"Calculation_original!D95","v":0.05},{"$f":"$C$95*'Emissions per kg'!C75","v":8.3953570795676072E-2},{"$f":"$C$95*'Emissions per kg'!D75","v":1.2072479177742338E-8},{"$f":"$C$95*'Emissions per kg'!E75","v":8.5393407761828818E-9},{"$f":"$C$95*'Emissions per kg'!F75","v":6.866914761651605E-10},{"$f":"$C$95*'Emissions per kg'!G75","v":4.2198298777246153E-9},{"$f":"$C$95*'Emissions per kg'!H75","v":9.4586213007265656E-3},{"$f":"$C$95*'Emissions per kg'!I75","v":4.3195108984582677E-4},{"$f":"$C$95*'Emissions per kg'!J75","v":6.601098706361865E-4},{"$f":"$C$95*'Emissions per kg'!K75","v":1.5616693248272197E-3},{"$f":"$C$95*'Emissions per kg'!L75","v":5.6375155059365597E-6},{"$f":"$C$95*'Emissions per kg'!M75","v":1.4176856282119442E-4},{"$f":"$C$95*'Emissions per kg'!N75","v":9.8794967216019866E-2},{"$f":"$C$95*'Emissions per kg'!O75","v":1.1518695729222048},{"$f":"$C$95*'Emissions per kg'!P75","v":1.7831827042353362E-2},{"$f":"$C$95*'Emissions per kg'!Q75","v":1.6170476696792488},{"$f":"$C$95*'Emissions per kg'!R75","v":1.7499556973241188E-7}]
[null,"packaging",{"$f":"C97","v":1.0521885521885523},{"$f":"Calculation_original!D96","v":0},{"$f":"$C$96*'Emissions per kg'!C76","v":9.0067340067340074E-2},{"$f":"$C$96*'Emissions per kg'!D76","v":3.8510101010101016E-9},{"$f":"$C$96*'Emissions per kg'!E76","v":4.1666666666666676E-9},{"$f":"$C$96*'Emissions per kg'!F76","v":5.9238215488215495E-10},{"$f":"$C$96*'Emissions per kg'!G76","v":3.4090909090909095E-9},{"$f":"$C$96*'Emissions per kg'!H76","v":4.2403198653198654E-3},{"$f":"$C$96*'Emissions per kg'!I76","v":1.9675925925925929E-4},{"$f":"$C$96*'Emissions per kg'!J76","v":3.7668350168350171E-4},{"$f":"$C$96*'Emissions per kg'!K76","v":6.6813973063973079E-4},{"$f":"$C$96*'Emissions per kg'!L76","v":2.7567340067340071E-6},{"$f":"$C$96*'Emissions per kg'!M76","v":6.0921717171717176E-5},{"$f":"$C$96*'Emissions per kg'!N76","v":7.2811447811447813E-2},{"$f":"$C$96*'Emissions per kg'!O76","v":1.0374579124579126},{"$f":"$C$96*'Emissions per kg'!P76","v":5.0399831649831653E-2},{"$f":"$C$96*'Emissions per kg'!Q76","v":0.99116161616161624},{"$f":"$C$96*'Emissions per kg'!R76","v":2.6199494949494955E-7}]
[null,"retail",{"$f":"(C98/(1-D98))/(1-D97)","v":1.0521885521885523},{"$f":"Calculation_original!D97","v":0.01},{"$f":"$C$97*'Emissions per kg'!C77","v":8.4069865319865336E-2},{"$f":"$C$97*'Emissions per kg'!D77","v":1.8728956228956233E-8},{"$f":"$C$97*'Emissions per kg'!E77","v":1.3783670033670035E-8},{"$f":"$C$97*'Emissions per kg'!F77","v":6.4709595959595977E-10},{"$f":"$C$97*'Emissions per kg'!G77","v":8.7752525252525273E-9},{"$f":"$C$97*'Emissions per kg'!H77","v":6.0500841750841762E-3},{"$f":"$C$97*'Emissions per kg'!I77","v":6.1342592592592601E-4},{"$f":"$C$97*'Emissions per kg'!J77","v":5.629208754208755E-4},{"$f":"$C$97*'Emissions per kg'!K77","v":2.1990740740740742E-3},{"$f":"$C$97*'Emissions per kg'!L77","v":1.7992424242424244E-6},{"$f":"$C$97*'Emissions per kg'!M77","v":1.9991582491582497E-4},{"$f":"$C$97*'Emissions per kg'!N77","v":0.23463804713804717},{"$f":"$C$97*'Emissions per kg'!O77","v":1.5467171717171719},{"$f":"$C$97*'Emissions per kg'!P77","v":3.9457070707070711E-2},{"$f":"$C$97*'Emissions per kg'!Q77","v":1.3468013468013471},{"$f":"$C$97*'Emissions per kg'!R77","v":2.1148989898989903E-7}]
[null,"use ",1,{"$f":"Calculation_original!D98","v":0.04},{"$f":"$C$98*'Emissions per kg'!C78","v":1.1100000000000001},{"$f":"$C$98*'Emissions per kg'!D78","v":2.0400000000000001E-8},{"$f":"$C$98*'Emissions per kg'!E78","v":2.1299999999999999E-8},{"$f":"$C$98*'Emissions per kg'!F78","v":3.46E-9},{"$f":"$C$98*'Emissions per kg'!G78","v":1.81E-8},{"$f":"$C$98*'Emissions per kg'!H78","v":1.09E-2},{"$f":"$C$98*'Emissions per kg'!I78","v":1.9400000000000001E-3},{"$f":"$C$98*'Emissions per kg'!J78","v":2.97E-3},{"$f":"$C$98*'Emissions per kg'!K78","v":9.3399999999999993E-3},{"$f":"$C$98*'Emissions per kg'!L78","v":7.2300000000000001E-4},{"$f":"$C$98*'Emissions per kg'!M78","v":9.75E-3},{"$f":"$C$98*'Emissions per kg'!N78","v":0.17799999999999999},{"$f":"$C$98*'Emissions per kg'!O78","v":6.39},{"$f":"$C$98*'Emissions per kg'!P78","v":1.66},{"$f":"$C$98*'Emissions per kg'!Q78","v":9.3699999999999992},{"$f":"$C$98*'Emissions per kg'!R78","v":1.06E-6}]
[null,"end of life P&R",{"$f":"D95*C95+D97*C97+C96*D96+C94*D94","v":6.5900230373914598E-2},null,{"$f":"$C$99*'EoL emissions'!B4","v":2.2297684260451735E-2},{"$f":"$C$99*'EoL emissions'!C4","v":2.668152537434162E-10},{"$f":"$C$99*'EoL emissions'!D4","v":2.4743130526591252E-8},{"$f":"$C$99*'EoL emissions'!E4","v":9.8969991917577435E-10},{"$f":"$C$99*'EoL emissions'!F4","v":5.0448720994625225E-10},{"$f":"$C$99*'EoL emissions'!G4","v":1.6894797135748077E-4},{"$f":"$C$99*'EoL emissions'!H4","v":2.9872076885694793E-5},{"$f":"$C$99*'EoL emissions'!I4","v":7.9150936590401886E-5},{"$f":"$C$99*'EoL emissions'!J4","v":3.2008829355236715E-4},{"$f":"$C$99*'EoL emissions'!K4","v":6.3007892792616371E-6},{"$f":"$C$99*'EoL emissions'!L4","v":3.6166102148722693E-5},{"$f":"$C$99*'EoL emissions'!M4","v":1.7495501764542962},{"$f":"$C$99*'EoL emissions'!N4","v":9.0428688899789736E-2},{"$f":"$C$99*'EoL emissions'!O4","v":8.757419710333107E-4},{"$f":"$C$99*'EoL emissions'!P4","v":-1.6088506660138745E-2},{"$f":"$C$99*'EoL emissions'!Q4","v":-1.2211875466627833E-9}]
[null,"end of life HH",{"$f":"D98*C98","v":0.04},null,{"$f":"$C$100*'EoL emissions'!B5","v":1.7818743029155825E-2},{"$f":"$C$100*'EoL emissions'!C5","v":1.5004799346838863E-10},{"$f":"$C$100*'EoL emissions'!D5","v":3.1553762788946805E-8},{"$f":"$C$100*'EoL emissions'!E5","v":6.7673820216931396E-10},{"$f":"$C$100*'EoL emissions'!F5","v":1.6802692076997111E-10},{"$f":"$C$100*'EoL emissions'!G5","v":8.7915047347783667E-5},{"$f":"$C$100*'EoL emissions'!H5","v":1.4561269735674934E-5},{"$f":"$C$100*'EoL emissions'!I5","v":2.1676356875898676E-5},{"$f":"$C$100*'EoL emissions'!J5","v":8.2696312224758765E-5},{"$f":"$C$100*'EoL emissions'!K5","v":1.8913484063012208E-6},{"$f":"$C$100*'EoL emissions'!L5","v":3.9431799175350756E-5},{"$f":"$C$100*'EoL emissions'!M5","v":2.2889712699802298},{"$f":"$C$100*'EoL emissions'!N5","v":3.7114344470251609E-2},{"$f":"$C$100*'EoL emissions'!O5","v":8.7109455178519901E-4},{"$f":"$C$100*'EoL emissions'!P5","v":5.979707561649286E-3},{"$f":"$C$100*'EoL emissions'!Q5","v":5.8092455375533763E-10}]
["BEANS",null,null,null,{"$f":"SUM(E94:E100)","v":2.6819091350691573},{"$f":"SUM(F94:F100)","v":7.4519459384018458E-8},1.2050080664503953E-6,4.9140149799530466E-8,4.9370938281758497E-7,3.6443722845038787E-2,4.2134117269155402E-3,6.9906231776897101E-2,0.3043541947599504,4.2191456863299014E-3,4.9768342230581568E-2,6.3505702679833487,476.53925134455204,2.645520981481174,17.955607132143761,2.904012404028181E-6]
["Legumes","TOFU"]
[null,"agriculture ",{"$f":"C104/(1-D103)","v":1.1075668970405814},{"$f":"Calculation_original!D103","v":0},{"$f":"$C$103*'Emissions per kg'!C81","v":1.3955342902711325},{"$f":"$C$103*'Emissions per kg'!D81","v":3.3227006911217442E-10},{"$f":"$C$103*'Emissions per kg'!E81","v":1.8274853801169594E-6},{"$f":"$C$103*'Emissions per kg'!F81","v":2.0268474215842638E-8},{"$f":"$C$103*'Emissions per kg'!G81","v":8.0852383483962453E-8},{"$f":"$C$103*'Emissions per kg'!H81","v":5.2609427609427619E-4},{"$f":"$C$103*'Emissions per kg'!I81","v":5.9697855750487339E-4},{"$f":"$C$103*'Emissions per kg'!J81","v":1.1297182349813931E-2},{"$f":"$C$103*'Emissions per kg'!K81","v":4.9286726918305872E-2},{"$f":"$C$103*'Emissions per kg'!L81","v":2.0157717526138582E-4},{"$f":"$C$103*'Emissions per kg'!M81","v":4.8843700159489642E-3},{"$f":"$C$103*'Emissions per kg'!N81","v":3.6217437533227015},{"$f":"$C$103*'Emissions per kg'!O81","v":227.05121389331919},{"$f":"$C$103*'Emissions per kg'!P81","v":0.63795853269537484},{"$f":"$C$103*'Emissions per kg'!Q81","v":1.2958532695374803},{"$f":"$C$103*'Emissions per kg'!R81","v":1.8717880559985824E-8}]
[null,"processsing",{"$f":"(C105/(1-D104))/(1-D105)","v":1.1075668970405814},{"$f":"Calculation_original!D104","v":0.05},{"$f":"$C$104*'Emissions per kg'!C82","v":0.17167286904129012},{"$f":"$C$104*'Emissions per kg'!D82","v":3.8432571327308178E-8},{"$f":"$C$104*'Emissions per kg'!E82","v":2.4920255183413083E-8},{"$f":"$C$104*'Emissions per kg'!F82","v":1.2293992557150455E-9},{"$f":"$C$104*'Emissions per kg'!G82","v":1.6724260145312779E-8},{"$f":"$C$104*'Emissions per kg'!H82","v":1.1407939039517988E-2},{"$f":"$C$104*'Emissions per kg'!I82","v":1.5616693248272197E-3},{"$f":"$C$104*'Emissions per kg'!J82","v":1.7831827042353362E-3},{"$f":"$C$104*'Emissions per kg'!K82","v":5.6928938507885881E-3},{"$f":"$C$104*'Emissions per kg'!L82","v":2.5695552011341488E-6},{"$f":"$C$104*'Emissions per kg'!M82","v":5.1501860712387039E-4},{"$f":"$C$104*'Emissions per kg'!N82","v":0.42641325536062386},{"$f":"$C$104*'Emissions per kg'!O82","v":2.72461456671983},{"$f":"$C$104*'Emissions per kg'!P82","v":2.3480418217260327E-2},{"$f":"$C$104*'Emissions per kg'!Q82","v":2.6470848839269898},{"$f":"$C$104*'Emissions per kg'!R82","v":3.6438950912635128E-7}]
[null,"packaging",{"$f":"C106","v":1.0521885521885523},{"$f":"Calculation_original!D105","v":0},{"$f":"$C$105*'Emissions per kg'!C83","v":0.21780303030303033},{"$f":"$C$105*'Emissions per kg'!D83","v":7.8177609427609437E-9},{"$f":"$C$105*'Emissions per kg'!E83","v":2.7356902356902362E-8},{"$f":"$C$105*'Emissions per kg'!F83","v":1.2731481481481483E-9},{"$f":"$C$105*'Emissions per kg'!G83","v":-4.6191077441077446E-9},{"$f":"$C$105*'Emissions per kg'!H83","v":8.6700336700336715E-3},{"$f":"$C$105*'Emissions per kg'!I83","v":3.4511784511784515E-4},{"$f":"$C$105*'Emissions per kg'!J83","v":9.2171717171717191E-4},{"$f":"$C$105*'Emissions per kg'!K83","v":1.1889730639730641E-3},{"$f":"$C$105*'Emissions per kg'!L83","v":8.5332491582491604E-6},{"$f":"$C$105*'Emissions per kg'!M83","v":1.1679292929292931E-4},{"$f":"$C$105*'Emissions per kg'!N83","v":0.16308922558922562},{"$f":"$C$105*'Emissions per kg'!O83","v":-20.728114478114481},{"$f":"$C$105*'Emissions per kg'!P83","v":-1.8097643097643099E-2},{"$f":"$C$105*'Emissions per kg'!Q83","v":2.6936026936026942},{"$f":"$C$105*'Emissions per kg'!R83","v":1.6835016835016838E-6}]
[null,"retail",{"$f":"(C107/(1-D107))/(1-D106)","v":1.0521885521885523},{"$f":"Calculation_original!D106","v":0.01},{"$f":"$C$106*'Emissions per kg'!C84","v":1.0942760942760945},{"$f":"$C$106*'Emissions per kg'!D84","v":2.2411616161616164E-5},{"$f":"$C$106*'Emissions per kg'!E84","v":1.9255050505050507E-8},{"$f":"$C$106*'Emissions per kg'!F84","v":9.9431818181818196E-10},{"$f":"$C$106*'Emissions per kg'!G84","v":1.2521043771043774E-8},{"$f":"$C$106*'Emissions per kg'!H84","v":8.4069865319865347E-3},{"$f":"$C$106*'Emissions per kg'!I84","v":8.449074074074075E-4},{"$f":"$C$106*'Emissions per kg'!J84","v":8.5122053872053885E-4},{"$f":"$C$106*'Emissions per kg'!K84","v":2.9987373737373744E-3},{"$f":"$C$106*'Emissions per kg'!L84","v":3.0618686868686873E-6},{"$f":"$C$106*'Emissions per kg'!M84","v":2.7356902356902356E-4},{"$f":"$C$106*'Emissions per kg'!N84","v":0.30513468013468015},{"$f":"$C$106*'Emissions per kg'!O84","v":2.1780303030303032},{"$f":"$C$106*'Emissions per kg'!P84","v":5.2083333333333343E-2},{"$f":"$C$106*'Emissions per kg'!Q84","v":1.9570707070707074},{"$f":"$C$106*'Emissions per kg'!R84","v":4.1140572390572397E-7}]
[null,"use ",1,{"$f":"Calculation_original!D107","v":0.04},{"$f":"$C$107*'Emissions per kg'!C85","v":0.28199999999999997},{"$f":"$C$107*'Emissions per kg'!D85","v":1.63E-8},{"$f":"$C$107*'Emissions per kg'!E85","v":9.9900000000000001E-8},{"$f":"$C$107*'Emissions per kg'!F85","v":5.7200000000000001E-9},{"$f":"$C$107*'Emissions per kg'!G85","v":4.5599999999999998E-8},{"$f":"$C$107*'Emissions per kg'!H85","v":7.2700000000000004E-3},{"$f":"$C$107*'Emissions per kg'!I85","v":1.1100000000000001E-3},{"$f":"$C$107*'Emissions per kg'!J85","v":6.94E-3},{"$f":"$C$107*'Emissions per kg'!K85","v":5.8199999999999997E-3},{"$f":"$C$107*'Emissions per kg'!L85","v":5.1000000000000004E-4},{"$f":"$C$107*'Emissions per kg'!M85","v":8.9899999999999997E-3},{"$f":"$C$107*'Emissions per kg'!N85","v":1.1399999999999999},{"$f":"$C$107*'Emissions per kg'!O85","v":18.2},{"$f":"$C$107*'Emissions per kg'!P85","v":2.86},{"$f":"$C$107*'Emissions per kg'!Q85","v":11.3},{"$f":"$C$107*'Emissions per kg'!R85","v":8.54E-7}]
[null,"end of life P&R",{"$f":"D104*C104+D106*C106+C105*D105+C103*D103","v":6.5900230373914598E-2},null,{"$f":"$C$108*'EoL emissions'!B4","v":2.2297684260451735E-2},{"$f":"$C$108*'EoL emissions'!C4","v":2.668152537434162E-10},{"$f":"$C$108*'EoL emissions'!D4","v":2.4743130526591252E-8},{"$f":"$C$108*'EoL emissions'!E4","v":9.8969991917577435E-10},{"$f":"$C$108*'EoL emissions'!F4","v":5.0448720994625225E-10},{"$f":"$C$108*'EoL emissions'!G4","v":1.6894797135748077E-4},{"$f":"$C$108*'EoL emissions'!H4","v":2.9872076885694793E-5},{"$f":"$C$108*'EoL emissions'!I4","v":7.9150936590401886E-5},{"$f":"$C$108*'EoL emissions'!J4","v":3.2008829355236715E-4},{"$f":"$C$108*'EoL emissions'!K4","v":6.3007892792616371E-6},{"$f":"$C$108*'EoL emissions'!L4","v":3.6166102148722693E-5},{"$f":"$C$108*'EoL emissions'!M4","v":1.7495501764542962},{"$f":"$C$108*'EoL emissions'!N4","v":9.0428688899789736E-2},{"$f":"$C$108*'EoL emissions'!O4","v":8.757419710333107E-4},{"$f":"$C$108*'EoL emissions'!P4","v":-1.6088506660138745E-2},{"$f":"$C$108*'EoL emissions'!Q4","v":-1.2211875466627833E-9}]
[null,"end of life HH",{"$f":"D107*C107","v":0.04},null,{"$f":"$C$109*'EoL emissions'!B5","v":1.7818743029155825E-2},{"$f":"$C$109*'EoL emissions'!C5","v":1.5004799346838863E-10},{"$f":"$C$109*'EoL emissions'!D5","v":3.1553762788946805E-8},{"$f":"$C$109*'EoL emissions'!E5","v":6.7673820216931396E-10},{"$f":"$C$109*'EoL emissions'!F5","v":1.6802692076997111E-10},{"$f":"$C$109*'EoL emissions'!G5","v":8.7915047347783667E-5},{"$f":"$C$109*'EoL emissions'!H5","v":1.4561269735674934E-5},{"$f":"$C$109*'EoL emissions'!I5","v":2.1676356875898676E-5},{"$f":"$C$109*'EoL emissions'!J5","v":8.2696312224758765E-5},{"$f":"$C$109*'EoL emissions'!K5","v":1.8913484063012208E-6},{"$f":"$C$109*'EoL emissions'!L5","v":3.9431799175350756E-5},{"$f":"$C$109*'EoL emissions'!M5","v":2.2889712699802298},{"$f":"$C$109*'EoL emissions'!N5","v":3.7114344470251609E-2},{"$f":"$C$109*'EoL emissions'!O5","v":8.7109455178519901E-4},{"$f":"$C$109*'EoL emissions'!P5","v":5.979707561649286E-3},{"$f":"$C$109*'EoL emissions'!Q5","v":5.8092455375533763E-10}]
["TOFU",null,null,null,{"$f":"SUM(E103:E109)","v":3.2014027111811547},{"$f":"SUM(F103:F109)","v":2.2474915627202556E-5},2.0552144814778635E-6,3.1151777922869109E-8,1.517510937869275E-7,3.6537916536337742E-2,4.503106481478716E-3,2.1894130057953279E-2,6.5390115812582028E-2,7.339339859932008E-4,1.485534847725886E-2,9.6949023608417573,229.55328731832483,3.5571714776711438,19.883502755039384,3.3313745341008377E-6]
["Cereal products","BREAD"]
[null,"agriculture ",{"$f":"C113/(1-D112)","v":1.4321518080916578},{"$f":"Calculation_original!D112","v":0},{"$f":"$C$112*'Emissions per kg'!C88","v":0.3566058002148228},{"$f":"$C$112*'Emissions per kg'!D88","v":5.1700680272108849E-9},{"$f":"$C$112*'Emissions per kg'!E88","v":2.5635517364840672E-6},{"$f":"$C$112*'Emissions per kg'!F88","v":1.2474042248478339E-8},{"$f":"$C$112*'Emissions per kg'!G88","v":1.08843537414966E-7},{"$f":"$C$112*'Emissions per kg'!H88","v":3.0218403150733975E-3},{"$f":"$C$112*'Emissions per kg'!I88","v":6.7740780522735407E-4},{"$f":"$C$112*'Emissions per kg'!J88","v":1.5180809165771572E-2},{"$f":"$C$112*'Emissions per kg'!K88","v":6.7454350161117088E-2},{"$f":"$C$112*'Emissions per kg'!L88","v":1.4894378804153241E-4},{"$f":"$C$112*'Emissions per kg'!M88","v":8.8363766559255291E-3},{"$f":"$C$112*'Emissions per kg'!N88","v":2.3344074471894021},{"$f":"$C$112*'Emissions per kg'!O88","v":143.07196562835662},{"$f":"$C$112*'Emissions per kg'!P88","v":1.2717508055853923E-2},{"$f":"$C$112*'Emissions per kg'!Q88","v":2.2055137844611532},{"$f":"$C$112*'Emissions per kg'!R88","v":8.2062298603651986E-8}]
[null,"processsing",{"$f":"(C114/(1-D113))/(1-D114)","v":1.4321518080916578},{"$f":"Calculation_original!D113","v":0.05},{"$f":"$C$113*'Emissions per kg'!C89","v":0.7003222341568206},{"$f":"$C$113*'Emissions per kg'!D89","v":6.8170426065162911E-8},{"$f":"$C$113*'Emissions per kg'!E89","v":5.8431793770139641E-8},{"$f":"$C$113*'Emissions per kg'!F89","v":6.0293591120658794E-9},{"$f":"$C$113*'Emissions per kg'!G89","v":1.9047619047619048E-8},{"$f":"$C$113*'Emissions per kg'!H89","v":9.2087361260293585E-2},{"$f":"$C$113*'Emissions per kg'!I89","v":1.9334049409237381E-3},{"$f":"$C$113*'Emissions per kg'!J89","v":4.0100250626566416E-3},{"$f":"$C$113*'Emissions per kg'!K89","v":7.0748299319727892E-3},{"$f":"$C$113*'Emissions per kg'!L89","v":6.6165413533834591E-5},{"$f":"$C$113*'Emissions per kg'!M89","v":6.8600071607590406E-4},{"$f":"$C$113*'Emissions per kg'!N89","v":0.38954529180093095},{"$f":"$C$113*'Emissions per kg'!O89","v":9.509488005728608},{"$f":"$C$113*'Emissions per kg'!P89","v":0.19906910132474046},{"$f":"$C$113*'Emissions per kg'!Q89","v":14.607948442534909},{"$f":"$C$113*'Emissions per kg'!R89","v":1.4321518080916578E-6}]
[null,"packaging",{"$f":"C115","v":1.3605442176870748},{"$f":"Calculation_original!D114","v":0},{"$f":"$C$114*'Emissions per kg'!C90","v":3.2653061224489799E-2},{"$f":"$C$114*'Emissions per kg'!D90","v":1.1333333333333333E-9},{"$f":"$C$114*'Emissions per kg'!E90","v":1.0340136054421767E-9},{"$f":"$C$114*'Emissions per kg'!F90","v":1.7959183673469388E-10},{"$f":"$C$114*'Emissions per kg'!G90","v":8.1360544217687075E-10},{"$f":"$C$114*'Emissions per kg'!H90","v":1.5374149659863944E-3},{"$f":"$C$114*'Emissions per kg'!I90","v":7.850340136054421E-5},{"$f":"$C$114*'Emissions per kg'!J90","v":1.1823129251700679E-4},{"$f":"$C$114*'Emissions per kg'!K90","v":2.0136054421768707E-4},{"$f":"$C$114*'Emissions per kg'!L90","v":1.3741496598639456E-6},{"$f":"$C$114*'Emissions per kg'!M90","v":1.8775510204081632E-5},{"$f":"$C$114*'Emissions per kg'!N90","v":1.673469387755102E-2},{"$f":"$C$114*'Emissions per kg'!O90","v":0.14557823129251701},{"$f":"$C$114*'Emissions per kg'!P90","v":7.183673469387755E-3},{"$f":"$C$114*'Emissions per kg'!Q90","v":0.69795918367346943},{"$f":"$C$114*'Emissions per kg'!R90","v":2.2312925170068028E-8}]
[null,"retail",{"$f":"(C116/(1-D116))/(1-D115)","v":1.3605442176870748},{"$f":"Calculation_original!D115","v":0.02},{"$f":"$C$115*'Emissions per kg'!C91","v":0.10544217687074829},{"$f":"$C$115*'Emissions per kg'!D91","v":2.3401360544217684E-8},{"$f":"$C$115*'Emissions per kg'!E91","v":1.7142857142857143E-8},{"$f":"$C$115*'Emissions per kg'!F91","v":8.1088435374149656E-10},{"$f":"$C$115*'Emissions per kg'!G91","v":1.0979591836734694E-8},{"$f":"$C$115*'Emissions per kg'!H91","v":7.5918367346938772E-3},{"$f":"$C$115*'Emissions per kg'!I91","v":7.6734693877551026E-4},{"$f":"$C$115*'Emissions per kg'!J91","v":7.0612244897959189E-4},{"$f":"$C$115*'Emissions per kg'!K91","v":2.7482993197278914E-3},{"$f":"$C$115*'Emissions per kg'!L91","v":2.2721088435374151E-6},{"$f":"$C$115*'Emissions per kg'!M91","v":2.5034013605442174E-4},{"$f":"$C$115*'Emissions per kg'!N91","v":0.29387755102040813},{"$f":"$C$115*'Emissions per kg'!O91","v":1.9319727891156462},{"$f":"$C$115*'Emissions per kg'!P91","v":5.061224489795918E-2},{"$f":"$C$115*'Emissions per kg'!Q91","v":1.7006802721088434},{"$f":"$C$115*'Emissions per kg'!R91","v":2.6530612244897961E-7}]
[null,"use ",1,{"$f":"Calculation_original!D116","v":0.25},{"$f":"$C$116*'Emissions per kg'!C92","v":0.129},{"$f":"$C$116*'Emissions per kg'!D92","v":1.4300000000000001E-8},{"$f":"$C$116*'Emissions per kg'!E92","v":1.3399999999999999E-8},{"$f":"$C$116*'Emissions per kg'!F92","v":2.0099999999999999E-9},{"$f":"$C$116*'Emissions per kg'!G92","v":8.6100000000000007E-9},{"$f":"$C$116*'Emissions per kg'!H92","v":5.8799999999999998E-3},{"$f":"$C$116*'Emissions per kg'!I92","v":4.4700000000000002E-4},{"$f":"$C$116*'Emissions per kg'!J92","v":1.0200000000000001E-3},{"$f":"$C$116*'Emissions per kg'!K92","v":3.7000000000000002E-3},{"$f":"$C$116*'Emissions per kg'!L92","v":4.86E-4},{"$f":"$C$116*'Emissions per kg'!M92","v":9.2899999999999996E-3},{"$f":"$C$116*'Emissions per kg'!N92","v":0.14399999999999999},{"$f":"$C$116*'Emissions per kg'!O92","v":5.28},{"$f":"$C$116*'Emissions per kg'!P92","v":1.31},{"$f":"$C$116*'Emissions per kg'!Q92","v":1.32},{"$f":"$C$116*'Emissions per kg'!R92","v":7.5300000000000003E-7}]
[null,"end of life P&R",{"$f":"D113*C113+D115*C115+C114*D114+C112*D112","v":9.8818474758324393E-2},null,{"$f":"$C$117*'EoL emissions'!B4","v":3.3435742739568959E-2},{"$f":"$C$117*'EoL emissions'!C4","v":4.0009384288307894E-10},{"$f":"$C$117*'EoL emissions'!D4","v":3.7102729467114624E-8},{"$f":"$C$117*'EoL emissions'!E4","v":1.4840712380893215E-9},{"$f":"$C$117*'EoL emissions'!F4","v":7.5648683379572057E-10},{"$f":"$C$117*'EoL emissions'!G4","v":2.5334025007699835E-4},{"$f":"$C$117*'EoL emissions'!H4","v":4.4793668534370058E-5},{"$f":"$C$117*'EoL emissions'!I4","v":1.1868812574974535E-4},{"$f":"$C$117*'EoL emissions'!J4","v":4.7997763858136875E-4},{"$f":"$C$117*'EoL emissions'!K4","v":9.4481367184521333E-6},{"$f":"$C$117*'EoL emissions'!L4","v":5.423166249969878E-5},{"$f":"$C$117*'EoL emissions'!M4","v":2.6234791436906022},{"$f":"$C$117*'EoL emissions'!N4","v":0.13559930004447152},{"$f":"$C$117*'EoL emissions'!O4","v":1.3131894284487287E-3},{"$f":"$C$117*'EoL emissions'!P4","v":-2.4124979234114545E-2},{"$f":"$C$117*'EoL emissions'!Q4","v":-1.83119072680577E-9}]
[null,"end of life HH",{"$f":"D116*C116","v":0.25},null,{"$f":"$C$118*'EoL emissions'!B5","v":0.11136714393222391},{"$f":"$C$118*'EoL emissions'!C5","v":9.3779995917742889E-10},{"$f":"$C$118*'EoL emissions'!D5","v":1.9721101743091752E-7},{"$f":"$C$118*'EoL emissions'!E5","v":4.2296137635582122E-9},{"$f":"$C$118*'EoL emissions'!F5","v":1.0501682548123194E-9},{"$f":"$C$118*'EoL emissions'!G5","v":5.4946904592364793E-4},{"$f":"$C$118*'EoL emissions'!H5","v":9.1007935847968338E-5},{"$f":"$C$118*'EoL emissions'!I5","v":1.3547723047436673E-4},{"$f":"$C$118*'EoL emissions'!J5","v":5.1685195140474224E-4},{"$f":"$C$118*'EoL emissions'!K5","v":1.182092753938263E-5},{"$f":"$C$118*'EoL emissions'!L5","v":2.4644874484594222E-4},{"$f":"$C$118*'EoL emissions'!M5","v":14.306070437376437},{"$f":"$C$118*'EoL emissions'!N5","v":0.23196465293907254},{"$f":"$C$118*'EoL emissions'!O5","v":5.4443409486574935E-3},{"$f":"$C$118*'EoL emissions'!P5","v":3.7373172260308035E-2},{"$f":"$C$118*'EoL emissions'!Q5","v":3.6307784609708601E-9}]
["BREAD",null,null,null,{"$f":"SUM(E112:E118)","v":1.4688261591386744},{"$f":"SUM(F112:F118)","v":1.1351308177198532E-7},2.8878741479005386E-6,2.7217562552667943E-8,1.5010100883010465E-7,0.11092126257204789,4.0394646906694847E-3,2.1289353326148928E-2,8.2175669547021574E-2,7.2602452433660303E-4,1.9382173425605578E-2,20.108114564955333,160.30656860747692,1.5863400581250477,20.545349875804572,2.5566327420485225E-6]
["Cereal products","PASTA"]
[null,"agriculture ",{"$f":"C122/(1-D121)","v":1.4629507717065322},{"$f":"Calculation_original!D121","v":0},{"$f":"$C$121*'Emissions per kg'!C95","v":0.99041767244532242},{"$f":"$C$121*'Emissions per kg'!D95","v":1.2873966791017482E-7},{"$f":"$C$121*'Emissions per kg'!E95","v":3.3794162826420895E-7},{"$f":"$C$121*'Emissions per kg'!F95","v":1.3693219223173143E-8},{"$f":"$C$121*'Emissions per kg'!G95","v":1.8872064955014267E-7},{"$f":"$C$121*'Emissions per kg'!H95","v":3.7597834832857877E-2},{"$f":"$C$121*'Emissions per kg'!I95","v":2.5455343427693662E-3},{"$f":"$C$121*'Emissions per kg'!J95","v":2.5162753273352354E-2},{"$f":"$C$121*'Emissions per kg'!K95","v":0.1044546850998464},{"$f":"$C$121*'Emissions per kg'!L95","v":4.0962621607782898E-4},{"$f":"$C$121*'Emissions per kg'!M95","v":2.1797966498427329E-2},{"$f":"$C$121*'Emissions per kg'!N95","v":1.3620071684587816},{"$f":"$C$121*'Emissions per kg'!O95","v":789.99341672152741},{"$f":"$C$121*'Emissions per kg'!P95","v":2.1066491112574064},{"$f":"$C$121*'Emissions per kg'!Q95","v":9.7432521395655041},{"$f":"$C$121*'Emissions per kg'!R95","v":4.9594031160851448E-6}]
[null,"processsing",{"$f":"(C123/(1-D122))/(1-D123)","v":1.4629507717065322},{"$f":"Calculation_original!D122","v":7.0000000000000007E-2},{"$f":"$C$122*'Emissions per kg'!C96","v":0.74903079511374449},{"$f":"$C$122*'Emissions per kg'!D96","v":9.0702947845804996E-8},{"$f":"$C$122*'Emissions per kg'!E96","v":3.774412991002853E-8},{"$f":"$C$122*'Emissions per kg'!F96","v":3.1014556360178485E-9},{"$f":"$C$122*'Emissions per kg'!G96","v":3.7012654524175266E-8},{"$f":"$C$122*'Emissions per kg'!H96","v":7.7828981054787513E-2},{"$f":"$C$122*'Emissions per kg'!I96","v":2.3407212347304517E-3},{"$f":"$C$122*'Emissions per kg'!J96","v":3.6281179138321997E-3},{"$f":"$C$122*'Emissions per kg'!K96","v":8.2217833369907112E-3},{"$f":"$C$122*'Emissions per kg'!L96","v":4.227927730231878E-6},{"$f":"$C$122*'Emissions per kg'!M96","v":7.6512325360251641E-4},{"$f":"$C$122*'Emissions per kg'!N96","v":0.475459000804623},{"$f":"$C$122*'Emissions per kg'!O96","v":1.9164655109355573},{"$f":"$C$122*'Emissions per kg'!P96","v":7.4756784434203798},{"$f":"$C$122*'Emissions per kg'!Q96","v":11.923048789408238},{"$f":"$C$122*'Emissions per kg'!R96","v":6.5393899495281995E-7}]
[null,"packaging",{"$f":"C124","v":1.3605442176870748},{"$f":"Calculation_original!D123","v":0},{"$f":"$C$123*'Emissions per kg'!C97","v":4.7755102040816323E-2},{"$f":"$C$123*'Emissions per kg'!D97","v":-8.6530612244897965E-9},{"$f":"$C$123*'Emissions per kg'!E97","v":4.272108843537415E-9},{"$f":"$C$123*'Emissions per kg'!F97","v":-2.1360544217687075E-10},{"$f":"$C$123*'Emissions per kg'!G97","v":-3.6054421768707478E-8},{"$f":"$C$123*'Emissions per kg'!H97","v":-1.2897959183673468E-3},{"$f":"$C$123*'Emissions per kg'!I97","v":-4.0272108843537413E-4},{"$f":"$C$123*'Emissions per kg'!J97","v":-4.4353741496598641E-4},{"$f":"$C$123*'Emissions per kg'!K97","v":-1.3741496598639457E-3},{"$f":"$C$123*'Emissions per kg'!L97","v":-9.65986394557823E-7},{"$f":"$C$123*'Emissions per kg'!M97","v":-1.0408163265306123E-4},{"$f":"$C$123*'Emissions per kg'!N97","v":5.3741496598639457E-2},{"$f":"$C$123*'Emissions per kg'!O97","v":-69.795918367346928},{"$f":"$C$123*'Emissions per kg'!P97","v":-0.22721088435374151},{"$f":"$C$123*'Emissions per kg'!Q97","v":-5.0748299319727887E-2},{"$f":"$C$123*'Emissions per kg'!R97","v":2.2721088435374151E-6}]
[null,"retail",{"$f":"(C125/(1-D125))/(1-D124)","v":1.3605442176870748},{"$f":"Calculation_original!D124","v":0.02},{"$f":"$C$124*'Emissions per kg'!C98","v":0.25034013605442174},{"$f":"$C$124*'Emissions per kg'!D98","v":5.0748299319727897E-8},{"$f":"$C$124*'Emissions per kg'!E98","v":1.8503401360544215E-8},{"$f":"$C$124*'Emissions per kg'!F98","v":2.8163265306122447E-9},{"$f":"$C$124*'Emissions per kg'!G98","v":1.0462585034013605E-8},{"$f":"$C$124*'Emissions per kg'!H98","v":1.4693877551020409E-2},{"$f":"$C$124*'Emissions per kg'!I98","v":1.6190476190476191E-3},{"$f":"$C$124*'Emissions per kg'!J98","v":1.6054421768707484E-3},{"$f":"$C$124*'Emissions per kg'!K98","v":5.7687074829931972E-3},{"$f":"$C$124*'Emissions per kg'!L98","v":4.6530612244897954E-6},{"$f":"$C$124*'Emissions per kg'!M98","v":5.2244897959183669E-4},{"$f":"$C$124*'Emissions per kg'!N98","v":0.14285714285714285},{"$f":"$C$124*'Emissions per kg'!O98","v":2.5306122448979593},{"$f":"$C$124*'Emissions per kg'!P98","v":9.6598639455782305},{"$f":"$C$124*'Emissions per kg'!Q98","v":3.9319727891156462},{"$f":"$C$124*'Emissions per kg'!R98","v":7.265306122448979E-7}]
[null,"use ",1,{"$f":"Calculation_original!D125","v":0.25},{"$f":"$C$125*'Emissions per kg'!C99","v":0.875},{"$f":"$C$125*'Emissions per kg'!D99","v":7.3099999999999999E-8},{"$f":"$C$125*'Emissions per kg'!E99","v":5.4499999999999998E-8},{"$f":"$C$125*'Emissions per kg'!F99","v":5.2300000000000003E-9},{"$f":"$C$125*'Emissions per kg'!G99","v":7.3900000000000007E-8},{"$f":"$C$125*'Emissions per kg'!H99","v":9.6000000000000002E-2},{"$f":"$C$125*'Emissions per kg'!I99","v":2.3900000000000002E-3},{"$f":"$C$125*'Emissions per kg'!J99","v":1.03E-2},{"$f":"$C$125*'Emissions per kg'!K99","v":7.8100000000000001E-3},{"$f":"$C$125*'Emissions per kg'!L99","v":6.3199999999999997E-4},{"$f":"$C$125*'Emissions per kg'!M99","v":6.1700000000000001E-3},{"$f":"$C$125*'Emissions per kg'!N99","v":0.877},{"$f":"$C$125*'Emissions per kg'!O99","v":6.16},{"$f":"$C$125*'Emissions per kg'!P99","v":3},{"$f":"$C$125*'Emissions per kg'!Q99","v":18.8},{"$f":"$C$125*'Emissions per kg'!R99","v":8.47E-7}]
[null,"end of life P&R",{"$f":"D122*C122+D124*C124+C123*D123+C121*D121","v":0.12961743837319875},null,{"$f":"$C$126*'EoL emissions'!B4","v":4.385673159403957E-2},{"$f":"$C$126*'EoL emissions'!C4","v":5.2479193946499536E-10},{"$f":"$C$126*'EoL emissions'!D4","v":4.8666615852377091E-8},{"$f":"$C$126*'EoL emissions'!E4","v":1.9466148684740252E-9},{"$f":"$C$126*'EoL emissions'!F4","v":9.9226268973953244E-10},{"$f":"$C$126*'EoL emissions'!G4","v":3.3229934313512468E-4},{"$f":"$C$126*'EoL emissions'!H4","v":5.8754606210658061E-5},{"$f":"$C$126*'EoL emissions'!I4","v":1.5567990563123058E-4},{"$f":"$C$126*'EoL emissions'!J4","v":6.2957328719641273E-4},{"$f":"$C$126*'EoL emissions'!K4","v":1.2392857528317221E-5},{"$f":"$C$126*'EoL emissions'!L4","v":7.1134159772473843E-5},{"$f":"$C$126*'EoL emissions'!M4","v":3.4411444526170789},{"$f":"$C$126*'EoL emissions'!N4","v":0.17786182148579038},{"$f":"$C$126*'EoL emissions'!O4","v":1.7224739627946003E-3},{"$f":"$C$126*'EoL emissions'!P4","v":-3.164406267937387E-2},{"$f":"$C$126*'EoL emissions'!Q4","v":-2.4019218244544439E-9}]
[null,"end of life HH",{"$f":"D125*C125","v":0.25},null,{"$f":"$C$127*'EoL emissions'!B5","v":0.11136714393222391},{"$f":"$C$127*'EoL emissions'!C5","v":9.3779995917742889E-10},{"$f":"$C$127*'EoL emissions'!D5","v":1.9721101743091752E-7},{"$f":"$C$127*'EoL emissions'!E5","v":4.2296137635582122E-9},{"$f":"$C$127*'EoL emissions'!F5","v":1.0501682548123194E-9},{"$f":"$C$127*'EoL emissions'!G5","v":5.4946904592364793E-4},{"$f":"$C$127*'EoL emissions'!H5","v":9.1007935847968338E-5},{"$f":"$C$127*'EoL emissions'!I5","v":1.3547723047436673E-4},{"$f":"$C$127*'EoL emissions'!J5","v":5.1685195140474224E-4},{"$f":"$C$127*'EoL emissions'!K5","v":1.182092753938263E-5},{"$f":"$C$127*'EoL emissions'!L5","v":2.4644874484594222E-4},{"$f":"$C$127*'EoL emissions'!M5","v":14.306070437376437},{"$f":"$C$127*'EoL emissions'!N5","v":0.23196465293907254},{"$f":"$C$127*'EoL emissions'!O5","v":5.4443409486574935E-3},{"$f":"$C$127*'EoL emissions'!P5","v":3.7373172260308035E-2},{"$f":"$C$127*'EoL emissions'!Q5","v":3.6307784609708601E-9}]
["PASTA",null,null,null,{"$f":"SUM(E121:E127)","v":3.0677675811805685},{"$f":"SUM(F121:F127)","v":3.3610044574986035E-7},6.988389016616138E-7,3.0803624579658602E-8,2.7608389828417593E-7,0.22571266590935721,8.6423446501706896E-3,4.0543933085194911E-2,0.12602745149856751,1.0737550037056927E-3,2.9469040003587039E-2,20.658279698712704,731.21440258443886,22.022147430813725,44.353254528350597,9.4602104234567954E-6]
["Cereal products","RICE"]
[null,"agriculture ",{"$f":"C131/(1-D130)","v":1.511715797430083},{"$f":"Calculation_original!D130","v":0},{"$f":"$C$130*'Emissions per kg'!C102","v":5.1398337112622823},{"$f":"$C$130*'Emissions per kg'!D102","v":1.3333333333333331E-7},{"$f":"$C$130*'Emissions per kg'!E102","v":2.2071050642479211E-8},{"$f":"$C$130*'Emissions per kg'!F102","v":1.6780045351473922E-9},{"$f":"$C$130*'Emissions per kg'!G102","v":1.5721844293272863E-7},{"$f":"$C$130*'Emissions per kg'!H102","v":2.0861678004535145E-2},{"$f":"$C$130*'Emissions per kg'!I102","v":3.3257747543461828E-3},{"$f":"$C$130*'Emissions per kg'!J102","v":2.1315192743764168E-2},{"$f":"$C$130*'Emissions per kg'!K102","v":9.2063492063492056E-2},{"$f":"$C$130*'Emissions per kg'!L102","v":4.6560846560846558E-4},{"$f":"$C$130*'Emissions per kg'!M102","v":4.837490551776266E-3},{"$f":"$C$130*'Emissions per kg'!N102","v":31.443688586545729},{"$f":"$C$130*'Emissions per kg'!O102","v":488.28420256991683},{"$f":"$C$130*'Emissions per kg'!P102","v":84.807256235827651},{"$f":"$C$130*'Emissions per kg'!Q102","v":8.7074829931972779},{"$f":"$C$130*'Emissions per kg'!R102","v":1.0022675736961451E-5}]
[null,"processsing",{"$f":"(C132/(1-D131))/(1-D132)","v":1.511715797430083},{"$f":"Calculation_original!D131","v":0.1},{"$f":"$C$131*'Emissions per kg'!C103","v":0.29176114890400601},{"$f":"$C$131*'Emissions per kg'!D103","v":5.2305366591080867E-8},{"$f":"$C$131*'Emissions per kg'!E103","v":3.2199546485260766E-8},{"$f":"$C$131*'Emissions per kg'!F103","v":2.1768707482993195E-9},{"$f":"$C$131*'Emissions per kg'!G103","v":1.9198790627362054E-8},{"$f":"$C$131*'Emissions per kg'!H103","v":2.6303854875283441E-2},{"$f":"$C$131*'Emissions per kg'!I103","v":2.2222222222222218E-3},{"$f":"$C$131*'Emissions per kg'!J103","v":3.1141345427059715E-3},{"$f":"$C$131*'Emissions per kg'!K103","v":8.163265306122448E-3},{"$f":"$C$131*'Emissions per kg'!L103","v":1.2335600907029478E-5},{"$f":"$C$131*'Emissions per kg'!M103","v":7.3771730914588048E-4},{"$f":"$C$131*'Emissions per kg'!N103","v":0.45351473922902485},{"$f":"$C$131*'Emissions per kg'!O103","v":3.8699924414210125},{"$f":"$C$131*'Emissions per kg'!P103","v":4.9433106575963712E-2},{"$f":"$C$131*'Emissions per kg'!Q103","v":5.0642479213907778},{"$f":"$C$131*'Emissions per kg'!R103","v":5.5631141345427052E-7}]
[null,"packaging",{"$f":"C133","v":1.3605442176870748},{"$f":"Calculation_original!D132","v":0},{"$f":"$C$132*'Emissions per kg'!C104","v":0.11959183673469388},{"$f":"$C$132*'Emissions per kg'!D104","v":4.0680272108843535E-9},{"$f":"$C$132*'Emissions per kg'!E104","v":1.7551020408163263E-8},{"$f":"$C$132*'Emissions per kg'!F104","v":6.7619047619047623E-10},{"$f":"$C$132*'Emissions per kg'!G104","v":-4.4081632653061224E-9},{"$f":"$C$132*'Emissions per kg'!H104","v":4.517006802721088E-3},{"$f":"$C$132*'Emissions per kg'!I104","v":1.7006802721088434E-4},{"$f":"$C$132*'Emissions per kg'!J104","v":5.061224489795918E-4},{"$f":"$C$132*'Emissions per kg'!K104","v":5.8503401360544219E-4},{"$f":"$C$132*'Emissions per kg'!L104","v":4.952380952380952E-6},{"$f":"$C$132*'Emissions per kg'!M104","v":5.9863945578231288E-5},{"$f":"$C$132*'Emissions per kg'!N104","v":8.7755102040816324E-2},{"$f":"$C$132*'Emissions per kg'!O104","v":-14.829931972789115},{"$f":"$C$132*'Emissions per kg'!P104","v":-3.0340136054421769E-2},{"$f":"$C$132*'Emissions per kg'!Q104","v":1.5238095238095239},{"$f":"$C$132*'Emissions per kg'!R104","v":1.0775510204081632E-6}]
[null,"retail",{"$f":"(C134/(1-D134))/(1-D133)","v":1.3605442176870748},{"$f":"Calculation_original!D133","v":0.02},{"$f":"$C$133*'Emissions per kg'!C105","v":0.11074829931972789},{"$f":"$C$133*'Emissions per kg'!D105","v":2.4625850340136053E-8},{"$f":"$C$133*'Emissions per kg'!E105","v":1.8095238095238096E-8},{"$f":"$C$133*'Emissions per kg'!F105","v":8.5170068027210881E-10},{"$f":"$C$133*'Emissions per kg'!G105","v":1.1578231292517005E-8},{"$f":"$C$133*'Emissions per kg'!H105","v":7.9455782312925164E-3},{"$f":"$C$133*'Emissions per kg'!I105","v":8.0952380952380957E-4},{"$f":"$C$133*'Emissions per kg'!J105","v":7.4285714285714287E-4},{"$f":"$C$133*'Emissions per kg'!K105","v":2.8979591836734691E-3},{"$f":"$C$133*'Emissions per kg'!L105","v":2.3537414965986395E-6},{"$f":"$C$133*'Emissions per kg'!M105","v":2.6394557823129251E-4},{"$f":"$C$133*'Emissions per kg'!N105","v":0.31020408163265306},{"$f":"$C$133*'Emissions per kg'!O105","v":2.0408163265306123},{"$f":"$C$133*'Emissions per kg'!P105","v":5.1292517006802714E-2},{"$f":"$C$133*'Emissions per kg'!Q105","v":1.782312925170068},{"$f":"$C$133*'Emissions per kg'!R105","v":2.7891156462585031E-7}]
[null,"use ",1,{"$f":"Calculation_original!D134","v":0.25},{"$f":"$C$134*'Emissions per kg'!C106","v":0.23100000000000001},{"$f":"$C$134*'Emissions per kg'!D106","v":1.37E-8},{"$f":"$C$134*'Emissions per kg'!E106","v":1.4899999999999999E-8},{"$f":"$C$134*'Emissions per kg'!F106","v":2.45E-9},{"$f":"$C$134*'Emissions per kg'!G106","v":6.6299999999999996E-9},{"$f":"$C$134*'Emissions per kg'!H106","v":6.6E-3},{"$f":"$C$134*'Emissions per kg'!I106","v":4.0299999999999998E-4},{"$f":"$C$134*'Emissions per kg'!J106","v":6.8400000000000004E-4},{"$f":"$C$134*'Emissions per kg'!K106","v":1.8699999999999999E-3},{"$f":"$C$134*'Emissions per kg'!L106","v":2.31E-4},{"$f":"$C$134*'Emissions per kg'!M106","v":2.65E-3},{"$f":"$C$134*'Emissions per kg'!N106","v":0.15},{"$f":"$C$134*'Emissions per kg'!O106","v":5.66},{"$f":"$C$134*'Emissions per kg'!P106","v":1.86},{"$f":"$C$134*'Emissions per kg'!Q106","v":3.23},{"$f":"$C$134*'Emissions per kg'!R106","v":7.8299999999999996E-7}]
[null,"end of life P&R",{"$f":"D131*C131+D133*C133+C132*D132+C130*D130","v":0.17838246409674982},null,{"$f":"$C$135*'EoL emissions'!B4","v":6.035663061361804E-2},{"$f":"$C$135*'EoL emissions'!C4","v":7.2223059238636306E-10},{"$f":"$C$135*'EoL emissions'!D4","v":6.6976102629042669E-8},{"$f":"$C$135*'EoL emissions'!E4","v":2.6789756165831391E-9},{"$f":"$C$135*'EoL emissions'!F4","v":1.3655744616505681E-9},{"$f":"$C$135*'EoL emissions'!G4","v":4.5731790714382468E-4},{"$f":"$C$135*'EoL emissions'!H4","v":8.085942419811406E-5},{"$f":"$C$135*'EoL emissions'!I4","v":2.1425022377691551E-4},{"$f":"$C$135*'EoL emissions'!J4","v":8.664330641702325E-4},{"$f":"$C$135*'EoL emissions'!K4","v":1.7055332143936942E-5},{"$f":"$C$135*'EoL emissions'!L4","v":9.7896447121034356E-5},{"$f":"$C$135*'EoL emissions'!M4","v":4.735781191750668},{"$f":"$C$135*'EoL emissions'!N4","v":0.2447774804345452},{"$f":"$C$135*'EoL emissions'!O4","v":2.3705078088422302E-3},{"$f":"$C$135*'EoL emissions'!P4","v":-4.3549278134367798E-2},{"$f":"$C$135*'EoL emissions'!Q4","v":-3.3055793957315105E-9}]
[null,"end of life HH",{"$f":"D134*C134","v":0.25},null,{"$f":"$C$136*'EoL emissions'!B5","v":0.11136714393222391},{"$f":"$C$136*'EoL emissions'!C5","v":9.3779995917742889E-10},{"$f":"$C$136*'EoL emissions'!D5","v":1.9721101743091752E-7},{"$f":"$C$136*'EoL emissions'!E5","v":4.2296137635582122E-9},{"$f":"$C$136*'EoL emissions'!F5","v":1.0501682548123194E-9},{"$f":"$C$136*'EoL emissions'!G5","v":5.4946904592364793E-4},{"$f":"$C$136*'EoL emissions'!H5","v":9.1007935847968338E-5},{"$f":"$C$136*'EoL emissions'!I5","v":1.3547723047436673E-4},{"$f":"$C$136*'EoL emissions'!J5","v":5.1685195140474224E-4},{"$f":"$C$136*'EoL emissions'!K5","v":1.182092753938263E-5},{"$f":"$C$136*'EoL emissions'!L5","v":2.4644874484594222E-4},{"$f":"$C$136*'EoL emissions'!M5","v":14.306070437376437},{"$f":"$C$136*'EoL emissions'!N5","v":0.23196465293907254},{"$f":"$C$136*'EoL emissions'!O5","v":5.4443409486574935E-3},{"$f":"$C$136*'EoL emissions'!P5","v":3.7373172260308035E-2},{"$f":"$C$136*'EoL emissions'!Q5","v":3.6307784609708601E-9}]
["RICE",null,null,null,{"$f":"SUM(E130:E136)","v":6.0646587707665516},{"$f":"SUM(F130:F136)","v":2.2969260802699838E-7},3.6900397569110154E-7,1.4741355820050648E-8,1.9263304430376444E-7,6.7234904866899675E-2,7.1024561733491805E-3,2.6712034332558157E-2,0.1069630355824684,7.4512644864779408E-4,8.8933625766986473E-3,51.487014138575333,485.50182149845301,86.745456572113497,20.301677257693591,1.2718774934514977E-5]
["Vegetables","TOMATOES"]
[null,"agriculture ",{"$f":"C140/(1-D139)","v":1.4439390657714244},{"$f":"Calculation_original!D139","v":0},{"$f":"$C$139*'Emissions per kg'!C109","v":0.19059995668182803},{"$f":"$C$139*'Emissions per kg'!D109","v":5.8046350444011255E-9},{"$f":"$C$139*'Emissions per kg'!E109","v":1.2417875965634248E-8},{"$f":"$C$139*'Emissions per kg'!F109","v":8.1871345029239762E-10},{"$f":"$C$139*'Emissions per kg'!G109","v":2.5124539744422784E-8},{"$f":"$C$139*'Emissions per kg'!H109","v":6.266695545447982E-3},{"$f":"$C$139*'Emissions per kg'!I109","v":3.7686809616634175E-4},{"$f":"$C$139*'Emissions per kg'!J109","v":3.6242870550862753E-3},{"$f":"$C$139*'Emissions per kg'!K109","v":1.472817847086853E-2},{"$f":"$C$139*'Emissions per kg'!L109","v":2.2381055519457078E-4},{"$f":"$C$139*'Emissions per kg'!M109","v":6.6132409212331237E-4},{"$f":"$C$139*'Emissions per kg'!N109","v":4.1296657281062732},{"$f":"$C$139*'Emissions per kg'!O109","v":12.201285105768536},{"$f":"$C$139*'Emissions per kg'!P109","v":1.891560176160566},{"$f":"$C$139*'Emissions per kg'!Q109","v":2.6857266623348495},{"$f":"$C$139*'Emissions per kg'!R109","v":4.7216807450725577E-7}]
[null,"processsing",{"$f":"(C141/(1-D140))/(1-D141)","v":1.4439390657714244},{"$f":"Calculation_original!D140","v":0.05},{"$f":"$C$140*'Emissions per kg'!C110","v":0.11883618511298823},{"$f":"$C$140*'Emissions per kg'!D110","v":2.3247418958919934E-6},{"$f":"$C$140*'Emissions per kg'!E110","v":3.4943325391668467E-9},{"$f":"$C$140*'Emissions per kg'!F110","v":2.4113782398382789E-10},{"$f":"$C$140*'Emissions per kg'!G110","v":1.9781965201068513E-9},{"$f":"$C$140*'Emissions per kg'!H110","v":2.8301205689119915E-3},{"$f":"$C$140*'Emissions per kg'!I110","v":1.7327268789257093E-4},{"$f":"$C$140*'Emissions per kg'!J110","v":2.3391812865497077E-4},{"$f":"$C$140*'Emissions per kg'!K110","v":6.2089379828171251E-4},{"$f":"$C$140*'Emissions per kg'!L110","v":1.545014800375424E-6},{"$f":"$C$140*'Emissions per kg'!M110","v":5.6458017471662694E-5},{"$f":"$C$140*'Emissions per kg'!N110","v":4.6061656198108432E-2},{"$f":"$C$140*'Emissions per kg'!O110","v":0.43173778066565588},{"$f":"$C$140*'Emissions per kg'!P110","v":6.3388924987365525E-3},{"$f":"$C$140*'Emissions per kg'!Q110","v":0.53136957620388414},{"$f":"$C$140*'Emissions per kg'!R110","v":7.7395133925348348E-8}]
[null,"packaging",{"$f":"C142","v":1.371742112482853},{"$f":"Calculation_original!D141","v":0},{"$f":"$C$141*'Emissions per kg'!C111","v":0.10534979423868311},{"$f":"$C$141*'Emissions per kg'!D111","v":3.2921810699588475E-9},{"$f":"$C$141*'Emissions per kg'!E111","v":2.2359396433470506E-8},{"$f":"$C$141*'Emissions per kg'!F111","v":1.0685871056241425E-9},{"$f":"$C$141*'Emissions per kg'!G111","v":-1.5912208504801094E-8},{"$f":"$C$141*'Emissions per kg'!H111","v":2.2222222222222218E-3},{"$f":"$C$141*'Emissions per kg'!I111","v":3.0041152263374482E-5},{"$f":"$C$141*'Emissions per kg'!J111","v":1.9067215363511656E-4},{"$f":"$C$141*'Emissions per kg'!K111","v":2.1947873799725651E-4},{"$f":"$C$141*'Emissions per kg'!L111","v":4.8010973936899852E-6},{"$f":"$C$141*'Emissions per kg'!M111","v":8.1069958847736621E-5},{"$f":"$C$141*'Emissions per kg'!N111","v":0.14128943758573387},{"$f":"$C$141*'Emissions per kg'!O111","v":-32.098765432098759},{"$f":"$C$141*'Emissions per kg'!P111","v":-0.1148148148148148},{"$f":"$C$141*'Emissions per kg'!Q111","v":1.4128943758573387},{"$f":"$C$141*'Emissions per kg'!R111","v":2.1947873799725647E-6}]
[null,"retail",{"$f":"(C143/(1-D143))/(1-D142)","v":1.371742112482853},{"$f":"Calculation_original!D142","v":0.1},{"$f":"$C$142*'Emissions per kg'!C112","v":0.1371742112482853},{"$f":"$C$142*'Emissions per kg'!D112","v":1.1769547325102879E-7},{"$f":"$C$142*'Emissions per kg'!E112","v":2.1673525377229078E-8},{"$f":"$C$142*'Emissions per kg'!F112","v":1.0054869684499313E-9},{"$f":"$C$142*'Emissions per kg'!G112","v":1.4128943758573386E-8},{"$f":"$C$142*'Emissions per kg'!H112","v":9.5198902606310008E-3},{"$f":"$C$142*'Emissions per kg'!I112","v":9.9588477366255117E-4},{"$f":"$C$142*'Emissions per kg'!J112","v":9.026063100137172E-4},{"$f":"$C$142*'Emissions per kg'!K112","v":3.5665294924554177E-3},{"$f":"$C$142*'Emissions per kg'!L112","v":2.6611796982167348E-6},{"$f":"$C$142*'Emissions per kg'!M112","v":3.2510288065843617E-4},{"$f":"$C$142*'Emissions per kg'!N112","v":0.37448559670781889},{"$f":"$C$142*'Emissions per kg'!O112","v":2.6337448559670777},{"$f":"$C$142*'Emissions per kg'!P112","v":5.4732510288065833E-2},{"$f":"$C$142*'Emissions per kg'!Q112","v":2.1399176954732506},{"$f":"$C$142*'Emissions per kg'!R112","v":3.1961591220850478E-7}]
[null,"use ",1,{"$f":"Calculation_original!D143","v":0.19},{"$f":"$C$143*'Emissions per kg'!C113","v":0.10199999999999999},{"$f":"$C$143*'Emissions per kg'!D113","v":1.3000000000000001E-8},{"$f":"$C$143*'Emissions per kg'!E113","v":1.3799999999999999E-8},{"$f":"$C$143*'Emissions per kg'!F113","v":2.0500000000000002E-9},{"$f":"$C$143*'Emissions per kg'!G113","v":5.4000000000000004E-9},{"$f":"$C$143*'Emissions per kg'!H113","v":6.1399999999999996E-3},{"$f":"$C$143*'Emissions per kg'!I113","v":2.9999999999999997E-4},{"$f":"$C$143*'Emissions per kg'!J113","v":4.7399999999999997E-4},{"$f":"$C$143*'Emissions per kg'!K113","v":1.14E-3},{"$f":"$C$143*'Emissions per kg'!L113","v":1.3799999999999999E-4},{"$f":"$C$143*'Emissions per kg'!M113","v":7.7499999999999997E-4},{"$f":"$C$143*'Emissions per kg'!N113","v":0.14599999999999999},{"$f":"$C$143*'Emissions per kg'!O113","v":6.2},{"$f":"$C$143*'Emissions per kg'!P113","v":1.56},{"$f":"$C$143*'Emissions per kg'!Q113","v":1.34},{"$f":"$C$143*'Emissions per kg'!R113","v":7.0100000000000004E-7}]
[null,"end of life P&R",{"$f":"D140*C140+D142*C142+C141*D141+C139*D139","v":0.2093711645368565},null,{"$f":"$C$144*'EoL emissions'!B4","v":7.0841817905599513E-2},{"$f":"$C$144*'EoL emissions'!C4","v":8.4769689082253091E-10},{"$f":"$C$144*'EoL emissions'!D4","v":7.8611228264999507E-8},{"$f":"$C$144*'EoL emissions'!E4","v":3.1443687441476194E-9},{"$f":"$C$144*'EoL emissions'!F4","v":1.6028028132995149E-9},{"$f":"$C$144*'EoL emissions'!G4","v":5.3676342720733363E-4},{"$f":"$C$144*'EoL emissions'!H4","v":9.4906368144778187E-5},{"$f":"$C$144*'EoL emissions'!I4","v":2.5146989129001623E-4},{"$f":"$C$144*'EoL emissions'!J4","v":1.0169502958551392E-3},{"$f":"$C$144*'EoL emissions'!K4","v":2.0018193888173908E-5},{"$f":"$C$144*'EoL emissions'!L4","v":1.1490307212392191E-4},{"$f":"$C$144*'EoL emissions'!M4","v":5.5584837227654686},{"$f":"$C$144*'EoL emissions'!N4","v":0.28730035987832347},{"$f":"$C$144*'EoL emissions'!O4","v":2.782313738035491E-3},{"$f":"$C$144*'EoL emissions'!P4","v":-5.1114682846777539E-2},{"$f":"$C$144*'EoL emissions'!Q4","v":-3.8798264787842168E-9}]
[null,"end of life HH",{"$f":"D143*C143","v":0.19},null,{"$f":"$C$145*'EoL emissions'!B5","v":8.4639029388490175E-2},{"$f":"$C$145*'EoL emissions'!C5","v":7.1272796897484594E-10},{"$f":"$C$145*'EoL emissions'!D5","v":1.498803732474973E-7},{"$f":"$C$145*'EoL emissions'!E5","v":3.2145064603042414E-9},{"$f":"$C$145*'EoL emissions'!F5","v":7.9812787365736278E-10},{"$f":"$C$145*'EoL emissions'!G5","v":4.1759647490197246E-4},{"$f":"$C$145*'EoL emissions'!H5","v":6.9166031244455938E-5},{"$f":"$C$145*'EoL emissions'!I5","v":1.0296269516051872E-4},{"$f":"$C$145*'EoL emissions'!J5","v":3.928074830676041E-4},{"$f":"$C$145*'EoL emissions'!K5","v":8.9839049299307995E-6},{"$f":"$C$145*'EoL emissions'!L5","v":1.8730104608291609E-4},{"$f":"$C$145*'EoL emissions'!M5","v":10.872613532406092},{"$f":"$C$145*'EoL emissions'!N5","v":0.17629313623369514},{"$f":"$C$145*'EoL emissions'!O5","v":4.1376991209796949E-3},{"$f":"$C$145*'EoL emissions'!P5","v":2.8403610917834107E-2},{"$f":"$C$145*'EoL emissions'!Q5","v":2.7593916303378536E-9}]
["TOMATOES",null,null,null,{"$f":"SUM(E139:E145)","v":0.80944099457587437},{"$f":"SUM(F139:F145)","v":2.4660946101171799E-6},3.0223673182799751E-7,1.154280055280216E-8,3.3120402205258811E-8,2.7933288499322501E-2,2.0401391093740726E-3,5.7799162338406139E-3,2.1684838278525659E-2,3.9981994590495759E-4,2.2011590673079858E-3,21.268599673769494,-10.168404193585474,3.4047367769915691,8.0871972379403783,3.7638460657652273E-6]
["Tubers","POTATOES"]
[null,"agriculture ",{"$f":"C149/(1-D148)","v":1.2955045990413268},{"$f":"Calculation_original!D148","v":0},{"$f":"$C$148*'Emissions per kg'!C116","v":0.12385023966835085},{"$f":"$C$148*'Emissions per kg'!D116","v":4.9488275683378677E-9},{"$f":"$C$148*'Emissions per kg'!E116","v":1.0143801010493588E-6},{"$f":"$C$148*'Emissions per kg'!F116","v":9.0814872392797006E-9},{"$f":"$C$148*'Emissions per kg'!G116","v":3.3683119575074497E-8},{"$f":"$C$148*'Emissions per kg'!H116","v":4.0549293949993523E-3},{"$f":"$C$148*'Emissions per kg'!I116","v":3.7958284751910877E-4},{"$f":"$C$148*'Emissions per kg'!J116","v":4.6249514185775359E-3},{"$f":"$C$148*'Emissions per kg'!K116","v":2.0080321285140566E-2},{"$f":"$C$148*'Emissions per kg'!L116","v":1.1270890011659543E-4},{"$f":"$C$148*'Emissions per kg'!M116","v":2.3966835082264546E-3},{"$f":"$C$148*'Emissions per kg'!N116","v":1.2618214794662523},{"$f":"$C$148*'Emissions per kg'!O116","v":41.067495789610057},{"$f":"$C$148*'Emissions per kg'!P116","v":2.5650991061018272E-2},{"$f":"$C$148*'Emissions per kg'!Q116","v":1.2916180852442027},{"$f":"$C$148*'Emissions per kg'!R116","v":3.381267003497863E-7}]
[null,"processsing",{"$f":"(C150/(1-D149))/(1-D150)","v":1.2955045990413268},{"$f":"Calculation_original!D149","v":0},{"$f":"$C$149*'Emissions per kg'!C117","v":0.18784816686099237},{"$f":"$C$149*'Emissions per kg'!D117","v":1.98212203653323E-6},{"$f":"$C$149*'Emissions per kg'!E117","v":6.5552532711491135E-9},{"$f":"$C$149*'Emissions per kg'!F117","v":7.6305220883534147E-10},{"$f":"$C$149*'Emissions per kg'!G117","v":2.5132789221401739E-9},{"$f":"$C$149*'Emissions per kg'!H117","v":1.0208576240445655E-2},{"$f":"$C$149*'Emissions per kg'!I117","v":2.1375825884181892E-4},{"$f":"$C$149*'Emissions per kg'!J117","v":5.6743101438010114E-4},{"$f":"$C$149*'Emissions per kg'!K117","v":9.4053633890400323E-4},{"$f":"$C$149*'Emissions per kg'!L117","v":9.5608239409249905E-6},{"$f":"$C$149*'Emissions per kg'!M117","v":7.9543982381137464E-5},{"$f":"$C$149*'Emissions per kg'!N117","v":7.7341624562767206E-2},{"$f":"$C$149*'Emissions per kg'!O117","v":0.92758129291358993},{"$f":"$C$149*'Emissions per kg'!P117","v":2.1634926803990158E-2},{"$f":"$C$149*'Emissions per kg'!Q117","v":1.9691669905428166},{"$f":"$C$149*'Emissions per kg'!R117","v":1.878481668609924E-6}]
[null,"packaging",{"$f":"C151","v":1.2955045990413268},{"$f":"Calculation_original!D150","v":0},{"$f":"$C$150*'Emissions per kg'!C118","v":6.7366239150148985E-2},{"$f":"$C$150*'Emissions per kg'!D118","v":1.9043917605907501E-8},{"$f":"$C$150*'Emissions per kg'!E118","v":5.5058945459256385E-9},{"$f":"$C$150*'Emissions per kg'!F118","v":1.07397331260526E-9},{"$f":"$C$150*'Emissions per kg'!G118","v":4.9099624303666285E-9},{"$f":"$C$150*'Emissions per kg'!H118","v":2.2800880943127351E-3},{"$f":"$C$150*'Emissions per kg'!I118","v":1.7618862546962043E-4},{"$f":"$C$150*'Emissions per kg'!J118","v":3.9771991190568729E-4},{"$f":"$C$150*'Emissions per kg'!K118","v":6.8143541909573791E-4},{"$f":"$C$150*'Emissions per kg'!L118","v":3.5755926933540617E-6},{"$f":"$C$150*'Emissions per kg'!M118","v":6.4257028112449805E-5},{"$f":"$C$150*'Emissions per kg'!N118","v":4.7804119704624962E-2},{"$f":"$C$150*'Emissions per kg'!O118","v":1.554605518849592},{"$f":"$C$150*'Emissions per kg'!P118","v":4.8581422464049749E-2},{"$f":"$C$150*'Emissions per kg'!Q118","v":0.86798808135768901},{"$f":"$C$150*'Emissions per kg'!R118","v":1.1154294597745824E-6}]
[null,"retail",{"$f":"(C152/(1-D152))/(1-D151)","v":1.2955045990413268},{"$f":"Calculation_original!D151","v":7.0000000000000007E-2},{"$f":"$C$151*'Emissions per kg'!C119","v":0.13991449669646328},{"$f":"$C$151*'Emissions per kg'!D119","v":8.4855551237206896E-7},{"$f":"$C$151*'Emissions per kg'!E119","v":1.7618862546962042E-8},{"$f":"$C$151*'Emissions per kg'!F119","v":8.3300945718357303E-10},{"$f":"$C$151*'Emissions per kg'!G119","v":1.1257934965669131E-8},{"$f":"$C$151*'Emissions per kg'!H119","v":7.7859826402383731E-3},{"$f":"$C$151*'Emissions per kg'!I119","v":7.8637129161808538E-4},{"$f":"$C$151*'Emissions per kg'!J119","v":7.2677808006218429E-4},{"$f":"$C$151*'Emissions per kg'!K119","v":2.8242000259100924E-3},{"$f":"$C$151*'Emissions per kg'!L119","v":2.3448633242648013E-6},{"$f":"$C$151*'Emissions per kg'!M119","v":2.5650991061018267E-4},{"$f":"$C$151*'Emissions per kg'!N119","v":0.29926156237854651},{"$f":"$C$151*'Emissions per kg'!O119","v":2.0080321285140563},{"$f":"$C$151*'Emissions per kg'!P119","v":4.9617826143282813E-2},{"$f":"$C$151*'Emissions per kg'!Q119","v":1.735976162715378},{"$f":"$C$151*'Emissions per kg'!R119","v":2.7464697499676124E-7}]
[null,"use ",1,{"$f":"Calculation_original!D152","v":0.17},{"$f":"$C$152*'Emissions per kg'!C120","v":0.50439999999999996},{"$f":"$C$152*'Emissions per kg'!D120","v":2.4103000000000001E-8},{"$f":"$C$152*'Emissions per kg'!E120","v":2.5939999999999999E-8},{"$f":"$C$152*'Emissions per kg'!F120","v":3.4069999999999999E-9},{"$f":"$C$152*'Emissions per kg'!G120","v":9.7959999999999988E-9},{"$f":"$C$152*'Emissions per kg'!H120","v":2.3274E-2},{"$f":"$C$152*'Emissions per kg'!I120","v":8.5789999999999998E-4},{"$f":"$C$152*'Emissions per kg'!J120","v":1.5929E-3},{"$f":"$C$152*'Emissions per kg'!K120","v":3.6419999999999998E-3},{"$f":"$C$152*'Emissions per kg'!L120","v":3.0651100000000003E-4},{"$f":"$C$152*'Emissions per kg'!M120","v":3.2329999999999998E-3},{"$f":"$C$152*'Emissions per kg'!N120","v":0.30559999999999998},{"$f":"$C$152*'Emissions per kg'!O120","v":6.52},{"$f":"$C$152*'Emissions per kg'!P120","v":1.2833300000000001},{"$f":"$C$152*'Emissions per kg'!Q120","v":6.1246},{"$f":"$C$152*'Emissions per kg'!R120","v":1.02224E-6}]
[null,"end of life P&R",{"$f":"D149*C149+D151*C151+C150*D150+C148*D148","v":9.0685321932892887E-2},null,{"$f":"$C$153*'EoL emissions'!B4","v":3.0683848357493222E-2},{"$f":"$C$153*'EoL emissions'!C4","v":3.6716453106521824E-10},{"$f":"$C$153*'EoL emissions'!D4","v":3.4049027517811227E-8},{"$f":"$C$153*'EoL emissions'!E4","v":1.3619262827788165E-9},{"$f":"$C$153*'EoL emissions'!F4","v":6.9422496378877525E-10},{"$f":"$C$153*'EoL emissions'!G4","v":2.3248934162340787E-4},{"$f":"$C$153*'EoL emissions'!H4","v":4.1106971763419701E-5},{"$f":"$C$153*'EoL emissions'!I4","v":1.0891962175646353E-4},{"$f":"$C$153*'EoL emissions'!J4","v":4.4047357320372383E-4},{"$f":"$C$153*'EoL emissions'!K4","v":8.6705175532639057E-6},{"$f":"$C$153*'EoL emissions'!L4","v":4.9768181352413442E-5},{"$f":"$C$153*'EoL emissions'!M4","v":2.4075563937984272},{"$f":"$C$153*'EoL emissions'!N4","v":0.12443893926193147},{"$f":"$C$153*'EoL emissions'!O4","v":1.2051087245476108E-3},{"$f":"$C$153*'EoL emissions'!P4","v":-2.2139397656365224E-2},{"$f":"$C$153*'EoL emissions'!Q4","v":-1.6804764593568107E-9}]
[null,"end of life HH",{"$f":"D152*C152","v":0.17},null,{"$f":"$C$154*'EoL emissions'!B5","v":7.5729657873912268E-2},{"$f":"$C$154*'EoL emissions'!C5","v":6.3770397224065173E-10},{"$f":"$C$154*'EoL emissions'!D5","v":1.3410349185302393E-7},{"$f":"$C$154*'EoL emissions'!E5","v":2.8761373592195846E-9},{"$f":"$C$154*'EoL emissions'!F5","v":7.141144132723773E-10},{"$f":"$C$154*'EoL emissions'!G5","v":3.736389512280806E-4},{"$f":"$C$154*'EoL emissions'!H5","v":6.188539637661848E-5},{"$f":"$C$154*'EoL emissions'!I5","v":9.2124516722569383E-5},{"$f":"$C$154*'EoL emissions'!J5","v":3.5145932695522476E-4},{"$f":"$C$154*'EoL emissions'!K5","v":8.0382307267801887E-6},{"$f":"$C$154*'EoL emissions'!L5","v":1.6758514649524073E-4},{"$f":"$C$154*'EoL emissions'!M5","v":9.7281278974159786},{"$f":"$C$154*'EoL emissions'!N5","v":0.15773596399856935},{"$f":"$C$154*'EoL emissions'!O5","v":3.7021518450870957E-3},{"$f":"$C$154*'EoL emissions'!P5","v":2.5413757137009465E-2},{"$f":"$C$154*'EoL emissions'!Q5","v":2.4689293534601849E-9}]
["POTATOES",null,null,null,{"$f":"SUM(E148:E154)","v":1.1297926486073608},{"$f":"SUM(F148:F154)","v":2.8797781625828499E-6},1.2381526307842309E-6,1.9396585859902278E-8,6.3568635270311591E-8,4.8209704662847595E-2,2.5167933915886715E-3,8.1108245634045426E-3,2.896042596920935E-2,4.5140992835518336E-4,6.2473477571778789E-3,14.127513077326597,52.359889633147787,1.4337224270419757,11.992623679340729,4.6297132566251566E-6]
["Oils","SUNFLOWER OIL"]
[null,"agriculture ",{"$f":"C158/(1-D157)","v":1.24372169289427},{"$f":"Calculation_original!D157","v":0.1},{"$f":"$C$157*'Emissions per kg'!C123","v":6.4673528030502041},{"$f":"$C$157*'Emissions per kg'!D123","v":2.9227459783015344E-7},{"$f":"$C$157*'Emissions per kg'!E123","v":1.8033964546966916E-5},{"$f":"$C$157*'Emissions per kg'!F123","v":4.6142074806377414E-7},{"$f":"$C$157*'Emissions per kg'!G123","v":3.3704857877434714E-7},{"$f":"$C$157*'Emissions per kg'!H123","v":0.10099020146301473},{"$f":"$C$157*'Emissions per kg'!I123","v":1.3680938621836969E-2},{"$f":"$C$157*'Emissions per kg'!J123","v":3.9052861156880073E-2},{"$f":"$C$157*'Emissions per kg'!K123","v":0.16292754176914939},{"$f":"$C$157*'Emissions per kg'!L123","v":3.855537247972237E-3},{"$f":"$C$157*'Emissions per kg'!M123","v":8.3578097762494946E-2},{"$f":"$C$157*'Emissions per kg'!N123","v":55.843104010952722},{"$f":"$C$157*'Emissions per kg'!O123","v":4004.7838511195496},{"$f":"$C$157*'Emissions per kg'!P123","v":2.9724948460173057},{"$f":"$C$157*'Emissions per kg'!Q123","v":43.281514912720596},{"$f":"$C$157*'Emissions per kg'!R123","v":2.2635734810675712E-5}]
[null,"processsing",{"$f":"(C159/(1-D158))/(1-D159)","v":1.119349523604843},{"$f":"Calculation_original!D158","v":0.06},{"$f":"$C$158*'Emissions per kg'!C124","v":1.2312844759653274},{"$f":"$C$158*'Emissions per kg'!D124","v":9.1003116269073735E-9},{"$f":"$C$158*'Emissions per kg'!E124","v":7.566802779568739E-9},{"$f":"$C$158*'Emissions per kg'!F124","v":1.119349523604843E-9},{"$f":"$C$158*'Emissions per kg'!G124","v":1.4215738949781505E-8},{"$f":"$C$158*'Emissions per kg'!H124","v":1.276058456909521E-2},{"$f":"$C$158*'Emissions per kg'!I124","v":4.947524894333406E-3},{"$f":"$C$158*'Emissions per kg'!J124","v":2.4961494376388002E-3},{"$f":"$C$158*'Emissions per kg'!K124","v":8.2384124937316446E-3},{"$f":"$C$158*'Emissions per kg'!L124","v":3.0782111899133182E-4},{"$f":"$C$158*'Emissions per kg'!M124","v":1.2424779712013757E-3},{"$f":"$C$158*'Emissions per kg'!N124","v":9.1226986173794711E-2},{"$f":"$C$158*'Emissions per kg'!O124","v":0.48132029515008246},{"$f":"$C$158*'Emissions per kg'!P124","v":3.7834013897843688E-2},{"$f":"$C$158*'Emissions per kg'!Q124","v":8.126477541371159},{"$f":"$C$158*'Emissions per kg'!R124","v":1.1305430188408915E-7}]
[null,"packaging",{"$f":"C160","v":1.0521885521885523},{"$f":"Calculation_original!D159","v":0},{"$f":"$C$159*'Emissions per kg'!C125","v":0.15993265993265995},{"$f":"$C$159*'Emissions per kg'!D125","v":1.3468013468013471E-8},{"$f":"$C$159*'Emissions per kg'!E125","v":1.8413299663299666E-8},{"$f":"$C$159*'Emissions per kg'!F125","v":2.1675084175084179E-9},{"$f":"$C$159*'Emissions per kg'!G125","v":1.2521043771043773E-9},{"$f":"$C$159*'Emissions per kg'!H125","v":1.2626262626262628E-2},{"$f":"$C$159*'Emissions per kg'!I125","v":1.7150673400673404E-4},{"$f":"$C$159*'Emissions per kg'!J125","v":6.912878787878789E-4},{"$f":"$C$159*'Emissions per kg'!K125","v":1.0258838383838385E-3},{"$f":"$C$159*'Emissions per kg'!L125","v":1.325757575757576E-5},{"$f":"$C$159*'Emissions per kg'!M125","v":1.0732323232323234E-4},{"$f":"$C$159*'Emissions per kg'!N125","v":0.1325757575757576},{"$f":"$C$159*'Emissions per kg'!O125","v":-3.0723905723905727},{"$f":"$C$159*'Emissions per kg'!P125","v":0.13362794612794615},{"$f":"$C$159*'Emissions per kg'!Q125","v":1.7150673400673402},{"$f":"$C$159*'Emissions per kg'!R125","v":1.125841750841751E-6}]
[null,"retail",{"$f":"(C161/(1-D161))/(1-D160)","v":1.0521885521885523},{"$f":"Calculation_original!D160","v":0.01},{"$f":"$C$160*'Emissions per kg'!C126","v":8.385942760942762E-2},{"$f":"$C$160*'Emissions per kg'!D126","v":1.8623737373737377E-8},{"$f":"$C$160*'Emissions per kg'!E126","v":1.3678451178451181E-8},{"$f":"$C$160*'Emissions per kg'!F126","v":6.4604377104377115E-10},{"$f":"$C$160*'Emissions per kg'!G126","v":8.7542087542087542E-9},{"$f":"$C$160*'Emissions per kg'!H126","v":6.0290404040404047E-3},{"$f":"$C$160*'Emissions per kg'!I126","v":6.1132154882154893E-4},{"$f":"$C$160*'Emissions per kg'!J126","v":5.6186868686868691E-4},{"$f":"$C$160*'Emissions per kg'!K126","v":2.1990740740740742E-3},{"$f":"$C$160*'Emissions per kg'!L126","v":1.7992424242424244E-6},{"$f":"$C$160*'Emissions per kg'!M126","v":1.9991582491582497E-4},{"$f":"$C$160*'Emissions per kg'!N126","v":0.23463804713804717},{"$f":"$C$160*'Emissions per kg'!O126","v":1.5467171717171719},{"$f":"$C$160*'Emissions per kg'!P126","v":3.9457070707070711E-2},{"$f":"$C$160*'Emissions per kg'!Q126","v":1.3468013468013471},{"$f":"$C$160*'Emissions per kg'!R126","v":2.1043771043771047E-7}]
[null,"use ",1,{"$f":"Calculation_original!D161","v":0.04},{"$f":"$C$161*'Emissions per kg'!C127","v":0.51},{"$f":"$C$161*'Emissions per kg'!D127","v":5.9899999999999994E-9},{"$f":"$C$161*'Emissions per kg'!E127","v":1.1159999999999999E-8},{"$f":"$C$161*'Emissions per kg'!F127","v":2.0100000000000003E-9},{"$f":"$C$161*'Emissions per kg'!G127","v":4.4699999999999997E-9},{"$f":"$C$161*'Emissions per kg'!H127","v":3.686E-3},{"$f":"$C$161*'Emissions per kg'!I127","v":3.9399999999999998E-4},{"$f":"$C$161*'Emissions per kg'!J127","v":5.1000000000000004E-4},{"$f":"$C$161*'Emissions per kg'!K127","v":1.371E-3},{"$f":"$C$161*'Emissions per kg'!L127","v":5.9199999999999992E-6},{"$f":"$C$161*'Emissions per kg'!M127","v":4.7200000000000003E-4},{"$f":"$C$161*'Emissions per kg'!N127","v":8.8300000000000003E-2},{"$f":"$C$161*'Emissions per kg'!O127","v":3.4279999999999999},{"$f":"$C$161*'Emissions per kg'!P127","v":0.81120000000000003},{"$f":"$C$161*'Emissions per kg'!Q127","v":4.46},{"$f":"$C$161*'Emissions per kg'!R127","v":3.2355000000000001E-7}]
[null,"end of life P&R",{"$f":"D158*C158+D160*C160+C159*D159+C157*D157","v":0.20205502622760313},null,{"$f":"$C$162*'EoL emissions'!B4","v":6.8366364616590972E-2},{"$f":"$C$162*'EoL emissions'!C4","v":8.1807548755383978E-10},{"$f":"$C$162*'EoL emissions'!D4","v":7.5864285437799525E-8},{"$f":"$C$162*'EoL emissions'!E4","v":3.0344938400347958E-9},{"$f":"$C$162*'EoL emissions'!F4","v":1.5467954491025439E-9},{"$f":"$C$162*'EoL emissions'!G4","v":5.1800709329915401E-4},{"$f":"$C$162*'EoL emissions'!H4","v":9.1590017885600602E-5},{"$f":"$C$162*'EoL emissions'!I4","v":2.4268268074285036E-4},{"$f":"$C$162*'EoL emissions'!J4","v":9.8141460480345851E-4},{"$f":"$C$162*'EoL emissions'!K4","v":1.9318690327063661E-5},{"$f":"$C$162*'EoL emissions'!L4","v":1.1088796923391173E-4},{"$f":"$C$162*'EoL emissions'!M4","v":5.3642514568493711},{"$f":"$C$162*'EoL emissions'!N4","v":0.27726111128447961},{"$f":"$C$162*'EoL emissions'!O4","v":2.6850902632927689E-3},{"$f":"$C$162*'EoL emissions'!P4","v":-4.9328562536619852E-2},{"$f":"$C$162*'EoL emissions'!Q4","v":-3.7442521880385006E-9}]
[null,"end of life HH",{"$f":"D161*C161","v":0.04},null,{"$f":"$C$163*'EoL emissions'!B5","v":1.7818743029155825E-2},{"$f":"$C$163*'EoL emissions'!C5","v":1.5004799346838863E-10},{"$f":"$C$163*'EoL emissions'!D5","v":3.1553762788946805E-8},{"$f":"$C$163*'EoL emissions'!E5","v":6.7673820216931396E-10},{"$f":"$C$163*'EoL emissions'!F5","v":1.6802692076997111E-10},{"$f":"$C$163*'EoL emissions'!G5","v":8.7915047347783667E-5},{"$f":"$C$163*'EoL emissions'!H5","v":1.4561269735674934E-5},{"$f":"$C$163*'EoL emissions'!I5","v":2.1676356875898676E-5},{"$f":"$C$163*'EoL emissions'!J5","v":8.2696312224758765E-5},{"$f":"$C$163*'EoL emissions'!K5","v":1.8913484063012208E-6},{"$f":"$C$163*'EoL emissions'!L5","v":3.9431799175350756E-5},{"$f":"$C$163*'EoL emissions'!M5","v":2.2889712699802298},{"$f":"$C$163*'EoL emissions'!N5","v":3.7114344470251609E-2},{"$f":"$C$163*'EoL emissions'!O5","v":8.7109455178519901E-4},{"$f":"$C$163*'EoL emissions'!P5","v":5.979707561649286E-3},{"$f":"$C$163*'EoL emissions'!Q5","v":5.8092455375533763E-10}]
["SUNFLOWER OIL",null,null,null,{"$f":"SUM(E157:E163)","v":8.5386144742033654},{"$f":"SUM(F157:F163)","v":3.4042478377983392E-7},1.8192201148814986E-5,4.7107488181813522E-7,3.6745545322531432E-7,0.13669801120305991,1.9911443086619934E-2,4.3576526197794195E-2,0.1768260230923672,4.205545223878753E-3,8.5750134559344646E-2,64.043067528669923,4007.481873469781,3.998170061565244,58.886512285985475,2.4405455246204979E-5]
["Oils","OLIVE OIL"]
[null,"agriculture ",{"$f":"C167/(1-D166)","v":1.1574074074074074},{"$f":"Calculation_original!D166","v":0},{"$f":"$C$166*'Emissions per kg'!C130","v":1.2962962962962965},{"$f":"$C$166*'Emissions per kg'!D130","v":1.0185185185185184E-7},{"$f":"$C$166*'Emissions per kg'!E130","v":2.5810185185185188E-7},{"$f":"$C$166*'Emissions per kg'!F130","v":9.0277777777777781E-9},{"$f":"$C$166*'Emissions per kg'!G130","v":1.4699074074074075E-7},{"$f":"$C$166*'Emissions per kg'!H130","v":7.2222222222222215E-2},{"$f":"$C$166*'Emissions per kg'!I130","v":6.3657407407407404E-3},{"$f":"$C$166*'Emissions per kg'!J130","v":2.0023148148148148E-2},{"$f":"$C$166*'Emissions per kg'!K130","v":7.4999999999999997E-2},{"$f":"$C$166*'Emissions per kg'!L130","v":2.8009259259259258E-4},{"$f":"$C$166*'Emissions per kg'!M130","v":1.1689814814814814E-2},{"$f":"$C$166*'Emissions per kg'!N130","v":4.8148148148148149},{"$f":"$C$166*'Emissions per kg'!O130","v":1342.5925925925926},{"$f":"$C$166*'Emissions per kg'!P130","v":30.439814814814817},{"$f":"$C$166*'Emissions per kg'!Q130","v":18.287037037037038},{"$f":"$C$166*'Emissions per kg'!R130","v":7.9629629629629629E-6}]
[null,"processsing",{"$f":"(C168/(1-D167))/(1-D168)","v":1.1574074074074074},{"$f":"Calculation_original!D167","v":0},{"$f":"$C$167*'Emissions per kg'!C131","v":0.18865740740740741},{"$f":"$C$167*'Emissions per kg'!D131","v":1.9907407407407407E-8},{"$f":"$C$167*'Emissions per kg'!E131","v":1.2847222222222223E-8},{"$f":"$C$167*'Emissions per kg'!F131","v":1.412037037037037E-9},{"$f":"$C$167*'Emissions per kg'!G131","v":5.3819444444444452E-9},{"$f":"$C$167*'Emissions per kg'!H131","v":1.7245370370370369E-2},{"$f":"$C$167*'Emissions per kg'!I131","v":5.3587962962962964E-4},{"$f":"$C$167*'Emissions per kg'!J131","v":9.9421296296296302E-4},{"$f":"$C$167*'Emissions per kg'!K131","v":1.8171296296296297E-3},{"$f":"$C$167*'Emissions per kg'!L131","v":1.1805555555555557E-5},{"$f":"$C$167*'Emissions per kg'!M131","v":1.6550925925925926E-4},{"$f":"$C$167*'Emissions per kg'!N131","v":0.11273148148148149},{"$f":"$C$167*'Emissions per kg'!O131","v":1.8981481481481481},{"$f":"$C$167*'Emissions per kg'!P131","v":0.25810185185185186},{"$f":"$C$167*'Emissions per kg'!Q131","v":3.738425925925926},{"$f":"$C$167*'Emissions per kg'!R131","v":3.0208333333333339E-7}]
[null,"packaging",{"$f":"C169","v":1.1574074074074074},{"$f":"Calculation_original!D168","v":0},{"$f":"$C$168*'Emissions per kg'!C132","v":0.85648148148148151},{"$f":"$C$168*'Emissions per kg'!D132","v":1.4120370370370373E-7},{"$f":"$C$168*'Emissions per kg'!E132","v":4.2592592592592593E-8},{"$f":"$C$168*'Emissions per kg'!F132","v":2.777777777777778E-9},{"$f":"$C$168*'Emissions per kg'!G132","v":2.5462962962962962E-9},{"$f":"$C$168*'Emissions per kg'!H132","v":6.5277777777777782E-2},{"$f":"$C$168*'Emissions per kg'!I132","v":1.1516203703703703E-3},{"$f":"$C$168*'Emissions per kg'!J132","v":1.712962962962963E-3},{"$f":"$C$168*'Emissions per kg'!K132","v":2.1990740740740742E-3},{"$f":"$C$168*'Emissions per kg'!L132","v":1.2962962962962962E-5},{"$f":"$C$168*'Emissions per kg'!M132","v":3.3680555555555558E-4},{"$f":"$C$168*'Emissions per kg'!N132","v":0.35069444444444442},{"$f":"$C$168*'Emissions per kg'!O132","v":-13.541666666666666},{"$f":"$C$168*'Emissions per kg'!P132","v":-2.4884259259259259E-2},{"$f":"$C$168*'Emissions per kg'!Q132","v":13.310185185185185},{"$f":"$C$168*'Emissions per kg'!R132","v":7.8125000000000002E-6}]
[null,"retail",{"$f":"(C170/(1-D170))/(1-D169)","v":1.1574074074074074},{"$f":"Calculation_original!D169","v":0},{"$f":"$C$169*'Emissions per kg'!C133","v":0.16203703703703706},{"$f":"$C$169*'Emissions per kg'!D133","v":3.6574074074074074E-8},{"$f":"$C$169*'Emissions per kg'!E133","v":2.7083333333333334E-8},{"$f":"$C$169*'Emissions per kg'!F133","v":1.2384259259259259E-9},{"$f":"$C$169*'Emissions per kg'!G133","v":1.747685185185185E-8},{"$f":"$C$169*'Emissions per kg'!H133","v":1.125E-2},{"$f":"$C$169*'Emissions per kg'!I133","v":1.2152777777777778E-3},{"$f":"$C$169*'Emissions per kg'!J133","v":1.0949074074074075E-3},{"$f":"$C$169*'Emissions per kg'!K133","v":4.363425925925926E-3},{"$f":"$C$169*'Emissions per kg'!L133","v":2.9861111111111111E-6},{"$f":"$C$169*'Emissions per kg'!M133","v":3.9699074074074072E-4},{"$f":"$C$169*'Emissions per kg'!N133","v":0.46990740740740744},{"$f":"$C$169*'Emissions per kg'!O133","v":3.0324074074074074},{"$f":"$C$169*'Emissions per kg'!P133","v":5.2546296296296299E-2},{"$f":"$C$169*'Emissions per kg'!Q133","v":2.5694444444444446},{"$f":"$C$169*'Emissions per kg'!R133","v":4.1087962962962962E-7}]
[null,"use ",1,{"$f":"Calculation_original!D170","v":0.13600000000000001},{"$f":"$C$170*'Emissions per kg'!C134","v":0.13200000000000001},{"$f":"$C$170*'Emissions per kg'!D134","v":1.31E-8},{"$f":"$C$170*'Emissions per kg'!E134","v":1.3799999999999999E-8},{"$f":"$C$170*'Emissions per kg'!F134","v":2.0799999999999998E-9},{"$f":"$C$170*'Emissions per kg'!G134","v":5.3700000000000003E-9},{"$f":"$C$170*'Emissions per kg'!H134","v":6.3400000000000001E-3},{"$f":"$C$170*'Emissions per kg'!I134","v":3.1100000000000002E-4},{"$f":"$C$170*'Emissions per kg'!J134","v":4.57E-4},{"$f":"$C$170*'Emissions per kg'!K134","v":1.01E-3},{"$f":"$C$170*'Emissions per kg'!L134","v":8.7399999999999993E-6},{"$f":"$C$170*'Emissions per kg'!M134","v":1.4799999999999999E-4},{"$f":"$C$170*'Emissions per kg'!N134","v":0.157},{"$f":"$C$170*'Emissions per kg'!O134","v":6.25},{"$f":"$C$170*'Emissions per kg'!P134","v":1.56},{"$f":"$C$170*'Emissions per kg'!Q134","v":1.86},{"$f":"$C$170*'Emissions per kg'!R134","v":7.3799999999999996E-7}]
[null,"end of life P&R",{"$f":"D167*C167+D169*C169+C168*D168+C166*D166","v":0},null,{"$f":"$C$171*'EoL emissions'!B4","v":0},{"$f":"$C$171*'EoL emissions'!C4","v":0},{"$f":"$C$171*'EoL emissions'!D4","v":0},{"$f":"$C$171*'EoL emissions'!E4","v":0},{"$f":"$C$171*'EoL emissions'!F4","v":0},{"$f":"$C$171*'EoL emissions'!G4","v":0},{"$f":"$C$171*'EoL emissions'!H4","v":0},{"$f":"$C$171*'EoL emissions'!I4","v":0},{"$f":"$C$171*'EoL emissions'!J4","v":0},{"$f":"$C$171*'EoL emissions'!K4","v":0},{"$f":"$C$171*'EoL emissions'!L4","v":0},{"$f":"$C$171*'EoL emissions'!M4","v":0},{"$f":"$C$171*'EoL emissions'!N4","v":0},{"$f":"$C$171*'EoL emissions'!O4","v":0},{"$f":"$C$171*'EoL emissions'!P4","v":0},{"$f":"$C$171*'EoL emissions'!Q4","v":0}]
[null,"end of life HH",{"$f":"D170*C170","v":0.13600000000000001},null,{"$f":"$C$172*'EoL emissions'!B5","v":6.0583726299129809E-2},{"$f":"$C$172*'EoL emissions'!C5","v":5.1016317779252132E-10},{"$f":"$C$172*'EoL emissions'!D5","v":1.0728279348241914E-7},{"$f":"$C$172*'EoL emissions'!E5","v":2.3009098873756676E-9},{"$f":"$C$172*'EoL emissions'!F5","v":5.7129153061790184E-10},{"$f":"$C$172*'EoL emissions'!G5","v":2.9891116098246451E-4},{"$f":"$C$172*'EoL emissions'!H5","v":4.9508317101294781E-5},{"$f":"$C$172*'EoL emissions'!I5","v":7.3699613378055501E-5},{"$f":"$C$172*'EoL emissions'!J5","v":2.8116746156417981E-4},{"$f":"$C$172*'EoL emissions'!K5","v":6.4305845814241515E-6},{"$f":"$C$172*'EoL emissions'!L5","v":1.3406811719619257E-4},{"$f":"$C$172*'EoL emissions'!M5","v":7.7825023179327824},{"$f":"$C$172*'EoL emissions'!N5","v":0.12618877119885547},{"$f":"$C$172*'EoL emissions'!O5","v":2.9617214760696768E-3},{"$f":"$C$172*'EoL emissions'!P5","v":2.0331005709607573E-2},{"$f":"$C$172*'EoL emissions'!Q5","v":1.975143482768148E-9}]
["OLIVE OIL",null,null,null,{"$f":"SUM(E166:E172)","v":2.6960559485213529},{"$f":"SUM(F166:F172)","v":3.1314720021482955E-7},4.6170779348241916E-7,1.8836928405894187E-8,1.7833712486395126E-7,0.17263428153135285,9.6290268356198153E-3,2.4355931094859541E-2,8.4670797091193795E-2,3.2301780680364629E-4,1.2871188487566564E-2,13.687650466080932,1340.3576702526802,32.288540425179775,39.785423598302202,1.7228401069408694E-5]
["Fruits","APPLES"]
[null,"agriculture ",{"$f":"C176/(1-D175)","v":1.6138142499798271},{"$f":"Calculation_original!D175","v":0},{"$f":"$C$175*'Emissions per kg'!C137","v":0.10909384329863631},{"$f":"$C$175*'Emissions per kg'!D137","v":3.1953522149600581E-9},{"$f":"$C$175*'Emissions per kg'!E137","v":6.6811909949164847E-9},{"$f":"$C$175*'Emissions per kg'!F137","v":3.0662470749616716E-10},{"$f":"$C$175*'Emissions per kg'!G137","v":1.4814814814814814E-8},{"$f":"$C$175*'Emissions per kg'!H137","v":4.1797789074477518E-3},{"$f":"$C$175*'Emissions per kg'!I137","v":4.9866860324376653E-4},{"$f":"$C$175*'Emissions per kg'!J137","v":1.8074719599774063E-3},{"$f":"$C$175*'Emissions per kg'!K137","v":7.6172032599047847E-3},{"$f":"$C$175*'Emissions per kg'!L137","v":8.1820382473977236E-6},{"$f":"$C$175*'Emissions per kg'!M137","v":1.1684015169853949E-3},{"$f":"$C$175*'Emissions per kg'!N137","v":4.6316468974421037},{"$f":"$C$175*'Emissions per kg'!O137","v":67.618817074154748},{"$f":"$C$175*'Emissions per kg'!P137","v":6.9232631324134584},{"$f":"$C$175*'Emissions per kg'!Q137","v":1.4330670539820864},{"$f":"$C$175*'Emissions per kg'!R137","v":2.0011296699749855E-7}]
[null,"processsing",{"$f":"(C177/(1-D176))/(1-D177)","v":1.6138142499798271},{"$f":"Calculation_original!D176","v":0.15},{"$f":"$C$176*'Emissions per kg'!C138","v":1.0780279189865245},{"$f":"$C$176*'Emissions per kg'!D138","v":2.0495440974743804E-5},{"$f":"$C$176*'Emissions per kg'!E138","v":2.0334059549745821E-8},{"$f":"$C$176*'Emissions per kg'!F138","v":2.1786492374727668E-9},{"$f":"$C$176*'Emissions per kg'!G138","v":7.6010651174049858E-9},{"$f":"$C$176*'Emissions per kg'!H138","v":3.179214072460259E-2},{"$f":"$C$176*'Emissions per kg'!I138","v":8.5048010973936888E-4},{"$f":"$C$176*'Emissions per kg'!J138","v":1.7590575324780116E-3},{"$f":"$C$176*'Emissions per kg'!K138","v":3.0339707899620749E-3},{"$f":"$C$176*'Emissions per kg'!L138","v":2.210925522472363E-5},{"$f":"$C$176*'Emissions per kg'!M138","v":2.7596223674655046E-4},{"$f":"$C$176*'Emissions per kg'!N138","v":0.13055757282336802},{"$f":"$C$176*'Emissions per kg'!O138","v":2.9532800774630839},{"$f":"$C$176*'Emissions per kg'!P138","v":6.7457435649156766E-2},{"$f":"$C$176*'Emissions per kg'!Q138","v":5.1157911724360519},{"$f":"$C$176*'Emissions per kg'!R138","v":6.2454611474219314E-7}]
[null,"packaging",{"$f":"C178","v":1.371742112482853},{"$f":"Calculation_original!D177","v":0},{"$f":"$C$177*'Emissions per kg'!C139","v":6.1454046639231813E-3},{"$f":"$C$177*'Emissions per kg'!D139","v":1.9341563786008229E-10},{"$f":"$C$177*'Emissions per kg'!E139","v":2.0027434842249656E-10},{"$f":"$C$177*'Emissions per kg'!F139","v":1.8244170096021946E-11},{"$f":"$C$177*'Emissions per kg'!G139","v":1.4951989026063098E-10},{"$f":"$C$177*'Emissions per kg'!H139","v":1.4677640603566529E-4},{"$f":"$C$177*'Emissions per kg'!I139","v":8.6282578875171452E-6},{"$f":"$C$177*'Emissions per kg'!J139","v":1.5912208504801098E-5},{"$f":"$C$177*'Emissions per kg'!K139","v":3.0727023319615904E-5},{"$f":"$C$177*'Emissions per kg'!L139","v":1.3127572016460903E-7},{"$f":"$C$177*'Emissions per kg'!M139","v":2.8532235939643343E-6},{"$f":"$C$177*'Emissions per kg'!N139","v":3.4293552812071325E-3},{"$f":"$C$177*'Emissions per kg'!O139","v":1.9067215363511657E-2},{"$f":"$C$177*'Emissions per kg'!P139","v":5.1714677640603561E-4},{"$f":"$C$177*'Emissions per kg'!Q139","v":3.9506172839506165E-2},{"$f":"$C$177*'Emissions per kg'!R139","v":1.6598079561042522E-9}]
[null,"retail",{"$f":"(C179/(1-D179))/(1-D178)","v":1.371742112482853},{"$f":"Calculation_original!D178","v":0.1},{"$f":"$C$178*'Emissions per kg'!C140","v":0.10617283950617282},{"$f":"$C$178*'Emissions per kg'!D140","v":2.359396433470507E-8},{"$f":"$C$178*'Emissions per kg'!E140","v":1.7283950617283947E-8},{"$f":"$C$178*'Emissions per kg'!F140","v":8.1755829903978041E-10},{"$f":"$C$178*'Emissions per kg'!G140","v":1.1056241426611797E-8},{"$f":"$C$178*'Emissions per kg'!H140","v":7.6543209876543195E-3},{"$f":"$C$178*'Emissions per kg'!I140","v":7.7366255144032921E-4},{"$f":"$C$178*'Emissions per kg'!J140","v":7.1056241426611791E-4},{"$f":"$C$178*'Emissions per kg'!K140","v":2.7709190672153632E-3},{"$f":"$C$178*'Emissions per kg'!L140","v":2.2908093278463649E-6},{"$f":"$C$178*'Emissions per kg'!M140","v":2.5240054869684497E-4},{"$f":"$C$178*'Emissions per kg'!N140","v":0.29629629629629628},{"$f":"$C$178*'Emissions per kg'!O140","v":1.9478737997256512},{"$f":"$C$178*'Emissions per kg'!P140","v":5.1028806584362131E-2},{"$f":"$C$178*'Emissions per kg'!Q140","v":1.7009602194787379},{"$f":"$C$178*'Emissions per kg'!R140","v":2.6611796982167346E-7}]
[null,"use ",1,{"$f":"Calculation_original!D179","v":0.19},{"$f":"$C$179*'Emissions per kg'!C141","v":0.1424},{"$f":"$C$179*'Emissions per kg'!D141","v":1.2349E-8},{"$f":"$C$179*'Emissions per kg'!E141","v":1.357E-8},{"$f":"$C$179*'Emissions per kg'!F141","v":2.0660000000000001E-9},{"$f":"$C$179*'Emissions per kg'!G141","v":5.2899999999999997E-9},{"$f":"$C$179*'Emissions per kg'!H141","v":5.7609999999999996E-3},{"$f":"$C$179*'Emissions per kg'!I141","v":3.1159999999999998E-4},{"$f":"$C$179*'Emissions per kg'!J141","v":4.6969999999999998E-4},{"$f":"$C$179*'Emissions per kg'!K141","v":1.1899999999999999E-3},{"$f":"$C$179*'Emissions per kg'!L141","v":4.4854999999999997E-5},{"$f":"$C$179*'Emissions per kg'!M141","v":7.9039999999999991E-4},{"$f":"$C$179*'Emissions per kg'!N141","v":0.2344},{"$f":"$C$179*'Emissions per kg'!O141","v":5.6196999999999999},{"$f":"$C$179*'Emissions per kg'!P141","v":1.3823099999999999},{"$f":"$C$179*'Emissions per kg'!Q141","v":1.2708999999999999},{"$f":"$C$179*'Emissions per kg'!R141","v":6.6856E-7}]
[null,"end of life P&R",{"$f":"D176*C176+D178*C178+C177*D177+C175*D175","v":0.37924634874525937},null,{"$f":"$C$180*'EoL emissions'!B4","v":0.12831996630770864},{"$f":"$C$180*'EoL emissions'!C4","v":1.5354834148164707E-9},{"$f":"$C$180*'EoL emissions'!D4","v":1.4239315789177395E-7},{"$f":"$C$180*'EoL emissions'!E4","v":5.6955807069448766E-9},{"$f":"$C$180*'EoL emissions'!F4","v":2.9032513433599734E-9},{"$f":"$C$180*'EoL emissions'!G4","v":9.7227127889685388E-4},{"$f":"$C$180*'EoL emissions'!H4","v":1.7190950659895927E-4},{"$f":"$C$180*'EoL emissions'!I4","v":4.5550225744824446E-4},{"$f":"$C$180*'EoL emissions'!J4","v":1.842062097766003E-3},{"$f":"$C$180*'EoL emissions'!K4","v":3.626013619095193E-5},{"$f":"$C$180*'EoL emissions'!L4","v":2.0813071684921354E-4},{"$f":"$C$180*'EoL emissions'!M4","v":10.068409664157329},{"$f":"$C$180*'EoL emissions'!N4","v":0.52040410014471172},{"$f":"$C$180*'EoL emissions'!O4","v":5.0397691035815283E-3},{"$f":"$C$180*'EoL emissions'!P4","v":-9.2587042154507804E-2},{"$f":"$C$180*'EoL emissions'!Q4","v":-7.0277587130918977E-9}]
[null,"end of life HH",{"$f":"D179*C179","v":0.19},null,{"$f":"$C$181*'EoL emissions'!B5","v":8.4639029388490175E-2},{"$f":"$C$181*'EoL emissions'!C5","v":7.1272796897484594E-10},{"$f":"$C$181*'EoL emissions'!D5","v":1.498803732474973E-7},{"$f":"$C$181*'EoL emissions'!E5","v":3.2145064603042414E-9},{"$f":"$C$181*'EoL emissions'!F5","v":7.9812787365736278E-10},{"$f":"$C$181*'EoL emissions'!G5","v":4.1759647490197246E-4},{"$f":"$C$181*'EoL emissions'!H5","v":6.9166031244455938E-5},{"$f":"$C$181*'EoL emissions'!I5","v":1.0296269516051872E-4},{"$f":"$C$181*'EoL emissions'!J5","v":3.928074830676041E-4},{"$f":"$C$181*'EoL emissions'!K5","v":8.9839049299307995E-6},{"$f":"$C$181*'EoL emissions'!L5","v":1.8730104608291609E-4},{"$f":"$C$181*'EoL emissions'!M5","v":10.872613532406092},{"$f":"$C$181*'EoL emissions'!N5","v":0.17629313623369514},{"$f":"$C$181*'EoL emissions'!O5","v":4.1376991209796949E-3},{"$f":"$C$181*'EoL emissions'!P5","v":2.8403610917834107E-2},{"$f":"$C$181*'EoL emissions'!Q5","v":2.7593916303378536E-9}]
["APPLES",null,null,null,{"$f":"SUM(E175:E181)","v":1.6547990021514556},{"$f":"SUM(F175:F181)","v":2.0537020918315125E-5},3.5034300664964002E-7,1.4297163581353855E-8,4.2613020466109564E-8,5.0923884779539151E-2,2.684115060154397E-3,5.3211690678350992E-3,1.6877689721235448E-2,1.2281241964101505E-4,2.8854492889548843E-3,26.237353318406395,78.855435403085394,8.4337539896479452,9.4960411874997099,1.7567284924347154E-6]
["Fruits","ORANGES"]
[null,"agriculture ",{"$f":"C185/(1-D184)","v":1.7146776406035662},{"$f":"Calculation_original!D184","v":0},{"$f":"$C$184*'Emissions per kg'!C144","v":0.36179698216735245},{"$f":"$C$184*'Emissions per kg'!D144","v":1.3768861454046636E-8},{"$f":"$C$184*'Emissions per kg'!E144","v":1.4043209876543205E-8},{"$f":"$C$184*'Emissions per kg'!F144","v":1.3082990397805208E-9},{"$f":"$C$184*'Emissions per kg'!G144","v":5.5041152263374478E-8},{"$f":"$C$184*'Emissions per kg'!H144","v":1.8347050754458156E-2},{"$f":"$C$184*'Emissions per kg'!I144","v":1.0013717421124826E-3},{"$f":"$C$184*'Emissions per kg'!J144","v":7.6303155006858699E-3},{"$f":"$C$184*'Emissions per kg'!K144","v":3.1893004115226331E-2},{"$f":"$C$184*'Emissions per kg'!L144","v":1.1882716049382715E-4},{"$f":"$C$184*'Emissions per kg'!M144","v":5.4698216735253767E-3},{"$f":"$C$184*'Emissions per kg'!N144","v":8.8991769547325088},{"$f":"$C$184*'Emissions per kg'!O144","v":91.39231824417007},{"$f":"$C$184*'Emissions per kg'!P144","v":12.362825788751712},{"$f":"$C$184*'Emissions per kg'!Q144","v":4.8182441700960208},{"$f":"$C$184*'Emissions per kg'!R144","v":3.6351165980795602E-7}]
[null,"processsing",{"$f":"(C186/(1-D185))/(1-D186)","v":1.7146776406035662},{"$f":"Calculation_original!D185","v":0.2},{"$f":"$C$185*'Emissions per kg'!C145","v":0.58299039780521256},{"$f":"$C$185*'Emissions per kg'!D145","v":1.0185185185185183E-5},{"$f":"$C$185*'Emissions per kg'!E145","v":1.3425925925925923E-8},{"$f":"$C$185*'Emissions per kg'!F145","v":1.2002743484224962E-9},{"$f":"$C$185*'Emissions per kg'!G145","v":6.4471879286694093E-9},{"$f":"$C$185*'Emissions per kg'!H145","v":1.6186556927297667E-2},{"$f":"$C$185*'Emissions per kg'!I145","v":7.2873799725651557E-4},{"$f":"$C$185*'Emissions per kg'!J145","v":1.22599451303155E-3},{"$f":"$C$185*'Emissions per kg'!K145","v":2.623456790123456E-3},{"$f":"$C$185*'Emissions per kg'!L145","v":1.0133744855967076E-5},{"$f":"$C$185*'Emissions per kg'!M145","v":2.3834019204389568E-4},{"$f":"$C$185*'Emissions per kg'!N145","v":0.13168724279835387},{"$f":"$C$185*'Emissions per kg'!O145","v":1.7661179698216731},{"$f":"$C$185*'Emissions per kg'!P145","v":3.4122085048010967E-2},{"$f":"$C$185*'Emissions per kg'!Q145","v":2.7777777777777772},{"$f":"$C$185*'Emissions per kg'!R145","v":3.4465020576131682E-7}]
[null,"packaging",{"$f":"C187","v":1.371742112482853},{"$f":"Calculation_original!D186","v":0},{"$f":"$C$186*'Emissions per kg'!C146","v":9.9176954732510286E-2},{"$f":"$C$186*'Emissions per kg'!D146","v":3.1001371742112481E-9},{"$f":"$C$186*'Emissions per kg'!E146","v":2.1124828532235935E-8},{"$f":"$C$186*'Emissions per kg'!F146","v":1.0054869684499313E-9},{"$f":"$C$186*'Emissions per kg'!G146","v":-1.5089163237311384E-8},{"$f":"$C$186*'Emissions per kg'!H146","v":2.098765432098765E-3},{"$f":"$C$186*'Emissions per kg'!I146","v":2.8257887517146771E-5},{"$f":"$C$186*'Emissions per kg'!J146","v":1.7969821673525377E-4},{"$f":"$C$186*'Emissions per kg'!K146","v":2.0576131687242795E-4},{"$f":"$C$186*'Emissions per kg'!L146","v":4.5130315500685861E-6},{"$f":"$C$186*'Emissions per kg'!M146","v":7.6268861454046628E-5},{"$f":"$C$186*'Emissions per kg'!N146","v":0.13319615912208504},{"$f":"$C$186*'Emissions per kg'!O146","v":-30.315500685871054},{"$f":"$C$186*'Emissions per kg'!P146","v":-0.10809327846364881},{"$f":"$C$186*'Emissions per kg'!Q146","v":1.3347050754458161},{"$f":"$C$186*'Emissions per kg'!R146","v":2.071330589849108E-6}]
[null,"retail",{"$f":"(C188/(1-D188))/(1-D187)","v":1.371742112482853},{"$f":"Calculation_original!D187","v":0.1},{"$f":"$C$187*'Emissions per kg'!C147","v":0.11399176954732508},{"$f":"$C$187*'Emissions per kg'!D147","v":2.537722908093278E-8},{"$f":"$C$187*'Emissions per kg'!E147","v":1.8655692729766801E-8},{"$f":"$C$187*'Emissions per kg'!F147","v":8.7654320987654307E-10},{"$f":"$C$187*'Emissions per kg'!G147","v":1.1920438957475994E-8},{"$f":"$C$187*'Emissions per kg'!H147","v":8.1618655692729768E-3},{"$f":"$C$187*'Emissions per kg'!I147","v":8.3264746227709177E-4},{"$f":"$C$187*'Emissions per kg'!J147","v":7.6406035665294914E-4},{"$f":"$C$187*'Emissions per kg'!K147","v":2.9903978052126198E-3},{"$f":"$C$187*'Emissions per kg'!L147","v":2.4005486968449926E-6},{"$f":"$C$187*'Emissions per kg'!M147","v":2.7160493827160489E-4},{"$f":"$C$187*'Emissions per kg'!N147","v":0.31961591220850477},{"$f":"$C$187*'Emissions per kg'!O147","v":2.098765432098765},{"$f":"$C$187*'Emissions per kg'!P147","v":5.1989026063100137E-2},{"$f":"$C$187*'Emissions per kg'!Q147","v":1.8244170096021946},{"$f":"$C$187*'Emissions per kg'!R147","v":2.8669410150891628E-7}]
[null,"use ",1,{"$f":"Calculation_original!D188","v":0.19},{"$f":"$C$188*'Emissions per kg'!C148","v":0.15960000000000002},{"$f":"$C$188*'Emissions per kg'!D148","v":1.2589000000000001E-8},{"$f":"$C$188*'Emissions per kg'!E148","v":1.379E-8},{"$f":"$C$188*'Emissions per kg'!F148","v":2.129E-9},{"$f":"$C$188*'Emissions per kg'!G148","v":5.4139999999999997E-9},{"$f":"$C$188*'Emissions per kg'!H148","v":5.7289999999999997E-3},{"$f":"$C$188*'Emissions per kg'!I148","v":3.2459999999999998E-4},{"$f":"$C$188*'Emissions per kg'!J148","v":4.9140000000000002E-4},{"$f":"$C$188*'Emissions per kg'!K148","v":1.286E-3},{"$f":"$C$188*'Emissions per kg'!L148","v":7.9796000000000006E-5},{"$f":"$C$188*'Emissions per kg'!M148","v":9.8600000000000011E-4},{"$f":"$C$188*'Emissions per kg'!N148","v":0.2334},{"$f":"$C$188*'Emissions per kg'!O148","v":5.4375},{"$f":"$C$188*'Emissions per kg'!P148","v":1.33324},{"$f":"$C$188*'Emissions per kg'!Q148","v":1.2732999999999999},{"$f":"$C$188*'Emissions per kg'!R148","v":6.6817999999999999E-7}]
[null,"end of life P&R",{"$f":"D185*C185+D187*C187+C186*D186+C184*D184","v":0.48010973936899859},null,{"$f":"$C$189*'EoL emissions'!B4","v":0.16244761692146098},{"$f":"$C$189*'EoL emissions'!C4","v":1.9438566634378726E-9},{"$f":"$C$189*'EoL emissions'!D4","v":1.8026367860767129E-7},{"$f":"$C$189*'EoL emissions'!E4","v":7.2103628098557482E-9},{"$f":"$C$189*'EoL emissions'!F4","v":3.6753926580833707E-9},{"$f":"$C$189*'EoL emissions'!G4","v":1.2308540658375066E-3},{"$f":"$C$189*'EoL emissions'!H4","v":2.1763012005612931E-4},{"$f":"$C$189*'EoL emissions'!I4","v":5.7664647485469245E-4},{"$f":"$C$189*'EoL emissions'!J4","v":2.3319722301505781E-3},{"$f":"$C$189*'EoL emissions'!K4","v":4.5903789433226381E-5},{"$f":"$C$189*'EoL emissions'!L4","v":2.6348463090485546E-4},{"$f":"$C$189*'EoL emissions'!M4","v":12.746178191858748},{"$f":"$C$189*'EoL emissions'!N4","v":0.65880944592787971},{"$f":"$C$189*'EoL emissions'!O4","v":6.3801332268744885E-3},{"$f":"$C$189*'EoL emissions'!P4","v":-0.11721125549347264},{"$f":"$C$189*'EoL emissions'!Q4","v":-8.896843477212084E-9}]
[null,"end of life HH",{"$f":"D188*C188","v":0.19},null,{"$f":"$C$190*'EoL emissions'!B5","v":8.4639029388490175E-2},{"$f":"$C$190*'EoL emissions'!C5","v":7.1272796897484594E-10},{"$f":"$C$190*'EoL emissions'!D5","v":1.498803732474973E-7},{"$f":"$C$190*'EoL emissions'!E5","v":3.2145064603042414E-9},{"$f":"$C$190*'EoL emissions'!F5","v":7.9812787365736278E-10},{"$f":"$C$190*'EoL emissions'!G5","v":4.1759647490197246E-4},{"$f":"$C$190*'EoL emissions'!H5","v":6.9166031244455938E-5},{"$f":"$C$190*'EoL emissions'!I5","v":1.0296269516051872E-4},{"$f":"$C$190*'EoL emissions'!J5","v":3.928074830676041E-4},{"$f":"$C$190*'EoL emissions'!K5","v":8.9839049299307995E-6},{"$f":"$C$190*'EoL emissions'!L5","v":1.8730104608291609E-4},{"$f":"$C$190*'EoL emissions'!M5","v":10.872613532406092},{"$f":"$C$190*'EoL emissions'!N5","v":0.17629313623369514},{"$f":"$C$190*'EoL emissions'!O5","v":4.1376991209796949E-3},{"$f":"$C$190*'EoL emissions'!P5","v":2.8403610917834107E-2},{"$f":"$C$190*'EoL emissions'!Q5","v":2.7593916303378536E-9}]
["ORANGES",null,null,null,{"$f":"SUM(E184:E190)","v":1.5646427505623517},{"$f":"SUM(F184:F190)","v":1.0242676997526786E-5},4.1118370891964046E-7,1.6944472836689481E-8,6.8207136443949238E-8,5.2171689223867043E-2,3.2024112404638225E-3,1.0971077757120834E-2,4.1723399740653019E-2,2.70558179959865E-4,7.4928213422826963E-3,33.335867993126293,71.214303542381032,13.68460145374703,11.93963638834617,3.728229105080423E-6]
["Fruits","BANANAS"]
[null,"agriculture ",{"$f":"C194/(1-D193)","v":1.4439390657714244},{"$f":"Calculation_original!D193","v":0},{"$f":"$C$193*'Emissions per kg'!C151","v":0.200707530142228},{"$f":"$C$193*'Emissions per kg'!D151","v":2.7868023969388493E-9},{"$f":"$C$193*'Emissions per kg'!E151","v":9.0101797704136888E-9},{"$f":"$C$193*'Emissions per kg'!F151","v":2.3680600678651359E-10},{"$f":"$C$193*'Emissions per kg'!G151","v":4.2596202440257019E-8},{"$f":"$C$193*'Emissions per kg'!H151","v":1.3183163670493104E-3},{"$f":"$C$193*'Emissions per kg'!I151","v":2.9167569128582771E-4},{"$f":"$C$193*'Emissions per kg'!J151","v":5.9057107790051258E-3},{"$f":"$C$193*'Emissions per kg'!K151","v":2.5990903183885639E-2},{"$f":"$C$193*'Emissions per kg'!L151","v":8.7791495198902609E-5},{"$f":"$C$193*'Emissions per kg'!M151","v":1.143599740090968E-3},{"$f":"$C$193*'Emissions per kg'!N151","v":0.68442711717565508},{"$f":"$C$193*'Emissions per kg'!O151","v":57.757562630856974},{"$f":"$C$193*'Emissions per kg'!P151","v":5.8479532163742682},{"$f":"$C$193*'Emissions per kg'!Q151","v":1.412172406324453},{"$f":"$C$193*'Emissions per kg'!R151","v":3.8841960869251316E-7}]
[null,"processsing",{"$f":"(C195/(1-D194))/(1-D195)","v":1.4439390657714244},{"$f":"Calculation_original!D194","v":0.05},{"$f":"$C$194*'Emissions per kg'!C152","v":0.69020287343874087},{"$f":"$C$194*'Emissions per kg'!D152","v":5.5591654032199847E-6},{"$f":"$C$194*'Emissions per kg'!E152","v":3.8264385242942745E-8},{"$f":"$C$194*'Emissions per kg'!F152","v":2.8878781315428489E-9},{"$f":"$C$194*'Emissions per kg'!G152","v":2.7146054436502777E-8},{"$f":"$C$194*'Emissions per kg'!H152","v":3.0178326474622767E-2},{"$f":"$C$194*'Emissions per kg'!I152","v":3.6820446177171324E-3},{"$f":"$C$194*'Emissions per kg'!J152","v":5.212620027434842E-3},{"$f":"$C$194*'Emissions per kg'!K152","v":1.3154284889177676E-2},{"$f":"$C$194*'Emissions per kg'!L152","v":1.2056891199191394E-5},{"$f":"$C$194*'Emissions per kg'!M152","v":1.1869179120641109E-3},{"$f":"$C$194*'Emissions per kg'!N152","v":0.56024835751931268},{"$f":"$C$194*'Emissions per kg'!O152","v":4.5772868384954153},{"$f":"$C$194*'Emissions per kg'!P152","v":0.59923471229514114},{"$f":"$C$194*'Emissions per kg'!Q152","v":9.6455129593531144},{"$f":"$C$194*'Emissions per kg'!R152","v":6.2666955454479821E-7}]
[null,"packaging",{"$f":"C196","v":1.371742112482853},{"$f":"Calculation_original!D195","v":0},{"$f":"$C$195*'Emissions per kg'!C153","v":0.14266117969821671},{"$f":"$C$195*'Emissions per kg'!D153","v":4.5953360768175573E-9},{"$f":"$C$195*'Emissions per kg'!E153","v":2.8669410150891626E-8},{"$f":"$C$195*'Emissions per kg'!F153","v":1.4128943758573386E-9},{"$f":"$C$195*'Emissions per kg'!G153","v":-1.9753086419753082E-8},{"$f":"$C$195*'Emissions per kg'!H153","v":3.2921810699588472E-3},{"$f":"$C$195*'Emissions per kg'!I153","v":5.9945130315500676E-5},{"$f":"$C$195*'Emissions per kg'!J153","v":2.8395061728395056E-4},{"$f":"$C$195*'Emissions per kg'!K153","v":3.5116598079561038E-4},{"$f":"$C$195*'Emissions per kg'!L153","v":6.3648834019204377E-6},{"$f":"$C$195*'Emissions per kg'!M153","v":1.0877914951989025E-4},{"$f":"$C$195*'Emissions per kg'!N153","v":0.18655692729766804},{"$f":"$C$195*'Emissions per kg'!O153","v":-40.329218106995874},{"$f":"$C$195*'Emissions per kg'!P153","v":-0.13854595336076816},{"$f":"$C$195*'Emissions per kg'!Q153","v":1.893004115226337},{"$f":"$C$195*'Emissions per kg'!R153","v":2.7846364883401919E-6}]
[null,"retail",{"$f":"(C197/(1-D197))/(1-D196)","v":1.371742112482853},{"$f":"Calculation_original!D196","v":0.1},{"$f":"$C$196*'Emissions per kg'!C154","v":0.14128943758573387},{"$f":"$C$196*'Emissions per kg'!D154","v":1.1851851851851851E-7},{"$f":"$C$196*'Emissions per kg'!E154","v":2.2222222222222217E-8},{"$f":"$C$196*'Emissions per kg'!F154","v":1.0288065843621398E-9},{"$f":"$C$196*'Emissions per kg'!G154","v":1.4403292181069957E-8},{"$f":"$C$196*'Emissions per kg'!H154","v":9.7256515775034288E-3},{"$f":"$C$196*'Emissions per kg'!I154","v":1.0192043895747597E-3},{"$f":"$C$196*'Emissions per kg'!J154","v":9.2455418381344294E-4},{"$f":"$C$196*'Emissions per kg'!K154","v":3.6488340192043891E-3},{"$f":"$C$196*'Emissions per kg'!L154","v":2.7023319615912207E-6},{"$f":"$C$196*'Emissions per kg'!M154","v":3.3196159122085046E-4},{"$f":"$C$196*'Emissions per kg'!N154","v":0.38271604938271603},{"$f":"$C$196*'Emissions per kg'!O154","v":2.7023319615912205},{"$f":"$C$196*'Emissions per kg'!P154","v":5.5144032921810693E-2},{"$f":"$C$196*'Emissions per kg'!Q154","v":2.1947873799725648},{"$f":"$C$196*'Emissions per kg'!R154","v":3.278463648834019E-7}]
[null,"use ",1,{"$f":"Calculation_original!D197","v":0.19},{"$f":"$C$197*'Emissions per kg'!C155","v":0.23949999999999999},{"$f":"$C$197*'Emissions per kg'!D155","v":1.2189999999999999E-8},{"$f":"$C$197*'Emissions per kg'!E155","v":1.363E-8},{"$f":"$C$197*'Emissions per kg'!F155","v":2.2419999999999999E-9},{"$f":"$C$197*'Emissions per kg'!G155","v":5.3600000000000005E-9},{"$f":"$C$197*'Emissions per kg'!H155","v":3.8409999999999998E-3},{"$f":"$C$197*'Emissions per kg'!I155","v":3.5599999999999998E-4},{"$f":"$C$197*'Emissions per kg'!J155","v":4.9899999999999999E-4},{"$f":"$C$197*'Emissions per kg'!K155","v":1.4530000000000001E-3},{"$f":"$C$197*'Emissions per kg'!L155","v":9.2709999999999998E-5},{"$f":"$C$197*'Emissions per kg'!M155","v":1.219E-3},{"$f":"$C$197*'Emissions per kg'!N155","v":0.15110000000000001},{"$f":"$C$197*'Emissions per kg'!O155","v":4.1870000000000003},{"$f":"$C$197*'Emissions per kg'!P155","v":0.99385999999999997},{"$f":"$C$197*'Emissions per kg'!Q155","v":1.115},{"$f":"$C$197*'Emissions per kg'!R155","v":6.3430000000000001E-7}]
[null,"end of life P&R",{"$f":"D194*C194+D196*C196+C195*D195+C193*D193","v":0.2093711645368565},null,{"$f":"$C$198*'EoL emissions'!B4","v":7.0841817905599513E-2},{"$f":"$C$198*'EoL emissions'!C4","v":8.4769689082253091E-10},{"$f":"$C$198*'EoL emissions'!D4","v":7.8611228264999507E-8},{"$f":"$C$198*'EoL emissions'!E4","v":3.1443687441476194E-9},{"$f":"$C$198*'EoL emissions'!F4","v":1.6028028132995149E-9},{"$f":"$C$198*'EoL emissions'!G4","v":5.3676342720733363E-4},{"$f":"$C$198*'EoL emissions'!H4","v":9.4906368144778187E-5},{"$f":"$C$198*'EoL emissions'!I4","v":2.5146989129001623E-4},{"$f":"$C$198*'EoL emissions'!J4","v":1.0169502958551392E-3},{"$f":"$C$198*'EoL emissions'!K4","v":2.0018193888173908E-5},{"$f":"$C$198*'EoL emissions'!L4","v":1.1490307212392191E-4},{"$f":"$C$198*'EoL emissions'!M4","v":5.5584837227654686},{"$f":"$C$198*'EoL emissions'!N4","v":0.28730035987832347},{"$f":"$C$198*'EoL emissions'!O4","v":2.782313738035491E-3},{"$f":"$C$198*'EoL emissions'!P4","v":-5.1114682846777539E-2},{"$f":"$C$198*'EoL emissions'!Q4","v":-3.8798264787842168E-9}]
[null,"end of life HH",{"$f":"D197*C197","v":0.19},null,{"$f":"$C$199*'EoL emissions'!B5","v":8.4639029388490175E-2},{"$f":"$C$199*'EoL emissions'!C5","v":7.1272796897484594E-10},{"$f":"$C$199*'EoL emissions'!D5","v":1.498803732474973E-7},{"$f":"$C$199*'EoL emissions'!E5","v":3.2145064603042414E-9},{"$f":"$C$199*'EoL emissions'!F5","v":7.9812787365736278E-10},{"$f":"$C$199*'EoL emissions'!G5","v":4.1759647490197246E-4},{"$f":"$C$199*'EoL emissions'!H5","v":6.9166031244455938E-5},{"$f":"$C$199*'EoL emissions'!I5","v":1.0296269516051872E-4},{"$f":"$C$199*'EoL emissions'!J5","v":3.928074830676041E-4},{"$f":"$C$199*'EoL emissions'!K5","v":8.9839049299307995E-6},{"$f":"$C$199*'EoL emissions'!L5","v":1.8730104608291609E-4},{"$f":"$C$199*'EoL emissions'!M5","v":10.872613532406092},{"$f":"$C$199*'EoL emissions'!N5","v":0.17629313623369514},{"$f":"$C$199*'EoL emissions'!O5","v":4.1376991209796949E-3},{"$f":"$C$199*'EoL emissions'!P5","v":2.8403610917834107E-2},{"$f":"$C$199*'EoL emissions'!Q5","v":2.7593916303378536E-9}]
["BANANAS",null,null,null,{"$f":"SUM(E193:E199)","v":1.5698418681590092},{"$f":"SUM(F193:F199)","v":5.6988164850720562E-6},3.4028779889896707E-7,1.4167260303000701E-8,7.2153393325033561E-8,4.9309835391243659E-2,5.5729422282824554E-3,1.3180268193987897E-2,4.6007945851986067E-2,2.3062770057971036E-4,4.292462511102658E-3,18.396145706546911,29.358556820059757,7.364566021089467,16.237765788947527,4.7607515816124588E-6]
["Sugar1","SUGAR"]
[null,"agriculture ",{"$f":"C203/(1-D202)","v":1.2077294685990336},{"$f":"Calculation_original!D202","v":0},{"$f":"$C$202*'Emissions per kg'!C158","v":0.54227053140096615},{"$f":"$C$202*'Emissions per kg'!D158","v":2.2826086956521736E-8},{"$f":"$C$202*'Emissions per kg'!E158","v":2.9710144927536231E-6},{"$f":"$C$202*'Emissions per kg'!F158","v":2.2705314009661832E-8},{"$f":"$C$202*'Emissions per kg'!G158","v":2.6811594202898546E-7},{"$f":"$C$202*'Emissions per kg'!H158","v":2.4154589371980675E-3},{"$f":"$C$202*'Emissions per kg'!I158","v":8.7198067632850227E-4},{"$f":"$C$202*'Emissions per kg'!J158","v":3.7801932367149751E-2},{"$f":"$C$202*'Emissions per kg'!K158","v":0.16908212560386474},{"$f":"$C$202*'Emissions per kg'!L158","v":2.5241545893719806E-4},{"$f":"$C$202*'Emissions per kg'!M158","v":1.8961352657004826E-2},{"$f":"$C$202*'Emissions per kg'!N158","v":2.8260869565217384},{"$f":"$C$202*'Emissions per kg'!O158","v":147.34299516908212},{"$f":"$C$202*'Emissions per kg'!P158","v":3.8405797101449271E-2},{"$f":"$C$202*'Emissions per kg'!Q158","v":2.4999999999999996},{"$f":"$C$202*'Emissions per kg'!R158","v":1.8236714975845407E-6}]
[null,"processsing",{"$f":"(C204/(1-D203))/(1-D204)","v":1.2077294685990336},{"$f":"Calculation_original!D203","v":0},{"$f":"$C$203*'Emissions per kg'!C159","v":0.36352657004830913},{"$f":"$C$203*'Emissions per kg'!D159","v":1.9565217391304343E-9},{"$f":"$C$203*'Emissions per kg'!E159","v":1.6787439613526566E-9},{"$f":"$C$203*'Emissions per kg'!F159","v":2.2222222222222221E-10},{"$f":"$C$203*'Emissions per kg'!G159","v":6.0748792270531398E-9},{"$f":"$C$203*'Emissions per kg'!H159","v":2.8502415458937194E-3},{"$f":"$C$203*'Emissions per kg'!I159","v":1.0591787439613524E-3},{"$f":"$C$203*'Emissions per kg'!J159","v":1.004830917874396E-3},{"$f":"$C$203*'Emissions per kg'!K159","v":4.1425120772946855E-3},{"$f":"$C$203*'Emissions per kg'!L159","v":1.041062801932367E-6},{"$f":"$C$203*'Emissions per kg'!M159","v":3.7801932367149754E-4},{"$f":"$C$203*'Emissions per kg'!N159","v":3.4299516908212556E-2},{"$f":"$C$203*'Emissions per kg'!O159","v":1.4613526570048307E-2},{"$f":"$C$203*'Emissions per kg'!P159","v":7.8743961352656988E-2},{"$f":"$C$203*'Emissions per kg'!Q159","v":5.7367149758454099},{"$f":"$C$203*'Emissions per kg'!R159","v":3.8043478260869557E-8}]
[null,"packaging",{"$f":"C205","v":1.2077294685990336},{"$f":"Calculation_original!D204","v":0},{"$f":"$C$204*'Emissions per kg'!C160","v":2.4154589371980673E-2},{"$f":"$C$204*'Emissions per kg'!D160","v":1.6787439613526566E-9},{"$f":"$C$204*'Emissions per kg'!E160","v":2.475845410628019E-9},{"$f":"$C$204*'Emissions per kg'!F160","v":2.3067632850241544E-10},{"$f":"$C$204*'Emissions per kg'!G160","v":1.0289855072463766E-9},{"$f":"$C$204*'Emissions per kg'!H160","v":1.1594202898550722E-3},{"$f":"$C$204*'Emissions per kg'!I160","v":5.5434782608695641E-5},{"$f":"$C$204*'Emissions per kg'!J160","v":1.1847826086956519E-4},{"$f":"$C$204*'Emissions per kg'!K160","v":1.9323671497584541E-4},{"$f":"$C$204*'Emissions per kg'!L160","v":1.2681159420289853E-6},{"$f":"$C$204*'Emissions per kg'!M160","v":2.1376811594202894E-5},{"$f":"$C$204*'Emissions per kg'!N160","v":1.4251207729468597E-2},{"$f":"$C$204*'Emissions per kg'!O160","v":0.32367149758454106},{"$f":"$C$204*'Emissions per kg'!P160","v":7.2584541062801914E-3},{"$f":"$C$204*'Emissions per kg'!Q160","v":0.35507246376811585},{"$f":"$C$204*'Emissions per kg'!R160","v":1.9082125603864732E-7}]
[null,"retail",{"$f":"(C206/(1-D206))/(1-D205)","v":1.2077294685990336},{"$f":"Calculation_original!D205","v":0},{"$f":"$C$205*'Emissions per kg'!C161","v":9.4444444444444442E-2},{"$f":"$C$205*'Emissions per kg'!D161","v":2.1014492753623186E-8},{"$f":"$C$205*'Emissions per kg'!E161","v":1.5458937198067629E-8},{"$f":"$C$205*'Emissions per kg'!F161","v":7.2705314009661823E-10},{"$f":"$C$205*'Emissions per kg'!G161","v":9.8429951690821238E-9},{"$f":"$C$205*'Emissions per kg'!H161","v":6.8115942028985493E-3},{"$f":"$C$205*'Emissions per kg'!I161","v":6.8840579710144909E-4},{"$f":"$C$205*'Emissions per kg'!J161","v":6.3285024154589365E-4},{"$f":"$C$205*'Emissions per kg'!K161","v":2.475845410628019E-3},{"$f":"$C$205*'Emissions per kg'!L161","v":2.0289855072463765E-6},{"$f":"$C$205*'Emissions per kg'!M161","v":2.2463768115942026E-4},{"$f":"$C$205*'Emissions per kg'!N161","v":0.26328502415458932},{"$f":"$C$205*'Emissions per kg'!O161","v":1.7391304347826084},{"$f":"$C$205*'Emissions per kg'!P161","v":4.5048309178743952E-2},{"$f":"$C$205*'Emissions per kg'!Q161","v":1.5217391304347825},{"$f":"$C$205*'Emissions per kg'!R161","v":2.3792270531400964E-7}]
[null,"use ",1,{"$f":"Calculation_original!D206","v":0.17199999999999999},{"$f":"$C$206*'Emissions per kg'!C162","v":9.8599999999999993E-2},{"$f":"$C$206*'Emissions per kg'!D162","v":1.09E-8},{"$f":"$C$206*'Emissions per kg'!E162","v":1.09E-8},{"$f":"$C$206*'Emissions per kg'!F162","v":1.5300000000000001E-9},{"$f":"$C$206*'Emissions per kg'!G162","v":4.01E-9},{"$f":"$C$206*'Emissions per kg'!H162","v":4.6899999999999997E-3},{"$f":"$C$206*'Emissions per kg'!I162","v":2.41E-4},{"$f":"$C$206*'Emissions per kg'!J162","v":3.3199999999999999E-4},{"$f":"$C$206*'Emissions per kg'!K162","v":7.4600000000000003E-4},{"$f":"$C$206*'Emissions per kg'!L162","v":1.1E-5},{"$f":"$C$206*'Emissions per kg'!M162","v":1.02E-4},{"$f":"$C$206*'Emissions per kg'!N162","v":0.188},{"$f":"$C$206*'Emissions per kg'!O162","v":4},{"$f":"$C$206*'Emissions per kg'!P162","v":0.97799999999999998},{"$f":"$C$206*'Emissions per kg'!Q162","v":1.06},{"$f":"$C$206*'Emissions per kg'!R162","v":6.1900000000000002E-7}]
[null,"end of life P&R",{"$f":"D203*C203+D205*C205+C204*D204+C202*D202","v":0},null,{"$f":"$C$207*'EoL emissions'!B4","v":0},{"$f":"$C$207*'EoL emissions'!C4","v":0},{"$f":"$C$207*'EoL emissions'!D4","v":0},{"$f":"$C$207*'EoL emissions'!E4","v":0},{"$f":"$C$207*'EoL emissions'!F4","v":0},{"$f":"$C$207*'EoL emissions'!G4","v":0},{"$f":"$C$207*'EoL emissions'!H4","v":0},{"$f":"$C$207*'EoL emissions'!I4","v":0},{"$f":"$C$207*'EoL emissions'!J4","v":0},{"$f":"$C$207*'EoL emissions'!K4","v":0},{"$f":"$C$207*'EoL emissions'!L4","v":0},{"$f":"$C$207*'EoL emissions'!M4","v":0},{"$f":"$C$207*'EoL emissions'!N4","v":0},{"$f":"$C$207*'EoL emissions'!O4","v":0},{"$f":"$C$207*'EoL emissions'!P4","v":0},{"$f":"$C$207*'EoL emissions'!Q4","v":0}]
[null,"end of life HH",{"$f":"D206*C206","v":0.17199999999999999},null,{"$f":"$C$208*'EoL emissions'!B5","v":7.6620595025370039E-2},{"$f":"$C$208*'EoL emissions'!C5","v":6.4520637191407107E-10},{"$f":"$C$208*'EoL emissions'!D5","v":1.3568117999247125E-7},{"$f":"$C$208*'EoL emissions'!E5","v":2.9099742693280496E-9},{"$f":"$C$208*'EoL emissions'!F5","v":7.2251575931087566E-10},{"$f":"$C$208*'EoL emissions'!G5","v":3.7803470359546978E-4},{"$f":"$C$208*'EoL emissions'!H5","v":6.2613459863402205E-5},{"$f":"$C$208*'EoL emissions'!I5","v":9.3208334566364297E-5},{"$f":"$C$208*'EoL emissions'!J5","v":3.5559414256646263E-4},{"$f":"$C$208*'EoL emissions'!K5","v":8.1327981470952493E-6},{"$f":"$C$208*'EoL emissions'!L5","v":1.6955673645400822E-4},{"$f":"$C$208*'EoL emissions'!M5","v":9.8425764609149873},{"$f":"$C$208*'EoL emissions'!N5","v":0.15959168122208189},{"$f":"$C$208*'EoL emissions'!O5","v":3.7457065726763552E-3},{"$f":"$C$208*'EoL emissions'!P5","v":2.5712742515091928E-2},{"$f":"$C$208*'EoL emissions'!Q5","v":2.4979755811479516E-9}]
["SUGAR",null,null,null,{"$f":"SUM(E202:E208)","v":1.1996167302910703},{"$f":"SUM(F202:F208)","v":5.9021051782542078E-8},3.137209199316143E-6,2.8325239969811138E-8,2.8979531769167797E-7,1.8304749679440877E-2,2.9786134598634014E-3,3.9983300122005967E-2,0.17699531394932974,2.7588642133550103E-4,1.9856943209883952E-2,13.168499166228996,153.58000230924139,1.1512022283118066,11.1992393125634,2.911956912779215E-6]
["Confectionery","BISCUITS"]
[null,"agriculture ",{"$f":"C212/(1-D211)","v":1.0913584686721514},{"$f":"Calculation_original!D211","v":0},{"$f":"$C$211*'Emissions per kg'!C165","v":1.5279018561410118},{"$f":"$C$211*'Emissions per kg'!D165","v":1.0378819037072161E-8},{"$f":"$C$211*'Emissions per kg'!E165","v":2.8920999419812012E-6},{"$f":"$C$211*'Emissions per kg'!F165","v":2.630173909499885E-8},{"$f":"$C$211*'Emissions per kg'!G165","v":2.5319516473193911E-7},{"$f":"$C$211*'Emissions per kg'!H165","v":7.5631141878980098E-3},{"$f":"$C$211*'Emissions per kg'!I165","v":1.320543747093303E-3},{"$f":"$C$211*'Emissions per kg'!J165","v":3.4814335150641626E-2},{"$f":"$C$211*'Emissions per kg'!K165","v":0.15497290255144547},{"$f":"$C$211*'Emissions per kg'!L165","v":2.7174825869936568E-4},{"$f":"$C$211*'Emissions per kg'!M165","v":1.6588648723816702E-2},{"$f":"$C$211*'Emissions per kg'!N165","v":7.85778097443949},{"$f":"$C$211*'Emissions per kg'!O165","v":251.01244779459481},{"$f":"$C$211*'Emissions per kg'!P165","v":0.61443481786242116},{"$f":"$C$211*'Emissions per kg'!Q165","v":3.9507176565931879},{"$f":"$C$211*'Emissions per kg'!R165","v":4.6273599071699215E-7}]
[null,"processsing",{"$f":"(C213/(1-D212))/(1-D213)","v":1.0913584686721514},{"$f":"Calculation_original!D212","v":2.3E-2},{"$f":"$C$212*'Emissions per kg'!C166","v":1.1240992227323159},{"$f":"$C$212*'Emissions per kg'!D166","v":1.1568399767924804E-7},{"$f":"$C$212*'Emissions per kg'!E166","v":4.4745697215558207E-8},{"$f":"$C$212*'Emissions per kg'!F166","v":5.0202489558918962E-9},{"$f":"$C$212*'Emissions per kg'!G166","v":2.2481984454646318E-8},{"$f":"$C$212*'Emissions per kg'!H166","v":7.4539783410307939E-2},{"$f":"$C$212*'Emissions per kg'!I166","v":2.4009886310787333E-3},{"$f":"$C$212*'Emissions per kg'!J166","v":4.1471621809541755E-3},{"$f":"$C$212*'Emissions per kg'!K166","v":7.9887439906801486E-3},{"$f":"$C$212*'Emissions per kg'!L166","v":9.51664584682116E-5},{"$f":"$C$212*'Emissions per kg'!M166","v":8.2397564384747426E-4},{"$f":"$C$212*'Emissions per kg'!N166","v":0.35578286078712135},{"$f":"$C$212*'Emissions per kg'!O166","v":6.1006938398773256},{"$f":"$C$212*'Emissions per kg'!P166","v":0.86544726565701602},{"$f":"$C$212*'Emissions per kg'!Q166","v":17.57087134562164},{"$f":"$C$212*'Emissions per kg'!R166","v":1.0738967331733969E-6}]
[null,"packaging",{"$f":"C214","v":1.066257223892692},{"$f":"Calculation_original!D213","v":0},{"$f":"$C$213*'Emissions per kg'!C167","v":0.32414219606337835},{"$f":"$C$213*'Emissions per kg'!D167","v":1.4394472522551342E-8},{"$f":"$C$213*'Emissions per kg'!E167","v":4.8941206576674563E-8},{"$f":"$C$213*'Emissions per kg'!F167","v":2.0258887253961148E-9},{"$f":"$C$213*'Emissions per kg'!G167","v":-1.311496385388011E-8},{"$f":"$C$213*'Emissions per kg'!H167","v":1.993901008679334E-2},{"$f":"$C$213*'Emissions per kg'!I167","v":4.5742434904996488E-4},{"$f":"$C$213*'Emissions per kg'!J167","v":1.4820975412108417E-3},{"$f":"$C$213*'Emissions per kg'!K167","v":1.5887232636001109E-3},{"$f":"$C$213*'Emissions per kg'!L167","v":1.9086004307679186E-5},{"$f":"$C$213*'Emissions per kg'!M167","v":1.620710980316892E-4},{"$f":"$C$213*'Emissions per kg'!N167","v":0.19725758642014801},{"$f":"$C$213*'Emissions per kg'!O167","v":-39.238265839251063},{"$f":"$C$213*'Emissions per kg'!P167","v":-9.9588424711577431E-2},{"$f":"$C$213*'Emissions per kg'!Q167","v":4.9580960911010177},{"$f":"$C$213*'Emissions per kg'!R167","v":2.8255816433156338E-6}]
[null,"retail",{"$f":"(C215/(1-D215))/(1-D214)","v":1.066257223892692},{"$f":"Calculation_original!D214","v":0.02},{"$f":"$C$214*'Emissions per kg'!C168","v":9.5430021538395929E-2},{"$f":"$C$214*'Emissions per kg'!D168","v":2.1325144477853839E-8},{"$f":"$C$214*'Emissions per kg'!E168","v":1.5673981191222571E-8},{"$f":"$C$214*'Emissions per kg'!F168","v":7.3358497003817209E-10},{"$f":"$C$214*'Emissions per kg'!G168","v":1.0033480476830232E-8},{"$f":"$C$214*'Emissions per kg'!H168","v":6.8027210884353748E-3},{"$f":"$C$214*'Emissions per kg'!I168","v":7.0053099609749864E-4},{"$f":"$C$214*'Emissions per kg'!J168","v":6.4082059155950782E-4},{"$f":"$C$214*'Emissions per kg'!K168","v":2.5163670483867532E-3},{"$f":"$C$214*'Emissions per kg'!L168","v":1.97257586420148E-6},{"$f":"$C$214*'Emissions per kg'!M168","v":2.2924530313692877E-4},{"$f":"$C$214*'Emissions per kg'!N168","v":0.26869682042095838},{"$f":"$C$214*'Emissions per kg'!O168","v":1.7593244194229416},{"$f":"$C$214*'Emissions per kg'!P168","v":4.1370780287036446E-2},{"$f":"$C$214*'Emissions per kg'!Q168","v":1.5247478301665494},{"$f":"$C$214*'Emissions per kg'!R168","v":2.3990787537585568E-7}]
[null,"use ",1,{"$f":"Calculation_original!D215","v":4.2999999999999997E-2},{"$f":"$C$215*'Emissions per kg'!C169","v":0.128},{"$f":"$C$215*'Emissions per kg'!D169","v":1.35E-8},{"$f":"$C$215*'Emissions per kg'!E169","v":1.26E-8},{"$f":"$C$215*'Emissions per kg'!F169","v":1.9000000000000001E-9},{"$f":"$C$215*'Emissions per kg'!G169","v":7.8700000000000003E-9},{"$f":"$C$215*'Emissions per kg'!H169","v":5.6100000000000004E-3},{"$f":"$C$215*'Emissions per kg'!I169","v":4.1599999999999997E-4},{"$f":"$C$215*'Emissions per kg'!J169","v":9.1500000000000001E-4},{"$f":"$C$215*'Emissions per kg'!K169","v":2.3700000000000001E-3},{"$f":"$C$215*'Emissions per kg'!L169","v":3.6299999999999999E-4},{"$f":"$C$215*'Emissions per kg'!M169","v":8.0700000000000008E-3},{"$f":"$C$215*'Emissions per kg'!N169","v":0.14000000000000001},{"$f":"$C$215*'Emissions per kg'!O169","v":4.9800000000000004},{"$f":"$C$215*'Emissions per kg'!P169","v":1.24},{"$f":"$C$215*'Emissions per kg'!Q169","v":1.26},{"$f":"$C$215*'Emissions per kg'!R169","v":7.1900000000000002E-7}]
[null,"end of life P&R",{"$f":"D212*C212+D214*C214+C213*D213+C211*D211","v":4.6426389257313322E-2},null,{"$f":"$C$216*'EoL emissions'!B4","v":1.5708609258855734E-2},{"$f":"$C$216*'EoL emissions'!C4","v":1.8797003834123075E-10},{"$f":"$C$216*'EoL emissions'!D4","v":1.7431414165840957E-8},{"$f":"$C$216*'EoL emissions'!E4","v":6.9723874157765897E-10},{"$f":"$C$216*'EoL emissions'!F4","v":3.5540876642476256E-10},{"$f":"$C$216*'EoL emissions'!G4","v":1.1902301764305497E-4},{"$f":"$C$216*'EoL emissions'!H4","v":2.104473173387598E-5},{"$f":"$C$216*'EoL emissions'!I4","v":5.5761446832232656E-5},{"$f":"$C$216*'EoL emissions'!J4","v":2.2550063374366663E-4},{"$f":"$C$216*'EoL emissions'!K4","v":4.4388751609447675E-6},{"$f":"$C$216*'EoL emissions'!L4","v":2.5478841678541102E-5},{"$f":"$C$216*'EoL emissions'!M4","v":1.2325495230653991},{"$f":"$C$216*'EoL emissions'!N4","v":6.3706568050966E-2},{"$f":"$C$216*'EoL emissions'!O4","v":6.1695592573000836E-4},{"$f":"$C$216*'EoL emissions'!P4","v":-1.1334274076652369E-2},{"$f":"$C$216*'EoL emissions'!Q4","v":-8.6032064039629927E-10}]
[null,"end of life HH",{"$f":"D215*C215","v":4.2999999999999997E-2},null,{"$f":"$C$217*'EoL emissions'!B5","v":1.915514875634251E-2},{"$f":"$C$217*'EoL emissions'!C5","v":1.6130159297851777E-10},{"$f":"$C$217*'EoL emissions'!D5","v":3.3920294998117813E-8},{"$f":"$C$217*'EoL emissions'!E5","v":7.2749356733201239E-10},{"$f":"$C$217*'EoL emissions'!F5","v":1.8062893982771892E-10},{"$f":"$C$217*'EoL emissions'!G5","v":9.4508675898867444E-5},{"$f":"$C$217*'EoL emissions'!H5","v":1.5653364965850551E-5},{"$f":"$C$217*'EoL emissions'!I5","v":2.3302083641591074E-5},{"$f":"$C$217*'EoL emissions'!J5","v":8.8898535641615658E-5},{"$f":"$C$217*'EoL emissions'!K5","v":2.0331995367738123E-6},{"$f":"$C$217*'EoL emissions'!L5","v":4.2389184113502056E-5},{"$f":"$C$217*'EoL emissions'!M5","v":2.4606441152287468},{"$f":"$C$217*'EoL emissions'!N5","v":3.9897920305520473E-2},{"$f":"$C$217*'EoL emissions'!O5","v":9.3642664316908881E-4},{"$f":"$C$217*'EoL emissions'!P5","v":6.4281856287729819E-3},{"$f":"$C$217*'EoL emissions'!Q5","v":6.244938952869879E-10}]
["BISCUITS",null,null,null,{"$f":"SUM(E211:E217)","v":3.2344370544903001},{"$f":"SUM(F211:F217)","v":1.7563170534804513E-7},3.0654125361286152E-6,3.7406194055234707E-8,2.8100170351578803E-7,0.1146681604669766,5.3321858200192267E-3,4.2078478994839977E-2,0.16975113602349776,7.5744537203717649E-4,2.5941808794624838E-2,12.512711880361866,224.7178047030005,2.6632178216637952,29.259526835034517,5.3208864158367691E-6]
["Confectionery","CHOCOLATE"]
[null,"agriculture ",{"$f":"C221/(1-D220)","v":1.112201068157906},{"$f":"Calculation_original!D220","v":0},{"$f":"$C$220*'Emissions per kg'!C172","v":0.18240097517789658},{"$f":"$C$220*'Emissions per kg'!D172","v":1.9241078479131772E-8},{"$f":"$C$220*'Emissions per kg'!E172","v":5.5943713728342668E-7},{"$f":"$C$220*'Emissions per kg'!F172","v":3.8148496637816171E-9},{"$f":"$C$220*'Emissions per kg'!G172","v":4.804708614442154E-8},{"$f":"$C$220*'Emissions per kg'!H172","v":5.7389575116947944E-3},{"$f":"$C$220*'Emissions per kg'!I172","v":6.5508642914500668E-4},{"$f":"$C$220*'Emissions per kg'!J172","v":6.7399384730369109E-3},{"$f":"$C$220*'Emissions per kg'!K172","v":2.3022562110868654E-2},{"$f":"$C$220*'Emissions per kg'!L172","v":5.6611034369237413E-5},{"$f":"$C$220*'Emissions per kg'!M172","v":2.580306478126342E-3},{"$f":"$C$220*'Emissions per kg'!N172","v":55.053952873816343},{"$f":"$C$220*'Emissions per kg'!O172","v":74.295031352948115},{"$f":"$C$220*'Emissions per kg'!P172","v":0.34144572792447714},{"$f":"$C$220*'Emissions per kg'!Q172","v":2.6692825635789741},{"$f":"$C$220*'Emissions per kg'!R172","v":7.8410175305132383E-6}]
[null,"processsing",{"$f":"(C222/(1-D221))/(1-D222)","v":1.112201068157906},{"$f":"Calculation_original!D221","v":0.05},{"$f":"$C$221*'Emissions per kg'!C173","v":1.0710496286360633},{"$f":"$C$221*'Emissions per kg'!D173","v":1.1789331322473803E-7},{"$f":"$C$221*'Emissions per kg'!E173","v":5.8168115864658481E-8},{"$f":"$C$221*'Emissions per kg'!F173","v":5.5721273514711087E-9},{"$f":"$C$221*'Emissions per kg'!G173","v":5.5387613194263723E-8},{"$f":"$C$221*'Emissions per kg'!H173","v":6.7288164623553304E-2},{"$f":"$C$221*'Emissions per kg'!I173","v":5.6833474582868998E-3},{"$f":"$C$221*'Emissions per kg'!J173","v":7.1069648255290187E-3},{"$f":"$C$221*'Emissions per kg'!K173","v":2.068693986773705E-2},{"$f":"$C$221*'Emissions per kg'!L173","v":4.2819741124079381E-5},{"$f":"$C$221*'Emissions per kg'!M173","v":1.8796198051868613E-3},{"$f":"$C$221*'Emissions per kg'!N173","v":0.59391537039632181},{"$f":"$C$221*'Emissions per kg'!O173","v":7.3850150925684952},{"$f":"$C$221*'Emissions per kg'!P173","v":0.58168115864658487},{"$f":"$C$221*'Emissions per kg'!Q173","v":19.352298585947562},{"$f":"$C$221*'Emissions per kg'!R173","v":1.3457632924710663E-6}]
[null,"packaging",{"$f":"C223","v":1.0565910147500106},{"$f":"Calculation_original!D222","v":0},{"$f":"$C$222*'Emissions per kg'!C174","v":0.42052322387050423},{"$f":"$C$222*'Emissions per kg'!D174","v":8.843666793457589E-8},{"$f":"$C$222*'Emissions per kg'!E174","v":5.1033346012425512E-8},{"$f":"$C$222*'Emissions per kg'!F174","v":5.2935209838975526E-9},{"$f":"$C$222*'Emissions per kg'!G174","v":1.1199864756350113E-8},{"$f":"$C$222*'Emissions per kg'!H174","v":1.3313046785850133E-2},{"$f":"$C$222*'Emissions per kg'!I174","v":1.0005916909682601E-3},{"$f":"$C$222*'Emissions per kg'!J174","v":2.3667638730400235E-3},{"$f":"$C$222*'Emissions per kg'!K174","v":3.5395798994125355E-3},{"$f":"$C$222*'Emissions per kg'!L174","v":2.0180888381725202E-5},{"$f":"$C$222*'Emissions per kg'!M174","v":3.4444867080850349E-4},{"$f":"$C$222*'Emissions per kg'!N174","v":0.28422298296775289},{"$f":"$C$222*'Emissions per kg'!O174","v":-21.13182029500021},{"$f":"$C$222*'Emissions per kg'!P174","v":6.9312370567600701E-2},{"$f":"$C$222*'Emissions per kg'!Q174","v":6.0648324246650613},{"$f":"$C$222*'Emissions per kg'!R174","v":6.6670893030725669E-6}]
[null,"retail",{"$f":"(C224/(1-D224))/(1-D223)","v":1.0565910147500106},{"$f":"Calculation_original!D223","v":0.01},{"$f":"$C$223*'Emissions per kg'!C175","v":9.160644097882592E-2},{"$f":"$C$223*'Emissions per kg'!D175","v":2.0392206584675207E-8},{"$f":"$C$223*'Emissions per kg'!E175","v":1.500359240945015E-8},{"$f":"$C$223*'Emissions per kg'!F175","v":7.0474620683825704E-10},{"$f":"$C$223*'Emissions per kg'!G175","v":9.6255441443725967E-9},{"$f":"$C$223*'Emissions per kg'!H175","v":6.5508642914500655E-3},{"$f":"$C$223*'Emissions per kg'!I175","v":6.7199188538100672E-4},{"$f":"$C$223*'Emissions per kg'!J175","v":6.1493597058450626E-4},{"$f":"$C$223*'Emissions per kg'!K175","v":2.4090275136300241E-3},{"$f":"$C$223*'Emissions per kg'!L175","v":1.9124297366975193E-6},{"$f":"$C$223*'Emissions per kg'!M175","v":2.197709310680022E-4},{"$f":"$C$223*'Emissions per kg'!N175","v":0.25780820759900258},{"$f":"$C$223*'Emissions per kg'!O175","v":1.6905456236000171},{"$f":"$C$223*'Emissions per kg'!P175","v":4.0573094966400401E-2},{"$f":"$C$223*'Emissions per kg'!Q175","v":1.4686615105025147},{"$f":"$C$223*'Emissions per kg'!R175","v":2.3033684121550229E-7}]
[null,"use ",1,{"$f":"Calculation_original!D224","v":4.3999999999999997E-2},{"$f":"$C$224*'Emissions per kg'!C176","v":0.14699999999999999},{"$f":"$C$224*'Emissions per kg'!D176","v":1.7100000000000001E-8},{"$f":"$C$224*'Emissions per kg'!E176","v":1.5300000000000001E-8},{"$f":"$C$224*'Emissions per kg'!F176","v":2.2999999999999999E-9},{"$f":"$C$224*'Emissions per kg'!G176","v":7.6799999999999999E-9},{"$f":"$C$224*'Emissions per kg'!H176","v":6.4799999999999996E-3},{"$f":"$C$224*'Emissions per kg'!I176","v":4.2499999999999998E-4},{"$f":"$C$224*'Emissions per kg'!J176","v":8.3299999999999997E-4},{"$f":"$C$224*'Emissions per kg'!K176","v":2.6199999999999999E-3},{"$f":"$C$224*'Emissions per kg'!L176","v":1.0200000000000001E-3},{"$f":"$C$224*'Emissions per kg'!M176","v":5.2700000000000004E-3},{"$f":"$C$224*'Emissions per kg'!N176","v":0.155},{"$f":"$C$224*'Emissions per kg'!O176","v":5.55},{"$f":"$C$224*'Emissions per kg'!P176","v":1.38},{"$f":"$C$224*'Emissions per kg'!Q176","v":1.46},{"$f":"$C$224*'Emissions per kg'!R176","v":8.6600000000000005E-7}]
[null,"end of life P&R",{"$f":"D221*C221+D223*C223+C222*D222+C220*D220","v":6.6175963555395401E-2},null,{"$f":"$C$225*'EoL emissions'!B4","v":2.2390980010495463E-2},{"$f":"$C$225*'EoL emissions'!C4","v":2.6793163555824219E-10},{"$f":"$C$225*'EoL emissions'!D4","v":2.4846658269380334E-8},{"$f":"$C$225*'EoL emissions'!E4","v":9.9384092302169793E-10},{"$f":"$C$225*'EoL emissions'!F4","v":5.0659803509247085E-10},{"$f":"$C$225*'EoL emissions'!G4","v":1.6965486663512712E-4},{"$f":"$C$225*'EoL emissions'!H4","v":2.9997064655090998E-5},{"$f":"$C$225*'EoL emissions'!I4","v":7.9482112057307317E-5},{"$f":"$C$225*'EoL emissions'!J4","v":3.214275751153477E-4},{"$f":"$C$225*'EoL emissions'!K4","v":6.327152414321309E-6},{"$f":"$C$225*'EoL emissions'!L4","v":3.6317424751855417E-5},{"$f":"$C$225*'EoL emissions'!M4","v":1.7568704700796278},{"$f":"$C$225*'EoL emissions'!N4","v":9.08070516148516E-2},{"$f":"$C$225*'EoL emissions'!O4","v":8.7940616338073028E-4},{"$f":"$C$225*'EoL emissions'!P4","v":-1.6155822587587021E-2},{"$f":"$C$225*'EoL emissions'!Q4","v":-1.226297117987732E-9}]
[null,"end of life HH",{"$f":"D224*C224","v":4.3999999999999997E-2},null,{"$f":"$C$226*'EoL emissions'!B5","v":1.9600617332071406E-2},{"$f":"$C$226*'EoL emissions'!C5","v":1.6505279281522746E-10},{"$f":"$C$226*'EoL emissions'!D5","v":3.4709139067841481E-8},{"$f":"$C$226*'EoL emissions'!E5","v":7.4441202238624527E-10},{"$f":"$C$226*'EoL emissions'!F5","v":1.848296128469682E-10},{"$f":"$C$226*'EoL emissions'!G5","v":9.6706552082562031E-5},{"$f":"$C$226*'EoL emissions'!H5","v":1.6017396709242428E-5},{"$f":"$C$226*'EoL emissions'!I5","v":2.3843992563488542E-5},{"$f":"$C$226*'EoL emissions'!J5","v":9.0965943447234623E-5},{"$f":"$C$226*'EoL emissions'!K5","v":2.0804832469313426E-6},{"$f":"$C$226*'EoL emissions'!L5","v":4.3374979092885829E-5},{"$f":"$C$226*'EoL emissions'!M5","v":2.5178683969782529},{"$f":"$C$226*'EoL emissions'!N5","v":4.0825778917276762E-2},{"$f":"$C$226*'EoL emissions'!O5","v":9.5820400696371882E-4},{"$f":"$C$226*'EoL emissions'!P5","v":6.5776783178142142E-3},{"$f":"$C$226*'EoL emissions'!Q5","v":6.3901700913087135E-10}]
["CHOCOLATE",null,null,null,{"$f":"SUM(E220:E226)","v":1.9545718660058571},{"$f":"SUM(F220:F226)","v":2.6349625065149438E-7},7.5849798890718269E-7,1.942349715139648E-8,1.326315358873474E-7,9.9637394631265988E-2,8.4820319251455063E-3,1.7764929246811254E-2,5.2690502910210851E-2,1.1499317292729923E-3,1.0373838289034451E-2,60.619638301837306,67.920404604648539,2.4148499622754072,31.005496940424337,1.6949619687163518E-5]
["Nuts","ALMONDS"]
[null,"agriculture ",{"$f":"C230/(1-D229)","v":1.149108291965435},{"$f":"Calculation_original!D229","v":0},{"$f":"$C$229*'Emissions per kg'!C179","v":4.8952013237727527},{"$f":"$C$229*'Emissions per kg'!D179","v":2.1947968376539807E-7},{"$f":"$C$229*'Emissions per kg'!E179","v":7.078507078507079E-8},{"$f":"$C$229*'Emissions per kg'!F179","v":7.308328736900167E-9},{"$f":"$C$229*'Emissions per kg'!G179","v":7.8943739658025392E-7},{"$f":"$C$229*'Emissions per kg'!H179","v":8.7102408530979974E-2},{"$f":"$C$229*'Emissions per kg'!I179","v":2.1373414230557088E-2},{"$f":"$C$229*'Emissions per kg'!J179","v":9.5950542379113823E-2},{"$f":"$C$229*'Emissions per kg'!K179","v":0.42631917631917637},{"$f":"$C$229*'Emissions per kg'!L179","v":5.0905497334068767E-3},{"$f":"$C$229*'Emissions per kg'!M179","v":2.2062879205736349E-2},{"$f":"$C$229*'Emissions per kg'!N179","v":42.057363485934921},{"$f":"$C$229*'Emissions per kg'!O179","v":1321.4745357602501},{"$f":"$C$229*'Emissions per kg'!P179","v":374.60930318073179},{"$f":"$C$229*'Emissions per kg'!Q179","v":50.560764846479138},{"$f":"$C$229*'Emissions per kg'!R179","v":1.6432248575105721E-5}]
[null,"processsing",{"$f":"(C231/(1-D230))/(1-D231)","v":1.149108291965435},{"$f":"Calculation_original!D230","v":7.4999999999999997E-2},{"$f":"$C$230*'Emissions per kg'!C180","v":0.3079610222467366},{"$f":"$C$230*'Emissions per kg'!D180","v":5.5616841331127056E-8},{"$f":"$C$230*'Emissions per kg'!E180","v":3.1945210516639091E-8},{"$f":"$C$230*'Emissions per kg'!F180","v":2.2522522522522522E-9},{"$f":"$C$230*'Emissions per kg'!G180","v":1.9994484280198567E-8},{"$f":"$C$230*'Emissions per kg'!H180","v":2.7233866519580808E-2},{"$f":"$C$230*'Emissions per kg'!I180","v":2.4935649935649939E-3},{"$f":"$C$230*'Emissions per kg'!J180","v":3.5737267880125026E-3},{"$f":"$C$230*'Emissions per kg'!K180","v":9.1583930869645162E-3},{"$f":"$C$230*'Emissions per kg'!L180","v":1.2410369553226697E-5},{"$f":"$C$230*'Emissions per kg'!M180","v":8.2735797021511325E-4},{"$f":"$C$230*'Emissions per kg'!N180","v":0.44240669240669245},{"$f":"$C$230*'Emissions per kg'!O180","v":3.80354844640559},{"$f":"$C$230*'Emissions per kg'!P180","v":5.0905497334068767E-2},{"$f":"$C$230*'Emissions per kg'!Q180","v":5.2858981430410008},{"$f":"$C$230*'Emissions per kg'!R180","v":5.4582643868358164E-7}]
[null,"packaging",{"$f":"C232","v":1.0629251700680273},{"$f":"Calculation_original!D231","v":0},{"$f":"$C$231*'Emissions per kg'!C181","v":9.0986394557823133E-2},{"$f":"$C$231*'Emissions per kg'!D181","v":3.8903061224489799E-9},{"$f":"$C$231*'Emissions per kg'!E181","v":4.2091836734693884E-9},{"$f":"$C$231*'Emissions per kg'!F181","v":5.9842687074829941E-10},{"$f":"$C$231*'Emissions per kg'!G181","v":3.4438775510204087E-9},{"$f":"$C$231*'Emissions per kg'!H181","v":4.2835884353741496E-3},{"$f":"$C$231*'Emissions per kg'!I181","v":1.987670068027211E-4},{"$f":"$C$231*'Emissions per kg'!J181","v":3.8052721088435373E-4},{"$f":"$C$231*'Emissions per kg'!K181","v":6.7495748299319742E-4},{"$f":"$C$231*'Emissions per kg'!L181","v":2.7848639455782315E-6},{"$f":"$C$231*'Emissions per kg'!M181","v":6.1543367346938787E-5},{"$f":"$C$231*'Emissions per kg'!N181","v":7.3554421768707495E-2},{"$f":"$C$231*'Emissions per kg'!O181","v":1.048044217687075},{"$f":"$C$231*'Emissions per kg'!P181","v":5.0914115646258508E-2},{"$f":"$C$231*'Emissions per kg'!Q181","v":1.0012755102040818},{"$f":"$C$231*'Emissions per kg'!R181","v":2.6466836734693882E-7}]
[null,"retail",{"$f":"(C233/(1-D233))/(1-D232)","v":1.0629251700680273},{"$f":"Calculation_original!D232","v":0.02},{"$f":"$C$232*'Emissions per kg'!C182","v":8.4927721088435382E-2},{"$f":"$C$232*'Emissions per kg'!D182","v":1.8920068027210886E-8},{"$f":"$C$232*'Emissions per kg'!E182","v":1.3924319727891158E-8},{"$f":"$C$232*'Emissions per kg'!F182","v":6.5369897959183686E-10},{"$f":"$C$232*'Emissions per kg'!G182","v":8.8647959183673484E-9},{"$f":"$C$232*'Emissions per kg'!H182","v":6.1118197278911572E-3},{"$f":"$C$232*'Emissions per kg'!I182","v":6.1968537414965985E-4},{"$f":"$C$232*'Emissions per kg'!J182","v":5.6866496598639458E-4},{"$f":"$C$232*'Emissions per kg'!K182","v":2.2215136054421769E-3},{"$f":"$C$232*'Emissions per kg'!L182","v":1.8176020408163267E-6},{"$f":"$C$232*'Emissions per kg'!M182","v":2.0195578231292522E-4},{"$f":"$C$232*'Emissions per kg'!N182","v":0.2370323129251701},{"$f":"$C$232*'Emissions per kg'!O182","v":1.5625000000000002},{"$f":"$C$232*'Emissions per kg'!P182","v":3.9859693877551026E-2},{"$f":"$C$232*'Emissions per kg'!Q182","v":1.360544217687075},{"$f":"$C$232*'Emissions per kg'!R182","v":2.136479591836735E-7}]
[null,"use ",1,{"$f":"Calculation_original!D233","v":0.04},{"$f":"$C$233*'Emissions per kg'!C183","v":0.23100000000000001},{"$f":"$C$233*'Emissions per kg'!D183","v":2.6000000000000001E-8},{"$f":"$C$233*'Emissions per kg'!E183","v":4.7699999999999997E-8},{"$f":"$C$233*'Emissions per kg'!F183","v":3.29E-9},{"$f":"$C$233*'Emissions per kg'!G183","v":1.7599999999999999E-8},{"$f":"$C$233*'Emissions per kg'!H183","v":8.7600000000000004E-3},{"$f":"$C$233*'Emissions per kg'!I183","v":8.9700000000000001E-4},{"$f":"$C$233*'Emissions per kg'!J183","v":2.3500000000000001E-3},{"$f":"$C$233*'Emissions per kg'!K183","v":9.11E-3},{"$f":"$C$233*'Emissions per kg'!L183","v":2.47E-3},{"$f":"$C$233*'Emissions per kg'!M183","v":2.5399999999999999E-2},{"$f":"$C$233*'Emissions per kg'!N183","v":0.95799999999999996},{"$f":"$C$233*'Emissions per kg'!O183","v":7.34},{"$f":"$C$233*'Emissions per kg'!P183","v":1.79},{"$f":"$C$233*'Emissions per kg'!Q183","v":1.99},{"$f":"$C$233*'Emissions per kg'!R183","v":1.22E-6}]
[null,"end of life P&R",{"$f":"D230*C230+D232*C232+C231*D231+C229*D229","v":0.10744162529876816},null,{"$f":"$C$234*'EoL emissions'!B4","v":3.6353430386337308E-2},{"$f":"$C$234*'EoL emissions'!C4","v":4.3500704556024147E-10},{"$f":"$C$234*'EoL emissions'!D4","v":4.0340407668875545E-8},{"$f":"$C$234*'EoL emissions'!E4","v":1.6135750553672638E-9},{"$f":"$C$234*'EoL emissions'!F4","v":8.2249979205719839E-10},{"$f":"$C$234*'EoL emissions'!G4","v":2.7544736233217507E-4},{"$f":"$C$234*'EoL emissions'!H4","v":4.8702477570082014E-5},{"$f":"$C$234*'EoL emissions'!I4","v":1.2904515239082855E-4},{"$f":"$C$234*'EoL emissions'!J4","v":5.2186170371854284E-4},{"$f":"$C$234*'EoL emissions'!K4","v":1.0272605072665868E-5},{"$f":"$C$234*'EoL emissions'!L4","v":5.896405480728241E-5},{"$f":"$C$234*'EoL emissions'!M4","v":2.852410582382463},{"$f":"$C$234*'EoL emissions'!N4","v":0.14743203861205179},{"$f":"$C$234*'EoL emissions'!O4","v":1.4277816659562076E-3},{"$f":"$C$234*'EoL emissions'!P4","v":-2.6230186061376622E-2},{"$f":"$C$234*'EoL emissions'!Q4","v":-1.9909850703647975E-9}]
[null,"end of life HH",{"$f":"D233*C233","v":0.04},null,{"$f":"$C$235*'EoL emissions'!B5","v":1.7818743029155825E-2},{"$f":"$C$235*'EoL emissions'!C5","v":1.5004799346838863E-10},{"$f":"$C$235*'EoL emissions'!D5","v":3.1553762788946805E-8},{"$f":"$C$235*'EoL emissions'!E5","v":6.7673820216931396E-10},{"$f":"$C$235*'EoL emissions'!F5","v":1.6802692076997111E-10},{"$f":"$C$235*'EoL emissions'!G5","v":8.7915047347783667E-5},{"$f":"$C$235*'EoL emissions'!H5","v":1.4561269735674934E-5},{"$f":"$C$235*'EoL emissions'!I5","v":2.1676356875898676E-5},{"$f":"$C$235*'EoL emissions'!J5","v":8.2696312224758765E-5},{"$f":"$C$235*'EoL emissions'!K5","v":1.8913484063012208E-6},{"$f":"$C$235*'EoL emissions'!L5","v":3.9431799175350756E-5},{"$f":"$C$235*'EoL emissions'!M5","v":2.2889712699802298},{"$f":"$C$235*'EoL emissions'!N5","v":3.7114344470251609E-2},{"$f":"$C$235*'EoL emissions'!O5","v":8.7109455178519901E-4},{"$f":"$C$235*'EoL emissions'!P5","v":5.979707561649286E-3},{"$f":"$C$235*'EoL emissions'!Q5","v":5.8092455375533763E-10}]
["ALMONDS",null,null,null,{"$f":"SUM(E229:E235)","v":5.6642486350812407},{"$f":"SUM(F229:F235)","v":3.2449195428521363E-7},2.4045795516089276E-7,1.6393020097029133E-8,8.4033108104266739E-7,0.13385504562350603,2.5645695352380218E-2,0.10297418285326382,0.44808859851051958,7.5897265224254646E-3,4.8652132179593965E-2,48.909738765398181,1335.4131748074249,376.54328136380735,60.178232238911576,1.8674981279803302E-5]
["Drinks","COFFEE"]
[null,"agriculture ",{"$f":"C239/(1-D238)","v":1.4705882352941178},{"$f":"Calculation_original!D238","v":0},{"$f":"$C$238*'Emissions per kg'!C186","v":3.9411764705882359},{"$f":"$C$238*'Emissions per kg'!D186","v":6.2794117647058832E-8},{"$f":"$C$238*'Emissions per kg'!E186","v":1.0279411764705883E-7},{"$f":"$C$238*'Emissions per kg'!F186","v":5.5441176470588238E-9},{"$f":"$C$238*'Emissions per kg'!G186","v":8.0000000000000007E-7},{"$f":"$C$238*'Emissions per kg'!H186","v":3.2058823529411765E-2},{"$f":"$C$238*'Emissions per kg'!I186","v":9.1323529411764717E-3},{"$f":"$C$238*'Emissions per kg'!J186","v":0.10764705882352942},{"$f":"$C$238*'Emissions per kg'!K186","v":0.47647058823529415},{"$f":"$C$238*'Emissions per kg'!L186","v":5.5441176470588237E-4},{"$f":"$C$238*'Emissions per kg'!M186","v":8.5000000000000006E-2},{"$f":"$C$238*'Emissions per kg'!N186","v":163.23529411764707},{"$f":"$C$238*'Emissions per kg'!O186","v":1447.0588235294119},{"$f":"$C$238*'Emissions per kg'!P186","v":0.18529411764705883},{"$f":"$C$238*'Emissions per kg'!Q186","v":30.441176470588236},{"$f":"$C$238*'Emissions per kg'!R186","v":7.7647058823529429E-6}]
[null,"processsing",{"$f":"(C240/(1-D239))/(1-D240)","v":1.4705882352941178},{"$f":"Calculation_original!D239","v":0},{"$f":"$C$239*'Emissions per kg'!C187","v":9.75},{"$f":"$C$239*'Emissions per kg'!D187","v":9.205882352941177E-7},{"$f":"$C$239*'Emissions per kg'!E187","v":7.073529411764707E-7},{"$f":"$C$239*'Emissions per kg'!F187","v":8.2500000000000004E-8},{"$f":"$C$239*'Emissions per kg'!G187","v":2.1323529411764705E-7},{"$f":"$C$239*'Emissions per kg'!H187","v":1.2882352941176471},{"$f":"$C$239*'Emissions per kg'!I187","v":2.4411764705882355E-2},{"$f":"$C$239*'Emissions per kg'!J187","v":5.7205882352941176E-2},{"$f":"$C$239*'Emissions per kg'!K187","v":8.6323529411764716E-2},{"$f":"$C$239*'Emissions per kg'!L187","v":9.0882352941176465E-4},{"$f":"$C$239*'Emissions per kg'!M187","v":7.8235294117647066E-3},{"$f":"$C$239*'Emissions per kg'!N187","v":3.8235294117647061},{"$f":"$C$239*'Emissions per kg'!O187","v":114.26470588235296},{"$f":"$C$239*'Emissions per kg'!P187","v":2.7058823529411766},{"$f":"$C$239*'Emissions per kg'!Q187","v":207.35294117647061},{"$f":"$C$239*'Emissions per kg'!R187","v":1.9117647058823531E-5}]
[null,"packaging",{"$f":"C241","v":1.4705882352941178},{"$f":"Calculation_original!D240","v":0},{"$f":"$C$240*'Emissions per kg'!C188","v":0.69558823529411762},{"$f":"$C$240*'Emissions per kg'!D188","v":1.5882352941176472E-7},{"$f":"$C$240*'Emissions per kg'!E188","v":3.7647058823529416E-8},{"$f":"$C$240*'Emissions per kg'!F188","v":5.8970588235294126E-9},{"$f":"$C$240*'Emissions per kg'!G188","v":2.3676470588235292E-8},{"$f":"$C$240*'Emissions per kg'!H188","v":2.9852941176470589E-2},{"$f":"$C$240*'Emissions per kg'!I188","v":1.4132352941176472E-3},{"$f":"$C$240*'Emissions per kg'!J188","v":2.5735294117647063E-3},{"$f":"$C$240*'Emissions per kg'!K188","v":4.0588235294117649E-3},{"$f":"$C$240*'Emissions per kg'!L188","v":1.9264705882352943E-5},{"$f":"$C$240*'Emissions per kg'!M188","v":4.5000000000000004E-4},{"$f":"$C$240*'Emissions per kg'!N188","v":0.33970588235294119},{"$f":"$C$240*'Emissions per kg'!O188","v":1.1338235294117649},{"$f":"$C$240*'Emissions per kg'!P188","v":0.12838235294117648},{"$f":"$C$240*'Emissions per kg'!Q188","v":10.558823529411764},{"$f":"$C$240*'Emissions per kg'!R188","v":6.8235294117647056E-6}]
[null,"retail",{"$f":"(C242/(1-D242))/(1-D241)","v":1.4705882352941178},{"$f":"Calculation_original!D241","v":0},{"$f":"$C$241*'Emissions per kg'!C189","v":0.15},{"$f":"$C$241*'Emissions per kg'!D189","v":3.3529411764705882E-8},{"$f":"$C$241*'Emissions per kg'!E189","v":2.4705882352941181E-8},{"$f":"$C$241*'Emissions per kg'!F189","v":1.1514705882352942E-9},{"$f":"$C$241*'Emissions per kg'!G189","v":1.5882352941176473E-8},{"$f":"$C$241*'Emissions per kg'!H189","v":1.0588235294117648E-2},{"$f":"$C$241*'Emissions per kg'!I189","v":1.1088235294117647E-3},{"$f":"$C$241*'Emissions per kg'!J189","v":1.0073529411764705E-3},{"$f":"$C$241*'Emissions per kg'!K189","v":3.9852941176470591E-3},{"$f":"$C$241*'Emissions per kg'!L189","v":2.9852941176470592E-6},{"$f":"$C$241*'Emissions per kg'!M189","v":3.6176470588235299E-4},{"$f":"$C$241*'Emissions per kg'!N189","v":0.4264705882352941},{"$f":"$C$241*'Emissions per kg'!O189","v":2.7794117647058822},{"$f":"$C$241*'Emissions per kg'!P189","v":5.9411764705882351E-2},{"$f":"$C$241*'Emissions per kg'!Q189","v":2.382352941176471},{"$f":"$C$241*'Emissions per kg'!R189","v":3.7794117647058825E-7}]
[null,"use ",1,{"$f":"Calculation_original!D242","v":0.32},{"$f":"$C$242*'Emissions per kg'!C190","v":5.4470000000000001},{"$f":"$C$242*'Emissions per kg'!D190","v":4.5107000000000003E-7},{"$f":"$C$242*'Emissions per kg'!E190","v":4.5932999999999997E-7},{"$f":"$C$242*'Emissions per kg'!F190","v":6.0819999999999998E-8},{"$f":"$C$242*'Emissions per kg'!G190","v":1.2284000000000001E-7},{"$f":"$C$242*'Emissions per kg'!H190","v":0.68771700000000002},{"$f":"$C$242*'Emissions per kg'!I190","v":1.1493E-2},{"$f":"$C$242*'Emissions per kg'!J190","v":2.8417999999999999E-2},{"$f":"$C$242*'Emissions per kg'!K190","v":4.1429999999999995E-2},{"$f":"$C$242*'Emissions per kg'!L190","v":1.0621000000000001E-3},{"$f":"$C$242*'Emissions per kg'!M190","v":7.8849999999999996E-3},{"$f":"$C$242*'Emissions per kg'!N190","v":2.1537999999999999},{"$f":"$C$242*'Emissions per kg'!O190","v":138.41300000000001},{"$f":"$C$242*'Emissions per kg'!P190","v":24.913699999999999},{"$f":"$C$242*'Emissions per kg'!Q190","v":106.18300000000001},{"$f":"$C$242*'Emissions per kg'!R190","v":1.2509230000000001E-5}]
[null,"end of life P&R",{"$f":"D239*C239+D241*C241+C240*D240+C238*D238","v":0},null,{"$f":"$C$243*'EoL emissions'!B4","v":0},{"$f":"$C$243*'EoL emissions'!C4","v":0},{"$f":"$C$243*'EoL emissions'!D4","v":0},{"$f":"$C$243*'EoL emissions'!E4","v":0},{"$f":"$C$243*'EoL emissions'!F4","v":0},{"$f":"$C$243*'EoL emissions'!G4","v":0},{"$f":"$C$243*'EoL emissions'!H4","v":0},{"$f":"$C$243*'EoL emissions'!I4","v":0},{"$f":"$C$243*'EoL emissions'!J4","v":0},{"$f":"$C$243*'EoL emissions'!K4","v":0},{"$f":"$C$243*'EoL emissions'!L4","v":0},{"$f":"$C$243*'EoL emissions'!M4","v":0},{"$f":"$C$243*'EoL emissions'!N4","v":0},{"$f":"$C$243*'EoL emissions'!O4","v":0},{"$f":"$C$243*'EoL emissions'!P4","v":0},{"$f":"$C$243*'EoL emissions'!Q4","v":0}]
[null,"end of life HH",{"$f":"D242*C242*5.14","v":1.6448},null,{"$f":"$C$244*'EoL emissions'!B6","v":5.3127039999999995E-4},{"$f":"$C$244*'EoL emissions'!C6","v":3.4869759999999995E-11},{"$f":"$C$244*'EoL emissions'!D6","v":8.6351999999999996E-11},{"$f":"$C$244*'EoL emissions'!E6","v":3.4376320000000004E-11},{"$f":"$C$244*'EoL emissions'!F6","v":3.9968640000000002E-11},{"$f":"$C$244*'EoL emissions'!G6","v":1.4671615999999999E-5},{"$f":"$C$244*'EoL emissions'!H6","v":1.8915200000000001E-6},{"$f":"$C$244*'EoL emissions'!I6","v":2.4836479999999999E-6},{"$f":"$C$244*'EoL emissions'!J6","v":5.7896960000000005E-6},{"$f":"$C$244*'EoL emissions'!K6","v":2.7468160000000003E-8},{"$f":"$C$244*'EoL emissions'!L6","v":5.1482240000000008E-7},{"$f":"$C$244*'EoL emissions'!M6","v":6.0035199999999996E-4},{"$f":"$C$244*'EoL emissions'!N6","v":4.2106880000000006E-3},{"$f":"$C$244*'EoL emissions'!O6","v":-6.3160319999999992E-2},{"$f":"$C$244*'EoL emissions'!P6","v":6.7272319999999997E-3},{"$f":"$C$244*'EoL emissions'!Q6","v":2.5658879999999999E-9}]
["COFFEE",null,null,null,{"$f":"SUM(E238:E244)","v":19.984295976282354},{"$f":"SUM(F238:F244)","v":1.6268401638776472E-6},1.3319163520000001E-6,1.5594702337882351E-7,1.1756740862870589E-6,2.0484669657336467,4.7561067990588242E-2,0.19685430717741176,0.61227402499011763,2.5476127622776471E-3,0.10152080894004707,169.979400352,1703.6539753938825,27.92951026823529,356.92502134964707,4.6595619417411762E-5]
["Drinks","TEA"]
[null,"agriculture ",{"$f":"C248/(1-D247)","v":1.709326615907643},{"$f":"Calculation_original!D247","v":0},{"$f":"$C$247*'Emissions per kg'!C193","v":3.0596946424746809},{"$f":"$C$247*'Emissions per kg'!D193","v":6.8373064636305728E-8},{"$f":"$C$247*'Emissions per kg'!E193","v":5.0596067830866235E-8},{"$f":"$C$247*'Emissions per kg'!F193","v":3.3673734333380567E-9},{"$f":"$C$247*'Emissions per kg'!G193","v":8.3244206194702208E-7},{"$f":"$C$247*'Emissions per kg'!H193","v":2.8887619808839166E-2},{"$f":"$C$247*'Emissions per kg'!I193","v":5.2476327108364638E-3},{"$f":"$C$247*'Emissions per kg'!J193","v":0.11520861391217514},{"$f":"$C$247*'Emissions per kg'!K193","v":0.51108865815638527},{"$f":"$C$247*'Emissions per kg'!L193","v":3.5724926272469738E-2},{"$f":"$C$247*'Emissions per kg'!M193","v":2.5468966577023883E-2},{"$f":"$C$247*'Emissions per kg'!N193","v":0.87688455396062093},{"$f":"$C$247*'Emissions per kg'!O193","v":1287.1229417784552},{"$f":"$C$247*'Emissions per kg'!P193","v":2.6494562546568465},{"$f":"$C$247*'Emissions per kg'!Q193","v":28.032956500885344},{"$f":"$C$247*'Emissions per kg'!R193","v":2.5298033915433115E-6}]
[null,"processsing",{"$f":"(C249/(1-D248))/(1-D249)","v":1.709326615907643},{"$f":"Calculation_original!D248","v":0.105},{"$f":"$C$248*'Emissions per kg'!C194","v":5.8117104940859861},{"$f":"$C$248*'Emissions per kg'!D194","v":7.7090630377434703E-7},{"$f":"$C$248*'Emissions per kg'!E194","v":4.6664616614278659E-6},{"$f":"$C$248*'Emissions per kg'!F194","v":8.2047677563566861E-8},{"$f":"$C$248*'Emissions per kg'!G194","v":2.3246841976343943E-6},{"$f":"$C$248*'Emissions per kg'!H194","v":0.57262441632906047},{"$f":"$C$248*'Emissions per kg'!I194","v":4.8203010568595529E-2},{"$f":"$C$248*'Emissions per kg'!J194","v":4.9228606538140117E-2},{"$f":"$C$248*'Emissions per kg'!K194","v":0.15332659744691557},{"$f":"$C$248*'Emissions per kg'!L194","v":3.8117983534740441E-4},{"$f":"$C$248*'Emissions per kg'!M194","v":1.3623333128783914E-2},{"$f":"$C$248*'Emissions per kg'!N194","v":6.7005603343579603},{"$f":"$C$248*'Emissions per kg'!O194","v":2341.7774637934708},{"$f":"$C$248*'Emissions per kg'!P194","v":1.2050752642148883},{"$f":"$C$248*'Emissions per kg'!Q194","v":102.55959695445858},{"$f":"$C$248*'Emissions per kg'!R194","v":1.1008063406445222E-5}]
[null,"packaging",{"$f":"C250","v":1.5298473212373405},{"$f":"Calculation_original!D249","v":0},{"$f":"$C$249*'Emissions per kg'!C195","v":1.6675335801487012},{"$f":"$C$249*'Emissions per kg'!D195","v":7.664535079399076E-8},{"$f":"$C$249*'Emissions per kg'!E195","v":8.7507266774775873E-7},{"$f":"$C$249*'Emissions per kg'!F195","v":1.4441758712480495E-8},{"$f":"$C$249*'Emissions per kg'!G195","v":-1.015818621301594E-7},{"$f":"$C$249*'Emissions per kg'!H195","v":0.14502952605329986},{"$f":"$C$249*'Emissions per kg'!I195","v":2.6313373925282257E-3},{"$f":"$C$249*'Emissions per kg'!J195","v":6.792522106293792E-3},{"$f":"$C$249*'Emissions per kg'!K195","v":9.8369182755560988E-3},{"$f":"$C$249*'Emissions per kg'!L195","v":8.6283388917786011E-5},{"$f":"$C$249*'Emissions per kg'!M195","v":1.2774225132331793E-3},{"$f":"$C$249*'Emissions per kg'!N195","v":1.9582045711837959},{"$f":"$C$249*'Emissions per kg'!O195","v":-67.313282134442986},{"$f":"$C$249*'Emissions per kg'!P195","v":0.14288773980356759},{"$f":"$C$249*'Emissions per kg'!Q195","v":23.100694550683841},{"$f":"$C$249*'Emissions per kg'!R195","v":3.289171740660282E-5}]
[null,"retail",{"$f":"(C251/(1-D251))/(1-D250)","v":1.5298473212373405},{"$f":"Calculation_original!D250","v":0.02},{"$f":"$C$250*'Emissions per kg'!C196","v":0.22947709818560105},{"$f":"$C$250*'Emissions per kg'!D196","v":5.1708839457822104E-8},{"$f":"$C$250*'Emissions per kg'!E196","v":3.8399167763057243E-8},{"$f":"$C$250*'Emissions per kg'!F196","v":1.7593244194229416E-9},{"$f":"$C$250*'Emissions per kg'!G196","v":2.4783526604044913E-8},{"$f":"$C$250*'Emissions per kg'!H196","v":1.591041214086834E-2},{"$f":"$C$250*'Emissions per kg'!I196","v":1.7287274729981946E-3},{"$f":"$C$250*'Emissions per kg'!J196","v":1.5451457944497139E-3},{"$f":"$C$250*'Emissions per kg'!K196","v":6.1805831777988554E-3},{"$f":"$C$250*'Emissions per kg'!L196","v":4.1611847137655662E-6},{"$f":"$C$250*'Emissions per kg'!M196","v":5.6298381421534128E-4},{"$f":"$C$250*'Emissions per kg'!N196","v":0.66548358473824309},{"$f":"$C$250*'Emissions per kg'!O196","v":4.2835724994645528},{"$f":"$C$250*'Emissions per kg'!P196","v":7.1290885169660076E-2},{"$f":"$C$250*'Emissions per kg'!Q196","v":3.6257381513324969},{"$f":"$C$250*'Emissions per kg'!R196","v":5.8134198207018936E-7}]
[null,"use ",1,{"$f":"Calculation_original!D251","v":0.33300000000000002},{"$f":"$C$251*'Emissions per kg'!C197","v":6.9279999999999999},{"$f":"$C$251*'Emissions per kg'!D197","v":2.3649000000000002E-7},{"$f":"$C$251*'Emissions per kg'!E197","v":5.2469999999999993E-7},{"$f":"$C$251*'Emissions per kg'!F197","v":7.8460000000000002E-8},{"$f":"$C$251*'Emissions per kg'!G197","v":1.761E-7},{"$f":"$C$251*'Emissions per kg'!H197","v":0.21120999999999998},{"$f":"$C$251*'Emissions per kg'!I197","v":9.8659999999999998E-3},{"$f":"$C$251*'Emissions per kg'!J197","v":1.6267E-2},{"$f":"$C$251*'Emissions per kg'!K197","v":3.5199999999999995E-2},{"$f":"$C$251*'Emissions per kg'!L197","v":7.4554999999999999E-4},{"$f":"$C$251*'Emissions per kg'!M197","v":6.8040000000000002E-3},{"$f":"$C$251*'Emissions per kg'!N197","v":3.0139999999999998},{"$f":"$C$251*'Emissions per kg'!O197","v":315.697},{"$f":"$C$251*'Emissions per kg'!P197","v":89.223100000000002},{"$f":"$C$251*'Emissions per kg'!Q197","v":92.808999999999997},{"$f":"$C$251*'Emissions per kg'!R197","v":1.05156E-5}]
[null,"end of life P&R",{"$f":"D248*C248+D250*C250+C249*D249+C247*D247","v":0.21007624109504933},null,{"$f":"$C$252*'EoL emissions'!B4","v":7.1080384210828282E-2},{"$f":"$C$252*'EoL emissions'!C4","v":8.5055158768345751E-10},{"$f":"$C$252*'EoL emissions'!D4","v":7.8875958770668723E-8},{"$f":"$C$252*'EoL emissions'!E4","v":3.1549576936656528E-9},{"$f":"$C$252*'EoL emissions'!F4","v":1.6082003984615541E-9},{"$f":"$C$252*'EoL emissions'!G4","v":5.38571027172956E-4},{"$f":"$C$252*'EoL emissions'!H4","v":9.5225974025321116E-5},{"$f":"$C$252*'EoL emissions'!I4","v":2.5231673916341894E-4},{"$f":"$C$252*'EoL emissions'!J4","v":1.0203749690475574E-3},{"$f":"$C$252*'EoL emissions'!K4","v":2.0085606988154185E-5},{"$f":"$C$252*'EoL emissions'!L4","v":1.152900187352097E-4},{"$f":"$C$252*'EoL emissions'!M4","v":5.5772024254134083},{"$f":"$C$252*'EoL emissions'!N4","v":0.28826787013389599},{"$f":"$C$252*'EoL emissions'!O4","v":2.7916834341852269E-3},{"$f":"$C$252*'EoL emissions'!P4","v":-5.128681621927153E-2},{"$f":"$C$252*'EoL emissions'!Q4","v":-3.8928921495326116E-9}]
[null,"end of life HH",{"$f":"D251*C251*125","v":41.625},null,{"$f":"$C$253*'EoL emissions'!B6","v":1.3444875E-2},{"$f":"$C$253*'EoL emissions'!C6","v":8.8244999999999999E-10},{"$f":"$C$253*'EoL emissions'!D6","v":2.1853125000000002E-9},{"$f":"$C$253*'EoL emissions'!E6","v":8.6996250000000003E-10},{"$f":"$C$253*'EoL emissions'!F6","v":1.0114875E-9},{"$f":"$C$253*'EoL emissions'!G6","v":3.7129499999999995E-4},{"$f":"$C$253*'EoL emissions'!H6","v":4.7868750000000001E-5},{"$f":"$C$253*'EoL emissions'!I6","v":6.2853750000000001E-5},{"$f":"$C$253*'EoL emissions'!J6","v":1.4652E-4},{"$f":"$C$253*'EoL emissions'!K6","v":6.951375E-7},{"$f":"$C$253*'EoL emissions'!L6","v":1.3028625000000001E-5},{"$f":"$C$253*'EoL emissions'!M6","v":1.5193125E-2},{"$f":"$C$253*'EoL emissions'!N6","v":0.10656},{"$f":"$C$253*'EoL emissions'!O6","v":-1.5983999999999998},{"$f":"$C$253*'EoL emissions'!P6","v":0.17024624999999999},{"$f":"$C$253*'EoL emissions'!Q6","v":6.4935000000000005E-8}]
["TEA",null,null,null,{"$f":"SUM(E247:E253)","v":17.780941074105797},{"$f":"SUM(F247:F253)","v":1.2058565602501489E-6},6.2362908360402164E-6,1.8410105432247402E-7,3.2590476119537634E-6,0.97457184035924072,6.7819802868983731E-2,0.18935705884022222,0.7167996520257035,3.6962881425936851E-2,4.7865024676991531E-2,18.807528594654027,3881.9625238070821,91.696201827279154,250.24694559114099,5.758756829451201E-5]
["Drinks","BEER"]
[null,"agriculture ",{"$f":"C257/(1-D256)","v":1.1111111111111112},{"$f":"Calculation_original!D256","v":0},{"$f":"$C$256*'Emissions per kg'!C200","v":0.11888888888888889},{"$f":"$C$256*'Emissions per kg'!D200","v":4.0000000000000002E-9},{"$f":"$C$256*'Emissions per kg'!E200","v":9.7333333333333326E-7},{"$f":"$C$256*'Emissions per kg'!F200","v":4.688888888888889E-9},{"$f":"$C$256*'Emissions per kg'!G200","v":4.0333333333333337E-8},{"$f":"$C$256*'Emissions per kg'!H200","v":9.6555555555555555E-4},{"$f":"$C$256*'Emissions per kg'!I200","v":2.3111111111111111E-4},{"$f":"$C$256*'Emissions per kg'!J200","v":5.611111111111111E-3},{"$f":"$C$256*'Emissions per kg'!K200","v":2.5000000000000001E-2},{"$f":"$C$256*'Emissions per kg'!L200","v":5.3000000000000001E-5},{"$f":"$C$256*'Emissions per kg'!M200","v":3.2333333333333333E-3},{"$f":"$C$256*'Emissions per kg'!N200","v":0.88555555555555565},{"$f":"$C$256*'Emissions per kg'!O200","v":51.555555555555557},{"$f":"$C$256*'Emissions per kg'!P200","v":3.0888888888888888E-3},{"$f":"$C$256*'Emissions per kg'!Q200","v":0.72000000000000008},{"$f":"$C$256*'Emissions per kg'!R200","v":3.0777777777777779E-7}]
[null,"processsing",{"$f":"(C258/(1-D257))/(1-D258)","v":1.1111111111111112},{"$f":"Calculation_original!D257","v":0},{"$f":"$C$257*'Emissions per kg'!C201","v":0.32666666666666666},{"$f":"$C$257*'Emissions per kg'!D201","v":4.8111111111111107E-8},{"$f":"$C$257*'Emissions per kg'!E201","v":1.4444444444444445E-8},{"$f":"$C$257*'Emissions per kg'!F201","v":2.0000000000000001E-9},{"$f":"$C$257*'Emissions per kg'!G201","v":5.3777777777777777E-9},{"$f":"$C$257*'Emissions per kg'!H201","v":2.0333333333333335E-2},{"$f":"$C$257*'Emissions per kg'!I201","v":6.8111111111111117E-4},{"$f":"$C$257*'Emissions per kg'!J201","v":1.2444444444444443E-3},{"$f":"$C$257*'Emissions per kg'!K201","v":1.988888888888889E-3},{"$f":"$C$257*'Emissions per kg'!L201","v":1.2E-4},{"$f":"$C$257*'Emissions per kg'!M201","v":3.5777777777777782E-4},{"$f":"$C$257*'Emissions per kg'!N201","v":9.5222222222222222E-2},{"$f":"$C$257*'Emissions per kg'!O201","v":2.1888888888888891},{"$f":"$C$257*'Emissions per kg'!P201","v":0.89888888888888896},{"$f":"$C$257*'Emissions per kg'!Q201","v":6.7111111111111112},{"$f":"$C$257*'Emissions per kg'!R201","v":3.6333333333333333E-7}]
[null,"packaging",{"$f":"C259","v":1.1111111111111112},{"$f":"Calculation_original!D258","v":0},{"$f":"$C$258*'Emissions per kg'!C202","v":0.52333333333333332},{"$f":"$C$258*'Emissions per kg'!D202","v":8.5888888888888895E-8},{"$f":"$C$258*'Emissions per kg'!E202","v":1.6444444444444445E-8},{"$f":"$C$258*'Emissions per kg'!F202","v":1.388888888888889E-9},{"$f":"$C$258*'Emissions per kg'!G202","v":7.2666666666666674E-10},{"$f":"$C$258*'Emissions per kg'!H202","v":2.4000000000000004E-2},{"$f":"$C$258*'Emissions per kg'!I202","v":6.7000000000000002E-4},{"$f":"$C$258*'Emissions per kg'!J202","v":9.4222222222222222E-4},{"$f":"$C$258*'Emissions per kg'!K202","v":3.4666666666666669E-3},{"$f":"$C$258*'Emissions per kg'!L202","v":6.5333333333333332E-6},{"$f":"$C$258*'Emissions per kg'!M202","v":1.9444444444444446E-4},{"$f":"$C$258*'Emissions per kg'!N202","v":0.19555555555555557},{"$f":"$C$258*'Emissions per kg'!O202","v":-7.3555555555555561},{"$f":"$C$258*'Emissions per kg'!P202","v":-5.7555555555555554E-2},{"$f":"$C$258*'Emissions per kg'!Q202","v":7.9222222222222225},{"$f":"$C$258*'Emissions per kg'!R202","v":1.3777777777777778E-6}]
[null,"retail",{"$f":"(C260/(1-D260))/(1-D259)","v":1.1111111111111112},{"$f":"Calculation_original!D259","v":0},{"$f":"$C$259*'Emissions per kg'!C203","v":0.13},{"$f":"$C$259*'Emissions per kg'!D203","v":2.9111111111111113E-8},{"$f":"$C$259*'Emissions per kg'!E203","v":2.1555555555555554E-8},{"$f":"$C$259*'Emissions per kg'!F203","v":9.9555555555555556E-10},{"$f":"$C$259*'Emissions per kg'!G203","v":1.3888888888888889E-8},{"$f":"$C$259*'Emissions per kg'!H203","v":9.0888888888888894E-3},{"$f":"$C$259*'Emissions per kg'!I203","v":9.6555555555555555E-4},{"$f":"$C$259*'Emissions per kg'!J203","v":8.7333333333333338E-4},{"$f":"$C$259*'Emissions per kg'!K203","v":1.1666666666666665E-3},{"$f":"$C$259*'Emissions per kg'!L203","v":2.488888888888889E-6},{"$f":"$C$259*'Emissions per kg'!M203","v":3.1555555555555558E-4},{"$f":"$C$259*'Emissions per kg'!N203","v":0.37222222222222229},{"$f":"$C$259*'Emissions per kg'!O203","v":2.411111111111111},{"$f":"$C$259*'Emissions per kg'!P203","v":4.7E-2},{"$f":"$C$259*'Emissions per kg'!Q203","v":2.0555555555555558},{"$f":"$C$259*'Emissions per kg'!R203","v":3.2777777777777776E-7}]
[null,"use ",1,{"$f":"Calculation_original!D260","v":0.1},{"$f":"$C$260*'Emissions per kg'!C204","v":0.42},{"$f":"$C$260*'Emissions per kg'!D204","v":1.1900000000000001E-8},{"$f":"$C$260*'Emissions per kg'!E204","v":1.4100000000000001E-8},{"$f":"$C$260*'Emissions per kg'!F204","v":1.9399999999999999E-9},{"$f":"$C$260*'Emissions per kg'!G204","v":4.8600000000000002E-9},{"$f":"$C$260*'Emissions per kg'!H204","v":7.7600000000000004E-3},{"$f":"$C$260*'Emissions per kg'!I204","v":2.8400000000000002E-4},{"$f":"$C$260*'Emissions per kg'!J204","v":4.8700000000000002E-4},{"$f":"$C$260*'Emissions per kg'!K204","v":1.0399999999999999E-3},{"$f":"$C$260*'Emissions per kg'!L204","v":8.0199999999999998E-5},{"$f":"$C$260*'Emissions per kg'!M204","v":4.5100000000000001E-4},{"$f":"$C$260*'Emissions per kg'!N204","v":0.152},{"$f":"$C$260*'Emissions per kg'!O204","v":6.09},{"$f":"$C$260*'Emissions per kg'!P204","v":1.5},{"$f":"$C$260*'Emissions per kg'!Q204","v":1.51},{"$f":"$C$260*'Emissions per kg'!R204","v":5.8999999999999996E-7}]
[null,"end of life A&P",{"$f":"D257*C257+C256*D256","v":0},null,{"$f":"$C$261*'EoL emissions'!B4","v":0},{"$f":"$C$261*'EoL emissions'!C4","v":0},{"$f":"$C$261*'EoL emissions'!D4","v":0},{"$f":"$C$261*'EoL emissions'!E4","v":0},{"$f":"$C$261*'EoL emissions'!F4","v":0},{"$f":"$C$261*'EoL emissions'!G4","v":0},{"$f":"$C$261*'EoL emissions'!H4","v":0},{"$f":"$C$261*'EoL emissions'!I4","v":0},{"$f":"$C$261*'EoL emissions'!J4","v":0},{"$f":"$C$261*'EoL emissions'!K4","v":0},{"$f":"$C$261*'EoL emissions'!L4","v":0},{"$f":"$C$261*'EoL emissions'!M4","v":0},{"$f":"$C$261*'EoL emissions'!N4","v":0},{"$f":"$C$261*'EoL emissions'!O4","v":0},{"$f":"$C$261*'EoL emissions'!P4","v":0},{"$f":"$C$261*'EoL emissions'!Q4","v":0}]
[null,"end of life beer",{"$f":"D260*C260+C259*D259+C258*D258","v":0.1},null,{"$f":"$C$262*'EoL emissions'!B6","v":3.2299999999999999E-5},{"$f":"$C$262*'EoL emissions'!C6","v":2.1199999999999999E-12},{"$f":"$C$262*'EoL emissions'!D6","v":5.2500000000000004E-12},{"$f":"$C$262*'EoL emissions'!E6","v":2.0900000000000002E-12},{"$f":"$C$262*'EoL emissions'!F6","v":2.4299999999999999E-12},{"$f":"$C$262*'EoL emissions'!G6","v":8.9199999999999999E-7},{"$f":"$C$262*'EoL emissions'!H6","v":1.1500000000000001E-7},{"$f":"$C$262*'EoL emissions'!I6","v":1.5100000000000002E-7},{"$f":"$C$262*'EoL emissions'!J6","v":3.5200000000000003E-7},{"$f":"$C$262*'EoL emissions'!K6","v":1.6700000000000002E-9},{"$f":"$C$262*'EoL emissions'!L6","v":3.1300000000000002E-8},{"$f":"$C$262*'EoL emissions'!M6","v":3.65E-5},{"$f":"$C$262*'EoL emissions'!N6","v":2.5600000000000004E-4},{"$f":"$C$262*'EoL emissions'!O6","v":-3.8399999999999997E-3},{"$f":"$C$262*'EoL emissions'!P6","v":4.0900000000000002E-4},{"$f":"$C$262*'EoL emissions'!Q6","v":1.56E-10}]
["BEER",null,null,null,{"$f":"SUM(E256:E262)","v":1.5189211888888887},{"$f":"SUM(F256:F262)","v":1.7901323111111109E-7},1.0398830277777776E-6,1.1015423333333333E-8,6.5189096666666671E-8,6.214866977777779E-2,2.8318927777777779E-3,9.1582621111111102E-3,3.266257422222222E-2,2.6222389222222217E-4,4.5521424111111108E-3,1.7005920555555556,54.890256000000001,2.3875822222222225,18.919297888888892,2.9668226666666666E-6]
["Drinks","WINE"]
[null,"agriculture ",{"$f":"C266/(1-D265)","v":1.1257115904391064},{"$f":"Calculation_original!D265","v":0},{"$f":"$C$265*'Emissions per kg'!C207","v":0.54484440977252746},{"$f":"$C$265*'Emissions per kg'!D207","v":5.0544450410715877E-8},{"$f":"$C$265*'Emissions per kg'!E207","v":2.1838804854518665E-6},{"$f":"$C$265*'Emissions per kg'!F207","v":6.4278131814072977E-8},{"$f":"$C$265*'Emissions per kg'!G207","v":4.4915892458520344E-8},{"$f":"$C$265*'Emissions per kg'!H207","v":1.9699952832684366E-2},{"$f":"$C$265*'Emissions per kg'!I207","v":3.0394212941855874E-3},{"$f":"$C$265*'Emissions per kg'!J207","v":6.6416983835907275E-3},{"$f":"$C$265*'Emissions per kg'!K207","v":2.6003937739143355E-2},{"$f":"$C$265*'Emissions per kg'!L207","v":1.0761802804597858E-4},{"$f":"$C$265*'Emissions per kg'!M207","v":6.1801566315106944E-3},{"$f":"$C$265*'Emissions per kg'!N207","v":43.790180868081237},{"$f":"$C$265*'Emissions per kg'!O207","v":246.5308383061643},{"$f":"$C$265*'Emissions per kg'!P207","v":77.223815104122693},{"$f":"$C$265*'Emissions per kg'!Q207","v":6.7767837744434196},{"$f":"$C$265*'Emissions per kg'!R207","v":7.159525715192717E-6}]
[null,"processsing",{"$f":"(C267/(1-D266))/(1-D267)","v":1.1257115904391064},{"$f":"Calculation_original!D266","v":0},{"$f":"$C$266*'Emissions per kg'!C208","v":0.64390702973116876},{"$f":"$C$266*'Emissions per kg'!D208","v":5.1895304319242807E-8},{"$f":"$C$266*'Emissions per kg'!E208","v":3.7486195961622246E-8},{"$f":"$C$266*'Emissions per kg'!F208","v":4.7392457957486383E-9},{"$f":"$C$266*'Emissions per kg'!G208","v":1.5309677629971846E-8},{"$f":"$C$266*'Emissions per kg'!H208","v":7.1370114833839343E-2},{"$f":"$C$266*'Emissions per kg'!I208","v":2.0262808627903913E-3},{"$f":"$C$266*'Emissions per kg'!J208","v":3.5572486257875761E-3},{"$f":"$C$266*'Emissions per kg'!K208","v":6.3264991382677776E-3},{"$f":"$C$266*'Emissions per kg'!L208","v":4.1201044210071294E-5},{"$f":"$C$266*'Emissions per kg'!M208","v":6.292727790554605E-4},{"$f":"$C$266*'Emissions per kg'!N208","v":0.21275949059299112},{"$f":"$C$266*'Emissions per kg'!O208","v":6.24769932693704},{"$f":"$C$266*'Emissions per kg'!P208","v":0.2262680296782604},{"$f":"$C$266*'Emissions per kg'!Q208","v":10.536660486510035},{"$f":"$C$266*'Emissions per kg'!R208","v":1.2720540971961903E-6}]
[null,"packaging",{"$f":"C268","v":1.122334455667789},{"$f":"Calculation_original!D267","v":3.0000000000000001E-3},{"$f":"$C$267*'Emissions per kg'!C209","v":0.54096520763187428},{"$f":"$C$267*'Emissions per kg'!D209","v":8.181818181818182E-8},{"$f":"$C$267*'Emissions per kg'!E209","v":2.3569023569023567E-8},{"$f":"$C$267*'Emissions per kg'!F209","v":9.966329966329967E-10},{"$f":"$C$267*'Emissions per kg'!G209","v":-6.0269360269360274E-10},{"$f":"$C$267*'Emissions per kg'!H209","v":2.6038159371492703E-2},{"$f":"$C$267*'Emissions per kg'!I209","v":7.441077441077441E-4},{"$f":"$C$267*'Emissions per kg'!J209","v":9.1358024691358028E-4},{"$f":"$C$267*'Emissions per kg'!K209","v":1.4253647586980921E-3},{"$f":"$C$267*'Emissions per kg'!L209","v":5.8698092031425367E-6},{"$f":"$C$267*'Emissions per kg'!M209","v":2.2222222222222221E-4},{"$f":"$C$267*'Emissions per kg'!N209","v":0.33333333333333331},{"$f":"$C$267*'Emissions per kg'!O209","v":-10.549943883277217},{"$f":"$C$267*'Emissions per kg'!P209","v":-8.6868686868686859E-2},{"$f":"$C$267*'Emissions per kg'!Q209","v":8.1144781144781142},{"$f":"$C$267*'Emissions per kg'!R209","v":8.5858585858585857E-7}]
[null,"retail",{"$f":"(C269/(1-D269))/(1-D268)","v":1.122334455667789},{"$f":"Calculation_original!D268","v":0.01},{"$f":"$C$268*'Emissions per kg'!C210","v":0.2053872053872054},{"$f":"$C$268*'Emissions per kg'!D210","v":4.5454545454545451E-8},{"$f":"$C$268*'Emissions per kg'!E210","v":2.7609427609427609E-8},{"$f":"$C$268*'Emissions per kg'!F210","v":1.4365881032547699E-9},{"$f":"$C$268*'Emissions per kg'!G210","v":1.8742985409652076E-8},{"$f":"$C$268*'Emissions per kg'!H210","v":1.3580246913580247E-2},{"$f":"$C$268*'Emissions per kg'!I210","v":1.9865319865319865E-3},{"$f":"$C$268*'Emissions per kg'!J210","v":2.435465768799102E-3},{"$f":"$C$268*'Emissions per kg'!K210","v":7.2727272727272727E-3},{"$f":"$C$268*'Emissions per kg'!L210","v":3.0864197530864196E-6},{"$f":"$C$268*'Emissions per kg'!M210","v":6.5768799102132436E-4},{"$f":"$C$268*'Emissions per kg'!N210","v":0.46576879910213242},{"$f":"$C$268*'Emissions per kg'!O210","v":2.9966329966329965},{"$f":"$C$268*'Emissions per kg'!P210","v":2.5813692480359147E-2},{"$f":"$C$268*'Emissions per kg'!Q210","v":3.1537598204264872},{"$f":"$C$268*'Emissions per kg'!R210","v":3.9955106621773289E-7}]
[null,"use ",1,{"$f":"Calculation_original!D269","v":0.1},{"$f":"$C$269*'Emissions per kg'!C211","v":4.58E-2},{"$f":"$C$269*'Emissions per kg'!D211","v":9.3999999999999998E-9},{"$f":"$C$269*'Emissions per kg'!E211","v":3.4299999999999999E-9},{"$f":"$C$269*'Emissions per kg'!F211","v":6.3099999999999999E-10},{"$f":"$C$269*'Emissions per kg'!G211","v":1.74E-9},{"$f":"$C$269*'Emissions per kg'!H211","v":2.5300000000000001E-3},{"$f":"$C$269*'Emissions per kg'!I211","v":8.81E-5},{"$f":"$C$269*'Emissions per kg'!J211","v":1.7900000000000001E-5},{"$f":"$C$269*'Emissions per kg'!K211","v":2.34E-4},{"$f":"$C$269*'Emissions per kg'!L211","v":5.5999999999999999E-5},{"$f":"$C$269*'Emissions per kg'!M211","v":1.8599999999999999E-4},{"$f":"$C$269*'Emissions per kg'!N211","v":0.11},{"$f":"$C$269*'Emissions per kg'!O211","v":4.92},{"$f":"$C$269*'Emissions per kg'!P211","v":1.41},{"$f":"$C$269*'Emissions per kg'!Q211","v":0.51400000000000001},{"$f":"$C$269*'Emissions per kg'!R211","v":-1.8E-7}]
[null,"end of life A&P",{"$f":"D266*C266+C265*D265","v":0},null,{"$f":"$C$270*'EoL emissions'!B4","v":0},{"$f":"$C$270*'EoL emissions'!C4","v":0},{"$f":"$C$270*'EoL emissions'!D4","v":0},{"$f":"$C$270*'EoL emissions'!E4","v":0},{"$f":"$C$270*'EoL emissions'!F4","v":0},{"$f":"$C$270*'EoL emissions'!G4","v":0},{"$f":"$C$270*'EoL emissions'!H4","v":0},{"$f":"$C$270*'EoL emissions'!I4","v":0},{"$f":"$C$270*'EoL emissions'!J4","v":0},{"$f":"$C$270*'EoL emissions'!K4","v":0},{"$f":"$C$270*'EoL emissions'!L4","v":0},{"$f":"$C$270*'EoL emissions'!M4","v":0},{"$f":"$C$270*'EoL emissions'!N4","v":0},{"$f":"$C$270*'EoL emissions'!O4","v":0},{"$f":"$C$270*'EoL emissions'!P4","v":0},{"$f":"$C$270*'EoL emissions'!Q4","v":0}]
[null,"end of life wine",{"$f":"D269*C269+C268*D268+C267*D267","v":0.11459034792368127},null,{"$f":"$C$271*'EoL emissions'!B6","v":3.7012682379349048E-5},{"$f":"$C$271*'EoL emissions'!C6","v":2.4293153759820425E-12},{"$f":"$C$271*'EoL emissions'!D6","v":6.0159932659932661E-12},{"$f":"$C$271*'EoL emissions'!E6","v":2.3949382716049387E-12},{"$f":"$C$271*'EoL emissions'!F6","v":2.7845454545454549E-12},{"$f":"$C$271*'EoL emissions'!G6","v":1.0221459034792367E-6},{"$f":"$C$271*'EoL emissions'!H6","v":1.3177890011223347E-7},{"$f":"$C$271*'EoL emissions'!I6","v":1.7303142536475871E-7},{"$f":"$C$271*'EoL emissions'!J6","v":4.033580246913581E-7},{"$f":"$C$271*'EoL emissions'!K6","v":1.913658810325477E-9},{"$f":"$C$271*'EoL emissions'!L6","v":3.5866778900112235E-8},{"$f":"$C$271*'EoL emissions'!M6","v":4.1825476992143659E-5},{"$f":"$C$271*'EoL emissions'!N6","v":2.9335129068462407E-4},{"$f":"$C$271*'EoL emissions'!O6","v":-4.4002693602693604E-3},{"$f":"$C$271*'EoL emissions'!P6","v":4.6867452300785635E-4},{"$f":"$C$271*'EoL emissions'!Q6","v":1.7876094276094278E-10}]
["WINE",null,null,null,{"$f":"SUM(E265:E271)","v":1.9809408652051554},{"$f":"SUM(F265:F271)","v":2.3911491131806193E-7},2.2759811485852054E-6,7.2083993647980999E-8,8.0108646440905206E-8,0.13321949609750014,7.8845736665158223E-3,1.3566066056516351E-2,4.1262932266861181E-2,2.1377721487108917E-4,7.8753754905886014E-3,44.912084316586686,250.14552009774778,78.794627870052352,29.096150870381063,9.5098954981352582E-6]
["Drinks","MINERAL WATER"]
[null,"agriculture ",{"$f":"C275/(1-D274)","v":1.1111111111111112},{"$f":"Calculation_original!D274","v":0},{"$f":"$C$274*'Emissions per kg'!C214","v":0},{"$f":"$C$274*'Emissions per kg'!D214","v":0},{"$f":"$C$274*'Emissions per kg'!E214","v":0},{"$f":"$C$274*'Emissions per kg'!F214","v":0},{"$f":"$C$274*'Emissions per kg'!G214","v":0},{"$f":"$C$274*'Emissions per kg'!H214","v":0},{"$f":"$C$274*'Emissions per kg'!I214","v":0},{"$f":"$C$274*'Emissions per kg'!J214","v":0},{"$f":"$C$274*'Emissions per kg'!K214","v":0},{"$f":"$C$274*'Emissions per kg'!L214","v":0},{"$f":"$C$274*'Emissions per kg'!M214","v":0},{"$f":"$C$274*'Emissions per kg'!N214","v":0},{"$f":"$C$274*'Emissions per kg'!O214","v":0},{"$f":"$C$274*'Emissions per kg'!P214","v":0},{"$f":"$C$274*'Emissions per kg'!Q214","v":0},{"$f":"$C$274*'Emissions per kg'!R214","v":0}]
[null,"processsing",{"$f":"(C276/(1-D275))/(1-D276)","v":1.1111111111111112},{"$f":"Calculation_original!D275","v":0},{"$f":"$C$275*'Emissions per kg'!C215","v":4.3777777777777777E-2},{"$f":"$C$275*'Emissions per kg'!D215","v":1.8E-9},{"$f":"$C$275*'Emissions per kg'!E215","v":2.2555555555555553E-9},{"$f":"$C$275*'Emissions per kg'!F215","v":4.0555555555555553E-10},{"$f":"$C$275*'Emissions per kg'!G215","v":1.7555555555555556E-9},{"$f":"$C$275*'Emissions per kg'!H215","v":2.1666666666666666E-3},{"$f":"$C$275*'Emissions per kg'!I215","v":1.5444444444444444E-4},{"$f":"$C$275*'Emissions per kg'!J215","v":2.1333333333333336E-4},{"$f":"$C$275*'Emissions per kg'!K215","v":3.7000000000000005E-4},{"$f":"$C$275*'Emissions per kg'!L215","v":1.5222222222222222E-6},{"$f":"$C$275*'Emissions per kg'!M215","v":3.5444444444444451E-5},{"$f":"$C$275*'Emissions per kg'!N215","v":2.6000000000000002E-2},{"$f":"$C$275*'Emissions per kg'!O215","v":0.64111111111111108},{"$f":"$C$275*'Emissions per kg'!P215","v":7.2444444444444436E-2},{"$f":"$C$275*'Emissions per kg'!Q215","v":1.2222222222222223},{"$f":"$C$275*'Emissions per kg'!R215","v":1.1444444444444445E-7}]
[null,"packaging",{"$f":"C277","v":1.1111111111111112},{"$f":"Calculation_original!D276","v":0},{"$f":"$C$276*'Emissions per kg'!C216","v":4.2444444444444444E-2},{"$f":"$C$276*'Emissions per kg'!D216","v":4.0444444444444448E-9},{"$f":"$C$276*'Emissions per kg'!E216","v":4.1333333333333331E-9},{"$f":"$C$276*'Emissions per kg'!F216","v":2.9666666666666668E-10},{"$f":"$C$276*'Emissions per kg'!G216","v":1.3555555555555556E-10},{"$f":"$C$276*'Emissions per kg'!H216","v":5.0222222222222222E-3},{"$f":"$C$276*'Emissions per kg'!I216","v":2.611111111111111E-5},{"$f":"$C$276*'Emissions per kg'!J216","v":1.5555555555555554E-4},{"$f":"$C$276*'Emissions per kg'!K216","v":2.522222222222222E-4},{"$f":"$C$276*'Emissions per kg'!L216","v":3.7111111111111113E-6},{"$f":"$C$276*'Emissions per kg'!M216","v":2.4111111111111113E-5},{"$f":"$C$276*'Emissions per kg'!N216","v":6.7333333333333342E-2},{"$f":"$C$276*'Emissions per kg'!O216","v":0.64666666666666661},{"$f":"$C$276*'Emissions per kg'!P216","v":6.5111111111111107E-3},{"$f":"$C$276*'Emissions per kg'!Q216","v":8.588888888888889E-2},{"$f":"$C$276*'Emissions per kg'!R216","v":1.1666666666666668E-7}]
[null,"retail",{"$f":"(C278/(1-D278))/(1-D277)","v":1.1111111111111112},{"$f":"Calculation_original!D277","v":0},{"$f":"$C$277*'Emissions per kg'!C217","v":8.8555555555555554E-2},{"$f":"$C$277*'Emissions per kg'!D217","v":1.9666666666666667E-8},{"$f":"$C$277*'Emissions per kg'!E217","v":1.4444444444444445E-8},{"$f":"$C$277*'Emissions per kg'!F217","v":6.811111111111111E-10},{"$f":"$C$277*'Emissions per kg'!G217","v":9.2333333333333333E-9},{"$f":"$C$277*'Emissions per kg'!H217","v":6.3666666666666672E-3},{"$f":"$C$277*'Emissions per kg'!I217","v":6.4555555555555557E-4},{"$f":"$C$277*'Emissions per kg'!J217","v":5.933333333333333E-4},{"$f":"$C$277*'Emissions per kg'!K217","v":2.322222222222222E-3},{"$f":"$C$277*'Emissions per kg'!L217","v":1.9E-6},{"$f":"$C$277*'Emissions per kg'!M217","v":2.1111111111111113E-4},{"$f":"$C$277*'Emissions per kg'!N217","v":0.24777777777777779},{"$f":"$C$277*'Emissions per kg'!O217","v":1.6333333333333333},{"$f":"$C$277*'Emissions per kg'!P217","v":4.1666666666666664E-2},{"$f":"$C$277*'Emissions per kg'!Q217","v":1.4222222222222223},{"$f":"$C$277*'Emissions per kg'!R217","v":2.2222222222222222E-7}]
[null,"use ",1,{"$f":"Calculation_original!D278","v":0.1},{"$f":"$C$278*'Emissions per kg'!C218","v":8.2100000000000006E-2},{"$f":"$C$278*'Emissions per kg'!D218","v":9.5100000000000005E-9},{"$f":"$C$278*'Emissions per kg'!E218","v":1.2E-8},{"$f":"$C$278*'Emissions per kg'!F218","v":1.75E-9},{"$f":"$C$278*'Emissions per kg'!G218","v":4.32E-9},{"$f":"$C$278*'Emissions per kg'!H218","v":5.2100000000000002E-3},{"$f":"$C$278*'Emissions per kg'!I218","v":2.32E-4},{"$f":"$C$278*'Emissions per kg'!J218","v":3.6099999999999999E-4},{"$f":"$C$278*'Emissions per kg'!K218","v":7.9600000000000005E-4},{"$f":"$C$278*'Emissions per kg'!L218","v":7.8299999999999996E-6},{"$f":"$C$278*'Emissions per kg'!M218","v":1.2799999999999999E-4},{"$f":"$C$278*'Emissions per kg'!N218","v":0.113},{"$f":"$C$278*'Emissions per kg'!O218","v":6.12},{"$f":"$C$278*'Emissions per kg'!P218","v":1.56},{"$f":"$C$278*'Emissions per kg'!Q218","v":1.1000000000000001},{"$f":"$C$278*'Emissions per kg'!R218","v":4.9800000000000004E-7}]
[null,"end of life",{"$f":"D275*C275+D277*C277+C276*D276+C274*D274+C278*D278","v":0.1},null,{"$f":"$C$279*'EoL emissions'!B6","v":3.2299999999999999E-5},{"$f":"$C$279*'EoL emissions'!C6","v":2.1199999999999999E-12},{"$f":"$C$279*'EoL emissions'!D6","v":5.2500000000000004E-12},{"$f":"$C$279*'EoL emissions'!E6","v":2.0900000000000002E-12},{"$f":"$C$279*'EoL emissions'!F6","v":2.4299999999999999E-12},{"$f":"$C$279*'EoL emissions'!G6","v":8.9199999999999999E-7},{"$f":"$C$279*'EoL emissions'!H6","v":1.1500000000000001E-7},{"$f":"$C$279*'EoL emissions'!I6","v":1.5100000000000002E-7},{"$f":"$C$279*'EoL emissions'!J6","v":3.5200000000000003E-7},{"$f":"$C$279*'EoL emissions'!K6","v":1.6700000000000002E-9},{"$f":"$C$279*'EoL emissions'!L6","v":3.1300000000000002E-8},{"$f":"$C$279*'EoL emissions'!M6","v":3.65E-5},{"$f":"$C$279*'EoL emissions'!N6","v":2.5600000000000004E-4},{"$f":"$C$279*'EoL emissions'!O6","v":-3.8399999999999997E-3},{"$f":"$C$279*'EoL emissions'!P6","v":4.0900000000000002E-4},{"$f":"$C$279*'EoL emissions'!Q6","v":1.56E-10}]
["MINERAL WATER",null,null,null,{"$f":"SUM(E274:E279)","v":0.25691007777777775},{"$f":"SUM(F274:F279)","v":3.5023231111111108E-8},3.2838583333333336E-8,3.1354233333333332E-9,1.5446874444444446E-8,1.8766447555555555E-2,1.0582261111111112E-3,1.3233732222222223E-3,3.7407964444444446E-3,1.4965003333333333E-5,3.9869796666666663E-4,0.45414761111111113,9.0413671111111107,1.6767822222222222,3.8307423333333332,9.5148933333333337E-7]
["Pre-prepared","MEAT BASED DISHES"]
[null,"agriculture ",{"$f":"C283/(1-D282)","v":1.3715998724960758},{"$f":"Calculation_original!D282","v":0},{"$f":"$C$282*'Emissions per kg'!C221","v":4.8966115448109901},{"$f":"$C$282*'Emissions per kg'!D221","v":1.8516598278697026E-7},{"$f":"$C$282*'Emissions per kg'!E221","v":1.9339558202194669E-6},{"$f":"$C$282*'Emissions per kg'!F221","v":5.3218075052847737E-8},{"$f":"$C$282*'Emissions per kg'!G221","v":4.9651915384357943E-7},{"$f":"$C$282*'Emissions per kg'!H221","v":0.13853158712210367},{"$f":"$C$282*'Emissions per kg'!I221","v":1.2220954863940035E-2},{"$f":"$C$282*'Emissions per kg'!J221","v":6.0076074415328119E-2},{"$f":"$C$282*'Emissions per kg'!K221","v":0.22768557883434859},{"$f":"$C$282*'Emissions per kg'!L221","v":9.5874831087475697E-4},{"$f":"$C$282*'Emissions per kg'!M221","v":1.7830798342448984E-2},{"$f":"$C$282*'Emissions per kg'!N221","v":19.751038163943491},{"$f":"$C$282*'Emissions per kg'!O221","v":499.26235358857161},{"$f":"$C$282*'Emissions per kg'!P221","v":0.95189031151227654},{"$f":"$C$282*'Emissions per kg'!Q221","v":37.033196557394049},{"$f":"$C$282*'Emissions per kg'!R221","v":6.268211417307067E-6}]
[null,"processsing",{"$f":"(C284/(1-D283))/(1-D284)","v":1.3715998724960758},{"$f":"Calculation_original!D283","v":3.1E-2},{"$f":"$C$283*'Emissions per kg'!C222","v":1.5773398533704872},{"$f":"$C$283*'Emissions per kg'!D222","v":2.1671277985437999E-7},{"$f":"$C$283*'Emissions per kg'!E222","v":7.9004152655773973E-8},{"$f":"$C$283*'Emissions per kg'!F222","v":1.1027662974868449E-8},{"$f":"$C$283*'Emissions per kg'!G222","v":3.2095437016408174E-8},{"$f":"$C$283*'Emissions per kg'!H222","v":0.14401798661208795},{"$f":"$C$283*'Emissions per kg'!I222","v":3.0723837143912095E-3},{"$f":"$C$283*'Emissions per kg'!J222","v":6.5425313918062817E-3},{"$f":"$C$283*'Emissions per kg'!K222","v":1.102766297486845E-2},{"$f":"$C$283*'Emissions per kg'!L222","v":8.901683172499533E-5},{"$f":"$C$283*'Emissions per kg'!M222","v":9.2720151380734726E-4},{"$f":"$C$283*'Emissions per kg'!N222","v":0.43616875945375211},{"$f":"$C$283*'Emissions per kg'!O222","v":12.522706835889174},{"$f":"$C$283*'Emissions per kg'!P222","v":3.8953436378888551},{"$f":"$C$283*'Emissions per kg'!Q222","v":27.431997449921518},{"$f":"$C$283*'Emissions per kg'!R222","v":1.9202398214945061E-6}]
[null,"packaging",{"$f":"C285","v":1.3290802764486975},{"$f":"Calculation_original!D284","v":0},{"$f":"$C$284*'Emissions per kg'!C223","v":0.29239766081871343},{"$f":"$C$284*'Emissions per kg'!D223","v":2.0467836257309941E-8},{"$f":"$C$284*'Emissions per kg'!E223","v":2.9638490164805958E-8},{"$f":"$C$284*'Emissions per kg'!F223","v":3.6416799574694312E-9},{"$f":"$C$284*'Emissions per kg'!G223","v":2.698032961190856E-10},{"$f":"$C$284*'Emissions per kg'!H223","v":1.4486975013290803E-2},{"$f":"$C$284*'Emissions per kg'!I223","v":2.0334928229665073E-4},{"$f":"$C$284*'Emissions per kg'!J223","v":1.0486443381180223E-3},{"$f":"$C$284*'Emissions per kg'!K223","v":1.6214779372674109E-3},{"$f":"$C$284*'Emissions per kg'!L223","v":1.8872939925571506E-5},{"$f":"$C$284*'Emissions per kg'!M223","v":1.7543859649122808E-4},{"$f":"$C$284*'Emissions per kg'!N223","v":0.29106858054226475},{"$f":"$C$284*'Emissions per kg'!O223","v":-12.347155768208399},{"$f":"$C$284*'Emissions per kg'!P223","v":0.23524720893141945},{"$f":"$C$284*'Emissions per kg'!Q223","v":1.7942583732057418},{"$f":"$C$284*'Emissions per kg'!R223","v":2.1398192450824032E-6}]
[null,"retail",{"$f":"(C286/(1-D286))/(1-D285)","v":1.3290802764486975},{"$f":"Calculation_original!D285","v":0.01},{"$f":"$C$285*'Emissions per kg'!C224","v":0.54093567251461983},{"$f":"$C$285*'Emissions per kg'!D224","v":3.5619351408825098E-6},{"$f":"$C$285*'Emissions per kg'!E224","v":4.1068580542264749E-8},{"$f":"$C$285*'Emissions per kg'!F224","v":3.3758639021796916E-9},{"$f":"$C$285*'Emissions per kg'!G224","v":1.9005847953216375E-8},{"$f":"$C$285*'Emissions per kg'!H224","v":4.7713981924508243E-2},{"$f":"$C$285*'Emissions per kg'!I224","v":1.5550239234449761E-3},{"$f":"$C$285*'Emissions per kg'!J224","v":2.3923444976076554E-3},{"$f":"$C$285*'Emissions per kg'!K224","v":5.5422647527910689E-3},{"$f":"$C$285*'Emissions per kg'!L224","v":3.0170122275385432E-5},{"$f":"$C$285*'Emissions per kg'!M224","v":5.0637958532695373E-4},{"$f":"$C$285*'Emissions per kg'!N224","v":0.45188729399255717},{"$f":"$C$285*'Emissions per kg'!O224","v":5.9011164274322176},{"$f":"$C$285*'Emissions per kg'!P224","v":0.12679425837320574},{"$f":"$C$285*'Emissions per kg'!Q224","v":7.9479000531632114},{"$f":"$C$285*'Emissions per kg'!R224","v":8.9447102604997336E-7}]
[null,"use ",1,{"$f":"Calculation_original!D286","v":0.24},{"$f":"$C$286*'Emissions per kg'!C225","v":0.78900000000000003},{"$f":"$C$286*'Emissions per kg'!D225","v":7.7599999999999993E-8},{"$f":"$C$286*'Emissions per kg'!E225","v":6.3399999999999999E-8},{"$f":"$C$286*'Emissions per kg'!F225","v":8.5400000000000007E-9},{"$f":"$C$286*'Emissions per kg'!G225","v":2.3800000000000001E-8},{"$f":"$C$286*'Emissions per kg'!H225","v":9.6199999999999994E-2},{"$f":"$C$286*'Emissions per kg'!I225","v":1.98E-3},{"$f":"$C$286*'Emissions per kg'!J225","v":4.8199999999999996E-3},{"$f":"$C$286*'Emissions per kg'!K225","v":9.7199999999999995E-3},{"$f":"$C$286*'Emissions per kg'!L225","v":7.3899999999999994E-5},{"$f":"$C$286*'Emissions per kg'!M225","v":1.37E-2},{"$f":"$C$286*'Emissions per kg'!N225","v":0.46800000000000003},{"$f":"$C$286*'Emissions per kg'!O225","v":14},{"$f":"$C$286*'Emissions per kg'!P225","v":1.74},{"$f":"$C$286*'Emissions per kg'!Q225","v":15.4},{"$f":"$C$286*'Emissions per kg'!R225","v":2.83E-6}]
[null,"end of life P&R",{"$f":"D283*C283+D285*C285+C284*D284+C282*D282","v":5.5810398811865329E-2},null,{"$f":"$C$287*'EoL emissions'!B4","v":1.8883737493722842E-2},{"$f":"$C$287*'EoL emissions'!C4","v":2.2596378853333204E-10},{"$f":"$C$287*'EoL emissions'!D4","v":2.0954767148882544E-8},{"$f":"$C$287*'EoL emissions'!E4","v":8.3816925798084667E-10},{"$f":"$C$287*'EoL emissions'!F4","v":4.2724634227880429E-10},{"$f":"$C$287*'EoL emissions'!G4","v":1.4308073896580672E-4},{"$f":"$C$287*'EoL emissions'!H4","v":2.5298432416243116E-5},{"$f":"$C$287*'EoL emissions'!I4","v":6.7032320105387053E-5},{"$f":"$C$287*'EoL emissions'!J4","v":2.7108031666666635E-4},{"$f":"$C$287*'EoL emissions'!K4","v":5.336090033523032E-6},{"$f":"$C$287*'EoL emissions'!L4","v":3.0628794056383715E-5},{"$f":"$C$287*'EoL emissions'!M4","v":1.4816806031672671},{"$f":"$C$287*'EoL emissions'!N4","v":7.6583361892602314E-2},{"$f":"$C$287*'EoL emissions'!O4","v":7.4165914720390063E-4},{"$f":"$C$287*'EoL emissions'!P4","v":-1.3625232687276227E-2},{"$f":"$C$287*'EoL emissions'!Q4","v":-1.0342143512492369E-9}]
[null,"end of life HH",{"$f":"D286*C286","v":0.24},null,{"$f":"$C$288*'EoL emissions'!B5","v":0.10691245817493496},{"$f":"$C$288*'EoL emissions'!C5","v":9.0028796081033168E-10},{"$f":"$C$288*'EoL emissions'!D5","v":1.8932257673368081E-7},{"$f":"$C$288*'EoL emissions'!E5","v":4.0604292130158838E-9},{"$f":"$C$288*'EoL emissions'!F5","v":1.0081615246198266E-9},{"$f":"$C$288*'EoL emissions'!G5","v":5.27490284086702E-4},{"$f":"$C$288*'EoL emissions'!H5","v":8.7367618414049603E-5},{"$f":"$C$288*'EoL emissions'!I5","v":1.3005814125539205E-4},{"$f":"$C$288*'EoL emissions'!J5","v":4.9617787334855254E-4},{"$f":"$C$288*'EoL emissions'!K5","v":1.1348090437807324E-5},{"$f":"$C$288*'EoL emissions'!L5","v":2.3659079505210451E-4},{"$f":"$C$288*'EoL emissions'!M5","v":13.73382761988138},{"$f":"$C$288*'EoL emissions'!N5","v":0.22268606682150963},{"$f":"$C$288*'EoL emissions'!O5","v":5.2265673107111934E-3},{"$f":"$C$288*'EoL emissions'!P5","v":3.5878245369895714E-2},{"$f":"$C$288*'EoL emissions'!Q5","v":3.4855473225320258E-9}]
["MEAT BASED DISHES",null,null,null,{"$f":"SUM(E282:E288)","v":8.2220809271834714},{"$f":"SUM(F282:F288)","v":4.0630079915305134E-6},2.357344387464875E-6,8.4701880358362039E-8,5.7312564997622161E-7,0.44162110169504326,1.9144377834903165E-2,7.5076685104220858E-2,0.25636424268929076,1.1873923852720398E-3,3.3407037627183001E-2,36.613671020980711,519.63829051239884,6.9552436431636711,89.629605446367151,1.4055192842905234E-5]
[null,"AVERAGE BASKET"]
[null,"agriculture ",{"$f":"C292/(1-D291)","v":1.21756223280605},6.1000000000000004E-3,{"$f":"$C$291*'Emissions per kg'!C230","v":2.7983883381626011},{"$f":"$C$291*'Emissions per kg'!D230","v":3.4884126509690658E-8},{"$f":"$C$291*'Emissions per kg'!E230","v":2.974383524095371E-6},{"$f":"$C$291*'Emissions per kg'!F230","v":3.8450229871063345E-8},{"$f":"$C$291*'Emissions per kg'!G230","v":3.7938535229397542E-7},{"$f":"$C$291*'Emissions per kg'!H230","v":1.9814063049580957E-2},{"$f":"$C$291*'Emissions per kg'!I230","v":4.0935159356677471E-3},{"$f":"$C$291*'Emissions per kg'!J230","v":5.1765949352880147E-2},{"$f":"$C$291*'Emissions per kg'!K230","v":0.22864739345632765},{"$f":"$C$291*'Emissions per kg'!L230","v":6.4649562608552627E-4},{"$f":"$C$291*'Emissions per kg'!M230","v":1.9875538570213572E-2},{"$f":"$C$291*'Emissions per kg'!N230","v":10.381212102183538},{"$f":"$C$291*'Emissions per kg'!O230","v":381.6284314189391},{"$f":"$C$291*'Emissions per kg'!P230","v":6.0425492805571333},{"$f":"$C$291*'Emissions per kg'!Q230","v":9.5807235362993701},{"$f":"$C$291*'Emissions per kg'!R230","v":1.146044504510083E-6}]
[null,"processsing",{"$f":"(C293/(1-D292))/(1-D293)","v":1.2101351031859331},2.8500000000000001E-2,{"$f":"$C$292*'Emissions per kg'!C231","v":0.43694806364532751},{"$f":"$C$292*'Emissions per kg'!D231","v":1.2124322310580738E-6},{"$f":"$C$292*'Emissions per kg'!E231","v":2.8722253059832087E-8},{"$f":"$C$292*'Emissions per kg'!F231","v":2.2435560659049449E-9},{"$f":"$C$292*'Emissions per kg'!G231","v":1.2317206917050335E-8},{"$f":"$C$292*'Emissions per kg'!H231","v":3.1591826420585507E-2},{"$f":"$C$292*'Emissions per kg'!I231","v":1.1462106902581531E-3},{"$f":"$C$292*'Emissions per kg'!J231","v":1.9351432405506342E-3},{"$f":"$C$292*'Emissions per kg'!K231","v":4.1778376736574538E-3},{"$f":"$C$292*'Emissions per kg'!L231","v":3.2974780324705473E-5},{"$f":"$C$292*'Emissions per kg'!M231","v":3.8828010292218186E-4},{"$f":"$C$292*'Emissions per kg'!N231","v":0.18997928876218634},{"$f":"$C$292*'Emissions per kg'!O231","v":4.4842554556756129},{"$f":"$C$292*'Emissions per kg'!P231","v":0.3951294507656094},{"$f":"$C$292*'Emissions per kg'!Q231","v":6.6723014461578263},{"$f":"$C$292*'Emissions per kg'!R231","v":6.5442336362671552E-7}]
[null,"packaging",{"$f":"C294","v":1.1756462527451341},0,{"$f":"$C$293*'Emissions per kg'!C232","v":0.21126628485598431},{"$f":"$C$293*'Emissions per kg'!D232","v":2.0764187681423368E-8},{"$f":"$C$293*'Emissions per kg'!E232","v":1.1725763151244253E-8},{"$f":"$C$293*'Emissions per kg'!F232","v":9.3926648576007513E-10},{"$f":"$C$293*'Emissions per kg'!G232","v":-6.4408590116002944E-10},{"$f":"$C$293*'Emissions per kg'!H232","v":7.9864287162042073E-3},{"$f":"$C$293*'Emissions per kg'!I232","v":2.0948197053119008E-4},{"$f":"$C$293*'Emissions per kg'!J232","v":4.3757073076831709E-4},{"$f":"$C$293*'Emissions per kg'!K232","v":8.7717059177029458E-4},{"$f":"$C$293*'Emissions per kg'!L232","v":5.3957893713975428E-6},{"$f":"$C$293*'Emissions per kg'!M232","v":7.9607945193861803E-5},{"$f":"$C$293*'Emissions per kg'!N232","v":0.10222148221625586},{"$f":"$C$293*'Emissions per kg'!O232","v":-5.9682009803403799},{"$f":"$C$293*'Emissions per kg'!P232","v":3.206198479390752E-4},{"$f":"$C$293*'Emissions per kg'!Q232","v":2.0675097606378259},{"$f":"$C$293*'Emissions per kg'!R232","v":9.1428535292147983E-7}]
[null,"retail",{"$f":"(C295/(1-D295))/(1-D294)","v":1.1756462527451341},2.9000000000000001E-2,{"$f":"$C$294*'Emissions per kg'!C233","v":0.24874199376790487},{"$f":"$C$294*'Emissions per kg'!D233","v":4.369193776734845E-6},{"$f":"$C$294*'Emissions per kg'!E233","v":1.8386377232279179E-8},{"$f":"$C$294*'Emissions per kg'!F233","v":9.1982537957012118E-10},{"$f":"$C$294*'Emissions per kg'!G233","v":1.1828045105396382E-8},{"$f":"$C$294*'Emissions per kg'!H233","v":8.2873287359024918E-3},{"$f":"$C$294*'Emissions per kg'!I233","v":8.5803866374374897E-4},{"$f":"$C$294*'Emissions per kg'!J233","v":8.3574862678046887E-4},{"$f":"$C$294*'Emissions per kg'!K233","v":2.8290417764837658E-3},{"$f":"$C$294*'Emissions per kg'!L233","v":2.6057976227334833E-6},{"$f":"$C$294*'Emissions per kg'!M233","v":2.7992181261705191E-4},{"$f":"$C$294*'Emissions per kg'!N233","v":0.30534348221273705},{"$f":"$C$294*'Emissions per kg'!O233","v":2.0974269199660189},{"$f":"$C$294*'Emissions per kg'!P233","v":0.16081113125038041},{"$f":"$C$294*'Emissions per kg'!Q233","v":1.8771713849512217},{"$f":"$C$294*'Emissions per kg'!R233","v":3.6048458619257196E-7}]
[null,"use ",1,0.124,{"$f":"$C$295*'Emissions per kg'!C234","v":0.30537636941580754},{"$f":"$C$295*'Emissions per kg'!D234","v":2.0549602474226808E-8},{"$f":"$C$295*'Emissions per kg'!E234","v":3.2450709278350512E-8},{"$f":"$C$295*'Emissions per kg'!F234","v":3.1577322852233675E-9},{"$f":"$C$295*'Emissions per kg'!G234","v":1.1869796546391754E-8},{"$f":"$C$295*'Emissions per kg'!H234","v":1.5446457457044675E-2},{"$f":"$C$295*'Emissions per kg'!I234","v":6.4869115463917545E-4},{"$f":"$C$295*'Emissions per kg'!J234","v":1.6327408006872851E-3},{"$f":"$C$295*'Emissions per kg'!K234","v":3.7351521477663229E-3},{"$f":"$C$295*'Emissions per kg'!L234","v":3.7812114266323017E-4},{"$f":"$C$295*'Emissions per kg'!M234","v":5.9118288006872848E-3},{"$f":"$C$295*'Emissions per kg'!N234","v":0.35849017697594499},{"$f":"$C$295*'Emissions per kg'!O234","v":8.8584832749140912},{"$f":"$C$295*'Emissions per kg'!P234","v":1.71034698676976},{"$f":"$C$295*'Emissions per kg'!Q234","v":3.771998049828178},{"$f":"$C$295*'Emissions per kg'!R234","v":9.0418842714776628E-7}]
[null,"end of life P&R",{"$f":"D292*C292+D294*C294+C293*D293+C291*D291","v":7.6009721390524893E-2},null,{"$f":"$C$296*'EoL emissions'!B4","v":2.5718282905452486E-2},{"$f":"$C$296*'EoL emissions'!C4","v":3.0774631567611269E-10},{"$f":"$C$296*'EoL emissions'!D4","v":2.8538875311732455E-8},{"$f":"$C$296*'EoL emissions'!E4","v":1.1415258291199052E-9},{"$f":"$C$296*'EoL emissions'!F4","v":5.8187857698713611E-10},{"$f":"$C$296*'EoL emissions'!G4","v":1.9486560455879136E-4},{"$f":"$C$296*'EoL emissions'!H4","v":3.4454632837471275E-5},{"$f":"$C$296*'EoL emissions'!I4","v":9.1293165500328335E-5},{"$f":"$C$296*'EoL emissions'!J4","v":3.6919175965300554E-4},{"$f":"$C$296*'EoL emissions'!K4","v":7.2673681858122218E-6},{"$f":"$C$296*'EoL emissions'!L4","v":4.1714199366347088E-5},{"$f":"$C$296*'EoL emissions'!M4","v":2.0179416781473583},{"$f":"$C$296*'EoL emissions'!N4","v":0.10430099272770073},{"$f":"$C$296*'EoL emissions'!O4","v":1.0100860475076513E-3},{"$f":"$C$296*'EoL emissions'!P4","v":-1.8556580180193207E-2},{"$f":"$C$296*'EoL emissions'!Q4","v":-1.4085250485582326E-9}]
[null,"end of life HH",{"$f":"D295*C295","v":0.124},null,{"$f":"$C$297*'EoL emissions'!B5","v":5.5238103390383063E-2},{"$f":"$C$297*'EoL emissions'!C5","v":4.6514877975200472E-10},{"$f":"$C$297*'EoL emissions'!D5","v":9.7816664645735085E-8},{"$f":"$C$297*'EoL emissions'!E5","v":2.0978884267248734E-9},{"$f":"$C$297*'EoL emissions'!F5","v":5.2088345438691043E-10},{"$f":"$C$297*'EoL emissions'!G5","v":2.7253664677812935E-4},{"$f":"$C$297*'EoL emissions'!H5","v":4.5139936180592293E-5},{"$f":"$C$297*'EoL emissions'!I5","v":6.7196706315285893E-5},{"$f":"$C$297*'EoL emissions'!J5","v":2.5635856789675213E-4},{"$f":"$C$297*'EoL emissions'!K5","v":5.8631800595337847E-6},{"$f":"$C$297*'EoL emissions'!L5","v":1.2223857744358735E-4},{"$f":"$C$297*'EoL emissions'!M5","v":7.0958109369387126},{"$f":"$C$297*'EoL emissions'!N5","v":0.11505446785777998},{"$f":"$C$297*'EoL emissions'!O5","v":2.7003931105341167E-3},{"$f":"$C$297*'EoL emissions'!P5","v":1.8537093441112786E-2},{"$f":"$C$297*'EoL emissions'!Q5","v":1.8008661166415467E-9}]
["UNSPECIFIED/UNKOWN",null,null,null,{"$f":"SUM(E291:E297)","v":4.0816774361434609},{"$f":"SUM(F291:F297)","v":5.6585968195536876E-6},3.192024166774545E-6,4.8950024343366629E-8,4.1585907699302792E-7,8.3593506630654763E-2,7.0355329838580781E-3,5.6765642623482472E-2,0.24089214597355521,1.078723684312939E-3,2.6699130008443889E-2,20.450999147436733,391.31975154973992,8.3128679483488632,23.969684691135342,3.9798185754667005E-6]
[]
["FOOD WASTE PREVENTION"]
[null,"agriculture ",{"$f":"C282+C274+C265+C256+C247+C238+C229+C220+C211+C202+C193+C184+C175+C166+C157+C148+C139+C130+C121+C112+C103+C94+C85+C76+C67+C58+C49+C40+C31+C22+C13+C4","v":41.11814346118301},null,{"$f":"E282+E274+E265+E256+E247+E238+E229+E220+E211+E202+E193+E184+E175+E166+E157+E148+E139+E130+E121+E112+E103+E94+E85+E76+E67+E58+E49+E40+E31+E22+E13+E4","v":157.97275891595763},{"$f":"F282+F274+F265+F256+F247+F238+F229+F220+F211+F202+F193+F184+F175+F166+F157+F148+F139+F130+F121+F112+F103+F94+F85+F76+F67+F58+F49+F40+F31+F22+F13+F4","v":2.8722076851670633E-6},1.5832512482355363E-4,2.0407466271038823E-6,1.9963546592399138E-5,1.3418926221289671,0.28967313314551341,2.6849053199447956,11.722696226661574,9.6684565973498685E-2,1.2661450310666094,696.3861475847508,24529.345748648724,648.89231145457984,706.56555900612398,1.0899064841005614E-4]
[null,"processsing",null,null,{"$f":"E283+E275+E266+E257+E248+E239+E230+E221+E212+E203+E194+E185+E176+E167+E158+E149+E140+E131+E122+E113+E104+E95+E86+E77+E68+E59+E50+E41+E32+E23+E14+E5","v":34.244580941385841},{"$f":"F283+F275+F266+F257+F248+F239+F230+F221+F212+F203+F194+F185+F176+F167+F158+F149+F140+F131+F122+F113+F104+F95+F86+F77+F68+F59+F50+F41+F32+F23+F14+F5","v":5.9188829999431987E-5},6.4792525618006445E-6,2.4775698275052418E-7,3.1214709601788555E-6,3.0003369741518027,0.1305934024496917,0.19418081617155258,0.44503270548902452,2.3296632783705437E-3,4.029962915604806E-2,19.904239708035071,2566.283557383415,23.675227043159577,564.80570443343095,5.0150271463189519E-5]
[null,"packaging",null,null,{"$f":"E284+E276+E267+E258+E249+E240+E231+E222+E213+E204+E195+E186+E177+E168+E159+E150+E141+E132+E123+E114+E105+E96+E87+E78+E69+E60+E51+E42+E33+E24+E15+E6","v":9.1873360539399158},{"$f":"F284+F276+F267+F258+F249+F240+F231+F222+F213+F204+F195+F186+F177+F168+F159+F150+F141+F132+F123+F114+F105+F96+F87+F78+F69+F60+F51+F42+F33+F24+F15+F6","v":8.405564123900842E-7},1.4368224623852644E-6,5.7782274843646207E-8,-1.8168112105902601E-7,0.43529431026010762,1.1227863924067674E-2,2.6532915133989438E-2,3.9545841737253992E-2,3.0529607134571513E-4,4.6557474190137525E-3,6.0942118187212575,-489.9061358735629,-0.140990106062967,105.2504078751204,8.8160227169857113E-5]
[null,"retail",null,null,{"$f":"E285+E277+E268+E259+E250+E241+E232+E223+E214+E205+E196+E187+E178+E169+E160+E151+E142+E133+E124+E115+E106+E97+E88+E79+E70+E61+E52+E43+E34+E25+E16+E7","v":10.922505138037955},{"$f":"F285+F277+F268+F259+F250+F241+F232+F223+F214+F205+F196+F187+F178+F169+F160+F151+F142+F133+F124+F115+F106+F97+F88+F79+F70+F61+F52+F43+F34+F25+F16+F7","v":1.8961102737372268E-4},6.5184066111263374E-7,3.4882585216800881E-8,4.119818183594038E-7,0.32141735196888893,3.0348480892979576E-2,3.0177714673826787E-2,0.10637455819464295,1.1435668097587339E-4,9.8876049556753491E-3,10.512299497094485,75.736564683434878,11.289010778723695,70.824937479030794,1.3536155608910164E-5]
[null,"use ",null,null,{"$f":"E286+E278+E269+E260+E251+E242+E233+E224+E215+E206+E197+E188+E179+E170+E161+E152+E143+E134+E125+E116+E107+E98+E89+E80+E71+E62+E53+E44+E35+E26+E17+E8","v":22.684199999999997},{"$f":"F286+F278+F269+F260+F251+F242+F233+F224+F215+F206+F197+F188+F179+F170+F161+F152+F143+F134+F125+F116+F107+F98+F89+F80+F71+F62+F53+F44+F35+F26+F17+F8","v":1.3703680000000002E-6},2.1055199999999997E-6,2.4131300000000001E-7,7.89687E-7,1.3761220000000007,4.5488500000000001E-2,0.1135327,0.22147899999999993,1.8055993999999999E-2,0.27138459999999998,18.474500000000003,715.1613000000001,163.10965999999996,342.77800000000008,5.310025E-5]
[null,"end of life food waste",null,null,{"$f":"E288+E287+E279+E271+E270+E262+E261+E253+E252+E244+E243+E235+E234+E226+E225+E217+E216+E208+E207+E199+E198+E190+E189+E181+E180+E172+E171+E163+E162+E154+E153+E145+E144+E136+E135+E127+E126+E118+E117+E109+E108+E100+E99+E91+E90+E82+E81+E73+E72+E64+E63+E55+E54+E46+E45+E37+E36+E28+E27+E19+E18+E10+E9","v":2.7739359323174537},{"$f":"F288+F287+F279+F271+F270+F262+F261+F253+F252+F244+F243+F235+F234+F226+F225+F217+F216+F208+F207+F199+F198+F190+F189+F181+F180+F172+F171+F163+F162+F154+F153+F145+F144+F136+F135+F127+F126+F118+F117+F109+F108+F100+F99+F91+F90+F82+F81+F73+F72+F64+F63+F55+F54+F46+F45+F37+F36+F28+F27+F19+F18+F10+F9","v":2.8676891334746158E-8},4.0479343308578721E-6,1.1388265817255154E-7,4.3880069355747636E-8,1.7369835723583658E-2,2.9705353326867582E-3,6.3931093272186022E-3,2.5326962596192441E-2,5.182473067986415E-4,5.3688011725154848E-3,290.90526169537054,8.3709739936706011,-1.5509552031519718,-0.24116063093219886,4.6757174746055697E-8]
[null,"TOTAL",null,null,{"$f":"SUM(E301:E306)","v":237.7853169816388},{"$f":"SUM(F301:F306)","v":2.5391166636204654E-4},1.7304649483971006E-4,2.7363641280874046E-6,2.4148885319234122E-5,6.492433094233351,0.51030191574493911,3.0557225752513832,12.56045529467869,0.11800812331098945,1.5977414137698618,1042.2766603039722,27404.992008835681,845.27426396724809,1789.9834481627738,3.1398430982675898E-4]
[]
[]
["TOTAL BASKET WITH WASTE AMOUNTS IN SIMAPRO"]
[null,"agriculture ",708.5979720451387,null,1631.5969417471056,2.0418228148237946E-5,1.7311128187481363E-3,2.2382432742444079E-5,2.2266275613243454E-4,11.577299044466747,2.3880046534401647,30.391477429015602,134.24348308658077,0.38630180670328906,11.624496427172886,6025.7460848144528,222111.13320087802,5308.5969099121567,5610.4844881554636,6.6911056240210839E-4]
[null,"processsing",null,null,254.31281984122398,7.0566066130240042E-4,1.6716945961266835E-5,1.3057960821066813E-6,7.168869447572379E-6,18.387097070362532,0.66711835347167303,1.1262934322111589,2.4315880261896381,1.9192004875956233E-2,0.22598705905361816,110.57187948945477,2609.9295195571071,1082.3135002418903,3883.4175884583278,3.8088794715195073E-4]
[null,"packaging",null,null,122.94787510708115,1.208386257890557E-5,6.8238889344655241E-6,5.4661262521001646E-7,-3.7483024320722329E-7,4.6477574072968206,0.12190948104952425,0.25464731201048235,0.51047549038927398,3.1401169296413154E-3,4.6328394092310078E-2,59.488498306070092,-3473.2358229570273,0.18658693718278907,1203.2015993789571,5.3207468224213258E-4]
[null,"retail",null,null,144.75712300479,2.5426825257367407E-3,1.0700079348519428E-5,5.3529873905248149E-7,6.8834126248327614E-6,4.8228682540975853,0.49934153260150455,0.49524512005516214,1.6463804210167543,1.5164619422950499E-3,0.16290243415247055,177.69675053188905,1220.6120970887489,93.585149633685916,1092.4328657026217,2.0978649722289911E-4]
[null,"use ",null,null,179.75526699999995,1.1969046640000002E-5,1.8892666799999999E-5,1.8380119899999999E-6,6.9320137900000001E-6,8.9976042400000011,0.38182367200000011,0.94928086600000006,2.1911555499999995,0.22006650502999997,3.4424493619999996,208.65540300000001,5155.6372660000006,992.66854630000023,2201.3038649999999,5.2626590459999988E-4]
[null,"end of life food waste",null,null,34.726127411719176,2.8772729542925372E-7,7.1237954396470717E-7,1.4563119009689656E-7,4.9186053809221436E-7,0.10488003141648113,3.2208071064044629E-2,8.4745406064160034E-2,0.3693040304076407,1.9442490594397466E-4,4.964763059232339E-2,4.0066020571636187,61.536298298470108,-0.4908253495520466,18.020222240316375,-3.7805340232260273E-6]
[null,"TOTAL",null,null,2368.09615411192,3.2931020517017141E-3,1.7849587793363527E-3,2.6753783368910155E-5,2.4376408228972464E-4,48.537506047640164,4.0904057636269107,33.301689565356568,141.39238660458406,0.63041132038712566,15.551811307063609,6586.1652181990303,227685.61255886531,7476.8598676753645,14008.860628935687,2.3143450595958645E-3]
[]
[]
["DIFFERENCE",null,{"$f":"C301-C311","v":-667.47982858395574},null,{"$f":"E307-E317","v":-2130.310837130281},{"$f":"F307-F317","v":-3.0391903853396675E-3},-1.6119122844966427E-3,-2.4017419240822749E-5,-2.1961519697049053E-4,-42.045072953406816,-3.5801038478819716,-30.245966990105185,-128.83193130990537,-0.51240319707613624,-13.954069893293747,-5543.8885578950576,-200280.62055002962,-6631.5856037081167,-12218.877180772914,-2.0003607497691054E-3]
[null,null,{"$f":"C320/C311","v":-0.94197253579133344},null,{"$f":"E320/E317","v":-0.89958798059413558},{"$f":"F320/F317","v":-0.92289590107575392},-0.90305294618397369,-0.89772047974092295,-0.90093337339775892,-0.86623884037509169,-0.87524418230516554,-0.90824121493132215,-0.91116597154693291,-0.81280773441929555,-0.89726332308030443,-0.84174756846003018,-0.8796366986001346,-0.88694795958105166,-0.87222490853642209,-0.86433124631744085]
[]
["Food waste amount, kg",null,{"$f":"C311-C301","v":667.47982858395574}]
[]
["FOOD WASTE PREVENTION"]
["DEFAULT FOOD WASTE AMOUNTS"]

{"sheet":"Calculation_retail","index":8,"n_rows":327,"n_cols":20,"rows_kept":327,"cut":false,"hidden":true,"merged":[[279,0,279,1],[288,0,288,1],[297,0,297,1],[226,0,226,1],[235,0,235,1],[244,0,244,1],[253,0,253,1],[262,0,262,1],[271,0,271,1],[217,0,217,1],[118,0,118,1],[127,0,127,1],[136,0,136,1],[145,0,145,1],[154,0,154,1],[163,0,163,1],[172,0,172,1],[181,0,181,1],[190,0,190,1],[199,0,199,1],[208,0,208,1],[109,0,109,1],[19,0,19,1],[28,0,28,1],[37,0,37,1],[46,0,46,1],[55,0,55,1],[64,0,64,1],[73,0,73,1],[82,0,82,1],[91,0,91,1],[100,0,100,1]]}
[null,null,"Amount","Foodwaste","IPCC GWP 100a","Ozone depletion","Human toxicity, non-cancer effects","Human toxicity, cancer effects","Particulate matter","Ionizing radiation HH","Photochemical ozone formation","Acidification","Terrestrial eutrophication","Freshwater eutrophication","Marine eutrophication","Freshwater ecotoxicity","Land use","Water scarcity","ADP Fossil","ADP (ultimate)"]
[null,null,"kg","%","kg CO2 eq","kg CFC11 eq","CTUh","CTUh","Death","kBq U235 eq","kg NMVOC eq","molc H+ eq","molc N eq","kg P eq","kg N eq","CTUe","Pt","m3 water eq","MJ","kg Sb eq"]
["Meat","PORK"]
[null,"agriculture ",{"$f":"C5/(1-D4)","v":1.0526315789473684},{"$f":"Calculation_original!D4","v":0},{"$f":"$C$4*'Emissions per kg'!C4","v":6.4315789473684211},{"$f":"$C$4*'Emissions per kg'!D4","v":3.5999999999999998E-8},{"$f":"$C$4*'Emissions per kg'!E4","v":2.3263157894736842E-6},{"$f":"$C$4*'Emissions per kg'!F4","v":7.357894736842105E-8},{"$f":"$C$4*'Emissions per kg'!G4","v":9.5473684210526308E-7},{"$f":"$C$4*'Emissions per kg'!H4","v":5.8315789473684203E-2},{"$f":"$C$4*'Emissions per kg'!I4","v":7.9473684210526318E-3},{"$f":"$C$4*'Emissions per kg'!J4","v":0.13263157894736841},{"$f":"$C$4*'Emissions per kg'!K4","v":0.58842105263157896},{"$f":"$C$4*'Emissions per kg'!L4","v":1.4E-3},{"$f":"$C$4*'Emissions per kg'!M4","v":4.1263157894736842E-2},{"$f":"$C$4*'Emissions per kg'!N4","v":17.684210526315788},{"$f":"$C$4*'Emissions per kg'!O4","v":827.36842105263156},{"$f":"$C$4*'Emissions per kg'!P4","v":1.2736842105263158},{"$f":"$C$4*'Emissions per kg'!Q4","v":21.999999999999996},{"$f":"$C$4*'Emissions per kg'!R4","v":1.9052631578947367E-7}]
[null,"processsing",{"$f":"(C6/(1-D5))/(1-D6)","v":1.0526315789473684},{"$f":"Calculation_original!D5","v":0.05},{"$f":"$C$5*'Emissions per kg'!C5","v":0.34210526315789475},{"$f":"$C$5*'Emissions per kg'!D5","v":8.473684210526316E-7},{"$f":"$C$5*'Emissions per kg'!E5","v":1.034736842105263E-8},{"$f":"$C$5*'Emissions per kg'!F5","v":7.2736842105263152E-10},{"$f":"$C$5*'Emissions per kg'!G5","v":9.1473684210526308E-9},{"$f":"$C$5*'Emissions per kg'!H5","v":1.4526315789473682E-2},{"$f":"$C$5*'Emissions per kg'!I5","v":7.3263157894736843E-4},{"$f":"$C$5*'Emissions per kg'!J5","v":1.0736842105263159E-3},{"$f":"$C$5*'Emissions per kg'!K5","v":4.1894736842105259E-3},{"$f":"$C$5*'Emissions per kg'!L5","v":1.5789473684210526E-6},{"$f":"$C$5*'Emissions per kg'!M5","v":2.7999999999999998E-4},{"$f":"$C$5*'Emissions per kg'!N5","v":0.14421052631578948},{"$f":"$C$5*'Emissions per kg'!O5","v":1.1473684210526316},{"$f":"$C$5*'Emissions per kg'!P5","v":0.20947368421052631},{"$f":"$C$5*'Emissions per kg'!Q5","v":3.3684210526315788},{"$f":"$C$5*'Emissions per kg'!R5","v":1.231578947368421E-7}]
[null,"packaging",{"$f":"C7","v":1},{"$f":"Calculation_original!D6","v":0},{"$f":"$C$6*'Emissions per kg'!C6","v":5.0900000000000001E-2},{"$f":"$C$6*'Emissions per kg'!D6","v":1.5900000000000001E-9},{"$f":"$C$6*'Emissions per kg'!E6","v":1.6500000000000001E-9},{"$f":"$C$6*'Emissions per kg'!F6","v":1.6900000000000001E-10},{"$f":"$C$6*'Emissions per kg'!G6","v":1.27E-9},{"$f":"$C$6*'Emissions per kg'!H6","v":1.1999999999999999E-3},{"$f":"$C$6*'Emissions per kg'!I6","v":7.3499999999999998E-5},{"$f":"$C$6*'Emissions per kg'!J6","v":1.37E-4},{"$f":"$C$6*'Emissions per kg'!K6","v":2.61E-4},{"$f":"$C$6*'Emissions per kg'!L6","v":1.08E-6},{"$f":"$C$6*'Emissions per kg'!M6","v":2.4300000000000001E-5},{"$f":"$C$6*'Emissions per kg'!N6","v":3.0700000000000002E-2},{"$f":"$C$6*'Emissions per kg'!O6","v":0.156},{"$f":"$C$6*'Emissions per kg'!P6","v":4.9300000000000004E-3},{"$f":"$C$6*'Emissions per kg'!Q6","v":0.33300000000000002},{"$f":"$C$6*'Emissions per kg'!R6","v":1.44E-8}]
[null,"retail",1,{"$f":"Calculation_original!D7","v":0.04},{"$f":"$C$7*'Emissions per kg'!C7","v":0.70399999999999996},{"$f":"$C$7*'Emissions per kg'!D7","v":1.26E-5},{"$f":"$C$7*'Emissions per kg'!E7","v":1.77E-8},{"$f":"$C$7*'Emissions per kg'!F7","v":9.5299999999999991E-10},{"$f":"$C$7*'Emissions per kg'!G7","v":1.15E-8},{"$f":"$C$7*'Emissions per kg'!H7","v":7.5599999999999999E-3},{"$f":"$C$7*'Emissions per kg'!I7","v":7.5900000000000002E-4},{"$f":"$C$7*'Emissions per kg'!J7","v":8.0099999999999995E-4},{"$f":"$C$7*'Emissions per kg'!K7","v":2.6900000000000001E-3},{"$f":"$C$7*'Emissions per kg'!L7","v":3.01E-6},{"$f":"$C$7*'Emissions per kg'!M7","v":2.4499999999999999E-4},{"$f":"$C$7*'Emissions per kg'!N7","v":0.26900000000000002},{"$f":"$C$7*'Emissions per kg'!O7","v":1.92},{"$f":"$C$7*'Emissions per kg'!P7","v":5.1999999999999998E-2},{"$f":"$C$7*'Emissions per kg'!Q7","v":1.8},{"$f":"$C$7*'Emissions per kg'!R7","v":4.34E-7}]
[null,"use ",null,{"$f":"Calculation_original!D8","v":0.11},{"$f":"$C$8*'Emissions per kg'!C8","v":0},{"$f":"$C$8*'Emissions per kg'!D8","v":0},{"$f":"$C$8*'Emissions per kg'!E8","v":0},{"$f":"$C$8*'Emissions per kg'!F8","v":0},{"$f":"$C$8*'Emissions per kg'!G8","v":0},{"$f":"$C$8*'Emissions per kg'!H8","v":0},{"$f":"$C$8*'Emissions per kg'!I8","v":0},{"$f":"$C$8*'Emissions per kg'!J8","v":0},{"$f":"$C$8*'Emissions per kg'!K8","v":0},{"$f":"$C$8*'Emissions per kg'!L8","v":0},{"$f":"$C$8*'Emissions per kg'!M8","v":0},{"$f":"$C$8*'Emissions per kg'!N8","v":0},{"$f":"$C$8*'Emissions per kg'!O8","v":0},{"$f":"$C$8*'Emissions per kg'!P8","v":0},{"$f":"$C$8*'Emissions per kg'!Q8","v":0},{"$f":"$C$8*'Emissions per kg'!R8","v":0}]
[null,"end of life P&R",{"$f":"D5*C5+D7*C7+C6*D6+C4*D4","v":9.2631578947368426E-2},null,{"$f":"$C$9*'EoL emissions'!B4","v":3.13423744984829E-2},{"$f":"$C$9*'EoL emissions'!C4","v":3.7504448924170355E-10},{"$f":"$C$9*'EoL emissions'!D4","v":3.4779775970043097E-8},{"$f":"$C$9*'EoL emissions'!E4","v":1.3911554736176422E-9},{"$f":"$C$9*'EoL emissions'!F4","v":7.0912417985372762E-10},{"$f":"$C$9*'EoL emissions'!G4","v":2.3747894746348192E-4},{"$f":"$C$9*'EoL emissions'!H4","v":4.1989195373957322E-5},{"$f":"$C$9*'EoL emissions'!I4","v":1.1125721700715259E-4},{"$f":"$C$9*'EoL emissions'!J4","v":4.4992686468757872E-4},{"$f":"$C$9*'EoL emissions'!K4","v":8.8566012021664343E-6},{"$f":"$C$9*'EoL emissions'!L4","v":5.0836288847543722E-5},{"$f":"$C$9*'EoL emissions'!M4","v":2.4592265364334511},{"$f":"$C$9*'EoL emissions'!N4","v":0.1271096047373394},{"$f":"$C$9*'EoL emissions'!O4","v":1.2309723511893301E-3},{"$f":"$C$9*'EoL emissions'!P4","v":-2.2614545751630851E-2},{"$f":"$C$9*'EoL emissions'!Q4","v":-1.7165422639101044E-9}]
[null,"end of life HH",{"$f":"D8*C8","v":0},null,{"$f":"$C$10*'EoL emissions'!B5","v":0},{"$f":"$C$10*'EoL emissions'!C5","v":0},{"$f":"$C$10*'EoL emissions'!D5","v":0},{"$f":"$C$10*'EoL emissions'!E5","v":0},{"$f":"$C$10*'EoL emissions'!F5","v":0},{"$f":"$C$10*'EoL emissions'!G5","v":0},{"$f":"$C$10*'EoL emissions'!H5","v":0},{"$f":"$C$10*'EoL emissions'!I5","v":0},{"$f":"$C$10*'EoL emissions'!J5","v":0},{"$f":"$C$10*'EoL emissions'!K5","v":0},{"$f":"$C$10*'EoL emissions'!L5","v":0},{"$f":"$C$10*'EoL emissions'!M5","v":0},{"$f":"$C$10*'EoL emissions'!N5","v":0},{"$f":"$C$10*'EoL emissions'!O5","v":0},{"$f":"$C$10*'EoL emissions'!P5","v":0},{"$f":"$C$10*'EoL emissions'!Q5","v":0}]
["PORK",null,null,null,{"$f":"SUM(E4:E10)","v":7.5599265850247992},{"$f":"SUM(F4:F10)","v":1.3485333465541872E-5},2.3907929338647793E-6,7.6819471263091328E-8,9.7736333470616939E-7,8.1839584210621374E-2,9.5544891953739577E-3,0.13475452037490188,0.59601145318047699,1.4145255485705874E-3,4.1863294183584386E-2,20.587347589065025,830.71889907842149,1.5413188670880316,27.478806506879945,7.603676682624056E-7]
["Meat","BEEF"]
[null,"agriculture ",{"$f":"C14/(1-D13)","v":1.0526315789473684},{"$f":"Calculation_original!D13","v":0},{"$f":"$C$13*'Emissions per kg'!C11","v":29.789473684210524},{"$f":"$C$13*'Emissions per kg'!D11","v":1.3052631578947368E-8},{"$f":"$C$13*'Emissions per kg'!E11","v":2.1157894736842106E-5},{"$f":"$C$13*'Emissions per kg'!F11","v":3.4105263157894735E-7},{"$f":"$C$13*'Emissions per kg'!G11","v":3.7789473684210523E-6},{"$f":"$C$13*'Emissions per kg'!H11","v":2.0947368421052631E-2},{"$f":"$C$13*'Emissions per kg'!I11","v":3.2526315789473681E-2},{"$f":"$C$13*'Emissions per kg'!J11","v":0.50842105263157888},{"$f":"$C$13*'Emissions per kg'!K11","v":2.2526315789473683},{"$f":"$C$13*'Emissions per kg'!L11","v":4.4842105263157893E-3},{"$f":"$C$13*'Emissions per kg'!M11","v":0.19894736842105262},{"$f":"$C$13*'Emissions per kg'!N11","v":38.94736842105263},{"$f":"$C$13*'Emissions per kg'!O11","v":3494.7368421052629},{"$f":"$C$13*'Emissions per kg'!P11","v":9.2947368421052623},{"$f":"$C$13*'Emissions per kg'!Q11","v":64.526315789473671},{"$f":"$C$13*'Emissions per kg'!R11","v":3.6631578947368421E-7}]
[null,"processsing",{"$f":"(C15/(1-D14))/(1-D15)","v":1.0526315789473684},{"$f":"Calculation_original!D14","v":0.05},{"$f":"$C$14*'Emissions per kg'!C12","v":0.49789473684210522},{"$f":"$C$14*'Emissions per kg'!D12","v":2.5894736842105264E-6},{"$f":"$C$14*'Emissions per kg'!E12","v":1.5263157894736843E-8},{"$f":"$C$14*'Emissions per kg'!F12","v":9.1052631578947367E-10},{"$f":"$C$14*'Emissions per kg'!G12","v":1.9684210526315787E-8},{"$f":"$C$14*'Emissions per kg'!H12","v":7.5999999999999991E-3},{"$f":"$C$14*'Emissions per kg'!I12","v":1.1578947368421054E-3},{"$f":"$C$14*'Emissions per kg'!J12","v":2.336842105263158E-3},{"$f":"$C$14*'Emissions per kg'!K12","v":5.3578947368421049E-3},{"$f":"$C$14*'Emissions per kg'!L12","v":3.1473684210526315E-6},{"$f":"$C$14*'Emissions per kg'!M12","v":4.0631578947368421E-4},{"$f":"$C$14*'Emissions per kg'!N12","v":0.17052631578947369},{"$f":"$C$14*'Emissions per kg'!O12","v":1.3894736842105262},{"$f":"$C$14*'Emissions per kg'!P12","v":0.21999999999999997},{"$f":"$C$14*'Emissions per kg'!Q12","v":4.4631578947368418},{"$f":"$C$14*'Emissions per kg'!R12","v":1.7578947368421051E-7}]
[null,"packaging",{"$f":"C16","v":1},{"$f":"Calculation_original!D15","v":0},{"$f":"$C$15*'Emissions per kg'!C13","v":5.0900000000000001E-2},{"$f":"$C$15*'Emissions per kg'!D13","v":1.5900000000000001E-9},{"$f":"$C$15*'Emissions per kg'!E13","v":1.6500000000000001E-9},{"$f":"$C$15*'Emissions per kg'!F13","v":1.6900000000000001E-10},{"$f":"$C$15*'Emissions per kg'!G13","v":1.27E-9},{"$f":"$C$15*'Emissions per kg'!H13","v":1.1999999999999999E-3},{"$f":"$C$15*'Emissions per kg'!I13","v":7.3499999999999998E-5},{"$f":"$C$15*'Emissions per kg'!J13","v":1.37E-4},{"$f":"$C$15*'Emissions per kg'!K13","v":2.61E-4},{"$f":"$C$15*'Emissions per kg'!L13","v":1.08E-6},{"$f":"$C$15*'Emissions per kg'!M13","v":2.4300000000000001E-5},{"$f":"$C$15*'Emissions per kg'!N13","v":3.0700000000000002E-2},{"$f":"$C$15*'Emissions per kg'!O13","v":0.156},{"$f":"$C$15*'Emissions per kg'!P13","v":4.9300000000000004E-3},{"$f":"$C$15*'Emissions per kg'!Q13","v":0.33300000000000002},{"$f":"$C$15*'Emissions per kg'!R13","v":1.44E-8}]
[null,"retail",1,{"$f":"Calculation_original!D16","v":0.04},{"$f":"$C$16*'Emissions per kg'!C14","v":1.27},{"$f":"$C$16*'Emissions per kg'!D14","v":2.8E-5},{"$f":"$C$16*'Emissions per kg'!E14","v":1.77E-8},{"$f":"$C$16*'Emissions per kg'!F14","v":9.5299999999999991E-10},{"$f":"$C$16*'Emissions per kg'!G14","v":1.15E-8},{"$f":"$C$16*'Emissions per kg'!H14","v":7.5599999999999999E-3},{"$f":"$C$16*'Emissions per kg'!I14","v":7.5900000000000002E-4},{"$f":"$C$16*'Emissions per kg'!J14","v":8.0099999999999995E-4},{"$f":"$C$16*'Emissions per kg'!K14","v":2.6900000000000001E-3},{"$f":"$C$16*'Emissions per kg'!L14","v":3.01E-6},{"$f":"$C$16*'Emissions per kg'!M14","v":2.4499999999999999E-4},{"$f":"$C$16*'Emissions per kg'!N14","v":0.26900000000000002},{"$f":"$C$16*'Emissions per kg'!O14","v":1.92},{"$f":"$C$16*'Emissions per kg'!P14","v":5.1999999999999998E-2},{"$f":"$C$16*'Emissions per kg'!Q14","v":1.8},{"$f":"$C$16*'Emissions per kg'!R14","v":4.34E-7}]
[null,"use ",null,{"$f":"Calculation_original!D17","v":0.11},{"$f":"$C$17*'Emissions per kg'!C15","v":0},{"$f":"$C$17*'Emissions per kg'!D15","v":0},{"$f":"$C$17*'Emissions per kg'!E15","v":0},{"$f":"$C$17*'Emissions per kg'!F15","v":0},{"$f":"$C$17*'Emissions per kg'!G15","v":0},{"$f":"$C$17*'Emissions per kg'!H15","v":0},{"$f":"$C$17*'Emissions per kg'!I15","v":0},{"$f":"$C$17*'Emissions per kg'!J15","v":0},{"$f":"$C$17*'Emissions per kg'!K15","v":0},{"$f":"$C$17*'Emissions per kg'!L15","v":0},{"$f":"$C$17*'Emissions per kg'!M15","v":0},{"$f":"$C$17*'Emissions per kg'!N15","v":0},{"$f":"$C$17*'Emissions per kg'!O15","v":0},{"$f":"$C$17*'Emissions per kg'!P15","v":0},{"$f":"$C$17*'Emissions per kg'!Q15","v":0},{"$f":"$C$17*'Emissions per kg'!R15","v":0}]
[null,"end of life P&R",{"$f":"D14*C14+D16*C16+C15*D15+C13*D13","v":9.2631578947368426E-2},null,{"$f":"$C$18*'EoL emissions'!B4","v":3.13423744984829E-2},{"$f":"$C$18*'EoL emissions'!C4","v":3.7504448924170355E-10},{"$f":"$C$18*'EoL emissions'!D4","v":3.4779775970043097E-8},{"$f":"$C$18*'EoL emissions'!E4","v":1.3911554736176422E-9},{"$f":"$C$18*'EoL emissions'!F4","v":7.0912417985372762E-10},{"$f":"$C$18*'EoL emissions'!G4","v":2.3747894746348192E-4},{"$f":"$C$18*'EoL emissions'!H4","v":4.1989195373957322E-5},{"$f":"$C$18*'EoL emissions'!I4","v":1.1125721700715259E-4},{"$f":"$C$18*'EoL emissions'!J4","v":4.4992686468757872E-4},{"$f":"$C$18*'EoL emissions'!K4","v":8.8566012021664343E-6},{"$f":"$C$18*'EoL emissions'!L4","v":5.0836288847543722E-5},{"$f":"$C$18*'EoL emissions'!M4","v":2.4592265364334511},{"$f":"$C$18*'EoL emissions'!N4","v":0.1271096047373394},{"$f":"$C$18*'EoL emissions'!O4","v":1.2309723511893301E-3},{"$f":"$C$18*'EoL emissions'!P4","v":-2.2614545751630851E-2},{"$f":"$C$18*'EoL emissions'!Q4","v":-1.7165422639101044E-9}]
[null,"end of life HH",{"$f":"D17*C17","v":0},null,{"$f":"$C$19*'EoL emissions'!B5","v":0},{"$f":"$C$19*'EoL emissions'!C5","v":0},{"$f":"$C$19*'EoL emissions'!D5","v":0},{"$f":"$C$19*'EoL emissions'!E5","v":0},{"$f":"$C$19*'EoL emissions'!F5","v":0},{"$f":"$C$19*'EoL emissions'!G5","v":0},{"$f":"$C$19*'EoL emissions'!H5","v":0},{"$f":"$C$19*'EoL emissions'!I5","v":0},{"$f":"$C$19*'EoL emissions'!J5","v":0},{"$f":"$C$19*'EoL emissions'!K5","v":0},{"$f":"$C$19*'EoL emissions'!L5","v":0},{"$f":"$C$19*'EoL emissions'!M5","v":0},{"$f":"$C$19*'EoL emissions'!N5","v":0},{"$f":"$C$19*'EoL emissions'!O5","v":0},{"$f":"$C$19*'EoL emissions'!P5","v":0},{"$f":"$C$19*'EoL emissions'!Q5","v":0}]
["BEEF",null,null,null,{"$f":"SUM(E13:E19)","v":31.639610795551111},{"$f":"SUM(F13:F19)","v":3.0604491360278712E-5},2.1227287670706885E-5,3.4447631336835445E-7,3.8121107031272217E-6,3.7544847368516113E-2,3.4558699721689748E-2,0.51180715195384929,2.2613904005488976,4.5003044959390087E-3,0.19967382049937385,41.876821273275553,3498.3294253942104,9.5728978144564518,71.099859138458868,9.8878872089398474E-7]
["Meat","POULTRY"]
[null,"agriculture ",{"$f":"C23/(1-D22)","v":1.0526315789473684},{"$f":"Calculation_original!D22","v":0},{"$f":"$C$22*'Emissions per kg'!C18","v":5.8736842105263154},{"$f":"$C$22*'Emissions per kg'!D18","v":3.4210526315789469E-8},{"$f":"$C$22*'Emissions per kg'!E18","v":1.5263157894736842E-6},{"$f":"$C$22*'Emissions per kg'!F18","v":5.2631578947368416E-8},{"$f":"$C$22*'Emissions per kg'!G18","v":7.705263157894737E-7},{"$f":"$C$22*'Emissions per kg'!H18","v":5.5052631578947367E-2},{"$f":"$C$22*'Emissions per kg'!I18","v":6.4105263157894733E-3},{"$f":"$C$22*'Emissions per kg'!J18","v":9.4947368421052628E-2},{"$f":"$C$22*'Emissions per kg'!K18","v":0.42},{"$f":"$C$22*'Emissions per kg'!L18","v":1.2421052631578946E-3},{"$f":"$C$22*'Emissions per kg'!M18","v":2.4736842105263158E-2},{"$f":"$C$22*'Emissions per kg'!N18","v":12.736842105263158},{"$f":"$C$22*'Emissions per kg'!O18","v":634.73684210526312},{"$f":"$C$22*'Emissions per kg'!P18","v":0.71263157894736839},{"$f":"$C$22*'Emissions per kg'!Q18","v":19.578947368421051},{"$f":"$C$22*'Emissions per kg'!R18","v":2.0526315789473685E-7}]
[null,"processsing",{"$f":"(C24/(1-D23))/(1-D24)","v":1.0526315789473684},{"$f":"Calculation_original!D23","v":0.05},{"$f":"$C$23*'Emissions per kg'!C19","v":0.28210526315789475},{"$f":"$C$23*'Emissions per kg'!D19","v":5.0210526315789473E-7},{"$f":"$C$23*'Emissions per kg'!E19","v":1.0421052631578946E-8},{"$f":"$C$23*'Emissions per kg'!F19","v":6.1578947368421056E-10},{"$f":"$C$23*'Emissions per kg'!G19","v":8.6631578947368419E-9},{"$f":"$C$23*'Emissions per kg'!H19","v":1.4210526315789472E-2},{"$f":"$C$23*'Emissions per kg'!I19","v":7.0842105263157888E-4},{"$f":"$C$23*'Emissions per kg'!J19","v":9.1999999999999992E-4},{"$f":"$C$23*'Emissions per kg'!K19","v":3.5157894736842104E-3},{"$f":"$C$23*'Emissions per kg'!L19","v":1.263157894736842E-6},{"$f":"$C$23*'Emissions per kg'!M19","v":2.5894736842105266E-4},{"$f":"$C$23*'Emissions per kg'!N19","v":0.15473684210526314},{"$f":"$C$23*'Emissions per kg'!O19","v":1.1368421052631579},{"$f":"$C$23*'Emissions per kg'!P19","v":0.15684210526315787},{"$f":"$C$23*'Emissions per kg'!Q19","v":3.0736842105263156},{"$f":"$C$23*'Emissions per kg'!R19","v":1.2842105263157896E-7}]
[null,"packaging",{"$f":"C25","v":1},{"$f":"Calculation_original!D24","v":0},{"$f":"$C$24*'Emissions per kg'!C20","v":1.27},{"$f":"$C$24*'Emissions per kg'!D20","v":1.5400000000000001E-9},{"$f":"$C$24*'Emissions per kg'!E20","v":1.61E-9},{"$f":"$C$24*'Emissions per kg'!F20","v":1.6799999999999999E-10},{"$f":"$C$24*'Emissions per kg'!G20","v":1.2400000000000001E-9},{"$f":"$C$24*'Emissions per kg'!H20","v":1.1900000000000001E-3},{"$f":"$C$24*'Emissions per kg'!I20","v":7.1899999999999999E-5},{"$f":"$C$24*'Emissions per kg'!J20","v":1.35E-4},{"$f":"$C$24*'Emissions per kg'!K20","v":2.5500000000000002E-4},{"$f":"$C$24*'Emissions per kg'!L20","v":1.0699999999999999E-6},{"$f":"$C$24*'Emissions per kg'!M20","v":2.37E-5},{"$f":"$C$24*'Emissions per kg'!N20","v":3.0099999999999998E-2},{"$f":"$C$24*'Emissions per kg'!O20","v":0.152},{"$f":"$C$24*'Emissions per kg'!P20","v":4.9100000000000003E-3},{"$f":"$C$24*'Emissions per kg'!Q20","v":0.33},{"$f":"$C$24*'Emissions per kg'!R20","v":1.39E-8}]
[null,"retail",1,{"$f":"Calculation_original!D25","v":0.04},{"$f":"$C$25*'Emissions per kg'!C21","v":5.0700000000000002E-2},{"$f":"$C$25*'Emissions per kg'!D21","v":2.8E-5},{"$f":"$C$25*'Emissions per kg'!E21","v":1.77E-8},{"$f":"$C$25*'Emissions per kg'!F21","v":9.5299999999999991E-10},{"$f":"$C$25*'Emissions per kg'!G21","v":1.15E-8},{"$f":"$C$25*'Emissions per kg'!H21","v":7.5599999999999999E-3},{"$f":"$C$25*'Emissions per kg'!I21","v":7.5900000000000002E-4},{"$f":"$C$25*'Emissions per kg'!J21","v":8.0099999999999995E-4},{"$f":"$C$25*'Emissions per kg'!K21","v":2.6900000000000001E-3},{"$f":"$C$25*'Emissions per kg'!L21","v":3.01E-6},{"$f":"$C$25*'Emissions per kg'!M21","v":2.4499999999999999E-4},{"$f":"$C$25*'Emissions per kg'!N21","v":0.26900000000000002},{"$f":"$C$25*'Emissions per kg'!O21","v":1.92},{"$f":"$C$25*'Emissions per kg'!P21","v":5.1999999999999998E-2},{"$f":"$C$25*'Emissions per kg'!Q21","v":1.8},{"$f":"$C$25*'Emissions per kg'!R21","v":4.34E-7}]
[null,"use ",null,{"$f":"Calculation_original!D26","v":0.11},{"$f":"$C$26*'Emissions per kg'!C22","v":0},{"$f":"$C$26*'Emissions per kg'!D22","v":0},{"$f":"$C$26*'Emissions per kg'!E22","v":0},{"$f":"$C$26*'Emissions per kg'!F22","v":0},{"$f":"$C$26*'Emissions per kg'!G22","v":0},{"$f":"$C$26*'Emissions per kg'!H22","v":0},{"$f":"$C$26*'Emissions per kg'!I22","v":0},{"$f":"$C$26*'Emissions per kg'!J22","v":0},{"$f":"$C$26*'Emissions per kg'!K22","v":0},{"$f":"$C$26*'Emissions per kg'!L22","v":0},{"$f":"$C$26*'Emissions per kg'!M22","v":0},{"$f":"$C$26*'Emissions per kg'!N22","v":0},{"$f":"$C$26*'Emissions per kg'!O22","v":0},{"$f":"$C$26*'Emissions per kg'!P22","v":0},{"$f":"$C$26*'Emissions per kg'!Q22","v":0},{"$f":"$C$26*'Emissions per kg'!R22","v":0}]
[null,"end of life P&R",{"$f":"D23*C23+D25*C25+C24*D24+C22*D22","v":9.2631578947368426E-2},null,{"$f":"$C$27*'EoL emissions'!B4","v":3.13423744984829E-2},{"$f":"$C$27*'EoL emissions'!C4","v":3.7504448924170355E-10},{"$f":"$C$27*'EoL emissions'!D4","v":3.4779775970043097E-8},{"$f":"$C$27*'EoL emissions'!E4","v":1.3911554736176422E-9},{"$f":"$C$27*'EoL emissions'!F4","v":7.0912417985372762E-10},{"$f":"$C$27*'EoL emissions'!G4","v":2.3747894746348192E-4},{"$f":"$C$27*'EoL emissions'!H4","v":4.1989195373957322E-5},{"$f":"$C$27*'EoL emissions'!I4","v":1.1125721700715259E-4},{"$f":"$C$27*'EoL emissions'!J4","v":4.4992686468757872E-4},{"$f":"$C$27*'EoL emissions'!K4","v":8.8566012021664343E-6},{"$f":"$C$27*'EoL emissions'!L4","v":5.0836288847543722E-5},{"$f":"$C$27*'EoL emissions'!M4","v":2.4592265364334511},{"$f":"$C$27*'EoL emissions'!N4","v":0.1271096047373394},{"$f":"$C$27*'EoL emissions'!O4","v":1.2309723511893301E-3},{"$f":"$C$27*'EoL emissions'!P4","v":-2.2614545751630851E-2},{"$f":"$C$27*'EoL emissions'!Q4","v":-1.7165422639101044E-9}]
[null,"end of life HH",{"$f":"D26*C26","v":0},null,{"$f":"$C$28*'EoL emissions'!B5","v":0},{"$f":"$C$28*'EoL emissions'!C5","v":0},{"$f":"$C$28*'EoL emissions'!D5","v":0},{"$f":"$C$28*'EoL emissions'!E5","v":0},{"$f":"$C$28*'EoL emissions'!F5","v":0},{"$f":"$C$28*'EoL emissions'!G5","v":0},{"$f":"$C$28*'EoL emissions'!H5","v":0},{"$f":"$C$28*'EoL emissions'!I5","v":0},{"$f":"$C$28*'EoL emissions'!J5","v":0},{"$f":"$C$28*'EoL emissions'!K5","v":0},{"$f":"$C$28*'EoL emissions'!L5","v":0},{"$f":"$C$28*'EoL emissions'!M5","v":0},{"$f":"$C$28*'EoL emissions'!N5","v":0},{"$f":"$C$28*'EoL emissions'!O5","v":0},{"$f":"$C$28*'EoL emissions'!P5","v":0},{"$f":"$C$28*'EoL emissions'!Q5","v":0}]
["POULTRY",null,null,null,{"$f":"SUM(E22:E28)","v":7.5078318481826933},{"$f":"SUM(F22:F28)","v":2.8538230833962927E-5},1.5908266180753064E-6,5.5759523894670267E-8,7.9263859786406432E-7,7.8250636842200308E-2,7.9918365637950094E-3,9.6914625638059776E-2,0.4269107163383718,1.2563050222547977E-3,2.5315325762531756E-2,15.649905483801872,638.07279381526371,0.9276146565617156,24.760017033195737,7.7986766826240558E-7]
["Fish","COD"]
[null,"agriculture ",{"$f":"C32/(1-D31)","v":1.0638297872340425},{"$f":"Calculation_original!D31","v":0},{"$f":"'Emissions per kg'!C25*$C$31","v":2.3936170212765955},{"$f":"'Emissions per kg'!D25*$C$31","v":7.0425531914893613E-7},{"$f":"'Emissions per kg'!E25*$C$31","v":3.5425531914893616E-8},{"$f":"'Emissions per kg'!F25*$C$31","v":5.7659574468085104E-9},{"$f":"'Emissions per kg'!G25*$C$31","v":9.1063829787234038E-8},{"$f":"'Emissions per kg'!H25*$C$31","v":1.5957446808510637E-2},{"$f":"'Emissions per kg'!I25*$C$31","v":3.9468085106382979E-2},{"$f":"'Emissions per kg'!J25*$C$31","v":3.3085106382978721E-2},{"$f":"'Emissions per kg'!K25*$C$31","v":0.15531914893617019},{"$f":"'Emissions per kg'!L25*$C$31","v":1.0957446808510638E-5},{"$f":"'Emissions per kg'!M25*$C$31","v":1.4148936170212765E-2},{"$f":"'Emissions per kg'!N25*$C$31","v":3.8404255319148932},{"$f":"'Emissions per kg'!O25*$C$31","v":1.9680851063829787},{"$f":"'Emissions per kg'!P25*$C$31","v":18.723404255319149},{"$f":"'Emissions per kg'!Q25*$C$31","v":32.553191489361701},{"$f":"'Emissions per kg'!R25*$C$31","v":3.1914893617021275E-7}]
[null,"processsing",{"$f":"(C33/(1-D32))/(1-D33)","v":1.0638297872340425},{"$f":"Calculation_original!D32","v":0.06},{"$f":"'Emissions per kg'!C26*$C$32","v":0.66808510638297869},{"$f":"'Emissions per kg'!D26*$C$32","v":3.5851063829787231E-6},{"$f":"'Emissions per kg'!E26*$C$32","v":5.329787234042553E-8},{"$f":"'Emissions per kg'!F26*$C$32","v":4.308510638297872E-9},{"$f":"'Emissions per kg'!G26*$C$32","v":2.6170212765957445E-8},{"$f":"'Emissions per kg'!H26*$C$32","v":5.9787234042553192E-2},{"$f":"'Emissions per kg'!I26*$C$32","v":2.5638297872340424E-3},{"$f":"'Emissions per kg'!J26*$C$32","v":3.9042553191489361E-3},{"$f":"'Emissions per kg'!K26*$C$32","v":9.2127659574468071E-3},{"$f":"'Emissions per kg'!L26*$C$32","v":3.6063829787234039E-5},{"$f":"'Emissions per kg'!M26*$C$32","v":8.3829787234042548E-4},{"$f":"'Emissions per kg'!N26*$C$32","v":0.60851063829787233},{"$f":"'Emissions per kg'!O26*$C$32","v":7.4787234042553195},{"$f":"'Emissions per kg'!P26*$C$32","v":0.11382978723404255},{"$f":"'Emissions per kg'!Q26*$C$32","v":10.170212765957448},{"$f":"'Emissions per kg'!R26*$C$32","v":1.1063829787234042E-6}]
[null,"packaging",{"$f":"C34","v":1},{"$f":"Calculation_original!D33","v":0},{"$f":"'Emissions per kg'!C27*$C$33","v":8.6099999999999996E-2},{"$f":"'Emissions per kg'!D27*$C$33","v":2.69E-9},{"$f":"'Emissions per kg'!E27*$C$33","v":1.8299999999999998E-8},{"$f":"'Emissions per kg'!F27*$C$33","v":8.7299999999999998E-10},{"$f":"'Emissions per kg'!G27*$C$33","v":-1.3000000000000001E-8},{"$f":"'Emissions per kg'!H27*$C$33","v":1.82E-3},{"$f":"'Emissions per kg'!I27*$C$33","v":2.4499999999999999E-5},{"$f":"'Emissions per kg'!J27*$C$33","v":1.56E-4},{"$f":"'Emissions per kg'!K27*$C$33","v":1.7899999999999999E-4},{"$f":"'Emissions per kg'!L27*$C$33","v":3.9199999999999997E-6},{"$f":"'Emissions per kg'!M27*$C$33","v":6.6199999999999996E-5},{"$f":"'Emissions per kg'!N27*$C$33","v":0.11600000000000001},{"$f":"'Emissions per kg'!O27*$C$33","v":-26.3},{"$f":"'Emissions per kg'!P27*$C$33","v":-9.3799999999999994E-2},{"$f":"'Emissions per kg'!Q27*$C$33","v":1.1599999999999999},{"$f":"'Emissions per kg'!R27*$C$33","v":1.79E-6}]
[null,"retail",1,{"$f":"Calculation_original!D34","v":0.09},{"$f":"'Emissions per kg'!C28*$C$34","v":0.38200000000000001},{"$f":"'Emissions per kg'!D28*$C$34","v":6.8199999999999999E-6},{"$f":"'Emissions per kg'!E28*$C$34","v":1.6800000000000002E-8},{"$f":"'Emissions per kg'!F28*$C$34","v":8.1899999999999996E-10},{"$f":"'Emissions per kg'!G28*$C$34","v":1.0800000000000001E-8},{"$f":"'Emissions per kg'!H28*$C$34","v":7.5399999999999998E-3},{"$f":"'Emissions per kg'!I28*$C$34","v":7.5299999999999998E-4},{"$f":"'Emissions per kg'!J28*$C$34","v":7.18E-4},{"$f":"'Emissions per kg'!K28*$C$34","v":2.6900000000000001E-3},{"$f":"'Emissions per kg'!L28*$C$34","v":2.4499999999999998E-6},{"$f":"'Emissions per kg'!M28*$C$34","v":2.4499999999999999E-4},{"$f":"'Emissions per kg'!N28*$C$34","v":0.27800000000000002},{"$f":"'Emissions per kg'!O28*$C$34","v":1.99},{"$f":"'Emissions per kg'!P28*$C$34","v":4.36E-2},{"$f":"'Emissions per kg'!Q28*$C$34","v":1.7},{"$f":"'Emissions per kg'!R28*$C$34","v":2.8999999999999998E-7}]
[null,"use ",null,{"$f":"Calculation_original!D35","v":0.11},{"$f":"'Emissions per kg'!C29*$C$35","v":0},{"$f":"'Emissions per kg'!D29*$C$35","v":0},{"$f":"'Emissions per kg'!E29*$C$35","v":0},{"$f":"'Emissions per kg'!F29*$C$35","v":0},{"$f":"'Emissions per kg'!G29*$C$35","v":0},{"$f":"'Emissions per kg'!H29*$C$35","v":0},{"$f":"'Emissions per kg'!I29*$C$35","v":0},{"$f":"'Emissions per kg'!J29*$C$35","v":0},{"$f":"'Emissions per kg'!K29*$C$35","v":0},{"$f":"'Emissions per kg'!L29*$C$35","v":0},{"$f":"'Emissions per kg'!M29*$C$35","v":0},{"$f":"'Emissions per kg'!N29*$C$35","v":0},{"$f":"'Emissions per kg'!O29*$C$35","v":0},{"$f":"'Emissions per kg'!P29*$C$35","v":0},{"$f":"'Emissions per kg'!Q29*$C$35","v":0},{"$f":"'Emissions per kg'!R29*$C$35","v":0}]
[null,"end of life P&R",{"$f":"D32*C32+D34*C34+C33*D33+C31*D31","v":0.15382978723404256},null,{"$f":"'EoL emissions'!B4*$C$36","v":5.2049105232792506E-2},{"$f":"'EoL emissions'!C4*$C$36","v":6.2282231004754373E-10},{"$f":"'EoL emissions'!D4*$C$36","v":5.7757468870948025E-8},{"$f":"'EoL emissions'!E4*$C$36","v":2.3102396930712705E-9},{"$f":"'EoL emissions'!F4*$C$36","v":1.1776159161811722E-9},{"$f":"'EoL emissions'!G4*$C$36","v":3.9437237685032046E-4},{"$f":"'EoL emissions'!H4*$C$36","v":6.9729881147491746E-5},{"$f":"'EoL emissions'!I4*$C$36","v":1.8476068544816913E-4},{"$f":"'EoL emissions'!J4*$C$36","v":7.47176661050927E-4},{"$f":"'EoL emissions'!K4*$C$36","v":1.4707825279758257E-5},{"$f":"'EoL emissions'!L4*$C$36","v":8.4421917299166838E-5},{"$f":"'EoL emissions'!M4*$C$36","v":4.0839452286008608},{"$f":"'EoL emissions'!N4*$C$36","v":0.21108615090387223},{"$f":"'EoL emissions'!O4*$C$36","v":2.0442295923945634E-3},{"$f":"'EoL emissions'!P4*$C$36","v":-3.7555127537494321E-2},{"$f":"'EoL emissions'!Q4*$C$36","v":-2.8505973258381408E-9}]
[null,"end of life HH",{"$f":"D35*C35","v":0},null,{"$f":"'EoL emissions'!B5*$C$37","v":0},{"$f":"'EoL emissions'!C5*$C$37","v":0},{"$f":"'EoL emissions'!D5*$C$37","v":0},{"$f":"'EoL emissions'!E5*$C$37","v":0},{"$f":"'EoL emissions'!F5*$C$37","v":0},{"$f":"'EoL emissions'!G5*$C$37","v":0},{"$f":"'EoL emissions'!H5*$C$37","v":0},{"$f":"'EoL emissions'!I5*$C$37","v":0},{"$f":"'EoL emissions'!J5*$C$37","v":0},{"$f":"'EoL emissions'!K5*$C$37","v":0},{"$f":"'EoL emissions'!L5*$C$37","v":0},{"$f":"'EoL emissions'!M5*$C$37","v":0},{"$f":"'EoL emissions'!N5*$C$37","v":0},{"$f":"'EoL emissions'!O5*$C$37","v":0},{"$f":"'EoL emissions'!P5*$C$37","v":0},{"$f":"'EoL emissions'!Q5*$C$37","v":0}]
["COD",null,null,null,{"$f":"SUM(E31:E37)","v":3.5818512328923666},{"$f":"SUM(F31:F37)","v":1.1112674524437707E-5},1.8158087312626718E-7,1.4076707778177652E-8,1.1621165846937267E-7,8.5499053227914151E-2,4.287914477476451E-2,3.8048122387575836E-2,0.16814809155466792,6.8099101875502933E-5,1.5382855959852358E-2,8.9268813988136255,-14.652105338457829,18.789078272145584,45.545849127781658,3.5026813175677783E-6]
["Fish","SALMON"]
[null,"agriculture ",{"$f":"C41/(1-D40)","v":1.0638297872340425},{"$f":"Calculation_original!D40","v":0},{"$f":"$C$40*'Emissions per kg'!C32","v":6.8829787234042552},{"$f":"$C$40*'Emissions per kg'!D32","v":1.0563829787234041E-7},{"$f":"$C$40*'Emissions per kg'!E32","v":5.2446808510638299E-6},{"$f":"$C$40*'Emissions per kg'!F32","v":5.9999999999999995E-8},{"$f":"$C$40*'Emissions per kg'!G32","v":3.9893617021276597E-7},{"$f":"$C$40*'Emissions per kg'!H32","v":9.7127659574468089E-2},{"$f":"$C$40*'Emissions per kg'!I32","v":1.7872340425531912E-2},{"$f":"$C$40*'Emissions per kg'!J32","v":4.4468085106382976E-2},{"$f":"$C$40*'Emissions per kg'!K32","v":0.18829787234042553},{"$f":"$C$40*'Emissions per kg'!L32","v":1.1702127659574468E-2},{"$f":"$C$40*'Emissions per kg'!M32","v":0.10638297872340426},{"$f":"$C$40*'Emissions per kg'!N32","v":11.702127659574469},{"$f":"$C$40*'Emissions per kg'!O32","v":512.76595744680856},{"$f":"$C$40*'Emissions per kg'!P32","v":0.30744680851063827},{"$f":"$C$40*'Emissions per kg'!Q32","v":38.829787234042556},{"$f":"$C$40*'Emissions per kg'!R32","v":1.4574468085106382E-6}]
[null,"processsing",{"$f":"(C42/(1-D41))/(1-D42)","v":1.0638297872340425},{"$f":"Calculation_original!D41","v":0.06},{"$f":"$C$41*'Emissions per kg'!C33","v":0.31808510638297871},{"$f":"$C$41*'Emissions per kg'!D33","v":6.627659574468085E-7},{"$f":"$C$41*'Emissions per kg'!E33","v":2.9999999999999997E-8},{"$f":"$C$41*'Emissions per kg'!F33","v":2.3085106382978723E-9},{"$f":"$C$41*'Emissions per kg'!G33","v":1.5744680851063828E-8},{"$f":"$C$41*'Emissions per kg'!H33","v":3.1063829787234043E-2},{"$f":"$C$41*'Emissions per kg'!I33","v":1.6914893617021277E-3},{"$f":"$C$41*'Emissions per kg'!J33","v":2.5000000000000001E-3},{"$f":"$C$41*'Emissions per kg'!K33","v":6.1276595744680857E-3},{"$f":"$C$41*'Emissions per kg'!L33","v":1.7659574468085106E-5},{"$f":"$C$41*'Emissions per kg'!M33","v":5.5531914893617023E-4},{"$f":"$C$41*'Emissions per kg'!N33","v":0.36702127659574463},{"$f":"$C$41*'Emissions per kg'!O33","v":4.0212765957446805},{"$f":"$C$41*'Emissions per kg'!P33","v":5.8723404255319148E-2},{"$f":"$C$41*'Emissions per kg'!Q33","v":5.457446808510638},{"$f":"$C$41*'Emissions per kg'!R33","v":5.8617021276595743E-7}]
[null,"packaging",{"$f":"C43","v":1},{"$f":"Calculation_original!D42","v":0},{"$f":"$C$42*'Emissions per kg'!C34","v":8.0199999999999994E-2},{"$f":"$C$42*'Emissions per kg'!D34","v":5.0600000000000003E-9},{"$f":"$C$42*'Emissions per kg'!E34","v":4.4500000000000001E-9},{"$f":"$C$42*'Emissions per kg'!F34","v":5.1599999999999998E-10},{"$f":"$C$42*'Emissions per kg'!G34","v":1.62E-9},{"$f":"$C$42*'Emissions per kg'!H34","v":7.6E-3},{"$f":"$C$42*'Emissions per kg'!I34","v":1.44E-4},{"$f":"$C$42*'Emissions per kg'!J34","v":3.4699999999999998E-4},{"$f":"$C$42*'Emissions per kg'!K34","v":5.0500000000000002E-4},{"$f":"$C$42*'Emissions per kg'!L34","v":5.6099999999999997E-6},{"$f":"$C$42*'Emissions per kg'!M34","v":4.6699999999999997E-5},{"$f":"$C$42*'Emissions per kg'!N34","v":3.1300000000000001E-2},{"$f":"$C$42*'Emissions per kg'!O34","v":0.67700000000000005},{"$f":"$C$42*'Emissions per kg'!P34","v":1.5599999999999999E-2},{"$f":"$C$42*'Emissions per kg'!Q34","v":1.24},{"$f":"$C$42*'Emissions per kg'!R34","v":1.06E-7}]
[null,"retail",1,{"$f":"Calculation_original!D43","v":0.09},{"$f":"$C$43*'Emissions per kg'!C35","v":0.70499999999999996},{"$f":"$C$43*'Emissions per kg'!D35","v":1.43E-5},{"$f":"$C$43*'Emissions per kg'!E35","v":1.8699999999999999E-8},{"$f":"$C$43*'Emissions per kg'!F35","v":9.3600000000000008E-10},{"$f":"$C$43*'Emissions per kg'!G35","v":1.2100000000000001E-8},{"$f":"$C$43*'Emissions per kg'!H35","v":8.1600000000000006E-3},{"$f":"$C$43*'Emissions per kg'!I35","v":8.3100000000000003E-4},{"$f":"$C$43*'Emissions per kg'!J35","v":8.12E-4},{"$f":"$C$43*'Emissions per kg'!K35","v":2.96E-3},{"$f":"$C$43*'Emissions per kg'!L35","v":2.7599999999999998E-6},{"$f":"$C$43*'Emissions per kg'!M35","v":2.7E-4},{"$f":"$C$43*'Emissions per kg'!N35","v":0.30399999999999999},{"$f":"$C$43*'Emissions per kg'!O35","v":2.16},{"$f":"$C$43*'Emissions per kg'!P35","v":4.7699999999999999E-2},{"$f":"$C$43*'Emissions per kg'!Q35","v":1.88},{"$f":"$C$43*'Emissions per kg'!R35","v":3.6300000000000001E-7}]
[null,"use ",null,{"$f":"Calculation_original!D44","v":0.11},{"$f":"$C$44*'Emissions per kg'!C36","v":0},{"$f":"$C$44*'Emissions per kg'!D36","v":0},{"$f":"$C$44*'Emissions per kg'!E36","v":0},{"$f":"$C$44*'Emissions per kg'!F36","v":0},{"$f":"$C$44*'Emissions per kg'!G36","v":0},{"$f":"$C$44*'Emissions per kg'!H36","v":0},{"$f":"$C$44*'Emissions per kg'!I36","v":0},{"$f":"$C$44*'Emissions per kg'!J36","v":0},{"$f":"$C$44*'Emissions per kg'!K36","v":0},{"$f":"$C$44*'Emissions per kg'!L36","v":0},{"$f":"$C$44*'Emissions per kg'!M36","v":0},{"$f":"$C$44*'Emissions per kg'!N36","v":0},{"$f":"$C$44*'Emissions per kg'!O36","v":0},{"$f":"$C$44*'Emissions per kg'!P36","v":0},{"$f":"$C$44*'Emissions per kg'!Q36","v":0},{"$f":"$C$44*'Emissions per kg'!R36","v":0}]
[null,"end of life P&R",{"$f":"D41*C41+D43*C43+C42*D42+C40*D40","v":0.15382978723404256},null,{"$f":"$C$45*'EoL emissions'!B4","v":5.2049105232792506E-2},{"$f":"$C$45*'EoL emissions'!C4","v":6.2282231004754373E-10},{"$f":"$C$45*'EoL emissions'!D4","v":5.7757468870948025E-8},{"$f":"$C$45*'EoL emissions'!E4","v":2.3102396930712705E-9},{"$f":"$C$45*'EoL emissions'!F4","v":1.1776159161811722E-9},{"$f":"$C$45*'EoL emissions'!G4","v":3.9437237685032046E-4},{"$f":"$C$45*'EoL emissions'!H4","v":6.9729881147491746E-5},{"$f":"$C$45*'EoL emissions'!I4","v":1.8476068544816913E-4},{"$f":"$C$45*'EoL emissions'!J4","v":7.47176661050927E-4},{"$f":"$C$45*'EoL emissions'!K4","v":1.4707825279758257E-5},{"$f":"$C$45*'EoL emissions'!L4","v":8.4421917299166838E-5},{"$f":"$C$45*'EoL emissions'!M4","v":4.0839452286008608},{"$f":"$C$45*'EoL emissions'!N4","v":0.21108615090387223},{"$f":"$C$45*'EoL emissions'!O4","v":2.0442295923945634E-3},{"$f":"$C$45*'EoL emissions'!P4","v":-3.7555127537494321E-2},{"$f":"$C$45*'EoL emissions'!Q4","v":-2.8505973258381408E-9}]
[null,"end of life HH",{"$f":"D44*C44","v":0},null,{"$f":"$C$46*'EoL emissions'!B5","v":0},{"$f":"$C$46*'EoL emissions'!C5","v":0},{"$f":"$C$46*'EoL emissions'!D5","v":0},{"$f":"$C$46*'EoL emissions'!E5","v":0},{"$f":"$C$46*'EoL emissions'!F5","v":0},{"$f":"$C$46*'EoL emissions'!G5","v":0},{"$f":"$C$46*'EoL emissions'!H5","v":0},{"$f":"$C$46*'EoL emissions'!I5","v":0},{"$f":"$C$46*'EoL emissions'!J5","v":0},{"$f":"$C$46*'EoL emissions'!K5","v":0},{"$f":"$C$46*'EoL emissions'!L5","v":0},{"$f":"$C$46*'EoL emissions'!M5","v":0},{"$f":"$C$46*'EoL emissions'!N5","v":0},{"$f":"$C$46*'EoL emissions'!O5","v":0},{"$f":"$C$46*'EoL emissions'!P5","v":0},{"$f":"$C$46*'EoL emissions'!Q5","v":0}]
["SALMON",null,null,null,{"$f":"SUM(E40:E46)","v":8.0383129350200271},{"$f":"SUM(F40:F46)","v":1.5074087077629197E-5},5.3555883199347776E-6,6.6070750331369139E-8,4.2957846698001093E-7,0.14434586173855246,2.0608559668381529E-2,4.8311845791831148E-2,0.19863770857594454,1.1742865059322311E-2,0.1073394197896396,16.488394164771073,519.83532019345705,0.43151444235835201,47.369678915015704,2.5097664239507576E-6]
["Seafood","SHRIMP"]
[null,"agriculture ",{"$f":"C50/(1-D49)","v":1.0638297872340425},{"$f":"Calculation_original!D49","v":0},{"$f":"$C$49*'Emissions per kg'!C39","v":7.0319148936170217},{"$f":"$C$49*'Emissions per kg'!D39","v":1.6914893617021276E-7},{"$f":"$C$49*'Emissions per kg'!E39","v":1.2446808510638299E-6},{"$f":"$C$49*'Emissions per kg'!F39","v":3.4893617021276596E-8},{"$f":"$C$49*'Emissions per kg'!G39","v":5.2978723404255319E-7},{"$f":"$C$49*'Emissions per kg'!H39","v":8.3723404255319156E-2},{"$f":"$C$49*'Emissions per kg'!I39","v":2.6276595744680852E-2},{"$f":"$C$49*'Emissions per kg'!J39","v":4.7765957446808512E-2},{"$f":"$C$49*'Emissions per kg'!K39","v":0.12978723404255318},{"$f":"$C$49*'Emissions per kg'!L39","v":1.1702127659574468E-2},{"$f":"$C$49*'Emissions per kg'!M39","v":0.1001063829787234},{"$f":"$C$49*'Emissions per kg'!N39","v":6.4893617021276588},{"$f":"$C$49*'Emissions per kg'!O39","v":369.14893617021278},{"$f":"$C$49*'Emissions per kg'!P39","v":0.63191489361702124},{"$f":"$C$49*'Emissions per kg'!Q39","v":81.170212765957444},{"$f":"$C$49*'Emissions per kg'!R39","v":4.6808510638297878E-6}]
[null,"processsing",{"$f":"(C51/(1-D50))/(1-D51)","v":1.0638297872340425},{"$f":"Calculation_original!D50","v":0.06},{"$f":"$C$50*'Emissions per kg'!C40","v":1.1914893617021278},{"$f":"$C$50*'Emissions per kg'!D40","v":3.5425531914893613E-6},{"$f":"$C$50*'Emissions per kg'!E40","v":5.4042553191489356E-8},{"$f":"$C$50*'Emissions per kg'!F40","v":4.0851063829787231E-9},{"$f":"$C$50*'Emissions per kg'!G40","v":6.8617021276595745E-8},{"$f":"$C$50*'Emissions per kg'!H40","v":1.9787234042553191E-2},{"$f":"$C$50*'Emissions per kg'!I40","v":4.4255319148936165E-3},{"$f":"$C$50*'Emissions per kg'!J40","v":7.4255319148936166E-3},{"$f":"$C$50*'Emissions per kg'!K40","v":1.6382978723404256E-2},{"$f":"$C$50*'Emissions per kg'!L40","v":1.9042553191489363E-5},{"$f":"$C$50*'Emissions per kg'!M40","v":1.478723404255319E-3},{"$f":"$C$50*'Emissions per kg'!N40","v":0.52446808510638299},{"$f":"$C$50*'Emissions per kg'!O40","v":4.8297872340425529},{"$f":"$C$50*'Emissions per kg'!P40","v":0.77234042553191484},{"$f":"$C$50*'Emissions per kg'!Q40","v":12.978723404255318},{"$f":"$C$50*'Emissions per kg'!R40","v":6.9787234042553194E-7}]
[null,"packaging",{"$f":"C52","v":1},{"$f":"Calculation_original!D51","v":0},{"$f":"$C$51*'Emissions per kg'!C41","v":0.19900000000000001},{"$f":"$C$51*'Emissions per kg'!D41","v":6.4400000000000001E-9},{"$f":"$C$51*'Emissions per kg'!E41","v":3.2999999999999998E-8},{"$f":"$C$51*'Emissions per kg'!F41","v":1.09E-9},{"$f":"$C$51*'Emissions per kg'!G41","v":-1.02E-8},{"$f":"$C$51*'Emissions per kg'!H41","v":7.1700000000000002E-3},{"$f":"$C$51*'Emissions per kg'!I41","v":2.5399999999999999E-4},{"$f":"$C$51*'Emissions per kg'!J41","v":8.4500000000000005E-4},{"$f":"$C$51*'Emissions per kg'!K41","v":8.7799999999999998E-4},{"$f":"$C$51*'Emissions per kg'!L41","v":8.6400000000000003E-6},{"$f":"$C$51*'Emissions per kg'!M41","v":9.2800000000000006E-5},{"$f":"$C$51*'Emissions per kg'!N41","v":0.14299999999999999},{"$f":"$C$51*'Emissions per kg'!O41","v":-29.8},{"$f":"$C$51*'Emissions per kg'!P41","v":-8.1699999999999995E-2},{"$f":"$C$51*'Emissions per kg'!Q41","v":2.6},{"$f":"$C$51*'Emissions per kg'!R41","v":2.03E-6}]
[null,"retail",1,{"$f":"Calculation_original!D52","v":0.09},{"$f":"$C$52*'Emissions per kg'!C42","v":0.38600000000000001},{"$f":"$C$52*'Emissions per kg'!D42","v":6.8199999999999999E-6},{"$f":"$C$52*'Emissions per kg'!E42","v":1.74E-8},{"$f":"$C$52*'Emissions per kg'!F42","v":8.4699999999999997E-10},{"$f":"$C$52*'Emissions per kg'!G42","v":1.1199999999999999E-8},{"$f":"$C$52*'Emissions per kg'!H42","v":7.79E-3},{"$f":"$C$52*'Emissions per kg'!I42","v":7.8299999999999995E-4},{"$f":"$C$52*'Emissions per kg'!J42","v":7.4299999999999995E-4},{"$f":"$C$52*'Emissions per kg'!K42","v":2.8E-3},{"$f":"$C$52*'Emissions per kg'!L42","v":2.5000000000000002E-6},{"$f":"$C$52*'Emissions per kg'!M42","v":2.5500000000000002E-4},{"$f":"$C$52*'Emissions per kg'!N42","v":0.28899999999999998},{"$f":"$C$52*'Emissions per kg'!O42","v":2.0699999999999998},{"$f":"$C$52*'Emissions per kg'!P42","v":4.41E-2},{"$f":"$C$52*'Emissions per kg'!Q42","v":1.76},{"$f":"$C$52*'Emissions per kg'!R42","v":2.9900000000000002E-7}]
[null,"use ",null,{"$f":"Calculation_original!D53","v":0.11},{"$f":"$C$53*'Emissions per kg'!C43","v":0},{"$f":"$C$53*'Emissions per kg'!D43","v":0},{"$f":"$C$53*'Emissions per kg'!E43","v":0},{"$f":"$C$53*'Emissions per kg'!F43","v":0},{"$f":"$C$53*'Emissions per kg'!G43","v":0},{"$f":"$C$53*'Emissions per kg'!H43","v":0},{"$f":"$C$53*'Emissions per kg'!I43","v":0},{"$f":"$C$53*'Emissions per kg'!J43","v":0},{"$f":"$C$53*'Emissions per kg'!K43","v":0},{"$f":"$C$53*'Emissions per kg'!L43","v":0},{"$f":"$C$53*'Emissions per kg'!M43","v":0},{"$f":"$C$53*'Emissions per kg'!N43","v":0},{"$f":"$C$53*'Emissions per kg'!O43","v":0},{"$f":"$C$53*'Emissions per kg'!P43","v":0},{"$f":"$C$53*'Emissions per kg'!Q43","v":0},{"$f":"$C$53*'Emissions per kg'!R43","v":0}]
[null,"end of life P&R",{"$f":"D50*C50+D52*C52+C51*D51+C49*D49","v":0.15382978723404256},null,{"$f":"$C$54*'EoL emissions'!B4","v":5.2049105232792506E-2},{"$f":"$C$54*'EoL emissions'!C4","v":6.2282231004754373E-10},{"$f":"$C$54*'EoL emissions'!D4","v":5.7757468870948025E-8},{"$f":"$C$54*'EoL emissions'!E4","v":2.3102396930712705E-9},{"$f":"$C$54*'EoL emissions'!F4","v":1.1776159161811722E-9},{"$f":"$C$54*'EoL emissions'!G4","v":3.9437237685032046E-4},{"$f":"$C$54*'EoL emissions'!H4","v":6.9729881147491746E-5},{"$f":"$C$54*'EoL emissions'!I4","v":1.8476068544816913E-4},{"$f":"$C$54*'EoL emissions'!J4","v":7.47176661050927E-4},{"$f":"$C$54*'EoL emissions'!K4","v":1.4707825279758257E-5},{"$f":"$C$54*'EoL emissions'!L4","v":8.4421917299166838E-5},{"$f":"$C$54*'EoL emissions'!M4","v":4.0839452286008608},{"$f":"$C$54*'EoL emissions'!N4","v":0.21108615090387223},{"$f":"$C$54*'EoL emissions'!O4","v":2.0442295923945634E-3},{"$f":"$C$54*'EoL emissions'!P4","v":-3.7555127537494321E-2},{"$f":"$C$54*'EoL emissions'!Q4","v":-2.8505973258381408E-9}]
[null,"end of life HH",{"$f":"D53*C53","v":0},null,{"$f":"$C$55*'EoL emissions'!B5","v":0},{"$f":"$C$55*'EoL emissions'!C5","v":0},{"$f":"$C$55*'EoL emissions'!D5","v":0},{"$f":"$C$55*'EoL emissions'!E5","v":0},{"$f":"$C$55*'EoL emissions'!F5","v":0},{"$f":"$C$55*'EoL emissions'!G5","v":0},{"$f":"$C$55*'EoL emissions'!H5","v":0},{"$f":"$C$55*'EoL emissions'!I5","v":0},{"$f":"$C$55*'EoL emissions'!J5","v":0},{"$f":"$C$55*'EoL emissions'!K5","v":0},{"$f":"$C$55*'EoL emissions'!L5","v":0},{"$f":"$C$55*'EoL emissions'!M5","v":0},{"$f":"$C$55*'EoL emissions'!N5","v":0},{"$f":"$C$55*'EoL emissions'!O5","v":0},{"$f":"$C$55*'EoL emissions'!P5","v":0},{"$f":"$C$55*'EoL emissions'!Q5","v":0}]
["SHRIMP",null,null,null,{"$f":"SUM(E49:E55)","v":8.8604533605519418},{"$f":"SUM(F49:F55)","v":1.0538764949969622E-5},1.4068808731262672E-6,4.3225963097326585E-8,6.0058187123533011E-7,0.11886501067472267,3.1808857540721963E-2,5.6964250047150299E-2,0.15059538942700834,1.1747018038045717E-2,0.1020173283002779,11.529775015834902,346.45980955515921,1.3686995487413307,98.471381042675276,7.7048728069294827E-6]
["Dairy","MILK"]
[null,"agriculture ",{"$f":"C59/(1-D58)","v":1.0541906714667484},{"$f":"Calculation_original!D58","v":3.5000000000000003E-2},{"$f":"$C$58*'Emissions per kg'!C46","v":1.3177383393334354},{"$f":"$C$58*'Emissions per kg'!D46","v":4.2694722194403309E-9},{"$f":"$C$58*'Emissions per kg'!E46","v":2.1716327832215018E-6},{"$f":"$C$58*'Emissions per kg'!F46","v":1.5074926601974504E-8},{"$f":"$C$58*'Emissions per kg'!G46","v":1.6867050743467973E-7},{"$f":"$C$58*'Emissions per kg'!H46","v":6.9682003383952076E-3},{"$f":"$C$58*'Emissions per kg'!I46","v":1.1279840184694207E-3},{"$f":"$C$58*'Emissions per kg'!J46","v":2.3824709175148513E-2},{"$f":"$C$58*'Emissions per kg'!K46","v":0.10541906714667484},{"$f":"$C$58*'Emissions per kg'!L46","v":1.7710403280641373E-4},{"$f":"$C$58*'Emissions per kg'!M46","v":7.6428823681339263E-3},{"$f":"$C$58*'Emissions per kg'!N46","v":3.2152815479735826},{"$f":"$C$58*'Emissions per kg'!O46","v":108.58163916107509},{"$f":"$C$58*'Emissions per kg'!P46","v":0.12861126191894329},{"$f":"$C$58*'Emissions per kg'!Q46","v":3.1309462942562427},{"$f":"$C$58*'Emissions per kg'!R46","v":2.1083813429334967E-8}]
[null,"processsing",{"$f":"(C60/(1-D59))/(1-D60)","v":1.0172939979654121},{"$f":"Calculation_original!D59","v":1.7000000000000001E-2},{"$f":"$C$59*'Emissions per kg'!C47","v":7.039674465920652E-2},{"$f":"$C$59*'Emissions per kg'!D47","v":6.2767039674465929E-9},{"$f":"$C$59*'Emissions per kg'!E47","v":3.8148524923702952E-9},{"$f":"$C$59*'Emissions per kg'!F47","v":5.5239064089521875E-10},{"$f":"$C$59*'Emissions per kg'!G47","v":1.4343845371312311E-9},{"$f":"$C$59*'Emissions per kg'!H47","v":4.9440488301119023E-3},{"$f":"$C$59*'Emissions per kg'!I47","v":1.8921668362156663E-4},{"$f":"$C$59*'Emissions per kg'!J47","v":3.4486266531027468E-4},{"$f":"$C$59*'Emissions per kg'!K47","v":6.7751780264496447E-4},{"$f":"$C$59*'Emissions per kg'!L47","v":3.621566632756867E-6},{"$f":"$C$59*'Emissions per kg'!M47","v":6.042726347914548E-5},{"$f":"$C$59*'Emissions per kg'!N47","v":2.3804679552390642E-2},{"$f":"$C$59*'Emissions per kg'!O47","v":0.62054933875890139},{"$f":"$C$59*'Emissions per kg'!P47","v":0.24923702950152596},{"$f":"$C$59*'Emissions per kg'!Q47","v":1.3123092573753816},{"$f":"$C$59*'Emissions per kg'!R47","v":9.5829094608341816E-8}]
[null,"packaging",{"$f":"C61","v":1},{"$f":"Calculation_original!D60","v":0},{"$f":"$C$60*'Emissions per kg'!C48","v":9.6100000000000005E-2},{"$f":"$C$60*'Emissions per kg'!D48","v":9.4699999999999998E-9},{"$f":"$C$60*'Emissions per kg'!E48","v":1.2299999999999999E-8},{"$f":"$C$60*'Emissions per kg'!F48","v":1.61E-9},{"$f":"$C$60*'Emissions per kg'!G48","v":3.72E-9},{"$f":"$C$60*'Emissions per kg'!H48","v":8.2000000000000007E-3},{"$f":"$C$60*'Emissions per kg'!I48","v":1.55E-4},{"$f":"$C$60*'Emissions per kg'!J48","v":5.0799999999999999E-4},{"$f":"$C$60*'Emissions per kg'!K48","v":7.9699999999999997E-4},{"$f":"$C$60*'Emissions per kg'!L48","v":1.08E-5},{"$f":"$C$60*'Emissions per kg'!M48","v":7.1500000000000003E-5},{"$f":"$C$60*'Emissions per kg'!N48","v":8.5199999999999998E-2},{"$f":"$C$60*'Emissions per kg'!O48","v":2.66},{"$f":"$C$60*'Emissions per kg'!P48","v":0.107},{"$f":"$C$60*'Emissions per kg'!Q48","v":1.06},{"$f":"$C$60*'Emissions per kg'!R48","v":6.8899999999999999E-7}]
[null,"retail",1,{"$f":"Calculation_original!D61","v":5.0000000000000001E-3},{"$f":"$C$61*'Emissions per kg'!C49","v":0.152},{"$f":"$C$61*'Emissions per kg'!D49","v":1.42E-6},{"$f":"$C$61*'Emissions per kg'!E49","v":1.51E-8},{"$f":"$C$61*'Emissions per kg'!F49","v":7.1100000000000003E-10},{"$f":"$C$61*'Emissions per kg'!G49","v":9.8000000000000001E-9},{"$f":"$C$61*'Emissions per kg'!H49","v":6.7200000000000003E-3},{"$f":"$C$61*'Emissions per kg'!I49","v":6.8999999999999997E-4},{"$f":"$C$61*'Emissions per kg'!J49","v":6.3400000000000001E-4},{"$f":"$C$61*'Emissions per kg'!K49","v":2.47E-3},{"$f":"$C$61*'Emissions per kg'!L49","v":1.9700000000000002E-6},{"$f":"$C$61*'Emissions per kg'!M49","v":2.2499999999999999E-4},{"$f":"$C$61*'Emissions per kg'!N49","v":0.25800000000000001},{"$f":"$C$61*'Emissions per kg'!O49","v":1.83},{"$f":"$C$61*'Emissions per kg'!P49","v":0.04},{"$f":"$C$61*'Emissions per kg'!Q49","v":1.51},{"$f":"$C$61*'Emissions per kg'!R49","v":2.3200000000000001E-7}]
[null,"use ",null,{"$f":"Calculation_original!D62","v":7.0000000000000007E-2},{"$f":"$C$62*'Emissions per kg'!C50","v":0},{"$f":"$C$62*'Emissions per kg'!D50","v":0},{"$f":"$C$62*'Emissions per kg'!E50","v":0},{"$f":"$C$62*'Emissions per kg'!F50","v":0},{"$f":"$C$62*'Emissions per kg'!G50","v":0},{"$f":"$C$62*'Emissions per kg'!H50","v":0},{"$f":"$C$62*'Emissions per kg'!I50","v":0},{"$f":"$C$62*'Emissions per kg'!J50","v":0},{"$f":"$C$62*'Emissions per kg'!K50","v":0},{"$f":"$C$62*'Emissions per kg'!L50","v":0},{"$f":"$C$62*'Emissions per kg'!M50","v":0},{"$f":"$C$62*'Emissions per kg'!N50","v":0},{"$f":"$C$62*'Emissions per kg'!O50","v":0},{"$f":"$C$62*'Emissions per kg'!P50","v":0},{"$f":"$C$62*'Emissions per kg'!Q50","v":0},{"$f":"$C$62*'Emissions per kg'!R50","v":0}]
[null,"end of life P&R",{"$f":"D59*C59+D61*C61+C60*D60+C58*D58","v":5.919067146674821E-2},null,{"$f":"$C$63*'EoL emissions'!B4","v":2.0027470253762662E-2},{"$f":"$C$63*'EoL emissions'!C4","v":2.3964975443993244E-10},{"$f":"$C$63*'EoL emissions'!D4","v":2.2223936119016236E-8},{"$f":"$C$63*'EoL emissions'!E4","v":8.8893471895644144E-10},{"$f":"$C$63*'EoL emissions'!F4","v":4.5312340387394084E-10},{"$f":"$C$63*'EoL emissions'!G4","v":1.5174672092728534E-4},{"$f":"$C$63*'EoL emissions'!H4","v":2.6830684489845011E-5},{"$f":"$C$63*'EoL emissions'!I4","v":7.1092271717799156E-5},{"$f":"$C$63*'EoL emissions'!J4","v":2.874988587522411E-4},{"$f":"$C$63*'EoL emissions'!K4","v":5.6592814030223699E-6},{"$f":"$C$63*'EoL emissions'!L4","v":3.248389054744878E-5},{"$f":"$C$63*'EoL emissions'!M4","v":1.5714216645605048},{"$f":"$C$63*'EoL emissions'!N4","v":8.1221792176844013E-2},{"$f":"$C$63*'EoL emissions'!O4","v":7.8657927298526507E-4},{"$f":"$C$63*'EoL emissions'!P4","v":-1.4450473188145473E-2},{"$f":"$C$63*'EoL emissions'!Q4","v":-1.0968536902476888E-9}]
[null,"end of life HH",{"$f":"D62*C62","v":0},null,{"$f":"$C$64*'EoL emissions'!B5","v":0},{"$f":"$C$64*'EoL emissions'!C5","v":0},{"$f":"$C$64*'EoL emissions'!D5","v":0},{"$f":"$C$64*'EoL emissions'!E5","v":0},{"$f":"$C$64*'EoL emissions'!F5","v":0},{"$f":"$C$64*'EoL emissions'!G5","v":0},{"$f":"$C$64*'EoL emissions'!H5","v":0},{"$f":"$C$64*'EoL emissions'!I5","v":0},{"$f":"$C$64*'EoL emissions'!J5","v":0},{"$f":"$C$64*'EoL emissions'!K5","v":0},{"$f":"$C$64*'EoL emissions'!L5","v":0},{"$f":"$C$64*'EoL emissions'!M5","v":0},{"$f":"$C$64*'EoL emissions'!N5","v":0},{"$f":"$C$64*'EoL emissions'!O5","v":0},{"$f":"$C$64*'EoL emissions'!P5","v":0},{"$f":"$C$64*'EoL emissions'!Q5","v":0}]
["MILK",null,null,null,{"$f":"SUM(E58:E64)","v":1.6562625542464045},{"$f":"SUM(F58:F64)","v":1.4402558259413267E-6},2.2250715718328883E-6,1.8837251961826163E-8,1.8407801537568491E-7,2.6983995889434394E-2,2.1890313865808322E-3,2.5382664112176587E-2,0.10965108380807206,1.9915488084219297E-4,8.0322935221605208E-3,5.1537078920864783,113.77341029201084,0.5256348706934546,6.9988050784434792,1.036816054347429E-6]
["Dairy","CHEESE"]
[null,"agriculture ",{"$f":"C68/(1-D67)","v":1.0362694300518136},{"$f":"Calculation_original!D67","v":3.5000000000000003E-2},{"$f":"$C$67*'Emissions per kg'!C53","v":12.020725388601038},{"$f":"$C$67*'Emissions per kg'!D53","v":3.9170984455958552E-8},{"$f":"$C$67*'Emissions per kg'!E53","v":2.0000000000000005E-5},{"$f":"$C$67*'Emissions per kg'!F53","v":1.3782383419689123E-7},{"$f":"$C$67*'Emissions per kg'!G53","v":1.5544041450777204E-6},{"$f":"$C$67*'Emissions per kg'!H53","v":6.3937823834196897E-2},{"$f":"$C$67*'Emissions per kg'!I53","v":1.0362694300518137E-2},{"$f":"$C$67*'Emissions per kg'!J53","v":0.21865284974093266},{"$f":"$C$67*'Emissions per kg'!K53","v":0.97098445595854943},{"$f":"$C$67*'Emissions per kg'!L53","v":1.6165803108808292E-3},{"$f":"$C$67*'Emissions per kg'!M53","v":7.0155440414507775E-2},{"$f":"$C$67*'Emissions per kg'!N53","v":29.533678756476689},{"$f":"$C$67*'Emissions per kg'!O53","v":996.89119170984463},{"$f":"$C$67*'Emissions per kg'!P53","v":1.1813471502590673},{"$f":"$C$67*'Emissions per kg'!Q53","v":28.704663212435236},{"$f":"$C$67*'Emissions per kg'!R53","v":1.9378238341968915E-7}]
[null,"processsing",{"$f":"(C69/(1-D68))/(1-D69)","v":1},{"$f":"Calculation_original!D68","v":0},{"$f":"$C$68*'Emissions per kg'!C54","v":2.25},{"$f":"$C$68*'Emissions per kg'!D54","v":4.6400000000000003E-7},{"$f":"$C$68*'Emissions per kg'!E54","v":2.6300000000000001E-7},{"$f":"$C$68*'Emissions per kg'!F54","v":7.8199999999999999E-9},{"$f":"$C$68*'Emissions per kg'!G54","v":4.88E-8},{"$f":"$C$68*'Emissions per kg'!H54","v":0.14299999999999999},{"$f":"$C$68*'Emissions per kg'!I54","v":4.2100000000000002E-3},{"$f":"$C$68*'Emissions per kg'!J54","v":8.3000000000000001E-3},{"$f":"$C$68*'Emissions per kg'!K54","v":1.7600000000000001E-2},{"$f":"$C$68*'Emissions per kg'!L54","v":4.0399999999999999E-5},{"$f":"$C$68*'Emissions per kg'!M54","v":1.33E-3},{"$f":"$C$68*'Emissions per kg'!N54","v":0.998},{"$f":"$C$68*'Emissions per kg'!O54","v":7.01},{"$f":"$C$68*'Emissions per kg'!P54","v":1.51},{"$f":"$C$68*'Emissions per kg'!Q54","v":31.4},{"$f":"$C$68*'Emissions per kg'!R54","v":1.5099999999999999E-6}]
[null,"packaging",{"$f":"C70","v":1},{"$f":"Calculation_original!D69","v":0},{"$f":"$C$69*'Emissions per kg'!C55","v":0.11899999999999999},{"$f":"$C$69*'Emissions per kg'!D55","v":3.7399999999999999E-9},{"$f":"$C$69*'Emissions per kg'!E55","v":2.1600000000000002E-8},{"$f":"$C$69*'Emissions per kg'!F55","v":1.0500000000000001E-9},{"$f":"$C$69*'Emissions per kg'!G55","v":-1.4500000000000001E-8},{"$f":"$C$69*'Emissions per kg'!H55","v":2.5799999999999998E-3},{"$f":"$C$69*'Emissions per kg'!I55","v":5.6900000000000001E-5},{"$f":"$C$69*'Emissions per kg'!J55","v":2.32E-4},{"$f":"$C$69*'Emissions per kg'!K55","v":3.0800000000000001E-4},{"$f":"$C$69*'Emissions per kg'!L55","v":4.95E-6},{"$f":"$C$69*'Emissions per kg'!M55","v":8.5599999999999994E-5},{"$f":"$C$69*'Emissions per kg'!N55","v":0.14899999999999999},{"$f":"$C$69*'Emissions per kg'!O55","v":-30.1},{"$f":"$C$69*'Emissions per kg'!P55","v":-0.107},{"$f":"$C$69*'Emissions per kg'!Q55","v":1.46},{"$f":"$C$69*'Emissions per kg'!R55","v":3.9099999999999999E-7}]
[null,"retail",1,{"$f":"Calculation_original!D70","v":3.4000000000000002E-2},{"$f":"$C$70*'Emissions per kg'!C56","v":1.04},{"$f":"$C$70*'Emissions per kg'!D56","v":2.1299999999999999E-5},{"$f":"$C$70*'Emissions per kg'!E56","v":1.8399999999999999E-8},{"$f":"$C$70*'Emissions per kg'!F56","v":9.5000000000000003E-10},{"$f":"$C$70*'Emissions per kg'!G56","v":1.1900000000000001E-8},{"$f":"$C$70*'Emissions per kg'!H56","v":8.0499999999999999E-3},{"$f":"$C$70*'Emissions per kg'!I56","v":8.1400000000000005E-4},{"$f":"$C$70*'Emissions per kg'!J56","v":8.2799999999999996E-4},{"$f":"$C$70*'Emissions per kg'!K56","v":2.8999999999999998E-3},{"$f":"$C$70*'Emissions per kg'!L56","v":2.92E-6},{"$f":"$C$70*'Emissions per kg'!M56","v":2.6400000000000002E-4},{"$f":"$C$70*'Emissions per kg'!N56","v":0.29099999999999998},{"$f":"$C$70*'Emissions per kg'!O56","v":2.08},{"$f":"$C$70*'Emissions per kg'!P56","v":4.9599999999999998E-2},{"$f":"$C$70*'Emissions per kg'!Q56","v":1.87},{"$f":"$C$70*'Emissions per kg'!R56","v":2.0700000000000001E-6}]
[null,"use ",null,{"$f":"Calculation_original!D71","v":3.4000000000000002E-2},{"$f":"$C$71*'Emissions per kg'!C57","v":0},{"$f":"$C$71*'Emissions per kg'!D57","v":0},{"$f":"$C$71*'Emissions per kg'!E57","v":0},{"$f":"$C$71*'Emissions per kg'!F57","v":0},{"$f":"$C$71*'Emissions per kg'!G57","v":0},{"$f":"$C$71*'Emissions per kg'!H57","v":0},{"$f":"$C$71*'Emissions per kg'!I57","v":0},{"$f":"$C$71*'Emissions per kg'!J57","v":0},{"$f":"$C$71*'Emissions per kg'!K57","v":0},{"$f":"$C$71*'Emissions per kg'!L57","v":0},{"$f":"$C$71*'Emissions per kg'!M57","v":0},{"$f":"$C$71*'Emissions per kg'!N57","v":0},{"$f":"$C$71*'Emissions per kg'!O57","v":0},{"$f":"$C$71*'Emissions per kg'!P57","v":0},{"$f":"$C$71*'Emissions per kg'!Q57","v":0},{"$f":"$C$71*'Emissions per kg'!R57","v":0}]
[null,"end of life P&R",{"$f":"D68*C68+D70*C70+C69*D69+C67*D67","v":7.0269430051813492E-2},null,{"$f":"$C$72*'EoL emissions'!B4","v":2.3776025600624352E-2},{"$f":"$C$72*'EoL emissions'!C4","v":2.8450516338560913E-10},{"$f":"$C$72*'EoL emissions'!D4","v":2.6383605488721056E-8},{"$f":"$C$72*'EoL emissions'!E4","v":1.0553172401402699E-9},{"$f":"$C$72*'EoL emissions'!F4","v":5.3793482223371665E-10},{"$f":"$C$72*'EoL emissions'!G4","v":1.8014925878619614E-4},{"$f":"$C$72*'EoL emissions'!H4","v":3.1852602112489925E-5},{"$f":"$C$72*'EoL emissions'!I4","v":8.4398660986720071E-5},{"$f":"$C$72*'EoL emissions'!J4","v":3.4131021737802031E-4},{"$f":"$C$72*'EoL emissions'!K4","v":6.7185329856684028E-6},{"$f":"$C$72*'EoL emissions'!L4","v":3.856392262616985E-5},{"$f":"$C$72*'EoL emissions'!M4","v":1.8655457355602301},{"$f":"$C$72*'EoL emissions'!N4","v":9.6424130739249145E-2},{"$f":"$C$72*'EoL emissions'!O4","v":9.3380385512766213E-4},{"$f":"$C$72*'EoL emissions'!P4","v":-1.7155178168242864E-2},{"$f":"$C$72*'EoL emissions'!Q4","v":-1.3021525479269546E-9}]
[null,"end of life HH",{"$f":"D71*C71","v":0},null,{"$f":"$C$73*'EoL emissions'!B5","v":0},{"$f":"$C$73*'EoL emissions'!C5","v":0},{"$f":"$C$73*'EoL emissions'!D5","v":0},{"$f":"$C$73*'EoL emissions'!E5","v":0},{"$f":"$C$73*'EoL emissions'!F5","v":0},{"$f":"$C$73*'EoL emissions'!G5","v":0},{"$f":"$C$73*'EoL emissions'!H5","v":0},{"$f":"$C$73*'EoL emissions'!I5","v":0},{"$f":"$C$73*'EoL emissions'!J5","v":0},{"$f":"$C$73*'EoL emissions'!K5","v":0},{"$f":"$C$73*'EoL emissions'!L5","v":0},{"$f":"$C$73*'EoL emissions'!M5","v":0},{"$f":"$C$73*'EoL emissions'!N5","v":0},{"$f":"$C$73*'EoL emissions'!O5","v":0},{"$f":"$C$73*'EoL emissions'!P5","v":0},{"$f":"$C$73*'EoL emissions'!Q5","v":0}]
["CHEESE",null,null,null,{"$f":"SUM(E67:E73)","v":15.453501414201662},{"$f":"SUM(F67:F73)","v":2.1807195489619345E-5},2.0329383605488725E-5,1.4869915143703149E-7,1.6011420798999542E-6,0.2177479730929831,1.5475446902630629E-2,0.22809724840191939,0.99213376617592741,1.6715688438664975E-3,7.1873604337133953E-2,32.837224492036924,975.97761584058389,2.6348809541141947,63.417508034266987,4.1634802308717626E-6]
["Dairy","BUTTER"]
[null,"agriculture ",{"$f":"C77/(1-D76)","v":1.0362694300518136},{"$f":"Calculation_original!D76","v":3.5000000000000003E-2},{"$f":"$C$76*'Emissions per kg'!C60","v":29.015544041450781},{"$f":"$C$76*'Emissions per kg'!D60","v":9.4507772020725396E-8},{"$f":"$C$76*'Emissions per kg'!E60","v":4.8186528497409331E-5},{"$f":"$C$76*'Emissions per kg'!F60","v":3.3367875647668399E-7},{"$f":"$C$76*'Emissions per kg'!G60","v":3.7409326424870474E-6},{"$f":"$C$76*'Emissions per kg'!H60","v":0.15440414507772021},{"$f":"$C$76*'Emissions per kg'!I60","v":2.4974093264248709E-2},{"$f":"$C$76*'Emissions per kg'!J60","v":0.52642487046632136},{"$f":"$C$76*'Emissions per kg'!K60","v":2.3419689119170983},{"$f":"$C$76*'Emissions per kg'!L60","v":3.9067357512953373E-3},{"$f":"$C$76*'Emissions per kg'!M60","v":0.16891191709844564},{"$f":"$C$76*'Emissions per kg'!N60","v":71.088082901554401},{"$f":"$C$76*'Emissions per kg'!O60","v":2404.1450777202076},{"$f":"$C$76*'Emissions per kg'!P60","v":2.8497409326424874},{"$f":"$C$76*'Emissions per kg'!Q60","v":69.222797927461144},{"$f":"$C$76*'Emissions per kg'!R60","v":4.6632124352331608E-7}]
[null,"processsing",{"$f":"(C78/(1-D77))/(1-D78)","v":1},{"$f":"Calculation_original!D77","v":0},{"$f":"$C$77*'Emissions per kg'!C61","v":0.505},{"$f":"$C$77*'Emissions per kg'!D61","v":9.3800000000000006E-8},{"$f":"$C$77*'Emissions per kg'!E61","v":6.4000000000000004E-8},{"$f":"$C$77*'Emissions per kg'!F61","v":3.3099999999999999E-9},{"$f":"$C$77*'Emissions per kg'!G61","v":2.48E-8},{"$f":"$C$77*'Emissions per kg'!H61","v":4.2299999999999997E-2},{"$f":"$C$77*'Emissions per kg'!I61","v":1.9499999999999999E-3},{"$f":"$C$77*'Emissions per kg'!J61","v":2.6800000000000001E-3},{"$f":"$C$77*'Emissions per kg'!K61","v":7.2100000000000003E-3},{"$f":"$C$77*'Emissions per kg'!L61","v":1.95E-5},{"$f":"$C$77*'Emissions per kg'!M61","v":6.4300000000000002E-4},{"$f":"$C$77*'Emissions per kg'!N61","v":0.61399999999999999},{"$f":"$C$77*'Emissions per kg'!O61","v":5.34},{"$f":"$C$77*'Emissions per kg'!P61","v":0.49299999999999999},{"$f":"$C$77*'Emissions per kg'!Q61","v":8.17},{"$f":"$C$77*'Emissions per kg'!R61","v":8.3500000000000005E-7}]
[null,"packaging",{"$f":"C79","v":1},{"$f":"Calculation_original!D78","v":0},{"$f":"$C$78*'Emissions per kg'!C62","v":0.20300000000000001},{"$f":"$C$78*'Emissions per kg'!D62","v":6.5799999999999994E-8},{"$f":"$C$78*'Emissions per kg'!E62","v":1.6899999999999999E-8},{"$f":"$C$78*'Emissions per kg'!F62","v":3.4900000000000001E-9},{"$f":"$C$78*'Emissions per kg'!G62","v":1.6899999999999999E-8},{"$f":"$C$78*'Emissions per kg'!H62","v":6.0400000000000002E-3},{"$f":"$C$78*'Emissions per kg'!I62","v":6.4099999999999997E-4},{"$f":"$C$78*'Emissions per kg'!J62","v":1.32E-3},{"$f":"$C$78*'Emissions per kg'!K62","v":2.2799999999999999E-3},{"$f":"$C$78*'Emissions per kg'!L62","v":1.01E-5},{"$f":"$C$78*'Emissions per kg'!M62","v":2.1499999999999999E-4},{"$f":"$C$78*'Emissions per kg'!N62","v":0.13300000000000001},{"$f":"$C$78*'Emissions per kg'!O62","v":5.23},{"$f":"$C$78*'Emissions per kg'!P62","v":0.124},{"$f":"$C$78*'Emissions per kg'!Q62","v":3.07},{"$f":"$C$78*'Emissions per kg'!R62","v":3.8299999999999998E-6}]
[null,"retail",1,{"$f":"Calculation_original!D79","v":3.4000000000000002E-2},{"$f":"$C$79*'Emissions per kg'!C63","v":1.03},{"$f":"$C$79*'Emissions per kg'!D63","v":2.1299999999999999E-5},{"$f":"$C$79*'Emissions per kg'!E63","v":1.6700000000000001E-8},{"$f":"$C$79*'Emissions per kg'!F63","v":8.7599999999999997E-10},{"$f":"$C$79*'Emissions per kg'!G63","v":1.0800000000000001E-8},{"$f":"$C$79*'Emissions per kg'!H63","v":7.4000000000000003E-3},{"$f":"$C$79*'Emissions per kg'!I63","v":7.27E-4},{"$f":"$C$79*'Emissions per kg'!J63","v":7.45E-4},{"$f":"$C$79*'Emissions per kg'!K63","v":2.5799999999999998E-3},{"$f":"$C$79*'Emissions per kg'!L63","v":2.8100000000000002E-6},{"$f":"$C$79*'Emissions per kg'!M63","v":2.3499999999999999E-4},{"$f":"$C$79*'Emissions per kg'!N63","v":0.26100000000000001},{"$f":"$C$79*'Emissions per kg'!O63","v":1.88},{"$f":"$C$79*'Emissions per kg'!P63","v":4.8300000000000003E-2},{"$f":"$C$79*'Emissions per kg'!Q63","v":1.72},{"$f":"$C$79*'Emissions per kg'!R63","v":3.6800000000000001E-7}]
[null,"use ",null,{"$f":"Calculation_original!D80","v":3.4000000000000002E-2},{"$f":"$C$80*'Emissions per kg'!C64","v":0},{"$f":"$C$80*'Emissions per kg'!D64","v":0},{"$f":"$C$80*'Emissions per kg'!E64","v":0},{"$f":"$C$80*'Emissions per kg'!F64","v":0},{"$f":"$C$80*'Emissions per kg'!G64","v":0},{"$f":"$C$80*'Emissions per kg'!H64","v":0},{"$f":"$C$80*'Emissions per kg'!I64","v":0},{"$f":"$C$80*'Emissions per kg'!J64","v":0},{"$f":"$C$80*'Emissions per kg'!K64","v":0},{"$f":"$C$80*'Emissions per kg'!L64","v":0},{"$f":"$C$80*'Emissions per kg'!M64","v":0},{"$f":"$C$80*'Emissions per kg'!N64","v":0},{"$f":"$C$80*'Emissions per kg'!O64","v":0},{"$f":"$C$80*'Emissions per kg'!P64","v":0},{"$f":"$C$80*'Emissions per kg'!Q64","v":0},{"$f":"$C$80*'Emissions per kg'!R64","v":0}]
[null,"end of life P&R",{"$f":"D77*C77+D79*C79+C78*D78+C76*D76","v":7.0269430051813492E-2},null,{"$f":"$C$81*'EoL emissions'!B4","v":2.3776025600624352E-2},{"$f":"$C$81*'EoL emissions'!C4","v":2.8450516338560913E-10},{"$f":"$C$81*'EoL emissions'!D4","v":2.6383605488721056E-8},{"$f":"$C$81*'EoL emissions'!E4","v":1.0553172401402699E-9},{"$f":"$C$81*'EoL emissions'!F4","v":5.3793482223371665E-10},{"$f":"$C$81*'EoL emissions'!G4","v":1.8014925878619614E-4},{"$f":"$C$81*'EoL emissions'!H4","v":3.1852602112489925E-5},{"$f":"$C$81*'EoL emissions'!I4","v":8.4398660986720071E-5},{"$f":"$C$81*'EoL emissions'!J4","v":3.4131021737802031E-4},{"$f":"$C$81*'EoL emissions'!K4","v":6.7185329856684028E-6},{"$f":"$C$81*'EoL emissions'!L4","v":3.856392262616985E-5},{"$f":"$C$81*'EoL emissions'!M4","v":1.8655457355602301},{"$f":"$C$81*'EoL emissions'!N4","v":9.6424130739249145E-2},{"$f":"$C$81*'EoL emissions'!O4","v":9.3380385512766213E-4},{"$f":"$C$81*'EoL emissions'!P4","v":-1.7155178168242864E-2},{"$f":"$C$81*'EoL emissions'!Q4","v":-1.3021525479269546E-9}]
[null,"end of life HH",{"$f":"D80*C80","v":0},null,{"$f":"$C$82*'EoL emissions'!B5","v":0},{"$f":"$C$82*'EoL emissions'!C5","v":0},{"$f":"$C$82*'EoL emissions'!D5","v":0},{"$f":"$C$82*'EoL emissions'!E5","v":0},{"$f":"$C$82*'EoL emissions'!F5","v":0},{"$f":"$C$82*'EoL emissions'!G5","v":0},{"$f":"$C$82*'EoL emissions'!H5","v":0},{"$f":"$C$82*'EoL emissions'!I5","v":0},{"$f":"$C$82*'EoL emissions'!J5","v":0},{"$f":"$C$82*'EoL emissions'!K5","v":0},{"$f":"$C$82*'EoL emissions'!L5","v":0},{"$f":"$C$82*'EoL emissions'!M5","v":0},{"$f":"$C$82*'EoL emissions'!N5","v":0},{"$f":"$C$82*'EoL emissions'!O5","v":0},{"$f":"$C$82*'EoL emissions'!P5","v":0},{"$f":"$C$82*'EoL emissions'!Q5","v":0}]
["BUTTER",null,null,null,{"$f":"SUM(E76:E82)","v":30.777320067051406},{"$f":"SUM(F76:F82)","v":2.1554392277184112E-5},4.8310512102898054E-5,3.4241007371682424E-7,3.7939705773092813E-6,0.2103242943365064,2.8323945866361198E-2,0.53125426912730811,2.3543802221344765,3.9458642842810062E-3,0.17004348102107181,73.961628637114629,2416.6915018509471,3.5159747364976148,82.1656427492929,5.4980190909753891E-6]
["Eggs1","EGGS"]
[null,"agriculture ",{"$f":"C86/(1-D85)","v":1.0111223458038423},{"$f":"Calculation_original!D85","v":0},{"$f":"$C$85*'Emissions per kg'!C67","v":4.984833164812942},{"$f":"$C$85*'Emissions per kg'!D67","v":5.7431749241658239E-8},{"$f":"$C$85*'Emissions per kg'!E67","v":7.7553083923154698E-6},{"$f":"$C$85*'Emissions per kg'!F67","v":7.5733063700707791E-8},{"$f":"$C$85*'Emissions per kg'!G67","v":1.0616784630940343E-6},{"$f":"$C$85*'Emissions per kg'!H67","v":9.1809908998988887E-2},{"$f":"$C$85*'Emissions per kg'!I67","v":6.8655207280080895E-3},{"$f":"$C$85*'Emissions per kg'!J67","v":0.13751263902932256},{"$f":"$C$85*'Emissions per kg'!K67","v":0.60667340748230536},{"$f":"$C$85*'Emissions per kg'!L67","v":7.7350859453993932E-4},{"$f":"$C$85*'Emissions per kg'!M67","v":3.1648129423660264E-2},{"$f":"$C$85*'Emissions per kg'!N67","v":17.593528816986854},{"$f":"$C$85*'Emissions per kg'!O67","v":733.06370070778564},{"$f":"$C$85*'Emissions per kg'!P67","v":1.2841253791708798},{"$f":"$C$85*'Emissions per kg'!Q67","v":20.829120323559152},{"$f":"$C$85*'Emissions per kg'!R67","v":1.4863498483316482E-7}]
[null,"processsing",{"$f":"(C87/(1-D86))/(1-D87)","v":1.0111223458038423},{"$f":"Calculation_original!D86","v":1.0999999999999999E-2},{"$f":"$C$86*'Emissions per kg'!C68","v":0.10717896865520728},{"$f":"$C$86*'Emissions per kg'!D68","v":1.0920121334681498E-6},{"$f":"$C$86*'Emissions per kg'!E68","v":4.5702730030333672E-9},{"$f":"$C$86*'Emissions per kg'!F68","v":5.0960566228513655E-10},{"$f":"$C$86*'Emissions per kg'!G68","v":2.5176946410515672E-9},{"$f":"$C$86*'Emissions per kg'!H68","v":7.4823053589484333E-3},{"$f":"$C$86*'Emissions per kg'!I68","v":1.9716885743174925E-4},{"$f":"$C$86*'Emissions per kg'!J68","v":3.4782608695652176E-4},{"$f":"$C$86*'Emissions per kg'!K68","v":6.9261880687563194E-4},{"$f":"$C$86*'Emissions per kg'!L68","v":4.984833164812943E-6},{"$f":"$C$86*'Emissions per kg'!M68","v":6.3498483316481286E-5},{"$f":"$C$86*'Emissions per kg'!N68","v":3.1648129423660264E-2},{"$f":"$C$86*'Emissions per kg'!O68","v":0.68351870576339746},{"$f":"$C$86*'Emissions per kg'!P68","v":3.1951466127401421E-2},{"$f":"$C$86*'Emissions per kg'!Q68","v":1.2335692618806875},{"$f":"$C$86*'Emissions per kg'!R68","v":1.2032355915065723E-7}]
[null,"packaging",{"$f":"C88","v":1},{"$f":"Calculation_original!D87","v":0},{"$f":"$C$87*'Emissions per kg'!C69","v":0.10299999999999999},{"$f":"$C$87*'Emissions per kg'!D69","v":3.1899999999999999E-9},{"$f":"$C$87*'Emissions per kg'!E69","v":1.9099999999999999E-8},{"$f":"$C$87*'Emissions per kg'!F69","v":6.1099999999999996E-10},{"$f":"$C$87*'Emissions per kg'!G69","v":-7.61E-9},{"$f":"$C$87*'Emissions per kg'!H69","v":3.3800000000000002E-3},{"$f":"$C$87*'Emissions per kg'!I69","v":1.08E-4},{"$f":"$C$87*'Emissions per kg'!J69","v":4.06E-4},{"$f":"$C$87*'Emissions per kg'!K69","v":3.88E-4},{"$f":"$C$87*'Emissions per kg'!L69","v":4.6399999999999996E-6},{"$f":"$C$87*'Emissions per kg'!M69","v":4.9400000000000001E-5},{"$f":"$C$87*'Emissions per kg'!N69","v":8.1000000000000003E-2},{"$f":"$C$87*'Emissions per kg'!O69","v":-19.3},{"$f":"$C$87*'Emissions per kg'!P69","v":-6.2399999999999997E-2},{"$f":"$C$87*'Emissions per kg'!Q69","v":1.37},{"$f":"$C$87*'Emissions per kg'!R69","v":1.2699999999999999E-6}]
[null,"retail",1,{"$f":"Calculation_original!D88","v":0.04},{"$f":"$C$88*'Emissions per kg'!C70","v":0.1},{"$f":"$C$88*'Emissions per kg'!D70","v":8.5700000000000006E-8},{"$f":"$C$88*'Emissions per kg'!E70","v":1.5799999999999999E-8},{"$f":"$C$88*'Emissions per kg'!F70","v":7.2999999999999996E-10},{"$f":"$C$88*'Emissions per kg'!G70","v":1.02E-8},{"$f":"$C$88*'Emissions per kg'!H70","v":6.9199999999999999E-3},{"$f":"$C$88*'Emissions per kg'!I70","v":7.2199999999999999E-4},{"$f":"$C$88*'Emissions per kg'!J70","v":6.5499999999999998E-4},{"$f":"$C$88*'Emissions per kg'!K70","v":2.5899999999999999E-3},{"$f":"$C$88*'Emissions per kg'!L70","v":1.9300000000000002E-6},{"$f":"$C$88*'Emissions per kg'!M70","v":2.3599999999999999E-4},{"$f":"$C$88*'Emissions per kg'!N70","v":0.27100000000000002},{"$f":"$C$88*'Emissions per kg'!O70","v":1.92},{"$f":"$C$88*'Emissions per kg'!P70","v":3.9899999999999998E-2},{"$f":"$C$88*'Emissions per kg'!Q70","v":1.56},{"$f":"$C$88*'Emissions per kg'!R70","v":2.3200000000000001E-7}]
[null,"use ",null,{"$f":"Calculation_original!D89","v":6.5000000000000002E-2},{"$f":"$C$89*'Emissions per kg'!C71","v":0},{"$f":"$C$89*'Emissions per kg'!D71","v":0},{"$f":"$C$89*'Emissions per kg'!E71","v":0},{"$f":"$C$89*'Emissions per kg'!F71","v":0},{"$f":"$C$89*'Emissions per kg'!G71","v":0},{"$f":"$C$89*'Emissions per kg'!H71","v":0},{"$f":"$C$89*'Emissions per kg'!I71","v":0},{"$f":"$C$89*'Emissions per kg'!J71","v":0},{"$f":"$C$89*'Emissions per kg'!K71","v":0},{"$f":"$C$89*'Emissions per kg'!L71","v":0},{"$f":"$C$89*'Emissions per kg'!M71","v":0},{"$f":"$C$89*'Emissions per kg'!N71","v":0},{"$f":"$C$89*'Emissions per kg'!O71","v":0},{"$f":"$C$89*'Emissions per kg'!P71","v":0},{"$f":"$C$89*'Emissions per kg'!Q71","v":0},{"$f":"$C$89*'Emissions per kg'!R71","v":0}]
[null,"end of life P&R",{"$f":"D86*C86+D88*C88+C87*D87+C85*D85","v":5.1122345803842263E-2},null,{"$f":"$C$90*'EoL emissions'!B4","v":1.72975104778832E-2},{"$f":"$C$90*'EoL emissions'!C4","v":2.0698291326474749E-10},{"$f":"$C$90*'EoL emissions'!D4","v":1.9194574402439449E-8},{"$f":"$C$90*'EoL emissions'!E4","v":7.6776334806510923E-10},{"$f":"$C$90*'EoL emissions'!F4","v":3.9135780640148728E-10},{"$f":"$C$90*'EoL emissions'!G4","v":1.3106200942832478E-4},{"$f":"$C$90*'EoL emissions'!H4","v":2.3173373382226284E-5},{"$f":"$C$90*'EoL emissions'!I4","v":6.1401629829115189E-5},{"$f":"$C$90*'EoL emissions'!J4","v":2.4830966960053517E-4},{"$f":"$C$90*'EoL emissions'!K4","v":4.8878604299850415E-6},{"$f":"$C$90*'EoL emissions'!L4","v":2.8055986601769694E-5},{"$f":"$C$90*'EoL emissions'!M4","v":1.3572199765370383},{"$f":"$C$90*'EoL emissions'!N4","v":7.0150387613106505E-2},{"$f":"$C$90*'EoL emissions'!O4","v":6.7936005115734328E-4},{"$f":"$C$90*'EoL emissions'!P4","v":-1.24807181443875E-2},{"$f":"$C$90*'EoL emissions'!Q4","v":-9.473407254817783E-10}]
[null,"end of life HH",{"$f":"D89*C89","v":0},null,{"$f":"$C$91*'EoL emissions'!B5","v":0},{"$f":"$C$91*'EoL emissions'!C5","v":0},{"$f":"$C$91*'EoL emissions'!D5","v":0},{"$f":"$C$91*'EoL emissions'!E5","v":0},{"$f":"$C$91*'EoL emissions'!F5","v":0},{"$f":"$C$91*'EoL emissions'!G5","v":0},{"$f":"$C$91*'EoL emissions'!H5","v":0},{"$f":"$C$91*'EoL emissions'!I5","v":0},{"$f":"$C$91*'EoL emissions'!J5","v":0},{"$f":"$C$91*'EoL emissions'!K5","v":0},{"$f":"$C$91*'EoL emissions'!L5","v":0},{"$f":"$C$91*'EoL emissions'!M5","v":0},{"$f":"$C$91*'EoL emissions'!N5","v":0},{"$f":"$C$91*'EoL emissions'!O5","v":0},{"$f":"$C$91*'EoL emissions'!P5","v":0},{"$f":"$C$91*'EoL emissions'!Q5","v":0}]
["EGGS",null,null,null,{"$f":"SUM(E85:E91)","v":5.3123096439460316},{"$f":"SUM(F85:F91)","v":1.2385408656230728E-6},7.813973239720942E-6,7.8351432711058037E-8,1.0671775155414872E-6,0.10972327636736563,7.9158629588220644E-3,0.13898286674610819,0.6105923359587816,7.8995128813473731E-4,3.2025083893578513E-2,19.334396922947555,716.43736980116216,1.2942562053494386,24.980208867295453,1.7700112032583403E-6]
["Legumes","BEANS"]
[null,"agriculture ",{"$f":"C95/(1-D94)","v":1.0526315789473684},{"$f":"Calculation_original!D94","v":0},{"$f":"$C$94*'Emissions per kg'!C74","v":1.2105263157894735},{"$f":"$C$94*'Emissions per kg'!D74","v":1.8105263157894734E-8},{"$f":"$C$94*'Emissions per kg'!E74","v":1.0463157894736842E-6},{"$f":"$C$94*'Emissions per kg'!F74","v":4.0000000000000001E-8},{"$f":"$C$94*'Emissions per kg'!G74","v":4.3578947368421046E-7},{"$f":"$C$94*'Emissions per kg'!H74","v":5.263157894736842E-3},{"$f":"$C$94*'Emissions per kg'!I74","v":9.3789473684210522E-4},{"$f":"$C$94*'Emissions per kg'!J74","v":6.2E-2},{"$f":"$C$94*'Emissions per kg'!K74","v":0.27578947368421053},{"$f":"$C$94*'Emissions per kg'!L74","v":3.3052631578947365E-3},{"$f":"$C$94*'Emissions per kg'!M74","v":3.7578947368421052E-2},{"$f":"$C$94*'Emissions per kg'!N74","v":1.6421052631578947},{"$f":"$C$94*'Emissions per kg'!O74","v":443.15789473684208},{"$f":"$C$94*'Emissions per kg'!P74","v":0.83263157894736839},{"$f":"$C$94*'Emissions per kg'!Q74","v":4.4105263157894736},{"$f":"$C$94*'Emissions per kg'!R74","v":1.1368421052631579E-6}]
[null,"processsing",{"$f":"(C96/(1-D95))/(1-D96)","v":1.0526315789473684},{"$f":"Calculation_original!D95","v":0.05},{"$f":"$C$95*'Emissions per kg'!C75","v":7.9789473684210535E-2},{"$f":"$C$95*'Emissions per kg'!D75","v":1.1473684210526316E-8},{"$f":"$C$95*'Emissions per kg'!E75","v":8.1157894736842088E-9},{"$f":"$C$95*'Emissions per kg'!F75","v":6.5263157894736837E-10},{"$f":"$C$95*'Emissions per kg'!G75","v":4.0105263157894732E-9},{"$f":"$C$95*'Emissions per kg'!H75","v":8.9894736842105263E-3},{"$f":"$C$95*'Emissions per kg'!I75","v":4.1052631578947365E-4},{"$f":"$C$95*'Emissions per kg'!J75","v":6.2736842105263146E-4},{"$f":"$C$95*'Emissions per kg'!K75","v":1.4842105263157895E-3},{"$f":"$C$95*'Emissions per kg'!L75","v":5.3578947368421053E-6},{"$f":"$C$95*'Emissions per kg'!M75","v":1.3473684210526314E-4},{"$f":"$C$95*'Emissions per kg'!N75","v":9.3894736842105253E-2},{"$f":"$C$95*'Emissions per kg'!O75","v":1.0947368421052632},{"$f":"$C$95*'Emissions per kg'!P75","v":1.6947368421052631E-2},{"$f":"$C$95*'Emissions per kg'!Q75","v":1.5368421052631578},{"$f":"$C$95*'Emissions per kg'!R75","v":1.6631578947368422E-7}]
[null,"packaging",{"$f":"C97","v":1},{"$f":"Calculation_original!D96","v":0},{"$f":"$C$96*'Emissions per kg'!C76","v":8.5599999999999996E-2},{"$f":"$C$96*'Emissions per kg'!D76","v":3.6600000000000002E-9},{"$f":"$C$96*'Emissions per kg'!E76","v":3.9600000000000004E-9},{"$f":"$C$96*'Emissions per kg'!F76","v":5.6300000000000002E-10},{"$f":"$C$96*'Emissions per kg'!G76","v":3.24E-9},{"$f":"$C$96*'Emissions per kg'!H76","v":4.0299999999999997E-3},{"$f":"$C$96*'Emissions per kg'!I76","v":1.8699999999999999E-4},{"$f":"$C$96*'Emissions per kg'!J76","v":3.5799999999999997E-4},{"$f":"$C$96*'Emissions per kg'!K76","v":6.3500000000000004E-4},{"$f":"$C$96*'Emissions per kg'!L76","v":2.6199999999999999E-6},{"$f":"$C$96*'Emissions per kg'!M76","v":5.7899999999999998E-5},{"$f":"$C$96*'Emissions per kg'!N76","v":6.9199999999999998E-2},{"$f":"$C$96*'Emissions per kg'!O76","v":0.98599999999999999},{"$f":"$C$96*'Emissions per kg'!P76","v":4.7899999999999998E-2},{"$f":"$C$96*'Emissions per kg'!Q76","v":0.94199999999999995},{"$f":"$C$96*'Emissions per kg'!R76","v":2.4900000000000002E-7}]
[null,"retail",1,{"$f":"Calculation_original!D97","v":0.01},{"$f":"$C$97*'Emissions per kg'!C77","v":7.9899999999999999E-2},{"$f":"$C$97*'Emissions per kg'!D77","v":1.7800000000000001E-8},{"$f":"$C$97*'Emissions per kg'!E77","v":1.31E-8},{"$f":"$C$97*'Emissions per kg'!F77","v":6.1500000000000005E-10},{"$f":"$C$97*'Emissions per kg'!G77","v":8.3400000000000006E-9},{"$f":"$C$97*'Emissions per kg'!H77","v":5.7499999999999999E-3},{"$f":"$C$97*'Emissions per kg'!I77","v":5.8299999999999997E-4},{"$f":"$C$97*'Emissions per kg'!J77","v":5.3499999999999999E-4},{"$f":"$C$97*'Emissions per kg'!K77","v":2.0899999999999998E-3},{"$f":"$C$97*'Emissions per kg'!L77","v":1.7099999999999999E-6},{"$f":"$C$97*'Emissions per kg'!M77","v":1.9000000000000001E-4},{"$f":"$C$97*'Emissions per kg'!N77","v":0.223},{"$f":"$C$97*'Emissions per kg'!O77","v":1.47},{"$f":"$C$97*'Emissions per kg'!P77","v":3.7499999999999999E-2},{"$f":"$C$97*'Emissions per kg'!Q77","v":1.28},{"$f":"$C$97*'Emissions per kg'!R77","v":2.0100000000000001E-7}]
[null,"use ",null,{"$f":"Calculation_original!D98","v":0.04},{"$f":"$C$98*'Emissions per kg'!C78","v":0},{"$f":"$C$98*'Emissions per kg'!D78","v":0},{"$f":"$C$98*'Emissions per kg'!E78","v":0},{"$f":"$C$98*'Emissions per kg'!F78","v":0},{"$f":"$C$98*'Emissions per kg'!G78","v":0},{"$f":"$C$98*'Emissions per kg'!H78","v":0},{"$f":"$C$98*'Emissions per kg'!I78","v":0},{"$f":"$C$98*'Emissions per kg'!J78","v":0},{"$f":"$C$98*'Emissions per kg'!K78","v":0},{"$f":"$C$98*'Emissions per kg'!L78","v":0},{"$f":"$C$98*'Emissions per kg'!M78","v":0},{"$f":"$C$98*'Emissions per kg'!N78","v":0},{"$f":"$C$98*'Emissions per kg'!O78","v":0},{"$f":"$C$98*'Emissions per kg'!P78","v":0},{"$f":"$C$98*'Emissions per kg'!Q78","v":0},{"$f":"$C$98*'Emissions per kg'!R78","v":0}]
[null,"end of life P&R",{"$f":"D95*C95+D97*C97+C96*D96+C94*D94","v":6.2631578947368413E-2},null,{"$f":"$C$99*'EoL emissions'!B4","v":2.1191719121133323E-2},{"$f":"$C$99*'EoL emissions'!C4","v":2.5358121715774271E-10},{"$f":"$C$99*'EoL emissions'!D4","v":2.351587125247232E-8},{"$f":"$C$99*'EoL emissions'!E4","v":9.4061080318465567E-10},{"$f":"$C$99*'EoL emissions'!F4","v":4.7946464433291805E-10},{"$f":"$C$99*'EoL emissions'!G4","v":1.6056815197814967E-4},{"$f":"$C$99*'EoL emissions'!H4","v":2.8390421872164319E-5},{"$f":"$C$99*'EoL emissions'!I4","v":7.5225050135517928E-5},{"$f":"$C$99*'EoL emissions'!J4","v":3.0421191419216964E-4},{"$f":"$C$99*'EoL emissions'!K4","v":5.9882701310102585E-6},{"$f":"$C$99*'EoL emissions'!L4","v":3.4372263482146036E-5},{"$f":"$C$99*'EoL emissions'!M4","v":1.6627724877021628},{"$f":"$C$99*'EoL emissions'!N4","v":8.594342593036014E-2},{"$f":"$C$99*'EoL emissions'!O4","v":8.3230516927005824E-4},{"$f":"$C$99*'EoL emissions'!P4","v":-1.5290516729795856E-2},{"$f":"$C$99*'EoL emissions'!Q4","v":-1.160616644348309E-9}]
[null,"end of life HH",{"$f":"D98*C98","v":0},null,{"$f":"$C$100*'EoL emissions'!B5","v":0},{"$f":"$C$100*'EoL emissions'!C5","v":0},{"$f":"$C$100*'EoL emissions'!D5","v":0},{"$f":"$C$100*'EoL emissions'!E5","v":0},{"$f":"$C$100*'EoL emissions'!F5","v":0},{"$f":"$C$100*'EoL emissions'!G5","v":0},{"$f":"$C$100*'EoL emissions'!H5","v":0},{"$f":"$C$100*'EoL emissions'!I5","v":0},{"$f":"$C$100*'EoL emissions'!J5","v":0},{"$f":"$C$100*'EoL emissions'!K5","v":0},{"$f":"$C$100*'EoL emissions'!L5","v":0},{"$f":"$C$100*'EoL emissions'!M5","v":0},{"$f":"$C$100*'EoL emissions'!N5","v":0},{"$f":"$C$100*'EoL emissions'!O5","v":0},{"$f":"$C$100*'EoL emissions'!P5","v":0},{"$f":"$C$100*'EoL emissions'!Q5","v":0}]
["BEANS",null,null,null,{"$f":"SUM(E94:E100)","v":1.4770075085948173},{"$f":"SUM(F94:F100)","v":5.1292528585578788E-8},1.0950074501998407E-6,4.2771242382132029E-8,4.5185946464433287E-7,2.4193199730925517E-2,2.1468114745037429E-3,6.3595593471188136E-2,0.28030289612471848,3.3209393227625885E-3,3.7995956474008462E-2,3.6909724877021626,446.79457500487769,0.93581125253769104,8.1540779043228362,1.7519972780924939E-6]
["Legumes","TOFU"]
[null,"agriculture ",{"$f":"C104/(1-D103)","v":1.0526315789473684},{"$f":"Calculation_original!D103","v":0},{"$f":"$C$103*'Emissions per kg'!C81","v":1.3263157894736841},{"$f":"$C$103*'Emissions per kg'!D81","v":3.1578947368421051E-10},{"$f":"$C$103*'Emissions per kg'!E81","v":1.7368421052631579E-6},{"$f":"$C$103*'Emissions per kg'!F81","v":1.9263157894736839E-8},{"$f":"$C$103*'Emissions per kg'!G81","v":7.6842105263157895E-8},{"$f":"$C$103*'Emissions per kg'!H81","v":5.0000000000000001E-4},{"$f":"$C$103*'Emissions per kg'!I81","v":5.6736842105263151E-4},{"$f":"$C$103*'Emissions per kg'!J81","v":1.0736842105263157E-2},{"$f":"$C$103*'Emissions per kg'!K81","v":4.6842105263157893E-2},{"$f":"$C$103*'Emissions per kg'!L81","v":1.9157894736842104E-4},{"$f":"$C$103*'Emissions per kg'!M81","v":4.6421052631578945E-3},{"$f":"$C$103*'Emissions per kg'!N81","v":3.4421052631578948},{"$f":"$C$103*'Emissions per kg'!O81","v":215.78947368421052},{"$f":"$C$103*'Emissions per kg'!P81","v":0.60631578947368414},{"$f":"$C$103*'Emissions per kg'!Q81","v":1.2315789473684209},{"$f":"$C$103*'Emissions per kg'!R81","v":1.7789473684210523E-8}]
[null,"processsing",{"$f":"(C105/(1-D104))/(1-D105)","v":1.0526315789473684},{"$f":"Calculation_original!D104","v":0.05},{"$f":"$C$104*'Emissions per kg'!C82","v":0.16315789473684209},{"$f":"$C$104*'Emissions per kg'!D82","v":3.652631578947368E-8},{"$f":"$C$104*'Emissions per kg'!E82","v":2.3684210526315786E-8},{"$f":"$C$104*'Emissions per kg'!F82","v":1.1684210526315791E-9},{"$f":"$C$104*'Emissions per kg'!G82","v":1.5894736842105263E-8},{"$f":"$C$104*'Emissions per kg'!H82","v":1.0842105263157894E-2},{"$f":"$C$104*'Emissions per kg'!I82","v":1.4842105263157895E-3},{"$f":"$C$104*'Emissions per kg'!J82","v":1.6947368421052632E-3},{"$f":"$C$104*'Emissions per kg'!K82","v":5.4105263157894733E-3},{"$f":"$C$104*'Emissions per kg'!L82","v":2.4421052631578946E-6},{"$f":"$C$104*'Emissions per kg'!M82","v":4.8947368421052627E-4},{"$f":"$C$104*'Emissions per kg'!N82","v":0.40526315789473683},{"$f":"$C$104*'Emissions per kg'!O82","v":2.5894736842105259},{"$f":"$C$104*'Emissions per kg'!P82","v":2.2315789473684209E-2},{"$f":"$C$104*'Emissions per kg'!Q82","v":2.5157894736842104},{"$f":"$C$104*'Emissions per kg'!R82","v":3.4631578947368419E-7}]
[null,"packaging",{"$f":"C106","v":1},{"$f":"Calculation_original!D105","v":0},{"$f":"$C$105*'Emissions per kg'!C83","v":0.20699999999999999},{"$f":"$C$105*'Emissions per kg'!D83","v":7.4300000000000002E-9},{"$f":"$C$105*'Emissions per kg'!E83","v":2.6000000000000001E-8},{"$f":"$C$105*'Emissions per kg'!F83","v":1.21E-9},{"$f":"$C$105*'Emissions per kg'!G83","v":-4.3899999999999999E-9},{"$f":"$C$105*'Emissions per kg'!H83","v":8.2400000000000008E-3},{"$f":"$C$105*'Emissions per kg'!I83","v":3.28E-4},{"$f":"$C$105*'Emissions per kg'!J83","v":8.7600000000000004E-4},{"$f":"$C$105*'Emissions per kg'!K83","v":1.1299999999999999E-3},{"$f":"$C$105*'Emissions per kg'!L83","v":8.1100000000000003E-6},{"$f":"$C$105*'Emissions per kg'!M83","v":1.11E-4},{"$f":"$C$105*'Emissions per kg'!N83","v":0.155},{"$f":"$C$105*'Emissions per kg'!O83","v":-19.7},{"$f":"$C$105*'Emissions per kg'!P83","v":-1.72E-2},{"$f":"$C$105*'Emissions per kg'!Q83","v":2.56},{"$f":"$C$105*'Emissions per kg'!R83","v":1.5999999999999999E-6}]
[null,"retail",1,{"$f":"Calculation_original!D106","v":0.01},{"$f":"$C$106*'Emissions per kg'!C84","v":1.04},{"$f":"$C$106*'Emissions per kg'!D84","v":2.1299999999999999E-5},{"$f":"$C$106*'Emissions per kg'!E84","v":1.8299999999999998E-8},{"$f":"$C$106*'Emissions per kg'!F84","v":9.4499999999999994E-10},{"$f":"$C$106*'Emissions per kg'!G84","v":1.1900000000000001E-8},{"$f":"$C$106*'Emissions per kg'!H84","v":7.9900000000000006E-3},{"$f":"$C$106*'Emissions per kg'!I84","v":8.03E-4},{"$f":"$C$106*'Emissions per kg'!J84","v":8.0900000000000004E-4},{"$f":"$C$106*'Emissions per kg'!K84","v":2.8500000000000001E-3},{"$f":"$C$106*'Emissions per kg'!L84","v":2.9100000000000001E-6},{"$f":"$C$106*'Emissions per kg'!M84","v":2.5999999999999998E-4},{"$f":"$C$106*'Emissions per kg'!N84","v":0.28999999999999998},{"$f":"$C$106*'Emissions per kg'!O84","v":2.0699999999999998},{"$f":"$C$106*'Emissions per kg'!P84","v":4.9500000000000002E-2},{"$f":"$C$106*'Emissions per kg'!Q84","v":1.86},{"$f":"$C$106*'Emissions per kg'!R84","v":3.9099999999999999E-7}]
[null,"use ",null,{"$f":"Calculation_original!D107","v":0.04},{"$f":"$C$107*'Emissions per kg'!C85","v":0},{"$f":"$C$107*'Emissions per kg'!D85","v":0},{"$f":"$C$107*'Emissions per kg'!E85","v":0},{"$f":"$C$107*'Emissions per kg'!F85","v":0},{"$f":"$C$107*'Emissions per kg'!G85","v":0},{"$f":"$C$107*'Emissions per kg'!H85","v":0},{"$f":"$C$107*'Emissions per kg'!I85","v":0},{"$f":"$C$107*'Emissions per kg'!J85","v":0},{"$f":"$C$107*'Emissions per kg'!K85","v":0},{"$f":"$C$107*'Emissions per kg'!L85","v":0},{"$f":"$C$107*'Emissions per kg'!M85","v":0},{"$f":"$C$107*'Emissions per kg'!N85","v":0},{"$f":"$C$107*'Emissions per kg'!O85","v":0},{"$f":"$C$107*'Emissions per kg'!P85","v":0},{"$f":"$C$107*'Emissions per kg'!Q85","v":0},{"$f":"$C$107*'Emissions per kg'!R85","v":0}]
[null,"end of life P&R",{"$f":"D104*C104+D106*C106+C105*D105+C103*D103","v":6.2631578947368413E-2},null,{"$f":"$C$108*'EoL emissions'!B4","v":2.1191719121133323E-2},{"$f":"$C$108*'EoL emissions'!C4","v":2.5358121715774271E-10},{"$f":"$C$108*'EoL emissions'!D4","v":2.351587125247232E-8},{"$f":"$C$108*'EoL emissions'!E4","v":9.4061080318465567E-10},{"$f":"$C$108*'EoL emissions'!F4","v":4.7946464433291805E-10},{"$f":"$C$108*'EoL emissions'!G4","v":1.6056815197814967E-4},{"$f":"$C$108*'EoL emissions'!H4","v":2.8390421872164319E-5},{"$f":"$C$108*'EoL emissions'!I4","v":7.5225050135517928E-5},{"$f":"$C$108*'EoL emissions'!J4","v":3.0421191419216964E-4},{"$f":"$C$108*'EoL emissions'!K4","v":5.9882701310102585E-6},{"$f":"$C$108*'EoL emissions'!L4","v":3.4372263482146036E-5},{"$f":"$C$108*'EoL emissions'!M4","v":1.6627724877021628},{"$f":"$C$108*'EoL emissions'!N4","v":8.594342593036014E-2},{"$f":"$C$108*'EoL emissions'!O4","v":8.3230516927005824E-4},{"$f":"$C$108*'EoL emissions'!P4","v":-1.5290516729795856E-2},{"$f":"$C$108*'EoL emissions'!Q4","v":-1.160616644348309E-9}]
[null,"end of life HH",{"$f":"D107*C107","v":0},null,{"$f":"$C$109*'EoL emissions'!B5","v":0},{"$f":"$C$109*'EoL emissions'!C5","v":0},{"$f":"$C$109*'EoL emissions'!D5","v":0},{"$f":"$C$109*'EoL emissions'!E5","v":0},{"$f":"$C$109*'EoL emissions'!F5","v":0},{"$f":"$C$109*'EoL emissions'!G5","v":0},{"$f":"$C$109*'EoL emissions'!H5","v":0},{"$f":"$C$109*'EoL emissions'!I5","v":0},{"$f":"$C$109*'EoL emissions'!J5","v":0},{"$f":"$C$109*'EoL emissions'!K5","v":0},{"$f":"$C$109*'EoL emissions'!L5","v":0},{"$f":"$C$109*'EoL emissions'!M5","v":0},{"$f":"$C$109*'EoL emissions'!N5","v":0},{"$f":"$C$109*'EoL emissions'!O5","v":0},{"$f":"$C$109*'EoL emissions'!P5","v":0},{"$f":"$C$109*'EoL emissions'!Q5","v":0}]
["TOFU",null,null,null,{"$f":"SUM(E103:E109)","v":2.7576654033316599},{"$f":"SUM(F103:F109)","v":2.1344525686480316E-5},1.8283421870419459E-6,2.3527189750553072E-8,1.0072630674959608E-7,2.7732673415136043E-2,3.2109693692405853E-3,1.4191803997503938E-2,5.6536843493139539E-2,2.1102932276258923E-4,5.5369512108505671E-3,5.9551409087547942,200.83489079435142,0.66176388411663833,8.1520779043228355,2.3539446465135463E-6]
["Cereal products","BREAD"]
[null,"agriculture ",{"$f":"C113/(1-D112)","v":1.0526315789473684},{"$f":"Calculation_original!D112","v":0},{"$f":"$C$112*'Emissions per kg'!C88","v":0.26210526315789473},{"$f":"$C$112*'Emissions per kg'!D88","v":3.8000000000000001E-9},{"$f":"$C$112*'Emissions per kg'!E88","v":1.8842105263157893E-6},{"$f":"$C$112*'Emissions per kg'!F88","v":9.1684210526315783E-9},{"$f":"$C$112*'Emissions per kg'!G88","v":8.0000000000000002E-8},{"$f":"$C$112*'Emissions per kg'!H88","v":2.221052631578947E-3},{"$f":"$C$112*'Emissions per kg'!I88","v":4.9789473684210526E-4},{"$f":"$C$112*'Emissions per kg'!J88","v":1.1157894736842104E-2},{"$f":"$C$112*'Emissions per kg'!K88","v":4.9578947368421056E-2},{"$f":"$C$112*'Emissions per kg'!L88","v":1.094736842105263E-4},{"$f":"$C$112*'Emissions per kg'!M88","v":6.4947368421052632E-3},{"$f":"$C$112*'Emissions per kg'!N88","v":1.7157894736842103},{"$f":"$C$112*'Emissions per kg'!O88","v":105.15789473684211},{"$f":"$C$112*'Emissions per kg'!P88","v":9.347368421052632E-3},{"$f":"$C$112*'Emissions per kg'!Q88","v":1.6210526315789473},{"$f":"$C$112*'Emissions per kg'!R88","v":6.0315789473684208E-8}]
[null,"processsing",{"$f":"(C114/(1-D113))/(1-D114)","v":1.0526315789473684},{"$f":"Calculation_original!D113","v":0.05},{"$f":"$C$113*'Emissions per kg'!C89","v":0.51473684210526316},{"$f":"$C$113*'Emissions per kg'!D89","v":5.0105263157894736E-8},{"$f":"$C$113*'Emissions per kg'!E89","v":4.2947368421052632E-8},{"$f":"$C$113*'Emissions per kg'!F89","v":4.431578947368421E-9},{"$f":"$C$113*'Emissions per kg'!G89","v":1.4E-8},{"$f":"$C$113*'Emissions per kg'!H89","v":6.7684210526315777E-2},{"$f":"$C$113*'Emissions per kg'!I89","v":1.4210526315789475E-3},{"$f":"$C$113*'Emissions per kg'!J89","v":2.9473684210526313E-3},{"$f":"$C$113*'Emissions per kg'!K89","v":5.1999999999999998E-3},{"$f":"$C$113*'Emissions per kg'!L89","v":4.8631578947368415E-5},{"$f":"$C$113*'Emissions per kg'!M89","v":5.042105263157894E-4},{"$f":"$C$113*'Emissions per kg'!N89","v":0.28631578947368419},{"$f":"$C$113*'Emissions per kg'!O89","v":6.9894736842105258},{"$f":"$C$113*'Emissions per kg'!P89","v":0.1463157894736842},{"$f":"$C$113*'Emissions per kg'!Q89","v":10.736842105263156},{"$f":"$C$113*'Emissions per kg'!R89","v":1.0526315789473683E-6}]
[null,"packaging",{"$f":"C115","v":1},{"$f":"Calculation_original!D114","v":0},{"$f":"$C$114*'Emissions per kg'!C90","v":2.4E-2},{"$f":"$C$114*'Emissions per kg'!D90","v":8.3300000000000002E-10},{"$f":"$C$114*'Emissions per kg'!E90","v":7.5999999999999996E-10},{"$f":"$C$114*'Emissions per kg'!F90","v":1.3200000000000001E-10},{"$f":"$C$114*'Emissions per kg'!G90","v":5.98E-10},{"$f":"$C$114*'Emissions per kg'!H90","v":1.1299999999999999E-3},{"$f":"$C$114*'Emissions per kg'!I90","v":5.77E-5},{"$f":"$C$114*'Emissions per kg'!J90","v":8.6899999999999998E-5},{"$f":"$C$114*'Emissions per kg'!K90","v":1.4799999999999999E-4},{"$f":"$C$114*'Emissions per kg'!L90","v":1.0100000000000001E-6},{"$f":"$C$114*'Emissions per kg'!M90","v":1.38E-5},{"$f":"$C$114*'Emissions per kg'!N90","v":1.23E-2},{"$f":"$C$114*'Emissions per kg'!O90","v":0.107},{"$f":"$C$114*'Emissions per kg'!P90","v":5.28E-3},{"$f":"$C$114*'Emissions per kg'!Q90","v":0.51300000000000001},{"$f":"$C$114*'Emissions per kg'!R90","v":1.6400000000000001E-8}]
[null,"retail",1,{"$f":"Calculation_original!D115","v":0.02},{"$f":"$C$115*'Emissions per kg'!C91","v":7.7499999999999999E-2},{"$f":"$C$115*'Emissions per kg'!D91","v":1.7199999999999999E-8},{"$f":"$C$115*'Emissions per kg'!E91","v":1.26E-8},{"$f":"$C$115*'Emissions per kg'!F91","v":5.9600000000000001E-10},{"$f":"$C$115*'Emissions per kg'!G91","v":8.0700000000000005E-9},{"$f":"$C$115*'Emissions per kg'!H91","v":5.5799999999999999E-3},{"$f":"$C$115*'Emissions per kg'!I91","v":5.6400000000000005E-4},{"$f":"$C$115*'Emissions per kg'!J91","v":5.1900000000000004E-4},{"$f":"$C$115*'Emissions per kg'!K91","v":2.0200000000000001E-3},{"$f":"$C$115*'Emissions per kg'!L91","v":1.6700000000000001E-6},{"$f":"$C$115*'Emissions per kg'!M91","v":1.84E-4},{"$f":"$C$115*'Emissions per kg'!N91","v":0.216},{"$f":"$C$115*'Emissions per kg'!O91","v":1.42},{"$f":"$C$115*'Emissions per kg'!P91","v":3.7199999999999997E-2},{"$f":"$C$115*'Emissions per kg'!Q91","v":1.25},{"$f":"$C$115*'Emissions per kg'!R91","v":1.9500000000000001E-7}]
[null,"use ",null,{"$f":"Calculation_original!D116","v":0.25},{"$f":"$C$116*'Emissions per kg'!C92","v":0},{"$f":"$C$116*'Emissions per kg'!D92","v":0},{"$f":"$C$116*'Emissions per kg'!E92","v":0},{"$f":"$C$116*'Emissions per kg'!F92","v":0},{"$f":"$C$116*'Emissions per kg'!G92","v":0},{"$f":"$C$116*'Emissions per kg'!H92","v":0},{"$f":"$C$116*'Emissions per kg'!I92","v":0},{"$f":"$C$116*'Emissions per kg'!J92","v":0},{"$f":"$C$116*'Emissions per kg'!K92","v":0},{"$f":"$C$116*'Emissions per kg'!L92","v":0},{"$f":"$C$116*'Emissions per kg'!M92","v":0},{"$f":"$C$116*'Emissions per kg'!N92","v":0},{"$f":"$C$116*'Emissions per kg'!O92","v":0},{"$f":"$C$116*'Emissions per kg'!P92","v":0},{"$f":"$C$116*'Emissions per kg'!Q92","v":0},{"$f":"$C$116*'Emissions per kg'!R92","v":0}]
[null,"end of life P&R",{"$f":"D113*C113+D115*C115+C114*D114+C112*D112","v":7.2631578947368422E-2},null,{"$f":"$C$117*'EoL emissions'!B4","v":2.4575270913583185E-2},{"$f":"$C$117*'EoL emissions'!C4","v":2.9406897451906301E-10},{"$f":"$C$117*'EoL emissions'!D4","v":2.7270506158329249E-8},{"$f":"$C$117*'EoL emissions'!E4","v":1.0907923599956512E-9},{"$f":"$C$117*'EoL emissions'!F4","v":5.5601782283985458E-10},{"$f":"$C$117*'EoL emissions'!G4","v":1.8620508380659377E-4},{"$f":"$C$117*'EoL emissions'!H4","v":3.2923346372761991E-5},{"$f":"$C$117*'EoL emissions'!I4","v":8.7235772426062823E-5},{"$f":"$C$117*'EoL emissions'!J4","v":3.5278356435730602E-4},{"$f":"$C$117*'EoL emissions'!K4","v":6.9443804880623174E-6},{"$f":"$C$117*'EoL emissions'!L4","v":3.9860271937278598E-5},{"$f":"$C$117*'EoL emissions'!M4","v":1.9282571706125924},{"$f":"$C$117*'EoL emissions'!N4","v":9.966548553268656E-2},{"$f":"$C$117*'EoL emissions'!O4","v":9.6519422990981563E-4},{"$f":"$C$117*'EoL emissions'!P4","v":-1.7731859737074189E-2},{"$f":"$C$117*'EoL emissions'!Q4","v":-1.3459251842022408E-9}]
[null,"end of life HH",{"$f":"D116*C116","v":0},null,{"$f":"$C$118*'EoL emissions'!B5","v":0},{"$f":"$C$118*'EoL emissions'!C5","v":0},{"$f":"$C$118*'EoL emissions'!D5","v":0},{"$f":"$C$118*'EoL emissions'!E5","v":0},{"$f":"$C$118*'EoL emissions'!F5","v":0},{"$f":"$C$118*'EoL emissions'!G5","v":0},{"$f":"$C$118*'EoL emissions'!H5","v":0},{"$f":"$C$118*'EoL emissions'!I5","v":0},{"$f":"$C$118*'EoL emissions'!J5","v":0},{"$f":"$C$118*'EoL emissions'!K5","v":0},{"$f":"$C$118*'EoL emissions'!L5","v":0},{"$f":"$C$118*'EoL emissions'!M5","v":0},{"$f":"$C$118*'EoL emissions'!N5","v":0},{"$f":"$C$118*'EoL emissions'!O5","v":0},{"$f":"$C$118*'EoL emissions'!P5","v":0},{"$f":"$C$118*'EoL emissions'!Q5","v":0}]
["BREAD",null,null,null,{"$f":"SUM(E112:E118)","v":0.90291737617674106},{"$f":"SUM(F112:F118)","v":7.2232332132413796E-8},1.967788400895171E-6,1.5418792359995654E-8,1.0322401782283985E-7,7.6801468241701323E-2,2.5735707147938143E-3,1.4798398930320799E-2,5.7299730932778362E-2,1.6772964364595704E-4,7.2366076403583305E-3,4.1586624337704876,113.77403390658532,0.19910835212464667,14.10316287710503,1.3230014432368502E-6]
["Cereal products","PASTA"]
[null,"agriculture ",{"$f":"C122/(1-D121)","v":1.0752688172043012},{"$f":"Calculation_original!D121","v":0},{"$f":"$C$121*'Emissions per kg'!C95","v":0.727956989247312},{"$f":"$C$121*'Emissions per kg'!D95","v":9.4623655913978507E-8},{"$f":"$C$121*'Emissions per kg'!E95","v":2.4838709677419358E-7},{"$f":"$C$121*'Emissions per kg'!F95","v":1.006451612903226E-8},{"$f":"$C$121*'Emissions per kg'!G95","v":1.3870967741935486E-7},{"$f":"$C$121*'Emissions per kg'!H95","v":2.7634408602150544E-2},{"$f":"$C$121*'Emissions per kg'!I95","v":1.8709677419354843E-3},{"$f":"$C$121*'Emissions per kg'!J95","v":1.8494623655913981E-2},{"$f":"$C$121*'Emissions per kg'!K95","v":7.6774193548387118E-2},{"$f":"$C$121*'Emissions per kg'!L95","v":3.0107526881720432E-4},{"$f":"$C$121*'Emissions per kg'!M95","v":1.602150537634409E-2},{"$f":"$C$121*'Emissions per kg'!N95","v":1.0010752688172044},{"$f":"$C$121*'Emissions per kg'!O95","v":580.64516129032268},{"$f":"$C$121*'Emissions per kg'!P95","v":1.5483870967741937},{"$f":"$C$121*'Emissions per kg'!Q95","v":7.1612903225806459},{"$f":"$C$121*'Emissions per kg'!R95","v":3.6451612903225813E-6}]
[null,"processsing",{"$f":"(C123/(1-D122))/(1-D123)","v":1.0752688172043012},{"$f":"Calculation_original!D122","v":7.0000000000000007E-2},{"$f":"$C$122*'Emissions per kg'!C96","v":0.55053763440860226},{"$f":"$C$122*'Emissions per kg'!D96","v":6.6666666666666681E-8},{"$f":"$C$122*'Emissions per kg'!E96","v":2.7741935483870969E-8},{"$f":"$C$122*'Emissions per kg'!F96","v":2.2795698924731186E-9},{"$f":"$C$122*'Emissions per kg'!G96","v":2.7204301075268823E-8},{"$f":"$C$122*'Emissions per kg'!H96","v":5.7204301075268825E-2},{"$f":"$C$122*'Emissions per kg'!I96","v":1.7204301075268822E-3},{"$f":"$C$122*'Emissions per kg'!J96","v":2.666666666666667E-3},{"$f":"$C$122*'Emissions per kg'!K96","v":6.0430107526881728E-3},{"$f":"$C$122*'Emissions per kg'!L96","v":3.1075268817204302E-6},{"$f":"$C$122*'Emissions per kg'!M96","v":5.6236559139784953E-4},{"$f":"$C$122*'Emissions per kg'!N96","v":0.34946236559139793},{"$f":"$C$122*'Emissions per kg'!O96","v":1.4086021505376347},{"$f":"$C$122*'Emissions per kg'!P96","v":5.4946236559139798},{"$f":"$C$122*'Emissions per kg'!Q96","v":8.7634408602150557},{"$f":"$C$122*'Emissions per kg'!R96","v":4.8064516129032269E-7}]
[null,"packaging",{"$f":"C124","v":1},{"$f":"Calculation_original!D123","v":0},{"$f":"$C$123*'Emissions per kg'!C97","v":3.5099999999999999E-2},{"$f":"$C$123*'Emissions per kg'!D97","v":-6.3600000000000004E-9},{"$f":"$C$123*'Emissions per kg'!E97","v":3.1399999999999999E-9},{"$f":"$C$123*'Emissions per kg'!F97","v":-1.57E-10},{"$f":"$C$123*'Emissions per kg'!G97","v":-2.6499999999999999E-8},{"$f":"$C$123*'Emissions per kg'!H97","v":-9.4799999999999995E-4},{"$f":"$C$123*'Emissions per kg'!I97","v":-2.9599999999999998E-4},{"$f":"$C$123*'Emissions per kg'!J97","v":-3.2600000000000001E-4},{"$f":"$C$123*'Emissions per kg'!K97","v":-1.01E-3},{"$f":"$C$123*'Emissions per kg'!L97","v":-7.0999999999999998E-7},{"$f":"$C$123*'Emissions per kg'!M97","v":-7.6500000000000003E-5},{"$f":"$C$123*'Emissions per kg'!N97","v":3.95E-2},{"$f":"$C$123*'Emissions per kg'!O97","v":-51.3},{"$f":"$C$123*'Emissions per kg'!P97","v":-0.16700000000000001},{"$f":"$C$123*'Emissions per kg'!Q97","v":-3.73E-2},{"$f":"$C$123*'Emissions per kg'!R97","v":1.6700000000000001E-6}]
[null,"retail",1,{"$f":"Calculation_original!D124","v":0.02},{"$f":"$C$124*'Emissions per kg'!C98","v":0.184},{"$f":"$C$124*'Emissions per kg'!D98","v":3.7300000000000003E-8},{"$f":"$C$124*'Emissions per kg'!E98","v":1.3599999999999999E-8},{"$f":"$C$124*'Emissions per kg'!F98","v":2.0700000000000001E-9},{"$f":"$C$124*'Emissions per kg'!G98","v":7.6899999999999997E-9},{"$f":"$C$124*'Emissions per kg'!H98","v":1.0800000000000001E-2},{"$f":"$C$124*'Emissions per kg'!I98","v":1.1900000000000001E-3},{"$f":"$C$124*'Emissions per kg'!J98","v":1.1800000000000001E-3},{"$f":"$C$124*'Emissions per kg'!K98","v":4.2399999999999998E-3},{"$f":"$C$124*'Emissions per kg'!L98","v":3.4199999999999999E-6},{"$f":"$C$124*'Emissions per kg'!M98","v":3.8400000000000001E-4},{"$f":"$C$124*'Emissions per kg'!N98","v":0.105},{"$f":"$C$124*'Emissions per kg'!O98","v":1.86},{"$f":"$C$124*'Emissions per kg'!P98","v":7.1},{"$f":"$C$124*'Emissions per kg'!Q98","v":2.89},{"$f":"$C$124*'Emissions per kg'!R98","v":5.3399999999999999E-7}]
[null,"use ",null,{"$f":"Calculation_original!D125","v":0.25},{"$f":"$C$125*'Emissions per kg'!C99","v":0},{"$f":"$C$125*'Emissions per kg'!D99","v":0},{"$f":"$C$125*'Emissions per kg'!E99","v":0},{"$f":"$C$125*'Emissions per kg'!F99","v":0},{"$f":"$C$125*'Emissions per kg'!G99","v":0},{"$f":"$C$125*'Emissions per kg'!H99","v":0},{"$f":"$C$125*'Emissions per kg'!I99","v":0},{"$f":"$C$125*'Emissions per kg'!J99","v":0},{"$f":"$C$125*'Emissions per kg'!K99","v":0},{"$f":"$C$125*'Emissions per kg'!L99","v":0},{"$f":"$C$125*'Emissions per kg'!M99","v":0},{"$f":"$C$125*'Emissions per kg'!N99","v":0},{"$f":"$C$125*'Emissions per kg'!O99","v":0},{"$f":"$C$125*'Emissions per kg'!P99","v":0},{"$f":"$C$125*'Emissions per kg'!Q99","v":0},{"$f":"$C$125*'Emissions per kg'!R99","v":0}]
[null,"end of life P&R",{"$f":"D122*C122+D124*C124+C123*D123+C121*D121","v":9.5268817204301096E-2},null,{"$f":"$C$126*'EoL emissions'!B4","v":3.2234697721619091E-2},{"$f":"$C$126*'EoL emissions'!C4","v":3.8572207550677166E-10},{"$f":"$C$126*'EoL emissions'!D4","v":3.5769962651497168E-8},{"$f":"$C$126*'EoL emissions'!E4","v":1.4307619283284086E-9},{"$f":"$C$126*'EoL emissions'!F4","v":7.2931307695855647E-10},{"$f":"$C$126*'EoL emissions'!G4","v":2.4424001720431664E-4},{"$f":"$C$126*'EoL emissions'!H4","v":4.3184635564833677E-5},{"$f":"$C$126*'EoL emissions'!I4","v":1.1442473063895449E-4},{"$f":"$C$126*'EoL emissions'!J4","v":4.6273636608936346E-4},{"$f":"$C$126*'EoL emissions'!K4","v":9.1087502833131575E-6},{"$f":"$C$126*'EoL emissions'!L4","v":5.2283607432768277E-5},{"$f":"$C$126*'EoL emissions'!M4","v":2.5292411726735535},{"$f":"$C$126*'EoL emissions'!N4","v":0.13072843879205595},{"$f":"$C$126*'EoL emissions'!O4","v":1.2660183626540314E-3},{"$f":"$C$126*'EoL emissions'!P4","v":-2.3258386069339797E-2},{"$f":"$C$126*'EoL emissions'!Q4","v":-1.7654125409740165E-9}]
[null,"end of life HH",{"$f":"D125*C125","v":0},null,{"$f":"$C$127*'EoL emissions'!B5","v":0},{"$f":"$C$127*'EoL emissions'!C5","v":0},{"$f":"$C$127*'EoL emissions'!D5","v":0},{"$f":"$C$127*'EoL emissions'!E5","v":0},{"$f":"$C$127*'EoL emissions'!F5","v":0},{"$f":"$C$127*'EoL emissions'!G5","v":0},{"$f":"$C$127*'EoL emissions'!H5","v":0},{"$f":"$C$127*'EoL emissions'!I5","v":0},{"$f":"$C$127*'EoL emissions'!J5","v":0},{"$f":"$C$127*'EoL emissions'!K5","v":0},{"$f":"$C$127*'EoL emissions'!L5","v":0},{"$f":"$C$127*'EoL emissions'!M5","v":0},{"$f":"$C$127*'EoL emissions'!N5","v":0},{"$f":"$C$127*'EoL emissions'!O5","v":0},{"$f":"$C$127*'EoL emissions'!P5","v":0},{"$f":"$C$127*'EoL emissions'!Q5","v":0}]
["PASTA",null,null,null,{"$f":"SUM(E121:E127)","v":1.5298293213775331},{"$f":"SUM(F121:F127)","v":1.9261604465615196E-7},3.2863899490956173E-7,1.5687847949833788E-8,1.4783329157158225E-7,9.4934949694623683E-2,4.5285824850272004E-3,2.2129715053219604E-2,8.650994066716465E-2,3.1600154598223788E-4,1.6943654575174705E-2,4.0242788070821565,532.7444918796524,13.977276771050828,18.754172796726362,6.3280410390719306E-6]
["Cereal products","RICE"]
[null,"agriculture ",{"$f":"C131/(1-D130)","v":1.1111111111111112},{"$f":"Calculation_original!D130","v":0},{"$f":"$C$130*'Emissions per kg'!C102","v":3.7777777777777777},{"$f":"$C$130*'Emissions per kg'!D102","v":9.8000000000000004E-8},{"$f":"$C$130*'Emissions per kg'!E102","v":1.6222222222222223E-8},{"$f":"$C$130*'Emissions per kg'!F102","v":1.2333333333333334E-9},{"$f":"$C$130*'Emissions per kg'!G102","v":1.1555555555555556E-7},{"$f":"$C$130*'Emissions per kg'!H102","v":1.5333333333333334E-2},{"$f":"$C$130*'Emissions per kg'!I102","v":2.4444444444444448E-3},{"$f":"$C$130*'Emissions per kg'!J102","v":1.5666666666666666E-2},{"$f":"$C$130*'Emissions per kg'!K102","v":6.7666666666666667E-2},{"$f":"$C$130*'Emissions per kg'!L102","v":3.4222222222222222E-4},{"$f":"$C$130*'Emissions per kg'!M102","v":3.5555555555555557E-3},{"$f":"$C$130*'Emissions per kg'!N102","v":23.111111111111114},{"$f":"$C$130*'Emissions per kg'!O102","v":358.88888888888891},{"$f":"$C$130*'Emissions per kg'!P102","v":62.333333333333336},{"$f":"$C$130*'Emissions per kg'!Q102","v":6.4},{"$f":"$C$130*'Emissions per kg'!R102","v":7.3666666666666667E-6}]
[null,"processsing",{"$f":"(C132/(1-D131))/(1-D132)","v":1.1111111111111112},{"$f":"Calculation_original!D131","v":0.1},{"$f":"$C$131*'Emissions per kg'!C103","v":0.21444444444444447},{"$f":"$C$131*'Emissions per kg'!D103","v":3.8444444444444447E-8},{"$f":"$C$131*'Emissions per kg'!E103","v":2.3666666666666667E-8},{"$f":"$C$131*'Emissions per kg'!F103","v":1.6000000000000001E-9},{"$f":"$C$131*'Emissions per kg'!G103","v":1.4111111111111111E-8},{"$f":"$C$131*'Emissions per kg'!H103","v":1.9333333333333334E-2},{"$f":"$C$131*'Emissions per kg'!I103","v":1.6333333333333334E-3},{"$f":"$C$131*'Emissions per kg'!J103","v":2.2888888888888894E-3},{"$f":"$C$131*'Emissions per kg'!K103","v":6.000000000000001E-3},{"$f":"$C$131*'Emissions per kg'!L103","v":9.0666666666666674E-6},{"$f":"$C$131*'Emissions per kg'!M103","v":5.4222222222222226E-4},{"$f":"$C$131*'Emissions per kg'!N103","v":0.33333333333333331},{"$f":"$C$131*'Emissions per kg'!O103","v":2.8444444444444446},{"$f":"$C$131*'Emissions per kg'!P103","v":3.6333333333333336E-2},{"$f":"$C$131*'Emissions per kg'!Q103","v":3.7222222222222223},{"$f":"$C$131*'Emissions per kg'!R103","v":4.0888888888888892E-7}]
[null,"packaging",{"$f":"C133","v":1},{"$f":"Calculation_original!D132","v":0},{"$f":"$C$132*'Emissions per kg'!C104","v":8.7900000000000006E-2},{"$f":"$C$132*'Emissions per kg'!D104","v":2.9899999999999998E-9},{"$f":"$C$132*'Emissions per kg'!E104","v":1.29E-8},{"$f":"$C$132*'Emissions per kg'!F104","v":4.9700000000000004E-10},{"$f":"$C$132*'Emissions per kg'!G104","v":-3.24E-9},{"$f":"$C$132*'Emissions per kg'!H104","v":3.32E-3},{"$f":"$C$132*'Emissions per kg'!I104","v":1.25E-4},{"$f":"$C$132*'Emissions per kg'!J104","v":3.7199999999999999E-4},{"$f":"$C$132*'Emissions per kg'!K104","v":4.2999999999999999E-4},{"$f":"$C$132*'Emissions per kg'!L104","v":3.6399999999999999E-6},{"$f":"$C$132*'Emissions per kg'!M104","v":4.3999999999999999E-5},{"$f":"$C$132*'Emissions per kg'!N104","v":6.4500000000000002E-2},{"$f":"$C$132*'Emissions per kg'!O104","v":-10.9},{"$f":"$C$132*'Emissions per kg'!P104","v":-2.23E-2},{"$f":"$C$132*'Emissions per kg'!Q104","v":1.1200000000000001},{"$f":"$C$132*'Emissions per kg'!R104","v":7.92E-7}]
[null,"retail",1,{"$f":"Calculation_original!D133","v":0.02},{"$f":"$C$133*'Emissions per kg'!C105","v":8.14E-2},{"$f":"$C$133*'Emissions per kg'!D105","v":1.81E-8},{"$f":"$C$133*'Emissions per kg'!E105","v":1.33E-8},{"$f":"$C$133*'Emissions per kg'!F105","v":6.2600000000000001E-10},{"$f":"$C$133*'Emissions per kg'!G105","v":8.5099999999999998E-9},{"$f":"$C$133*'Emissions per kg'!H105","v":5.8399999999999997E-3},{"$f":"$C$133*'Emissions per kg'!I105","v":5.9500000000000004E-4},{"$f":"$C$133*'Emissions per kg'!J105","v":5.4600000000000004E-4},{"$f":"$C$133*'Emissions per kg'!K105","v":2.1299999999999999E-3},{"$f":"$C$133*'Emissions per kg'!L105","v":1.73E-6},{"$f":"$C$133*'Emissions per kg'!M105","v":1.94E-4},{"$f":"$C$133*'Emissions per kg'!N105","v":0.22800000000000001},{"$f":"$C$133*'Emissions per kg'!O105","v":1.5},{"$f":"$C$133*'Emissions per kg'!P105","v":3.7699999999999997E-2},{"$f":"$C$133*'Emissions per kg'!Q105","v":1.31},{"$f":"$C$133*'Emissions per kg'!R105","v":2.05E-7}]
[null,"use ",null,{"$f":"Calculation_original!D134","v":0.25},{"$f":"$C$134*'Emissions per kg'!C106","v":0},{"$f":"$C$134*'Emissions per kg'!D106","v":0},{"$f":"$C$134*'Emissions per kg'!E106","v":0},{"$f":"$C$134*'Emissions per kg'!F106","v":0},{"$f":"$C$134*'Emissions per kg'!G106","v":0},{"$f":"$C$134*'Emissions per kg'!H106","v":0},{"$f":"$C$134*'Emissions per kg'!I106","v":0},{"$f":"$C$134*'Emissions per kg'!J106","v":0},{"$f":"$C$134*'Emissions per kg'!K106","v":0},{"$f":"$C$134*'Emissions per kg'!L106","v":0},{"$f":"$C$134*'Emissions per kg'!M106","v":0},{"$f":"$C$134*'Emissions per kg'!N106","v":0},{"$f":"$C$134*'Emissions per kg'!O106","v":0},{"$f":"$C$134*'Emissions per kg'!P106","v":0},{"$f":"$C$134*'Emissions per kg'!Q106","v":0},{"$f":"$C$134*'Emissions per kg'!R106","v":0}]
[null,"end of life P&R",{"$f":"D131*C131+D133*C133+C132*D132+C130*D130","v":0.13111111111111112},null,{"$f":"$C$135*'EoL emissions'!B4","v":4.4362123501009265E-2},{"$f":"$C$135*'EoL emissions'!C4","v":5.308394854039769E-10},{"$f":"$C$135*'EoL emissions'!D4","v":4.922743543234636E-8},{"$f":"$C$135*'EoL emissions'!E4","v":1.9690470781886074E-9},{"$f":"$C$135*'EoL emissions'!F4","v":1.0036972293131676E-9},{"$f":"$C$135*'EoL emissions'!G4","v":3.3612866175071113E-4},{"$f":"$C$135*'EoL emissions'!H4","v":5.9431676785613839E-5},{"$f":"$C$135*'EoL emissions'!I4","v":1.5747391447603289E-4},{"$f":"$C$135*'EoL emissions'!J4","v":6.3682830216512092E-4},{"$f":"$C$135*'EoL emissions'!K4","v":1.2535669125793652E-5},{"$f":"$C$135*'EoL emissions'!L4","v":7.1953888633960247E-5},{"$f":"$C$135*'EoL emissions'!M4","v":3.4807991759367409},{"$f":"$C$135*'EoL emissions'!N4","v":0.17991144811939072},{"$f":"$C$135*'EoL emissions'!O4","v":1.7423232394990394E-3},{"$f":"$C$135*'EoL emissions'!P4","v":-3.2008719428760338E-2},{"$f":"$C$135*'EoL emissions'!Q4","v":-2.4296008558626602E-9}]
[null,"end of life HH",{"$f":"D134*C134","v":0},null,{"$f":"$C$136*'EoL emissions'!B5","v":0},{"$f":"$C$136*'EoL emissions'!C5","v":0},{"$f":"$C$136*'EoL emissions'!D5","v":0},{"$f":"$C$136*'EoL emissions'!E5","v":0},{"$f":"$C$136*'EoL emissions'!F5","v":0},{"$f":"$C$136*'EoL emissions'!G5","v":0},{"$f":"$C$136*'EoL emissions'!H5","v":0},{"$f":"$C$136*'EoL emissions'!I5","v":0},{"$f":"$C$136*'EoL emissions'!J5","v":0},{"$f":"$C$136*'EoL emissions'!K5","v":0},{"$f":"$C$136*'EoL emissions'!L5","v":0},{"$f":"$C$136*'EoL emissions'!M5","v":0},{"$f":"$C$136*'EoL emissions'!N5","v":0},{"$f":"$C$136*'EoL emissions'!O5","v":0},{"$f":"$C$136*'EoL emissions'!P5","v":0},{"$f":"$C$136*'EoL emissions'!Q5","v":0}]
["RICE",null,null,null,{"$f":"SUM(E130:E136)","v":4.2058843457232316},{"$f":"SUM(F130:F136)","v":1.5806528392984844E-7},1.1531632432123524E-7,5.9253804115219408E-9,1.3594036389597984E-7,4.4162795328417374E-2,4.8572094545633925E-3,1.9031029470031588E-2,7.6863494968831783E-2,3.6919455801468257E-4,4.4077316664117381E-3,27.217743620381189,352.51324478145278,62.386808989906164,12.520213502793466,8.7701259546996924E-6]
["Vegetables","TOMATOES"]
[null,"agriculture ",{"$f":"C140/(1-D139)","v":1.0526315789473684},{"$f":"Calculation_original!D139","v":0},{"$f":"$C$139*'Emissions per kg'!C109","v":0.13894736842105262},{"$f":"$C$139*'Emissions per kg'!D109","v":4.2315789473684209E-9},{"$f":"$C$139*'Emissions per kg'!E109","v":9.0526315789473668E-9},{"$f":"$C$139*'Emissions per kg'!F109","v":5.9684210526315784E-10},{"$f":"$C$139*'Emissions per kg'!G109","v":1.8315789473684209E-8},{"$f":"$C$139*'Emissions per kg'!H109","v":4.5684210526315784E-3},{"$f":"$C$139*'Emissions per kg'!I109","v":2.7473684210526316E-4},{"$f":"$C$139*'Emissions per kg'!J109","v":2.6421052631578948E-3},{"$f":"$C$139*'Emissions per kg'!K109","v":1.0736842105263157E-2},{"$f":"$C$139*'Emissions per kg'!L109","v":1.6315789473684211E-4},{"$f":"$C$139*'Emissions per kg'!M109","v":4.8210526315789471E-4},{"$f":"$C$139*'Emissions per kg'!N109","v":3.0105263157894733},{"$f":"$C$139*'Emissions per kg'!O109","v":8.8947368421052619},{"$f":"$C$139*'Emissions per kg'!P109","v":1.3789473684210527},{"$f":"$C$139*'Emissions per kg'!Q109","v":1.9578947368421054},{"$f":"$C$139*'Emissions per kg'!R109","v":3.4421052631578943E-7}]
[null,"processsing",{"$f":"(C141/(1-D140))/(1-D141)","v":1.0526315789473684},{"$f":"Calculation_original!D140","v":0.05},{"$f":"$C$140*'Emissions per kg'!C110","v":8.6631578947368421E-2},{"$f":"$C$140*'Emissions per kg'!D110","v":1.6947368421052632E-6},{"$f":"$C$140*'Emissions per kg'!E110","v":2.5473684210526312E-9},{"$f":"$C$140*'Emissions per kg'!F110","v":1.757894736842105E-10},{"$f":"$C$140*'Emissions per kg'!G110","v":1.4421052631578946E-9},{"$f":"$C$140*'Emissions per kg'!H110","v":2.0631578947368418E-3},{"$f":"$C$140*'Emissions per kg'!I110","v":1.2631578947368421E-4},{"$f":"$C$140*'Emissions per kg'!J110","v":1.7052631578947367E-4},{"$f":"$C$140*'Emissions per kg'!K110","v":4.526315789473684E-4},{"$f":"$C$140*'Emissions per kg'!L110","v":1.126315789473684E-6},{"$f":"$C$140*'Emissions per kg'!M110","v":4.1157894736842104E-5},{"$f":"$C$140*'Emissions per kg'!N110","v":3.3578947368421048E-2},{"$f":"$C$140*'Emissions per kg'!O110","v":0.31473684210526315},{"$f":"$C$140*'Emissions per kg'!P110","v":4.6210526315789468E-3},{"$f":"$C$140*'Emissions per kg'!Q110","v":0.38736842105263153},{"$f":"$C$140*'Emissions per kg'!R110","v":5.6421052631578943E-8}]
[null,"packaging",{"$f":"C142","v":1},{"$f":"Calculation_original!D141","v":0},{"$f":"$C$141*'Emissions per kg'!C111","v":7.6799999999999993E-2},{"$f":"$C$141*'Emissions per kg'!D111","v":2.4E-9},{"$f":"$C$141*'Emissions per kg'!E111","v":1.63E-8},{"$f":"$C$141*'Emissions per kg'!F111","v":7.79E-10},{"$f":"$C$141*'Emissions per kg'!G111","v":-1.16E-8},{"$f":"$C$141*'Emissions per kg'!H111","v":1.6199999999999999E-3},{"$f":"$C$141*'Emissions per kg'!I111","v":2.19E-5},{"$f":"$C$141*'Emissions per kg'!J111","v":1.3899999999999999E-4},{"$f":"$C$141*'Emissions per kg'!K111","v":1.6000000000000001E-4},{"$f":"$C$141*'Emissions per kg'!L111","v":3.4999999999999999E-6},{"$f":"$C$141*'Emissions per kg'!M111","v":5.91E-5},{"$f":"$C$141*'Emissions per kg'!N111","v":0.10299999999999999},{"$f":"$C$141*'Emissions per kg'!O111","v":-23.4},{"$f":"$C$141*'Emissions per kg'!P111","v":-8.3699999999999997E-2},{"$f":"$C$141*'Emissions per kg'!Q111","v":1.03},{"$f":"$C$141*'Emissions per kg'!R111","v":1.5999999999999999E-6}]
[null,"retail",1,{"$f":"Calculation_original!D142","v":0.1},{"$f":"$C$142*'Emissions per kg'!C112","v":0.1},{"$f":"$C$142*'Emissions per kg'!D112","v":8.5800000000000001E-8},{"$f":"$C$142*'Emissions per kg'!E112","v":1.5799999999999999E-8},{"$f":"$C$142*'Emissions per kg'!F112","v":7.3299999999999995E-10},{"$f":"$C$142*'Emissions per kg'!G112","v":1.03E-8},{"$f":"$C$142*'Emissions per kg'!H112","v":6.94E-3},{"$f":"$C$142*'Emissions per kg'!I112","v":7.2599999999999997E-4},{"$f":"$C$142*'Emissions per kg'!J112","v":6.5799999999999995E-4},{"$f":"$C$142*'Emissions per kg'!K112","v":2.5999999999999999E-3},{"$f":"$C$142*'Emissions per kg'!L112","v":1.9400000000000001E-6},{"$f":"$C$142*'Emissions per kg'!M112","v":2.3699999999999999E-4},{"$f":"$C$142*'Emissions per kg'!N112","v":0.27300000000000002},{"$f":"$C$142*'Emissions per kg'!O112","v":1.92},{"$f":"$C$142*'Emissions per kg'!P112","v":3.9899999999999998E-2},{"$f":"$C$142*'Emissions per kg'!Q112","v":1.56},{"$f":"$C$142*'Emissions per kg'!R112","v":2.3300000000000001E-7}]
[null,"use ",null,{"$f":"Calculation_original!D143","v":0.19},{"$f":"$C$143*'Emissions per kg'!C113","v":0},{"$f":"$C$143*'Emissions per kg'!D113","v":0},{"$f":"$C$143*'Emissions per kg'!E113","v":0},{"$f":"$C$143*'Emissions per kg'!F113","v":0},{"$f":"$C$143*'Emissions per kg'!G113","v":0},{"$f":"$C$143*'Emissions per kg'!H113","v":0},{"$f":"$C$143*'Emissions per kg'!I113","v":0},{"$f":"$C$143*'Emissions per kg'!J113","v":0},{"$f":"$C$143*'Emissions per kg'!K113","v":0},{"$f":"$C$143*'Emissions per kg'!L113","v":0},{"$f":"$C$143*'Emissions per kg'!M113","v":0},{"$f":"$C$143*'Emissions per kg'!N113","v":0},{"$f":"$C$143*'Emissions per kg'!O113","v":0},{"$f":"$C$143*'Emissions per kg'!P113","v":0},{"$f":"$C$143*'Emissions per kg'!Q113","v":0},{"$f":"$C$143*'Emissions per kg'!R113","v":0}]
[null,"end of life P&R",{"$f":"D140*C140+D142*C142+C141*D141+C139*D139","v":0.15263157894736842},null,{"$f":"$C$144*'EoL emissions'!B4","v":5.1643685253182053E-2},{"$f":"$C$144*'EoL emissions'!C4","v":6.1797103340962517E-10},{"$f":"$C$144*'EoL emissions'!D4","v":5.7307585405184652E-8},{"$f":"$C$144*'EoL emissions'!E4","v":2.2922448144836151E-9},{"$f":"$C$144*'EoL emissions'!F4","v":1.1684432508953467E-9},{"$f":"$C$144*'EoL emissions'!G4","v":3.9130053843414631E-4},{"$f":"$C$144*'EoL emissions'!H4","v":6.9186742377543307E-5},{"$f":"$C$144*'EoL emissions'!I4","v":1.8332155075042187E-4},{"$f":"$C$144*'EoL emissions'!J4","v":7.4135676567839664E-4},{"$f":"$C$144*'EoL emissions'!K4","v":1.4593263344478783E-5},{"$f":"$C$144*'EoL emissions'!L4","v":8.3764339578339087E-5},{"$f":"$C$144*'EoL emissions'!M4","v":4.0521346338960269},{"$f":"$C$144*'EoL emissions'!N4","v":0.20944196235129786},{"$f":"$C$144*'EoL emissions'!O4","v":2.0283067150278734E-3},{"$f":"$C$144*'EoL emissions'!P4","v":-3.726260379530083E-2},{"$f":"$C$144*'EoL emissions'!Q4","v":-2.8283935030336943E-9}]
[null,"end of life HH",{"$f":"D143*C143","v":0},null,{"$f":"$C$145*'EoL emissions'!B5","v":0},{"$f":"$C$145*'EoL emissions'!C5","v":0},{"$f":"$C$145*'EoL emissions'!D5","v":0},{"$f":"$C$145*'EoL emissions'!E5","v":0},{"$f":"$C$145*'EoL emissions'!F5","v":0},{"$f":"$C$145*'EoL emissions'!G5","v":0},{"$f":"$C$145*'EoL emissions'!H5","v":0},{"$f":"$C$145*'EoL emissions'!I5","v":0},{"$f":"$C$145*'EoL emissions'!J5","v":0},{"$f":"$C$145*'EoL emissions'!K5","v":0},{"$f":"$C$145*'EoL emissions'!L5","v":0},{"$f":"$C$145*'EoL emissions'!M5","v":0},{"$f":"$C$145*'EoL emissions'!N5","v":0},{"$f":"$C$145*'EoL emissions'!O5","v":0},{"$f":"$C$145*'EoL emissions'!P5","v":0},{"$f":"$C$145*'EoL emissions'!Q5","v":0}]
["TOMATOES",null,null,null,{"$f":"SUM(E139:E145)","v":0.45402263262160314},{"$f":"SUM(F139:F145)","v":1.7877863920860412E-6},1.0100758540518465E-7,4.5768763934309837E-9,1.9626337987737453E-8,1.5582879485802567E-2,1.2181393739564906E-3,3.7929531296977907E-3,1.4690830449888921E-2,1.8431747387079458E-4,9.0312749747307585E-4,7.472239897053921,-12.061084353438176,1.3417967277676595,4.8980005540994354,2.2308031854443347E-6]
["Tubers","POTATOES"]
[null,"agriculture ",{"$f":"C149/(1-D148)","v":1},{"$f":"Calculation_original!D148","v":0},{"$f":"$C$148*'Emissions per kg'!C116","v":9.5600000000000004E-2},{"$f":"$C$148*'Emissions per kg'!D116","v":3.8199999999999996E-9},{"$f":"$C$148*'Emissions per kg'!E116","v":7.8299999999999996E-7},{"$f":"$C$148*'Emissions per kg'!F116","v":7.0100000000000004E-9},{"$f":"$C$148*'Emissions per kg'!G116","v":2.6000000000000001E-8},{"$f":"$C$148*'Emissions per kg'!H116","v":3.13E-3},{"$f":"$C$148*'Emissions per kg'!I116","v":2.9300000000000002E-4},{"$f":"$C$148*'Emissions per kg'!J116","v":3.5699999999999998E-3},{"$f":"$C$148*'Emissions per kg'!K116","v":1.55E-2},{"$f":"$C$148*'Emissions per kg'!L116","v":8.7000000000000001E-5},{"$f":"$C$148*'Emissions per kg'!M116","v":1.8500000000000001E-3},{"$f":"$C$148*'Emissions per kg'!N116","v":0.97399999999999998},{"$f":"$C$148*'Emissions per kg'!O116","v":31.7},{"$f":"$C$148*'Emissions per kg'!P116","v":1.9800000000000002E-2},{"$f":"$C$148*'Emissions per kg'!Q116","v":0.997},{"$f":"$C$148*'Emissions per kg'!R116","v":2.6100000000000002E-7}]
[null,"processsing",{"$f":"(C150/(1-D149))/(1-D150)","v":1},{"$f":"Calculation_original!D149","v":0},{"$f":"$C$149*'Emissions per kg'!C117","v":0.14499999999999999},{"$f":"$C$149*'Emissions per kg'!D117","v":1.53E-6},{"$f":"$C$149*'Emissions per kg'!E117","v":5.0600000000000003E-9},{"$f":"$C$149*'Emissions per kg'!F117","v":5.8900000000000003E-10},{"$f":"$C$149*'Emissions per kg'!G117","v":1.9399999999999999E-9},{"$f":"$C$149*'Emissions per kg'!H117","v":7.8799999999999999E-3},{"$f":"$C$149*'Emissions per kg'!I117","v":1.65E-4},{"$f":"$C$149*'Emissions per kg'!J117","v":4.3800000000000002E-4},{"$f":"$C$149*'Emissions per kg'!K117","v":7.2599999999999997E-4},{"$f":"$C$149*'Emissions per kg'!L117","v":7.3799999999999996E-6},{"$f":"$C$149*'Emissions per kg'!M117","v":6.1400000000000002E-5},{"$f":"$C$149*'Emissions per kg'!N117","v":5.9700000000000003E-2},{"$f":"$C$149*'Emissions per kg'!O117","v":0.71599999999999997},{"$f":"$C$149*'Emissions per kg'!P117","v":1.67E-2},{"$f":"$C$149*'Emissions per kg'!Q117","v":1.52},{"$f":"$C$149*'Emissions per kg'!R117","v":1.4500000000000001E-6}]
[null,"packaging",{"$f":"C151","v":1},{"$f":"Calculation_original!D150","v":0},{"$f":"$C$150*'Emissions per kg'!C118","v":5.1999999999999998E-2},{"$f":"$C$150*'Emissions per kg'!D118","v":1.4699999999999999E-8},{"$f":"$C$150*'Emissions per kg'!E118","v":4.25E-9},{"$f":"$C$150*'Emissions per kg'!F118","v":8.2900000000000003E-10},{"$f":"$C$150*'Emissions per kg'!G118","v":3.7900000000000004E-9},{"$f":"$C$150*'Emissions per kg'!H118","v":1.7600000000000001E-3},{"$f":"$C$150*'Emissions per kg'!I118","v":1.36E-4},{"$f":"$C$150*'Emissions per kg'!J118","v":3.0699999999999998E-4},{"$f":"$C$150*'Emissions per kg'!K118","v":5.2599999999999999E-4},{"$f":"$C$150*'Emissions per kg'!L118","v":2.7599999999999998E-6},{"$f":"$C$150*'Emissions per kg'!M118","v":4.9599999999999999E-5},{"$f":"$C$150*'Emissions per kg'!N118","v":3.6900000000000002E-2},{"$f":"$C$150*'Emissions per kg'!O118","v":1.2},{"$f":"$C$150*'Emissions per kg'!P118","v":3.7499999999999999E-2},{"$f":"$C$150*'Emissions per kg'!Q118","v":0.67},{"$f":"$C$150*'Emissions per kg'!R118","v":8.6099999999999999E-7}]
[null,"retail",1,{"$f":"Calculation_original!D151","v":7.0000000000000007E-2},{"$f":"$C$151*'Emissions per kg'!C119","v":0.108},{"$f":"$C$151*'Emissions per kg'!D119","v":6.5499999999999998E-7},{"$f":"$C$151*'Emissions per kg'!E119","v":1.3599999999999999E-8},{"$f":"$C$151*'Emissions per kg'!F119","v":6.4299999999999995E-10},{"$f":"$C$151*'Emissions per kg'!G119","v":8.6900000000000004E-9},{"$f":"$C$151*'Emissions per kg'!H119","v":6.0099999999999997E-3},{"$f":"$C$151*'Emissions per kg'!I119","v":6.0700000000000001E-4},{"$f":"$C$151*'Emissions per kg'!J119","v":5.6099999999999998E-4},{"$f":"$C$151*'Emissions per kg'!K119","v":2.1800000000000001E-3},{"$f":"$C$151*'Emissions per kg'!L119","v":1.81E-6},{"$f":"$C$151*'Emissions per kg'!M119","v":1.9799999999999999E-4},{"$f":"$C$151*'Emissions per kg'!N119","v":0.23100000000000001},{"$f":"$C$151*'Emissions per kg'!O119","v":1.55},{"$f":"$C$151*'Emissions per kg'!P119","v":3.8300000000000001E-2},{"$f":"$C$151*'Emissions per kg'!Q119","v":1.34},{"$f":"$C$151*'Emissions per kg'!R119","v":2.1199999999999999E-7}]
[null,"use ",null,{"$f":"Calculation_original!D152","v":0.17},{"$f":"$C$152*'Emissions per kg'!C120","v":0},{"$f":"$C$152*'Emissions per kg'!D120","v":0},{"$f":"$C$152*'Emissions per kg'!E120","v":0},{"$f":"$C$152*'Emissions per kg'!F120","v":0},{"$f":"$C$152*'Emissions per kg'!G120","v":0},{"$f":"$C$152*'Emissions per kg'!H120","v":0},{"$f":"$C$152*'Emissions per kg'!I120","v":0},{"$f":"$C$152*'Emissions per kg'!J120","v":0},{"$f":"$C$152*'Emissions per kg'!K120","v":0},{"$f":"$C$152*'Emissions per kg'!L120","v":0},{"$f":"$C$152*'Emissions per kg'!M120","v":0},{"$f":"$C$152*'Emissions per kg'!N120","v":0},{"$f":"$C$152*'Emissions per kg'!O120","v":0},{"$f":"$C$152*'Emissions per kg'!P120","v":0},{"$f":"$C$152*'Emissions per kg'!Q120","v":0},{"$f":"$C$152*'Emissions per kg'!R120","v":0}]
[null,"end of life P&R",{"$f":"D149*C149+D151*C151+C150*D150+C148*D148","v":7.0000000000000007E-2},null,{"$f":"$C$153*'EoL emissions'!B4","v":2.3684862547149015E-2},{"$f":"$C$153*'EoL emissions'!C4","v":2.8341430152924192E-10},{"$f":"$C$153*'EoL emissions'!D4","v":2.628244434099848E-8},{"$f":"$C$153*'EoL emissions'!E4","v":1.0512708976769684E-9},{"$f":"$C$153*'EoL emissions'!F4","v":5.3587224954855556E-10},{"$f":"$C$153*'EoL emissions'!G4","v":1.7945852279910849E-4},{"$f":"$C$153*'EoL emissions'!H4","v":3.1730471504183661E-5},{"$f":"$C$153*'EoL emissions'!I4","v":8.4075056033814182E-5},{"$f":"$C$153*'EoL emissions'!J4","v":3.4000155115595436E-4},{"$f":"$C$153*'EoL emissions'!K4","v":6.692772499364408E-6},{"$f":"$C$153*'EoL emissions'!L4","v":3.8416059185927927E-5},{"$f":"$C$153*'EoL emissions'!M4","v":1.8583927803730058},{"$f":"$C$153*'EoL emissions'!N4","v":9.6054417216284882E-2},{"$f":"$C$153*'EoL emissions'!O4","v":9.3022342447830059E-4},{"$f":"$C$153*'EoL emissions'!P4","v":-1.7089401050948316E-2},{"$f":"$C$153*'EoL emissions'!Q4","v":-1.297159778977522E-9}]
[null,"end of life HH",{"$f":"D152*C152","v":0},null,{"$f":"$C$154*'EoL emissions'!B5","v":0},{"$f":"$C$154*'EoL emissions'!C5","v":0},{"$f":"$C$154*'EoL emissions'!D5","v":0},{"$f":"$C$154*'EoL emissions'!E5","v":0},{"$f":"$C$154*'EoL emissions'!F5","v":0},{"$f":"$C$154*'EoL emissions'!G5","v":0},{"$f":"$C$154*'EoL emissions'!H5","v":0},{"$f":"$C$154*'EoL emissions'!I5","v":0},{"$f":"$C$154*'EoL emissions'!J5","v":0},{"$f":"$C$154*'EoL emissions'!K5","v":0},{"$f":"$C$154*'EoL emissions'!L5","v":0},{"$f":"$C$154*'EoL emissions'!M5","v":0},{"$f":"$C$154*'EoL emissions'!N5","v":0},{"$f":"$C$154*'EoL emissions'!O5","v":0},{"$f":"$C$154*'EoL emissions'!P5","v":0},{"$f":"$C$154*'EoL emissions'!Q5","v":0}]
["POTATOES",null,null,null,{"$f":"SUM(E148:E154)","v":0.42428486254714898},{"$f":"SUM(F148:F154)","v":2.2038034143015292E-6},8.3219244434099838E-7,1.0122270897676969E-8,4.0955872249548557E-8,1.8959458522799108E-2,1.2327304715041836E-3,4.9600750560338134E-3,1.9272001551155955E-2,1.0564277249936441E-4,2.1974160591859276E-3,3.1599927803730061,35.262054417216284,0.1132302234244783,4.5099105989490518,2.7827028402210224E-6]
["Oils","SUNFLOWER OIL"]
[null,"agriculture ",{"$f":"C158/(1-D157)","v":1.1820330969267139},{"$f":"Calculation_original!D157","v":0.1},{"$f":"$C$157*'Emissions per kg'!C123","v":6.1465721040189125},{"$f":"$C$157*'Emissions per kg'!D123","v":2.7777777777777776E-7},{"$f":"$C$157*'Emissions per kg'!E123","v":1.7139479905437353E-5},{"$f":"$C$157*'Emissions per kg'!F123","v":4.3853427895981084E-7},{"$f":"$C$157*'Emissions per kg'!G123","v":3.2033096926713945E-7},{"$f":"$C$157*'Emissions per kg'!H123","v":9.5981087470449158E-2},{"$f":"$C$157*'Emissions per kg'!I123","v":1.3002364066193851E-2},{"$f":"$C$157*'Emissions per kg'!J123","v":3.7115839243498816E-2},{"$f":"$C$157*'Emissions per kg'!K123","v":0.15484633569739953},{"$f":"$C$157*'Emissions per kg'!L123","v":3.6643026004728129E-3},{"$f":"$C$157*'Emissions per kg'!M123","v":7.9432624113475167E-2},{"$f":"$C$157*'Emissions per kg'!N123","v":53.07328605200945},{"$f":"$C$157*'Emissions per kg'!O123","v":3806.1465721040186},{"$f":"$C$157*'Emissions per kg'!P123","v":2.8250591016548463},{"$f":"$C$157*'Emissions per kg'!Q123","v":41.134751773049636},{"$f":"$C$157*'Emissions per kg'!R123","v":2.151300236406619E-5}]
[null,"processsing",{"$f":"(C159/(1-D158))/(1-D159)","v":1.0638297872340425},{"$f":"Calculation_original!D158","v":0.06},{"$f":"$C$158*'Emissions per kg'!C124","v":1.1702127659574468},{"$f":"$C$158*'Emissions per kg'!D124","v":8.648936170212766E-9},{"$f":"$C$158*'Emissions per kg'!E124","v":7.1914893617021276E-9},{"$f":"$C$158*'Emissions per kg'!F124","v":1.0638297872340426E-9},{"$f":"$C$158*'Emissions per kg'!G124","v":1.3510638297872339E-8},{"$f":"$C$158*'Emissions per kg'!H124","v":1.2127659574468085E-2},{"$f":"$C$158*'Emissions per kg'!I124","v":4.7021276595744683E-3},{"$f":"$C$158*'Emissions per kg'!J124","v":2.372340425531915E-3},{"$f":"$C$158*'Emissions per kg'!K124","v":7.8297872340425539E-3},{"$f":"$C$158*'Emissions per kg'!L124","v":2.9255319148936172E-4},{"$f":"$C$158*'Emissions per kg'!M124","v":1.1808510638297873E-3},{"$f":"$C$158*'Emissions per kg'!N124","v":8.6702127659574468E-2},{"$f":"$C$158*'Emissions per kg'!O124","v":0.45744680851063829},{"$f":"$C$158*'Emissions per kg'!P124","v":3.5957446808510637E-2},{"$f":"$C$158*'Emissions per kg'!Q124","v":7.7234042553191484},{"$f":"$C$158*'Emissions per kg'!R124","v":1.074468085106383E-7}]
[null,"packaging",{"$f":"C160","v":1},{"$f":"Calculation_original!D159","v":0},{"$f":"$C$159*'Emissions per kg'!C125","v":0.152},{"$f":"$C$159*'Emissions per kg'!D125","v":1.28E-8},{"$f":"$C$159*'Emissions per kg'!E125","v":1.7500000000000001E-8},{"$f":"$C$159*'Emissions per kg'!F125","v":2.0599999999999999E-9},{"$f":"$C$159*'Emissions per kg'!G125","v":1.19E-9},{"$f":"$C$159*'Emissions per kg'!H125","v":1.2E-2},{"$f":"$C$159*'Emissions per kg'!I125","v":1.63E-4},{"$f":"$C$159*'Emissions per kg'!J125","v":6.5700000000000003E-4},{"$f":"$C$159*'Emissions per kg'!K125","v":9.7499999999999996E-4},{"$f":"$C$159*'Emissions per kg'!L125","v":1.26E-5},{"$f":"$C$159*'Emissions per kg'!M125","v":1.02E-4},{"$f":"$C$159*'Emissions per kg'!N125","v":0.126},{"$f":"$C$159*'Emissions per kg'!O125","v":-2.92},{"$f":"$C$159*'Emissions per kg'!P125","v":0.127},{"$f":"$C$159*'Emissions per kg'!Q125","v":1.63},{"$f":"$C$159*'Emissions per kg'!R125","v":1.0699999999999999E-6}]
[null,"retail",1,{"$f":"Calculation_original!D160","v":0.01},{"$f":"$C$160*'Emissions per kg'!C126","v":7.9699999999999993E-2},{"$f":"$C$160*'Emissions per kg'!D126","v":1.77E-8},{"$f":"$C$160*'Emissions per kg'!E126","v":1.3000000000000001E-8},{"$f":"$C$160*'Emissions per kg'!F126","v":6.1400000000000005E-10},{"$f":"$C$160*'Emissions per kg'!G126","v":8.3199999999999994E-9},{"$f":"$C$160*'Emissions per kg'!H126","v":5.7299999999999999E-3},{"$f":"$C$160*'Emissions per kg'!I126","v":5.8100000000000003E-4},{"$f":"$C$160*'Emissions per kg'!J126","v":5.3399999999999997E-4},{"$f":"$C$160*'Emissions per kg'!K126","v":2.0899999999999998E-3},{"$f":"$C$160*'Emissions per kg'!L126","v":1.7099999999999999E-6},{"$f":"$C$160*'Emissions per kg'!M126","v":1.9000000000000001E-4},{"$f":"$C$160*'Emissions per kg'!N126","v":0.223},{"$f":"$C$160*'Emissions per kg'!O126","v":1.47},{"$f":"$C$160*'Emissions per kg'!P126","v":3.7499999999999999E-2},{"$f":"$C$160*'Emissions per kg'!Q126","v":1.28},{"$f":"$C$160*'Emissions per kg'!R126","v":1.9999999999999999E-7}]
[null,"use ",null,{"$f":"Calculation_original!D161","v":0.04},{"$f":"$C$161*'Emissions per kg'!C127","v":0},{"$f":"$C$161*'Emissions per kg'!D127","v":0},{"$f":"$C$161*'Emissions per kg'!E127","v":0},{"$f":"$C$161*'Emissions per kg'!F127","v":0},{"$f":"$C$161*'Emissions per kg'!G127","v":0},{"$f":"$C$161*'Emissions per kg'!H127","v":0},{"$f":"$C$161*'Emissions per kg'!I127","v":0},{"$f":"$C$161*'Emissions per kg'!J127","v":0},{"$f":"$C$161*'Emissions per kg'!K127","v":0},{"$f":"$C$161*'Emissions per kg'!L127","v":0},{"$f":"$C$161*'Emissions per kg'!M127","v":0},{"$f":"$C$161*'Emissions per kg'!N127","v":0},{"$f":"$C$161*'Emissions per kg'!O127","v":0},{"$f":"$C$161*'Emissions per kg'!P127","v":0},{"$f":"$C$161*'Emissions per kg'!Q127","v":0},{"$f":"$C$161*'Emissions per kg'!R127","v":0}]
[null,"end of life P&R",{"$f":"D158*C158+D160*C160+C159*D159+C157*D157","v":0.19203309692671394},null,{"$f":"$C$162*'EoL emissions'!B4","v":6.4975392931608048E-2},{"$f":"$C$162*'EoL emissions'!C4","v":7.7749894337116909E-10},{"$f":"$C$162*'EoL emissions'!D4","v":7.2101416880084641E-8},{"$f":"$C$162*'EoL emissions'!E4","v":2.8839829455690688E-9},{"$f":"$C$162*'EoL emissions'!F4","v":1.4700743948270571E-9},{"$f":"$C$162*'EoL emissions'!G4","v":4.9231394147151574E-4},{"$f":"$C$162*'EoL emissions'!H4","v":8.7047152998474779E-5},{"$f":"$C$162*'EoL emissions'!I4","v":2.3064561977800488E-4},{"$f":"$C$162*'EoL emissions'!J4","v":9.3273644040520664E-4},{"$f":"$C$162*'EoL emissions'!K4","v":1.8360483286841296E-5},{"$f":"$C$162*'EoL emissions'!L4","v":1.0538792595990967E-4},{"$f":"$C$162*'EoL emissions'!M4","v":5.0981845845896396},{"$f":"$C$162*'EoL emissions'!N4","v":0.26350896016476932},{"$f":"$C$162*'EoL emissions'!O4","v":2.5519097862334466E-3},{"$f":"$C$162*'EoL emissions'!P4","v":-4.6881865834803492E-2},{"$f":"$C$162*'EoL emissions'!Q4","v":-3.55853727951179E-9}]
[null,"end of life HH",{"$f":"D161*C161","v":0},null,{"$f":"$C$163*'EoL emissions'!B5","v":0},{"$f":"$C$163*'EoL emissions'!C5","v":0},{"$f":"$C$163*'EoL emissions'!D5","v":0},{"$f":"$C$163*'EoL emissions'!E5","v":0},{"$f":"$C$163*'EoL emissions'!F5","v":0},{"$f":"$C$163*'EoL emissions'!G5","v":0},{"$f":"$C$163*'EoL emissions'!H5","v":0},{"$f":"$C$163*'EoL emissions'!I5","v":0},{"$f":"$C$163*'EoL emissions'!J5","v":0},{"$f":"$C$163*'EoL emissions'!K5","v":0},{"$f":"$C$163*'EoL emissions'!L5","v":0},{"$f":"$C$163*'EoL emissions'!M5","v":0},{"$f":"$C$163*'EoL emissions'!N5","v":0},{"$f":"$C$163*'EoL emissions'!O5","v":0},{"$f":"$C$163*'EoL emissions'!P5","v":0},{"$f":"$C$163*'EoL emissions'!Q5","v":0}]
["SUNFLOWER OIL",null,null,null,{"$f":"SUM(E157:E163)","v":7.6134602629079673},{"$f":"SUM(F157:F163)","v":3.177042128913617E-7},1.7249272811679142E-5,4.4515609169261398E-7,3.4482168195983889E-7,0.12633106098638874,1.8535538878766796E-2,4.0909825288808738E-2,0.16667385937184728,3.9895262752490156E-3,8.1010863103264857E-2,58.607172764258664,3805.4175278726939,3.02806845824959,51.72127416253398,2.2886890635297315E-5]
["Oils","OLIVE OIL"]
[null,"agriculture ",{"$f":"C167/(1-D166)","v":1},{"$f":"Calculation_original!D166","v":0},{"$f":"$C$166*'Emissions per kg'!C130","v":1.1200000000000001},{"$f":"$C$166*'Emissions per kg'!D130","v":8.7999999999999994E-8},{"$f":"$C$166*'Emissions per kg'!E130","v":2.23E-7},{"$f":"$C$166*'Emissions per kg'!F130","v":7.8000000000000004E-9},{"$f":"$C$166*'Emissions per kg'!G130","v":1.2700000000000001E-7},{"$f":"$C$166*'Emissions per kg'!H130","v":6.2399999999999997E-2},{"$f":"$C$166*'Emissions per kg'!I130","v":5.4999999999999997E-3},{"$f":"$C$166*'Emissions per kg'!J130","v":1.7299999999999999E-2},{"$f":"$C$166*'Emissions per kg'!K130","v":6.4799999999999996E-2},{"$f":"$C$166*'Emissions per kg'!L130","v":2.42E-4},{"$f":"$C$166*'Emissions per kg'!M130","v":1.01E-2},{"$f":"$C$166*'Emissions per kg'!N130","v":4.16},{"$f":"$C$166*'Emissions per kg'!O130","v":1160},{"$f":"$C$166*'Emissions per kg'!P130","v":26.3},{"$f":"$C$166*'Emissions per kg'!Q130","v":15.8},{"$f":"$C$166*'Emissions per kg'!R130","v":6.8800000000000002E-6}]
[null,"processsing",{"$f":"(C168/(1-D167))/(1-D168)","v":1},{"$f":"Calculation_original!D167","v":0},{"$f":"$C$167*'Emissions per kg'!C131","v":0.16300000000000001},{"$f":"$C$167*'Emissions per kg'!D131","v":1.7199999999999999E-8},{"$f":"$C$167*'Emissions per kg'!E131","v":1.11E-8},{"$f":"$C$167*'Emissions per kg'!F131","v":1.2199999999999999E-9},{"$f":"$C$167*'Emissions per kg'!G131","v":4.6500000000000003E-9},{"$f":"$C$167*'Emissions per kg'!H131","v":1.49E-2},{"$f":"$C$167*'Emissions per kg'!I131","v":4.6299999999999998E-4},{"$f":"$C$167*'Emissions per kg'!J131","v":8.5899999999999995E-4},{"$f":"$C$167*'Emissions per kg'!K131","v":1.57E-3},{"$f":"$C$167*'Emissions per kg'!L131","v":1.0200000000000001E-5},{"$f":"$C$167*'Emissions per kg'!M131","v":1.4300000000000001E-4},{"$f":"$C$167*'Emissions per kg'!N131","v":9.74E-2},{"$f":"$C$167*'Emissions per kg'!O131","v":1.64},{"$f":"$C$167*'Emissions per kg'!P131","v":0.223},{"$f":"$C$167*'Emissions per kg'!Q131","v":3.23},{"$f":"$C$167*'Emissions per kg'!R131","v":2.6100000000000002E-7}]
[null,"packaging",{"$f":"C169","v":1},{"$f":"Calculation_original!D168","v":0},{"$f":"$C$168*'Emissions per kg'!C132","v":0.74},{"$f":"$C$168*'Emissions per kg'!D132","v":1.2200000000000001E-7},{"$f":"$C$168*'Emissions per kg'!E132","v":3.6799999999999999E-8},{"$f":"$C$168*'Emissions per kg'!F132","v":2.4E-9},{"$f":"$C$168*'Emissions per kg'!G132","v":2.1999999999999998E-9},{"$f":"$C$168*'Emissions per kg'!H132","v":5.6399999999999999E-2},{"$f":"$C$168*'Emissions per kg'!I132","v":9.9500000000000001E-4},{"$f":"$C$168*'Emissions per kg'!J132","v":1.48E-3},{"$f":"$C$168*'Emissions per kg'!K132","v":1.9E-3},{"$f":"$C$168*'Emissions per kg'!L132","v":1.1199999999999999E-5},{"$f":"$C$168*'Emissions per kg'!M132","v":2.9100000000000003E-4},{"$f":"$C$168*'Emissions per kg'!N132","v":0.30299999999999999},{"$f":"$C$168*'Emissions per kg'!O132","v":-11.7},{"$f":"$C$168*'Emissions per kg'!P132","v":-2.1499999999999998E-2},{"$f":"$C$168*'Emissions per kg'!Q132","v":11.5},{"$f":"$C$168*'Emissions per kg'!R132","v":6.7499999999999997E-6}]
[null,"retail",1,{"$f":"Calculation_original!D169","v":0},{"$f":"$C$169*'Emissions per kg'!C133","v":0.14000000000000001},{"$f":"$C$169*'Emissions per kg'!D133","v":3.1599999999999998E-8},{"$f":"$C$169*'Emissions per kg'!E133","v":2.3400000000000001E-8},{"$f":"$C$169*'Emissions per kg'!F133","v":1.07E-9},{"$f":"$C$169*'Emissions per kg'!G133","v":1.51E-8},{"$f":"$C$169*'Emissions per kg'!H133","v":9.7199999999999995E-3},{"$f":"$C$169*'Emissions per kg'!I133","v":1.0499999999999999E-3},{"$f":"$C$169*'Emissions per kg'!J133","v":9.4600000000000001E-4},{"$f":"$C$169*'Emissions per kg'!K133","v":3.7699999999999999E-3},{"$f":"$C$169*'Emissions per kg'!L133","v":2.5799999999999999E-6},{"$f":"$C$169*'Emissions per kg'!M133","v":3.4299999999999999E-4},{"$f":"$C$169*'Emissions per kg'!N133","v":0.40600000000000003},{"$f":"$C$169*'Emissions per kg'!O133","v":2.62},{"$f":"$C$169*'Emissions per kg'!P133","v":4.5400000000000003E-2},{"$f":"$C$169*'Emissions per kg'!Q133","v":2.2200000000000002},{"$f":"$C$169*'Emissions per kg'!R133","v":3.5499999999999999E-7}]
[null,"use ",null,{"$f":"Calculation_original!D170","v":0.13600000000000001},{"$f":"$C$170*'Emissions per kg'!C134","v":0},{"$f":"$C$170*'Emissions per kg'!D134","v":0},{"$f":"$C$170*'Emissions per kg'!E134","v":0},{"$f":"$C$170*'Emissions per kg'!F134","v":0},{"$f":"$C$170*'Emissions per kg'!G134","v":0},{"$f":"$C$170*'Emissions per kg'!H134","v":0},{"$f":"$C$170*'Emissions per kg'!I134","v":0},{"$f":"$C$170*'Emissions per kg'!J134","v":0},{"$f":"$C$170*'Emissions per kg'!K134","v":0},{"$f":"$C$170*'Emissions per kg'!L134","v":0},{"$f":"$C$170*'Emissions per kg'!M134","v":0},{"$f":"$C$170*'Emissions per kg'!N134","v":0},{"$f":"$C$170*'Emissions per kg'!O134","v":0},{"$f":"$C$170*'Emissions per kg'!P134","v":0},{"$f":"$C$170*'Emissions per kg'!Q134","v":0},{"$f":"$C$170*'Emissions per kg'!R134","v":0}]
[null,"end of life P&R",{"$f":"D167*C167+D169*C169+C168*D168+C166*D166","v":0},null,{"$f":"$C$171*'EoL emissions'!B4","v":0},{"$f":"$C$171*'EoL emissions'!C4","v":0},{"$f":"$C$171*'EoL emissions'!D4","v":0},{"$f":"$C$171*'EoL emissions'!E4","v":0},{"$f":"$C$171*'EoL emissions'!F4","v":0},{"$f":"$C$171*'EoL emissions'!G4","v":0},{"$f":"$C$171*'EoL emissions'!H4","v":0},{"$f":"$C$171*'EoL emissions'!I4","v":0},{"$f":"$C$171*'EoL emissions'!J4","v":0},{"$f":"$C$171*'EoL emissions'!K4","v":0},{"$f":"$C$171*'EoL emissions'!L4","v":0},{"$f":"$C$171*'EoL emissions'!M4","v":0},{"$f":"$C$171*'EoL emissions'!N4","v":0},{"$f":"$C$171*'EoL emissions'!O4","v":0},{"$f":"$C$171*'EoL emissions'!P4","v":0},{"$f":"$C$171*'EoL emissions'!Q4","v":0}]
[null,"end of life HH",{"$f":"D170*C170","v":0},null,{"$f":"$C$172*'EoL emissions'!B5","v":0},{"$f":"$C$172*'EoL emissions'!C5","v":0},{"$f":"$C$172*'EoL emissions'!D5","v":0},{"$f":"$C$172*'EoL emissions'!E5","v":0},{"$f":"$C$172*'EoL emissions'!F5","v":0},{"$f":"$C$172*'EoL emissions'!G5","v":0},{"$f":"$C$172*'EoL emissions'!H5","v":0},{"$f":"$C$172*'EoL emissions'!I5","v":0},{"$f":"$C$172*'EoL emissions'!J5","v":0},{"$f":"$C$172*'EoL emissions'!K5","v":0},{"$f":"$C$172*'EoL emissions'!L5","v":0},{"$f":"$C$172*'EoL emissions'!M5","v":0},{"$f":"$C$172*'EoL emissions'!N5","v":0},{"$f":"$C$172*'EoL emissions'!O5","v":0},{"$f":"$C$172*'EoL emissions'!P5","v":0},{"$f":"$C$172*'EoL emissions'!Q5","v":0}]
["OLIVE OIL",null,null,null,{"$f":"SUM(E166:E172)","v":2.1630000000000003},{"$f":"SUM(F166:F172)","v":2.5880000000000001E-7},2.9430000000000003E-7,1.2490000000000001E-8,1.4895000000000002E-7,0.14341999999999999,8.0079999999999995E-3,2.0584999999999996E-2,7.2039999999999993E-2,2.6598000000000003E-4,1.0877E-2,4.9664000000000001,1152.56,26.546900000000001,32.75,1.4245999999999999E-5]
["Fruits","APPLES"]
[null,"agriculture ",{"$f":"C176/(1-D175)","v":1.1764705882352942},{"$f":"Calculation_original!D175","v":0},{"$f":"$C$175*'Emissions per kg'!C137","v":7.9529411764705876E-2},{"$f":"$C$175*'Emissions per kg'!D137","v":2.3294117647058827E-9},{"$f":"$C$175*'Emissions per kg'!E137","v":4.8705882352941181E-9},{"$f":"$C$175*'Emissions per kg'!F137","v":2.2352941176470589E-10},{"$f":"$C$175*'Emissions per kg'!G137","v":1.0800000000000001E-8},{"$f":"$C$175*'Emissions per kg'!H137","v":3.0470588235294118E-3},{"$f":"$C$175*'Emissions per kg'!I137","v":3.6352941176470585E-4},{"$f":"$C$175*'Emissions per kg'!J137","v":1.3176470588235293E-3},{"$f":"$C$175*'Emissions per kg'!K137","v":5.5529411764705886E-3},{"$f":"$C$175*'Emissions per kg'!L137","v":5.9647058823529415E-6},{"$f":"$C$175*'Emissions per kg'!M137","v":8.5176470588235297E-4},{"$f":"$C$175*'Emissions per kg'!N137","v":3.3764705882352946},{"$f":"$C$175*'Emissions per kg'!O137","v":49.294117647058826},{"$f":"$C$175*'Emissions per kg'!P137","v":5.0470588235294116},{"$f":"$C$175*'Emissions per kg'!Q137","v":1.0447058823529412},{"$f":"$C$175*'Emissions per kg'!R137","v":1.4588235294117647E-7}]
[null,"processsing",{"$f":"(C177/(1-D176))/(1-D177)","v":1.1764705882352942},{"$f":"Calculation_original!D176","v":0.15},{"$f":"$C$176*'Emissions per kg'!C138","v":0.78588235294117659},{"$f":"$C$176*'Emissions per kg'!D138","v":1.4941176470588237E-5},{"$f":"$C$176*'Emissions per kg'!E138","v":1.4823529411764707E-8},{"$f":"$C$176*'Emissions per kg'!F138","v":1.5882352941176472E-9},{"$f":"$C$176*'Emissions per kg'!G138","v":5.5411764705882349E-9},{"$f":"$C$176*'Emissions per kg'!H138","v":2.3176470588235295E-2},{"$f":"$C$176*'Emissions per kg'!I138","v":6.2E-4},{"$f":"$C$176*'Emissions per kg'!J138","v":1.2823529411764706E-3},{"$f":"$C$176*'Emissions per kg'!K138","v":2.2117647058823527E-3},{"$f":"$C$176*'Emissions per kg'!L138","v":1.6117647058823529E-5},{"$f":"$C$176*'Emissions per kg'!M138","v":2.011764705882353E-4},{"$f":"$C$176*'Emissions per kg'!N138","v":9.5176470588235293E-2},{"$f":"$C$176*'Emissions per kg'!O138","v":2.1529411764705886},{"$f":"$C$176*'Emissions per kg'!P138","v":4.9176470588235294E-2},{"$f":"$C$176*'Emissions per kg'!Q138","v":3.7294117647058824},{"$f":"$C$176*'Emissions per kg'!R138","v":4.5529411764705885E-7}]
[null,"packaging",{"$f":"C178","v":1},{"$f":"Calculation_original!D177","v":0},{"$f":"$C$177*'Emissions per kg'!C139","v":4.4799999999999996E-3},{"$f":"$C$177*'Emissions per kg'!D139","v":1.41E-10},{"$f":"$C$177*'Emissions per kg'!E139","v":1.4600000000000001E-10},{"$f":"$C$177*'Emissions per kg'!F139","v":1.33E-11},{"$f":"$C$177*'Emissions per kg'!G139","v":1.09E-10},{"$f":"$C$177*'Emissions per kg'!H139","v":1.07E-4},{"$f":"$C$177*'Emissions per kg'!I139","v":6.2899999999999999E-6},{"$f":"$C$177*'Emissions per kg'!J139","v":1.1600000000000001E-5},{"$f":"$C$177*'Emissions per kg'!K139","v":2.2399999999999999E-5},{"$f":"$C$177*'Emissions per kg'!L139","v":9.5700000000000003E-8},{"$f":"$C$177*'Emissions per kg'!M139","v":2.08E-6},{"$f":"$C$177*'Emissions per kg'!N139","v":2.5000000000000001E-3},{"$f":"$C$177*'Emissions per kg'!O139","v":1.3899999999999999E-2},{"$f":"$C$177*'Emissions per kg'!P139","v":3.77E-4},{"$f":"$C$177*'Emissions per kg'!Q139","v":2.8799999999999999E-2},{"$f":"$C$177*'Emissions per kg'!R139","v":1.21E-9}]
[null,"retail",1,{"$f":"Calculation_original!D178","v":0.1},{"$f":"$C$178*'Emissions per kg'!C140","v":7.7399999999999997E-2},{"$f":"$C$178*'Emissions per kg'!D140","v":1.7199999999999999E-8},{"$f":"$C$178*'Emissions per kg'!E140","v":1.26E-8},{"$f":"$C$178*'Emissions per kg'!F140","v":5.9600000000000001E-10},{"$f":"$C$178*'Emissions per kg'!G140","v":8.0600000000000007E-9},{"$f":"$C$178*'Emissions per kg'!H140","v":5.5799999999999999E-3},{"$f":"$C$178*'Emissions per kg'!I140","v":5.6400000000000005E-4},{"$f":"$C$178*'Emissions per kg'!J140","v":5.1800000000000001E-4},{"$f":"$C$178*'Emissions per kg'!K140","v":2.0200000000000001E-3},{"$f":"$C$178*'Emissions per kg'!L140","v":1.6700000000000001E-6},{"$f":"$C$178*'Emissions per kg'!M140","v":1.84E-4},{"$f":"$C$178*'Emissions per kg'!N140","v":0.216},{"$f":"$C$178*'Emissions per kg'!O140","v":1.42},{"$f":"$C$178*'Emissions per kg'!P140","v":3.7199999999999997E-2},{"$f":"$C$178*'Emissions per kg'!Q140","v":1.24},{"$f":"$C$178*'Emissions per kg'!R140","v":1.9399999999999999E-7}]
[null,"use ",null,{"$f":"Calculation_original!D179","v":0.19},{"$f":"$C$179*'Emissions per kg'!C141","v":0},{"$f":"$C$179*'Emissions per kg'!D141","v":0},{"$f":"$C$179*'Emissions per kg'!E141","v":0},{"$f":"$C$179*'Emissions per kg'!F141","v":0},{"$f":"$C$179*'Emissions per kg'!G141","v":0},{"$f":"$C$179*'Emissions per kg'!H141","v":0},{"$f":"$C$179*'Emissions per kg'!I141","v":0},{"$f":"$C$179*'Emissions per kg'!J141","v":0},{"$f":"$C$179*'Emissions per kg'!K141","v":0},{"$f":"$C$179*'Emissions per kg'!L141","v":0},{"$f":"$C$179*'Emissions per kg'!M141","v":0},{"$f":"$C$179*'Emissions per kg'!N141","v":0},{"$f":"$C$179*'Emissions per kg'!O141","v":0},{"$f":"$C$179*'Emissions per kg'!P141","v":0},{"$f":"$C$179*'Emissions per kg'!Q141","v":0},{"$f":"$C$179*'Emissions per kg'!R141","v":0}]
[null,"end of life P&R",{"$f":"D176*C176+D178*C178+C177*D177+C175*D175","v":0.27647058823529413},null,{"$f":"$C$180*'EoL emissions'!B4","v":9.3545255438319624E-2},{"$f":"$C$180*'EoL emissions'!C4","v":1.1193674094012075E-9},{"$f":"$C$180*'EoL emissions'!D4","v":1.0380461210310324E-7},{"$f":"$C$180*'EoL emissions'!E4","v":4.1520783353628156E-9},{"$f":"$C$180*'EoL emissions'!F4","v":2.1164702293094211E-9},{"$f":"$C$180*'EoL emissions'!G4","v":7.087857623158067E-4},{"$f":"$C$180*'EoL emissions'!H4","v":1.2532203031064134E-4},{"$f":"$C$180*'EoL emissions'!I4","v":3.3206114567977025E-4},{"$f":"$C$180*'EoL emissions'!J4","v":1.3428632692714165E-3},{"$f":"$C$180*'EoL emissions'!K4","v":2.6433639283203962E-5},{"$f":"$C$180*'EoL emissions'!L4","v":1.5172729258307668E-4},{"$f":"$C$180*'EoL emissions'!M4","v":7.339870645170695},{"$f":"$C$180*'EoL emissions'!N4","v":0.37937458900549492},{"$f":"$C$180*'EoL emissions'!O4","v":3.6739916765109351E-3},{"$f":"$C$180*'EoL emissions'!P4","v":-6.7495953730636202E-2},{"$f":"$C$180*'EoL emissions'!Q4","v":-5.1232361018439946E-9}]
[null,"end of life HH",{"$f":"D179*C179","v":0},null,{"$f":"$C$181*'EoL emissions'!B5","v":0},{"$f":"$C$181*'EoL emissions'!C5","v":0},{"$f":"$C$181*'EoL emissions'!D5","v":0},{"$f":"$C$181*'EoL emissions'!E5","v":0},{"$f":"$C$181*'EoL emissions'!F5","v":0},{"$f":"$C$181*'EoL emissions'!G5","v":0},{"$f":"$C$181*'EoL emissions'!H5","v":0},{"$f":"$C$181*'EoL emissions'!I5","v":0},{"$f":"$C$181*'EoL emissions'!J5","v":0},{"$f":"$C$181*'EoL emissions'!K5","v":0},{"$f":"$C$181*'EoL emissions'!L5","v":0},{"$f":"$C$181*'EoL emissions'!M5","v":0},{"$f":"$C$181*'EoL emissions'!N5","v":0},{"$f":"$C$181*'EoL emissions'!O5","v":0},{"$f":"$C$181*'EoL emissions'!P5","v":0},{"$f":"$C$181*'EoL emissions'!Q5","v":0}]
["APPLES",null,null,null,{"$f":"SUM(E175:E181)","v":1.0408370201442021},{"$f":"SUM(F175:F181)","v":1.4961966249762346E-5},1.3624472975016206E-7,6.5731430412451688E-9,2.6626646699897657E-8,3.261931517408051E-2,1.6791414420753471E-3,3.4616611456797699E-3,1.1149969151624358E-2,5.0281692224380432E-5,1.3907484690536649E-3,11.030017703994226,53.260333412534912,5.1374862857941581,5.9754216933281885,7.9126323448639129E-7]
["Fruits","ORANGES"]
[null,"agriculture ",{"$f":"C185/(1-D184)","v":1.25},{"$f":"Calculation_original!D184","v":0},{"$f":"$C$184*'Emissions per kg'!C144","v":0.26374999999999998},{"$f":"$C$184*'Emissions per kg'!D144","v":1.00375E-8},{"$f":"$C$184*'Emissions per kg'!E144","v":1.0237499999999998E-8},{"$f":"$C$184*'Emissions per kg'!F144","v":9.5374999999999994E-10},{"$f":"$C$184*'Emissions per kg'!G144","v":4.0125000000000004E-8},{"$f":"$C$184*'Emissions per kg'!H144","v":1.3375E-2},{"$f":"$C$184*'Emissions per kg'!I144","v":7.2999999999999996E-4},{"$f":"$C$184*'Emissions per kg'!J144","v":5.5624999999999997E-3},{"$f":"$C$184*'Emissions per kg'!K144","v":2.325E-2},{"$f":"$C$184*'Emissions per kg'!L144","v":8.6625000000000005E-5},{"$f":"$C$184*'Emissions per kg'!M144","v":3.9874999999999997E-3},{"$f":"$C$184*'Emissions per kg'!N144","v":6.4875000000000007},{"$f":"$C$184*'Emissions per kg'!O144","v":66.625},{"$f":"$C$184*'Emissions per kg'!P144","v":9.0124999999999993},{"$f":"$C$184*'Emissions per kg'!Q144","v":3.5125000000000002},{"$f":"$C$184*'Emissions per kg'!R144","v":2.65E-7}]
[null,"processsing",{"$f":"(C186/(1-D185))/(1-D186)","v":1.25},{"$f":"Calculation_original!D185","v":0.2},{"$f":"$C$185*'Emissions per kg'!C145","v":0.42500000000000004},{"$f":"$C$185*'Emissions per kg'!D145","v":7.4250000000000001E-6},{"$f":"$C$185*'Emissions per kg'!E145","v":9.7874999999999991E-9},{"$f":"$C$185*'Emissions per kg'!F145","v":8.7499999999999998E-10},{"$f":"$C$185*'Emissions per kg'!G145","v":4.7000000000000007E-9},{"$f":"$C$185*'Emissions per kg'!H145","v":1.1800000000000001E-2},{"$f":"$C$185*'Emissions per kg'!I145","v":5.3124999999999993E-4},{"$f":"$C$185*'Emissions per kg'!J145","v":8.9375000000000001E-4},{"$f":"$C$185*'Emissions per kg'!K145","v":1.9124999999999999E-3},{"$f":"$C$185*'Emissions per kg'!L145","v":7.3875E-6},{"$f":"$C$185*'Emissions per kg'!M145","v":1.7374999999999999E-4},{"$f":"$C$185*'Emissions per kg'!N145","v":9.5999999999999988E-2},{"$f":"$C$185*'Emissions per kg'!O145","v":1.2875000000000001},{"$f":"$C$185*'Emissions per kg'!P145","v":2.4875000000000001E-2},{"$f":"$C$185*'Emissions per kg'!Q145","v":2.0250000000000004},{"$f":"$C$185*'Emissions per kg'!R145","v":2.5125000000000003E-7}]
[null,"packaging",{"$f":"C187","v":1},{"$f":"Calculation_original!D186","v":0},{"$f":"$C$186*'Emissions per kg'!C146","v":7.2300000000000003E-2},{"$f":"$C$186*'Emissions per kg'!D146","v":2.2600000000000001E-9},{"$f":"$C$186*'Emissions per kg'!E146","v":1.5399999999999999E-8},{"$f":"$C$186*'Emissions per kg'!F146","v":7.3299999999999995E-10},{"$f":"$C$186*'Emissions per kg'!G146","v":-1.0999999999999999E-8},{"$f":"$C$186*'Emissions per kg'!H146","v":1.5299999999999999E-3},{"$f":"$C$186*'Emissions per kg'!I146","v":2.0599999999999999E-5},{"$f":"$C$186*'Emissions per kg'!J146","v":1.3100000000000001E-4},{"$f":"$C$186*'Emissions per kg'!K146","v":1.4999999999999999E-4},{"$f":"$C$186*'Emissions per kg'!L146","v":3.2899999999999998E-6},{"$f":"$C$186*'Emissions per kg'!M146","v":5.5600000000000003E-5},{"$f":"$C$186*'Emissions per kg'!N146","v":9.7100000000000006E-2},{"$f":"$C$186*'Emissions per kg'!O146","v":-22.1},{"$f":"$C$186*'Emissions per kg'!P146","v":-7.8799999999999995E-2},{"$f":"$C$186*'Emissions per kg'!Q146","v":0.97299999999999998},{"$f":"$C$186*'Emissions per kg'!R146","v":1.5099999999999999E-6}]
[null,"retail",1,{"$f":"Calculation_original!D187","v":0.1},{"$f":"$C$187*'Emissions per kg'!C147","v":8.3099999999999993E-2},{"$f":"$C$187*'Emissions per kg'!D147","v":1.85E-8},{"$f":"$C$187*'Emissions per kg'!E147","v":1.3599999999999999E-8},{"$f":"$C$187*'Emissions per kg'!F147","v":6.3899999999999996E-10},{"$f":"$C$187*'Emissions per kg'!G147","v":8.6900000000000004E-9},{"$f":"$C$187*'Emissions per kg'!H147","v":5.9500000000000004E-3},{"$f":"$C$187*'Emissions per kg'!I147","v":6.0700000000000001E-4},{"$f":"$C$187*'Emissions per kg'!J147","v":5.5699999999999999E-4},{"$f":"$C$187*'Emissions per kg'!K147","v":2.1800000000000001E-3},{"$f":"$C$187*'Emissions per kg'!L147","v":1.75E-6},{"$f":"$C$187*'Emissions per kg'!M147","v":1.9799999999999999E-4},{"$f":"$C$187*'Emissions per kg'!N147","v":0.23300000000000001},{"$f":"$C$187*'Emissions per kg'!O147","v":1.53},{"$f":"$C$187*'Emissions per kg'!P147","v":3.7900000000000003E-2},{"$f":"$C$187*'Emissions per kg'!Q147","v":1.33},{"$f":"$C$187*'Emissions per kg'!R147","v":2.0900000000000001E-7}]
[null,"use ",null,{"$f":"Calculation_original!D188","v":0.19},{"$f":"$C$188*'Emissions per kg'!C148","v":0},{"$f":"$C$188*'Emissions per kg'!D148","v":0},{"$f":"$C$188*'Emissions per kg'!E148","v":0},{"$f":"$C$188*'Emissions per kg'!F148","v":0},{"$f":"$C$188*'Emissions per kg'!G148","v":0},{"$f":"$C$188*'Emissions per kg'!H148","v":0},{"$f":"$C$188*'Emissions per kg'!I148","v":0},{"$f":"$C$188*'Emissions per kg'!J148","v":0},{"$f":"$C$188*'Emissions per kg'!K148","v":0},{"$f":"$C$188*'Emissions per kg'!L148","v":0},{"$f":"$C$188*'Emissions per kg'!M148","v":0},{"$f":"$C$188*'Emissions per kg'!N148","v":0},{"$f":"$C$188*'Emissions per kg'!O148","v":0},{"$f":"$C$188*'Emissions per kg'!P148","v":0},{"$f":"$C$188*'Emissions per kg'!Q148","v":0},{"$f":"$C$188*'Emissions per kg'!R148","v":0}]
[null,"end of life P&R",{"$f":"D185*C185+D187*C187+C186*D186+C184*D184","v":0.35},null,{"$f":"$C$189*'EoL emissions'!B4","v":0.11842431273574505},{"$f":"$C$189*'EoL emissions'!C4","v":1.4170715076462092E-9},{"$f":"$C$189*'EoL emissions'!D4","v":1.3141222170499237E-7},{"$f":"$C$189*'EoL emissions'!E4","v":5.2563544883848404E-9},{"$f":"$C$189*'EoL emissions'!F4","v":2.6793612477427773E-9},{"$f":"$C$189*'EoL emissions'!G4","v":8.9729261399554229E-4},{"$f":"$C$189*'EoL emissions'!H4","v":1.5865235752091826E-4},{"$f":"$C$189*'EoL emissions'!I4","v":4.2037528016907084E-4},{"$f":"$C$189*'EoL emissions'!J4","v":1.7000077557797716E-3},{"$f":"$C$189*'EoL emissions'!K4","v":3.3463862496822031E-5},{"$f":"$C$189*'EoL emissions'!L4","v":1.9208029592963962E-4},{"$f":"$C$189*'EoL emissions'!M4","v":9.291963901865028},{"$f":"$C$189*'EoL emissions'!N4","v":0.48027208608142435},{"$f":"$C$189*'EoL emissions'!O4","v":4.6511171223915021E-3},{"$f":"$C$189*'EoL emissions'!P4","v":-8.5447005254741554E-2},{"$f":"$C$189*'EoL emissions'!Q4","v":-6.4857988948876091E-9}]
[null,"end of life HH",{"$f":"D188*C188","v":0},null,{"$f":"$C$190*'EoL emissions'!B5","v":0},{"$f":"$C$190*'EoL emissions'!C5","v":0},{"$f":"$C$190*'EoL emissions'!D5","v":0},{"$f":"$C$190*'EoL emissions'!E5","v":0},{"$f":"$C$190*'EoL emissions'!F5","v":0},{"$f":"$C$190*'EoL emissions'!G5","v":0},{"$f":"$C$190*'EoL emissions'!H5","v":0},{"$f":"$C$190*'EoL emissions'!I5","v":0},{"$f":"$C$190*'EoL emissions'!J5","v":0},{"$f":"$C$190*'EoL emissions'!K5","v":0},{"$f":"$C$190*'EoL emissions'!L5","v":0},{"$f":"$C$190*'EoL emissions'!M5","v":0},{"$f":"$C$190*'EoL emissions'!N5","v":0},{"$f":"$C$190*'EoL emissions'!O5","v":0},{"$f":"$C$190*'EoL emissions'!P5","v":0},{"$f":"$C$190*'EoL emissions'!Q5","v":0}]
["ORANGES",null,null,null,{"$f":"SUM(E184:E190)","v":0.96257431273574501},{"$f":"SUM(F184:F190)","v":7.4572145715076463E-6},1.8043722170499238E-7,8.4571044883848401E-9,4.5194361247742784E-8,3.3552292613995546E-2,2.0475023575209179E-3,7.5646252801690713E-3,2.9192507755779775E-2,1.3251636249682203E-4,4.6069302959296406E-3,16.205563901865027,47.822772086081422,9.0011261171223911,7.7550529947452587,2.2287642011051123E-6]
["Fruits","BANANAS"]
[null,"agriculture ",{"$f":"C194/(1-D193)","v":1.0526315789473684},{"$f":"Calculation_original!D193","v":0},{"$f":"$C$193*'Emissions per kg'!C151","v":0.1463157894736842},{"$f":"$C$193*'Emissions per kg'!D151","v":2.031578947368421E-9},{"$f":"$C$193*'Emissions per kg'!E151","v":6.5684210526315782E-9},{"$f":"$C$193*'Emissions per kg'!F151","v":1.7263157894736843E-10},{"$f":"$C$193*'Emissions per kg'!G151","v":3.1052631578947369E-8},{"$f":"$C$193*'Emissions per kg'!H151","v":9.6105263157894724E-4},{"$f":"$C$193*'Emissions per kg'!I151","v":2.1263157894736842E-4},{"$f":"$C$193*'Emissions per kg'!J151","v":4.3052631578947365E-3},{"$f":"$C$193*'Emissions per kg'!K151","v":1.8947368421052629E-2},{"$f":"$C$193*'Emissions per kg'!L151","v":6.3999999999999997E-5},{"$f":"$C$193*'Emissions per kg'!M151","v":8.3368421052631568E-4},{"$f":"$C$193*'Emissions per kg'!N151","v":0.49894736842105258},{"$f":"$C$193*'Emissions per kg'!O151","v":42.105263157894733},{"$f":"$C$193*'Emissions per kg'!P151","v":4.2631578947368416},{"$f":"$C$193*'Emissions per kg'!Q151","v":1.0294736842105263},{"$f":"$C$193*'Emissions per kg'!R151","v":2.831578947368421E-7}]
[null,"processsing",{"$f":"(C195/(1-D194))/(1-D195)","v":1.0526315789473684},{"$f":"Calculation_original!D194","v":0.05},{"$f":"$C$194*'Emissions per kg'!C152","v":0.50315789473684203},{"$f":"$C$194*'Emissions per kg'!D152","v":4.052631578947369E-6},{"$f":"$C$194*'Emissions per kg'!E152","v":2.7894736842105261E-8},{"$f":"$C$194*'Emissions per kg'!F152","v":2.1052631578947367E-9},{"$f":"$C$194*'Emissions per kg'!G152","v":1.9789473684210525E-8},{"$f":"$C$194*'Emissions per kg'!H152","v":2.1999999999999999E-2},{"$f":"$C$194*'Emissions per kg'!I152","v":2.6842105263157894E-3},{"$f":"$C$194*'Emissions per kg'!J152","v":3.7999999999999996E-3},{"$f":"$C$194*'Emissions per kg'!K152","v":9.5894736842105262E-3},{"$f":"$C$194*'Emissions per kg'!L152","v":8.7894736842105251E-6},{"$f":"$C$194*'Emissions per kg'!M152","v":8.6526315789473679E-4},{"$f":"$C$194*'Emissions per kg'!N152","v":0.40842105263157896},{"$f":"$C$194*'Emissions per kg'!O152","v":3.3368421052631576},{"$f":"$C$194*'Emissions per kg'!P152","v":0.43684210526315786},{"$f":"$C$194*'Emissions per kg'!Q152","v":7.0315789473684207},{"$f":"$C$194*'Emissions per kg'!R152","v":4.5684210526315786E-7}]
[null,"packaging",{"$f":"C196","v":1},{"$f":"Calculation_original!D195","v":0},{"$f":"$C$195*'Emissions per kg'!C153","v":0.104},{"$f":"$C$195*'Emissions per kg'!D153","v":3.3499999999999998E-9},{"$f":"$C$195*'Emissions per kg'!E153","v":2.0899999999999999E-8},{"$f":"$C$195*'Emissions per kg'!F153","v":1.03E-9},{"$f":"$C$195*'Emissions per kg'!G153","v":-1.44E-8},{"$f":"$C$195*'Emissions per kg'!H153","v":2.3999999999999998E-3},{"$f":"$C$195*'Emissions per kg'!I153","v":4.3699999999999998E-5},{"$f":"$C$195*'Emissions per kg'!J153","v":2.0699999999999999E-4},{"$f":"$C$195*'Emissions per kg'!K153","v":2.5599999999999999E-4},{"$f":"$C$195*'Emissions per kg'!L153","v":4.6399999999999996E-6},{"$f":"$C$195*'Emissions per kg'!M153","v":7.9300000000000003E-5},{"$f":"$C$195*'Emissions per kg'!N153","v":0.13600000000000001},{"$f":"$C$195*'Emissions per kg'!O153","v":-29.4},{"$f":"$C$195*'Emissions per kg'!P153","v":-0.10100000000000001},{"$f":"$C$195*'Emissions per kg'!Q153","v":1.38},{"$f":"$C$195*'Emissions per kg'!R153","v":2.03E-6}]
[null,"retail",1,{"$f":"Calculation_original!D196","v":0.1},{"$f":"$C$196*'Emissions per kg'!C154","v":0.10299999999999999},{"$f":"$C$196*'Emissions per kg'!D154","v":8.6400000000000006E-8},{"$f":"$C$196*'Emissions per kg'!E154","v":1.6199999999999999E-8},{"$f":"$C$196*'Emissions per kg'!F154","v":7.5E-10},{"$f":"$C$196*'Emissions per kg'!G154","v":1.05E-8},{"$f":"$C$196*'Emissions per kg'!H154","v":7.0899999999999999E-3},{"$f":"$C$196*'Emissions per kg'!I154","v":7.4299999999999995E-4},{"$f":"$C$196*'Emissions per kg'!J154","v":6.7400000000000001E-4},{"$f":"$C$196*'Emissions per kg'!K154","v":2.66E-3},{"$f":"$C$196*'Emissions per kg'!L154","v":1.9700000000000002E-6},{"$f":"$C$196*'Emissions per kg'!M154","v":2.42E-4},{"$f":"$C$196*'Emissions per kg'!N154","v":0.27900000000000003},{"$f":"$C$196*'Emissions per kg'!O154","v":1.97},{"$f":"$C$196*'Emissions per kg'!P154","v":4.02E-2},{"$f":"$C$196*'Emissions per kg'!Q154","v":1.6},{"$f":"$C$196*'Emissions per kg'!R154","v":2.3900000000000001E-7}]
[null,"use ",null,{"$f":"Calculation_original!D197","v":0.19},{"$f":"$C$197*'Emissions per kg'!C155","v":0},{"$f":"$C$197*'Emissions per kg'!D155","v":0},{"$f":"$C$197*'Emissions per kg'!E155","v":0},{"$f":"$C$197*'Emissions per kg'!F155","v":0},{"$f":"$C$197*'Emissions per kg'!G155","v":0},{"$f":"$C$197*'Emissions per kg'!H155","v":0},{"$f":"$C$197*'Emissions per kg'!I155","v":0},{"$f":"$C$197*'Emissions per kg'!J155","v":0},{"$f":"$C$197*'Emissions per kg'!K155","v":0},{"$f":"$C$197*'Emissions per kg'!L155","v":0},{"$f":"$C$197*'Emissions per kg'!M155","v":0},{"$f":"$C$197*'Emissions per kg'!N155","v":0},{"$f":"$C$197*'Emissions per kg'!O155","v":0},{"$f":"$C$197*'Emissions per kg'!P155","v":0},{"$f":"$C$197*'Emissions per kg'!Q155","v":0},{"$f":"$C$197*'Emissions per kg'!R155","v":0}]
[null,"end of life P&R",{"$f":"D194*C194+D196*C196+C195*D195+C193*D193","v":0.15263157894736842},null,{"$f":"$C$198*'EoL emissions'!B4","v":5.1643685253182053E-2},{"$f":"$C$198*'EoL emissions'!C4","v":6.1797103340962517E-10},{"$f":"$C$198*'EoL emissions'!D4","v":5.7307585405184652E-8},{"$f":"$C$198*'EoL emissions'!E4","v":2.2922448144836151E-9},{"$f":"$C$198*'EoL emissions'!F4","v":1.1684432508953467E-9},{"$f":"$C$198*'EoL emissions'!G4","v":3.9130053843414631E-4},{"$f":"$C$198*'EoL emissions'!H4","v":6.9186742377543307E-5},{"$f":"$C$198*'EoL emissions'!I4","v":1.8332155075042187E-4},{"$f":"$C$198*'EoL emissions'!J4","v":7.4135676567839664E-4},{"$f":"$C$198*'EoL emissions'!K4","v":1.4593263344478783E-5},{"$f":"$C$198*'EoL emissions'!L4","v":8.3764339578339087E-5},{"$f":"$C$198*'EoL emissions'!M4","v":4.0521346338960269},{"$f":"$C$198*'EoL emissions'!N4","v":0.20944196235129786},{"$f":"$C$198*'EoL emissions'!O4","v":2.0283067150278734E-3},{"$f":"$C$198*'EoL emissions'!P4","v":-3.726260379530083E-2},{"$f":"$C$198*'EoL emissions'!Q4","v":-2.8283935030336943E-9}]
[null,"end of life HH",{"$f":"D197*C197","v":0},null,{"$f":"$C$199*'EoL emissions'!B5","v":0},{"$f":"$C$199*'EoL emissions'!C5","v":0},{"$f":"$C$199*'EoL emissions'!D5","v":0},{"$f":"$C$199*'EoL emissions'!E5","v":0},{"$f":"$C$199*'EoL emissions'!F5","v":0},{"$f":"$C$199*'EoL emissions'!G5","v":0},{"$f":"$C$199*'EoL emissions'!H5","v":0},{"$f":"$C$199*'EoL emissions'!I5","v":0},{"$f":"$C$199*'EoL emissions'!J5","v":0},{"$f":"$C$199*'EoL emissions'!K5","v":0},{"$f":"$C$199*'EoL emissions'!L5","v":0},{"$f":"$C$199*'EoL emissions'!M5","v":0},{"$f":"$C$199*'EoL emissions'!N5","v":0},{"$f":"$C$199*'EoL emissions'!O5","v":0},{"$f":"$C$199*'EoL emissions'!P5","v":0},{"$f":"$C$199*'EoL emissions'!Q5","v":0}]
["BANANAS",null,null,null,{"$f":"SUM(E193:E199)","v":0.90811736946370825},{"$f":"SUM(F193:F199)","v":4.1450311289281461E-6},1.2887074329992149E-7,6.3501395513257203E-9,4.8110548514053239E-8,3.2842353170013092E-2,3.7527288476407006E-3,9.1695847086451579E-3,3.2194198870941548E-2,9.3992737028689291E-5,2.1040117079993916E-3,5.3745030549486579,18.221547225509191,4.6412283067150266,11.003790027783648,3.0061716064969663E-6]
["Sugar1","SUGAR"]
[null,"agriculture ",{"$f":"C203/(1-D202)","v":1},{"$f":"Calculation_original!D202","v":0},{"$f":"$C$202*'Emissions per kg'!C158","v":0.44900000000000001},{"$f":"$C$202*'Emissions per kg'!D158","v":1.89E-8},{"$f":"$C$202*'Emissions per kg'!E158","v":2.4600000000000002E-6},{"$f":"$C$202*'Emissions per kg'!F158","v":1.88E-8},{"$f":"$C$202*'Emissions per kg'!G158","v":2.22E-7},{"$f":"$C$202*'Emissions per kg'!H158","v":2E-3},{"$f":"$C$202*'Emissions per kg'!I158","v":7.2199999999999999E-4},{"$f":"$C$202*'Emissions per kg'!J158","v":3.1300000000000001E-2},{"$f":"$C$202*'Emissions per kg'!K158","v":0.14000000000000001},{"$f":"$C$202*'Emissions per kg'!L158","v":2.0900000000000001E-4},{"$f":"$C$202*'Emissions per kg'!M158","v":1.5699999999999999E-2},{"$f":"$C$202*'Emissions per kg'!N158","v":2.34},{"$f":"$C$202*'Emissions per kg'!O158","v":122},{"$f":"$C$202*'Emissions per kg'!P158","v":3.1800000000000002E-2},{"$f":"$C$202*'Emissions per kg'!Q158","v":2.0699999999999998},{"$f":"$C$202*'Emissions per kg'!R158","v":1.5099999999999999E-6}]
[null,"processsing",{"$f":"(C204/(1-D203))/(1-D204)","v":1},{"$f":"Calculation_original!D203","v":0},{"$f":"$C$203*'Emissions per kg'!C159","v":0.30099999999999999},{"$f":"$C$203*'Emissions per kg'!D159","v":1.62E-9},{"$f":"$C$203*'Emissions per kg'!E159","v":1.39E-9},{"$f":"$C$203*'Emissions per kg'!F159","v":1.8400000000000001E-10},{"$f":"$C$203*'Emissions per kg'!G159","v":5.0300000000000002E-9},{"$f":"$C$203*'Emissions per kg'!H159","v":2.3600000000000001E-3},{"$f":"$C$203*'Emissions per kg'!I159","v":8.7699999999999996E-4},{"$f":"$C$203*'Emissions per kg'!J159","v":8.3199999999999995E-4},{"$f":"$C$203*'Emissions per kg'!K159","v":3.4299999999999999E-3},{"$f":"$C$203*'Emissions per kg'!L159","v":8.6199999999999996E-7},{"$f":"$C$203*'Emissions per kg'!M159","v":3.1300000000000002E-4},{"$f":"$C$203*'Emissions per kg'!N159","v":2.8400000000000002E-2},{"$f":"$C$203*'Emissions per kg'!O159","v":1.21E-2},{"$f":"$C$203*'Emissions per kg'!P159","v":6.5199999999999994E-2},{"$f":"$C$203*'Emissions per kg'!Q159","v":4.75},{"$f":"$C$203*'Emissions per kg'!R159","v":3.1499999999999998E-8}]
[null,"packaging",{"$f":"C205","v":1},{"$f":"Calculation_original!D204","v":0},{"$f":"$C$204*'Emissions per kg'!C160","v":0.02},{"$f":"$C$204*'Emissions per kg'!D160","v":1.39E-9},{"$f":"$C$204*'Emissions per kg'!E160","v":2.0500000000000002E-9},{"$f":"$C$204*'Emissions per kg'!F160","v":1.9100000000000001E-10},{"$f":"$C$204*'Emissions per kg'!G160","v":8.5199999999999995E-10},{"$f":"$C$204*'Emissions per kg'!H160","v":9.6000000000000002E-4},{"$f":"$C$204*'Emissions per kg'!I160","v":4.5899999999999998E-5},{"$f":"$C$204*'Emissions per kg'!J160","v":9.8099999999999999E-5},{"$f":"$C$204*'Emissions per kg'!K160","v":1.6000000000000001E-4},{"$f":"$C$204*'Emissions per kg'!L160","v":1.0499999999999999E-6},{"$f":"$C$204*'Emissions per kg'!M160","v":1.77E-5},{"$f":"$C$204*'Emissions per kg'!N160","v":1.18E-2},{"$f":"$C$204*'Emissions per kg'!O160","v":0.26800000000000002},{"$f":"$C$204*'Emissions per kg'!P160","v":6.0099999999999997E-3},{"$f":"$C$204*'Emissions per kg'!Q160","v":0.29399999999999998},{"$f":"$C$204*'Emissions per kg'!R160","v":1.5800000000000001E-7}]
[null,"retail",1,{"$f":"Calculation_original!D205","v":0},{"$f":"$C$205*'Emissions per kg'!C161","v":7.8200000000000006E-2},{"$f":"$C$205*'Emissions per kg'!D161","v":1.74E-8},{"$f":"$C$205*'Emissions per kg'!E161","v":1.28E-8},{"$f":"$C$205*'Emissions per kg'!F161","v":6.0199999999999999E-10},{"$f":"$C$205*'Emissions per kg'!G161","v":8.1500000000000002E-9},{"$f":"$C$205*'Emissions per kg'!H161","v":5.64E-3},{"$f":"$C$205*'Emissions per kg'!I161","v":5.6999999999999998E-4},{"$f":"$C$205*'Emissions per kg'!J161","v":5.2400000000000005E-4},{"$f":"$C$205*'Emissions per kg'!K161","v":2.0500000000000002E-3},{"$f":"$C$205*'Emissions per kg'!L161","v":1.68E-6},{"$f":"$C$205*'Emissions per kg'!M161","v":1.8599999999999999E-4},{"$f":"$C$205*'Emissions per kg'!N161","v":0.218},{"$f":"$C$205*'Emissions per kg'!O161","v":1.44},{"$f":"$C$205*'Emissions per kg'!P161","v":3.73E-2},{"$f":"$C$205*'Emissions per kg'!Q161","v":1.26},{"$f":"$C$205*'Emissions per kg'!R161","v":1.97E-7}]
[null,"use ",null,{"$f":"Calculation_original!D206","v":0.17199999999999999},{"$f":"$C$206*'Emissions per kg'!C162","v":0},{"$f":"$C$206*'Emissions per kg'!D162","v":0},{"$f":"$C$206*'Emissions per kg'!E162","v":0},{"$f":"$C$206*'Emissions per kg'!F162","v":0},{"$f":"$C$206*'Emissions per kg'!G162","v":0},{"$f":"$C$206*'Emissions per kg'!H162","v":0},{"$f":"$C$206*'Emissions per kg'!I162","v":0},{"$f":"$C$206*'Emissions per kg'!J162","v":0},{"$f":"$C$206*'Emissions per kg'!K162","v":0},{"$f":"$C$206*'Emissions per kg'!L162","v":0},{"$f":"$C$206*'Emissions per kg'!M162","v":0},{"$f":"$C$206*'Emissions per kg'!N162","v":0},{"$f":"$C$206*'Emissions per kg'!O162","v":0},{"$f":"$C$206*'Emissions per kg'!P162","v":0},{"$f":"$C$206*'Emissions per kg'!Q162","v":0},{"$f":"$C$206*'Emissions per kg'!R162","v":0}]
[null,"end of life P&R",{"$f":"D203*C203+D205*C205+C204*D204+C202*D202","v":0},null,{"$f":"$C$207*'EoL emissions'!B4","v":0},{"$f":"$C$207*'EoL emissions'!C4","v":0},{"$f":"$C$207*'EoL emissions'!D4","v":0},{"$f":"$C$207*'EoL emissions'!E4","v":0},{"$f":"$C$207*'EoL emissions'!F4","v":0},{"$f":"$C$207*'EoL emissions'!G4","v":0},{"$f":"$C$207*'EoL emissions'!H4","v":0},{"$f":"$C$207*'EoL emissions'!I4","v":0},{"$f":"$C$207*'EoL emissions'!J4","v":0},{"$f":"$C$207*'EoL emissions'!K4","v":0},{"$f":"$C$207*'EoL emissions'!L4","v":0},{"$f":"$C$207*'EoL emissions'!M4","v":0},{"$f":"$C$207*'EoL emissions'!N4","v":0},{"$f":"$C$207*'EoL emissions'!O4","v":0},{"$f":"$C$207*'EoL emissions'!P4","v":0},{"$f":"$C$207*'EoL emissions'!Q4","v":0}]
[null,"end of life HH",{"$f":"D206*C206","v":0},null,{"$f":"$C$208*'EoL emissions'!B5","v":0},{"$f":"$C$208*'EoL emissions'!C5","v":0},{"$f":"$C$208*'EoL emissions'!D5","v":0},{"$f":"$C$208*'EoL emissions'!E5","v":0},{"$f":"$C$208*'EoL emissions'!F5","v":0},{"$f":"$C$208*'EoL emissions'!G5","v":0},{"$f":"$C$208*'EoL emissions'!H5","v":0},{"$f":"$C$208*'EoL emissions'!I5","v":0},{"$f":"$C$208*'EoL emissions'!J5","v":0},{"$f":"$C$208*'EoL emissions'!K5","v":0},{"$f":"$C$208*'EoL emissions'!L5","v":0},{"$f":"$C$208*'EoL emissions'!M5","v":0},{"$f":"$C$208*'EoL emissions'!N5","v":0},{"$f":"$C$208*'EoL emissions'!O5","v":0},{"$f":"$C$208*'EoL emissions'!P5","v":0},{"$f":"$C$208*'EoL emissions'!Q5","v":0}]
["SUGAR",null,null,null,{"$f":"SUM(E202:E208)","v":0.84820000000000007},{"$f":"SUM(F202:F208)","v":3.9309999999999999E-8},2.4762399999999999E-6,1.9777000000000002E-8,2.3603200000000001E-7,1.0960000000000001E-2,2.2148999999999997E-3,3.2754099999999994E-2,0.14563999999999999,2.12592E-4,1.6216699999999997E-2,2.5981999999999998,123.7201,0.14030999999999999,8.3740000000000006,1.8965E-6]
["Confectionery","BISCUITS"]
[null,"agriculture ",{"$f":"C212/(1-D211)","v":1.0235414534288638},{"$f":"Calculation_original!D211","v":0},{"$f":"$C$211*'Emissions per kg'!C165","v":1.4329580348004092},{"$f":"$C$211*'Emissions per kg'!D165","v":9.7338792221084955E-9},{"$f":"$C$211*'Emissions per kg'!E165","v":2.7123848515864893E-6},{"$f":"$C$211*'Emissions per kg'!F165","v":2.4667349027635618E-8},{"$f":"$C$211*'Emissions per kg'!G165","v":2.3746161719549642E-7},{"$f":"$C$211*'Emissions per kg'!H165","v":7.0931422722620265E-3},{"$f":"$C$211*'Emissions per kg'!I165","v":1.2384851586489251E-3},{"$f":"$C$211*'Emissions per kg'!J165","v":3.2650972364380755E-2},{"$f":"$C$211*'Emissions per kg'!K165","v":0.14534288638689866},{"$f":"$C$211*'Emissions per kg'!L165","v":2.5486182190378705E-4},{"$f":"$C$211*'Emissions per kg'!M165","v":1.5557830092118729E-2},{"$f":"$C$211*'Emissions per kg'!N165","v":7.3694984646878199},{"$f":"$C$211*'Emissions per kg'!O165","v":235.41453428863869},{"$f":"$C$211*'Emissions per kg'!P165","v":0.57625383828045029},{"$f":"$C$211*'Emissions per kg'!Q165","v":3.7052200614124873},{"$f":"$C$211*'Emissions per kg'!R165","v":4.3398157625383822E-7}]
[null,"processsing",{"$f":"(C213/(1-D212))/(1-D213)","v":1.0235414534288638},{"$f":"Calculation_original!D212","v":2.3E-2},{"$f":"$C$212*'Emissions per kg'!C166","v":1.0542476970317298},{"$f":"$C$212*'Emissions per kg'!D166","v":1.0849539406345956E-7},{"$f":"$C$212*'Emissions per kg'!E166","v":4.1965199590583419E-8},{"$f":"$C$212*'Emissions per kg'!F166","v":4.7082906857727738E-9},{"$f":"$C$212*'Emissions per kg'!G166","v":2.1084953940634593E-8},{"$f":"$C$212*'Emissions per kg'!H166","v":6.9907881269191396E-2},{"$f":"$C$212*'Emissions per kg'!I166","v":2.2517911975435006E-3},{"$f":"$C$212*'Emissions per kg'!J166","v":3.8894575230296823E-3},{"$f":"$C$212*'Emissions per kg'!K166","v":7.4923234390992834E-3},{"$f":"$C$212*'Emissions per kg'!L166","v":8.9252814738996936E-5},{"$f":"$C$212*'Emissions per kg'!M166","v":7.7277379733879225E-4},{"$f":"$C$212*'Emissions per kg'!N166","v":0.3336745138178096},{"$f":"$C$212*'Emissions per kg'!O166","v":5.7215967246673483},{"$f":"$C$212*'Emissions per kg'!P166","v":0.81166837256908908},{"$f":"$C$212*'Emissions per kg'!Q166","v":16.479017400204707},{"$f":"$C$212*'Emissions per kg'!R166","v":1.007164790174002E-6}]
[null,"packaging",{"$f":"C214","v":1},{"$f":"Calculation_original!D213","v":0},{"$f":"$C$213*'Emissions per kg'!C167","v":0.30399999999999999},{"$f":"$C$213*'Emissions per kg'!D167","v":1.35E-8},{"$f":"$C$213*'Emissions per kg'!E167","v":4.5900000000000001E-8},{"$f":"$C$213*'Emissions per kg'!F167","v":1.9000000000000001E-9},{"$f":"$C$213*'Emissions per kg'!G167","v":-1.2299999999999999E-8},{"$f":"$C$213*'Emissions per kg'!H167","v":1.8700000000000001E-2},{"$f":"$C$213*'Emissions per kg'!I167","v":4.2900000000000002E-4},{"$f":"$C$213*'Emissions per kg'!J167","v":1.39E-3},{"$f":"$C$213*'Emissions per kg'!K167","v":1.49E-3},{"$f":"$C$213*'Emissions per kg'!L167","v":1.7900000000000001E-5},{"$f":"$C$213*'Emissions per kg'!M167","v":1.5200000000000001E-4},{"$f":"$C$213*'Emissions per kg'!N167","v":0.185},{"$f":"$C$213*'Emissions per kg'!O167","v":-36.799999999999997},{"$f":"$C$213*'Emissions per kg'!P167","v":-9.3399999999999997E-2},{"$f":"$C$213*'Emissions per kg'!Q167","v":4.6500000000000004},{"$f":"$C$213*'Emissions per kg'!R167","v":2.65E-6}]
[null,"retail",1,{"$f":"Calculation_original!D214","v":0.02},{"$f":"$C$214*'Emissions per kg'!C168","v":8.9499999999999996E-2},{"$f":"$C$214*'Emissions per kg'!D168","v":2E-8},{"$f":"$C$214*'Emissions per kg'!E168","v":1.4699999999999999E-8},{"$f":"$C$214*'Emissions per kg'!F168","v":6.88E-10},{"$f":"$C$214*'Emissions per kg'!G168","v":9.4099999999999996E-9},{"$f":"$C$214*'Emissions per kg'!H168","v":6.3800000000000003E-3},{"$f":"$C$214*'Emissions per kg'!I168","v":6.5700000000000003E-4},{"$f":"$C$214*'Emissions per kg'!J168","v":6.0099999999999997E-4},{"$f":"$C$214*'Emissions per kg'!K168","v":2.3600000000000001E-3},{"$f":"$C$214*'Emissions per kg'!L168","v":1.8500000000000001E-6},{"$f":"$C$214*'Emissions per kg'!M168","v":2.1499999999999999E-4},{"$f":"$C$214*'Emissions per kg'!N168","v":0.252},{"$f":"$C$214*'Emissions per kg'!O168","v":1.65},{"$f":"$C$214*'Emissions per kg'!P168","v":3.8800000000000001E-2},{"$f":"$C$214*'Emissions per kg'!Q168","v":1.43},{"$f":"$C$214*'Emissions per kg'!R168","v":2.2499999999999999E-7}]
[null,"use ",null,{"$f":"Calculation_original!D215","v":4.2999999999999997E-2},{"$f":"$C$215*'Emissions per kg'!C169","v":0},{"$f":"$C$215*'Emissions per kg'!D169","v":0},{"$f":"$C$215*'Emissions per kg'!E169","v":0},{"$f":"$C$215*'Emissions per kg'!F169","v":0},{"$f":"$C$215*'Emissions per kg'!G169","v":0},{"$f":"$C$215*'Emissions per kg'!H169","v":0},{"$f":"$C$215*'Emissions per kg'!I169","v":0},{"$f":"$C$215*'Emissions per kg'!J169","v":0},{"$f":"$C$215*'Emissions per kg'!K169","v":0},{"$f":"$C$215*'Emissions per kg'!L169","v":0},{"$f":"$C$215*'Emissions per kg'!M169","v":0},{"$f":"$C$215*'Emissions per kg'!N169","v":0},{"$f":"$C$215*'Emissions per kg'!O169","v":0},{"$f":"$C$215*'Emissions per kg'!P169","v":0},{"$f":"$C$215*'Emissions per kg'!Q169","v":0},{"$f":"$C$215*'Emissions per kg'!R169","v":0}]
[null,"end of life P&R",{"$f":"D212*C212+D214*C214+C213*D213+C211*D211","v":4.3541453428863869E-2},null,{"$f":"$C$216*'EoL emissions'!B4","v":1.4732476279510439E-2},{"$f":"$C$216*'EoL emissions'!C4","v":1.7628958015870668E-10},{"$f":"$C$216*'EoL emissions'!D4","v":1.6348226089575598E-8},{"$f":"$C$216*'EoL emissions'!E4","v":6.5391232617602324E-10},{"$f":"$C$216*'EoL emissions'!F4","v":3.3332366567912778E-10},{"$f":"$C$216*'EoL emissions'!G4","v":1.1162692732671553E-4},{"$f":"$C$216*'EoL emissions'!H4","v":1.9737012103932925E-5},{"$f":"$C$216*'EoL emissions'!I4","v":5.2296430526077715E-5},{"$f":"$C$216*'EoL emissions'!J4","v":2.1148802436283517E-4},{"$f":"$C$216*'EoL emissions'!K4","v":4.1630434584436594E-6},{"$f":"$C$216*'EoL emissions'!L4","v":2.3895586456636553E-5},{"$f":"$C$216*'EoL emissions'!M4","v":1.1559588957021152},{"$f":"$C$216*'EoL emissions'!N4","v":5.9747841912278971E-2},{"$f":"$C$216*'EoL emissions'!O4","v":5.7861828450514561E-4},{"$f":"$C$216*'EoL emissions'!P4","v":-1.0629962285529189E-2},{"$f":"$C$216*'EoL emissions'!Q4","v":-8.068603158020731E-10}]
[null,"end of life HH",{"$f":"D215*C215","v":0},null,{"$f":"$C$217*'EoL emissions'!B5","v":0},{"$f":"$C$217*'EoL emissions'!C5","v":0},{"$f":"$C$217*'EoL emissions'!D5","v":0},{"$f":"$C$217*'EoL emissions'!E5","v":0},{"$f":"$C$217*'EoL emissions'!F5","v":0},{"$f":"$C$217*'EoL emissions'!G5","v":0},{"$f":"$C$217*'EoL emissions'!H5","v":0},{"$f":"$C$217*'EoL emissions'!I5","v":0},{"$f":"$C$217*'EoL emissions'!J5","v":0},{"$f":"$C$217*'EoL emissions'!K5","v":0},{"$f":"$C$217*'EoL emissions'!L5","v":0},{"$f":"$C$217*'EoL emissions'!M5","v":0},{"$f":"$C$217*'EoL emissions'!N5","v":0},{"$f":"$C$217*'EoL emissions'!O5","v":0},{"$f":"$C$217*'EoL emissions'!P5","v":0},{"$f":"$C$217*'EoL emissions'!Q5","v":0}]
["BISCUITS",null,null,null,{"$f":"SUM(E211:E217)","v":2.8954382081116496},{"$f":"SUM(F211:F217)","v":1.5190556286572676E-7},2.831298277266648E-6,3.2617552039584415E-8,2.5598989480181006E-7,0.10219265046878015,4.5960133682963582E-3,3.8583726317936516E-2,0.15689669785036076,3.6802768010122766E-4,1.6721499475914156E-2,9.2961318742077452,206.04587885521832,1.3339008291340444,26.253607499331665,4.3153395061120387E-6]
["Confectionery","CHOCOLATE"]
[null,"agriculture ",{"$f":"C221/(1-D220)","v":1.0526315789473684},{"$f":"Calculation_original!D220","v":0},{"$f":"$C$220*'Emissions per kg'!C172","v":0.17263157894736841},{"$f":"$C$220*'Emissions per kg'!D172","v":1.8210526315789471E-8},{"$f":"$C$220*'Emissions per kg'!E172","v":5.2947368421052624E-7},{"$f":"$C$220*'Emissions per kg'!F172","v":3.6105263157894733E-9},{"$f":"$C$220*'Emissions per kg'!G172","v":4.5473684210526319E-8},{"$f":"$C$220*'Emissions per kg'!H172","v":5.4315789473684201E-3},{"$f":"$C$220*'Emissions per kg'!I172","v":6.2E-4},{"$f":"$C$220*'Emissions per kg'!J172","v":6.3789473684210526E-3},{"$f":"$C$220*'Emissions per kg'!K172","v":2.1789473684210525E-2},{"$f":"$C$220*'Emissions per kg'!L172","v":5.3578947368421044E-5},{"$f":"$C$220*'Emissions per kg'!M172","v":2.4421052631578948E-3},{"$f":"$C$220*'Emissions per kg'!N172","v":52.105263157894733},{"$f":"$C$220*'Emissions per kg'!O172","v":70.315789473684205},{"$f":"$C$220*'Emissions per kg'!P172","v":0.32315789473684209},{"$f":"$C$220*'Emissions per kg'!Q172","v":2.5263157894736841},{"$f":"$C$220*'Emissions per kg'!R172","v":7.4210526315789476E-6}]
[null,"processsing",{"$f":"(C222/(1-D221))/(1-D222)","v":1.0526315789473684},{"$f":"Calculation_original!D221","v":0.05},{"$f":"$C$221*'Emissions per kg'!C173","v":1.0136842105263157},{"$f":"$C$221*'Emissions per kg'!D173","v":1.1157894736842105E-7},{"$f":"$C$221*'Emissions per kg'!E173","v":5.5052631578947365E-8},{"$f":"$C$221*'Emissions per kg'!F173","v":5.273684210526315E-9},{"$f":"$C$221*'Emissions per kg'!G173","v":5.2421052631578947E-8},{"$f":"$C$221*'Emissions per kg'!H173","v":6.3684210526315788E-2},{"$f":"$C$221*'Emissions per kg'!I173","v":5.3789473684210526E-3},{"$f":"$C$221*'Emissions per kg'!J173","v":6.7263157894736835E-3},{"$f":"$C$221*'Emissions per kg'!K173","v":1.957894736842105E-2},{"$f":"$C$221*'Emissions per kg'!L173","v":4.0526315789473684E-5},{"$f":"$C$221*'Emissions per kg'!M173","v":1.7789473684210527E-3},{"$f":"$C$221*'Emissions per kg'!N173","v":0.56210526315789477},{"$f":"$C$221*'Emissions per kg'!O173","v":6.9894736842105258},{"$f":"$C$221*'Emissions per kg'!P173","v":0.55052631578947364},{"$f":"$C$221*'Emissions per kg'!Q173","v":18.315789473684209},{"$f":"$C$221*'Emissions per kg'!R173","v":1.2736842105263159E-6}]
[null,"packaging",{"$f":"C223","v":1},{"$f":"Calculation_original!D222","v":0},{"$f":"$C$222*'Emissions per kg'!C174","v":0.39800000000000002},{"$f":"$C$222*'Emissions per kg'!D174","v":8.3700000000000002E-8},{"$f":"$C$222*'Emissions per kg'!E174","v":4.8300000000000002E-8},{"$f":"$C$222*'Emissions per kg'!F174","v":5.0099999999999999E-9},{"$f":"$C$222*'Emissions per kg'!G174","v":1.0600000000000001E-8},{"$f":"$C$222*'Emissions per kg'!H174","v":1.26E-2},{"$f":"$C$222*'Emissions per kg'!I174","v":9.4700000000000003E-4},{"$f":"$C$222*'Emissions per kg'!J174","v":2.2399999999999998E-3},{"$f":"$C$222*'Emissions per kg'!K174","v":3.3500000000000001E-3},{"$f":"$C$222*'Emissions per kg'!L174","v":1.91E-5},{"$f":"$C$222*'Emissions per kg'!M174","v":3.2600000000000001E-4},{"$f":"$C$222*'Emissions per kg'!N174","v":0.26900000000000002},{"$f":"$C$222*'Emissions per kg'!O174","v":-20},{"$f":"$C$222*'Emissions per kg'!P174","v":6.5600000000000006E-2},{"$f":"$C$222*'Emissions per kg'!Q174","v":5.74},{"$f":"$C$222*'Emissions per kg'!R174","v":6.3099999999999997E-6}]
[null,"retail",1,{"$f":"Calculation_original!D223","v":0.01},{"$f":"$C$223*'Emissions per kg'!C175","v":8.6699999999999999E-2},{"$f":"$C$223*'Emissions per kg'!D175","v":1.9300000000000001E-8},{"$f":"$C$223*'Emissions per kg'!E175","v":1.42E-8},{"$f":"$C$223*'Emissions per kg'!F175","v":6.6699999999999997E-10},{"$f":"$C$223*'Emissions per kg'!G175","v":9.1100000000000002E-9},{"$f":"$C$223*'Emissions per kg'!H175","v":6.1999999999999998E-3},{"$f":"$C$223*'Emissions per kg'!I175","v":6.3599999999999996E-4},{"$f":"$C$223*'Emissions per kg'!J175","v":5.8200000000000005E-4},{"$f":"$C$223*'Emissions per kg'!K175","v":2.2799999999999999E-3},{"$f":"$C$223*'Emissions per kg'!L175","v":1.81E-6},{"$f":"$C$223*'Emissions per kg'!M175","v":2.0799999999999999E-4},{"$f":"$C$223*'Emissions per kg'!N175","v":0.24399999999999999},{"$f":"$C$223*'Emissions per kg'!O175","v":1.6},{"$f":"$C$223*'Emissions per kg'!P175","v":3.8399999999999997E-2},{"$f":"$C$223*'Emissions per kg'!Q175","v":1.39},{"$f":"$C$223*'Emissions per kg'!R175","v":2.1799999999999999E-7}]
[null,"use ",null,{"$f":"Calculation_original!D224","v":4.3999999999999997E-2},{"$f":"$C$224*'Emissions per kg'!C176","v":0},{"$f":"$C$224*'Emissions per kg'!D176","v":0},{"$f":"$C$224*'Emissions per kg'!E176","v":0},{"$f":"$C$224*'Emissions per kg'!F176","v":0},{"$f":"$C$224*'Emissions per kg'!G176","v":0},{"$f":"$C$224*'Emissions per kg'!H176","v":0},{"$f":"$C$224*'Emissions per kg'!I176","v":0},{"$f":"$C$224*'Emissions per kg'!J176","v":0},{"$f":"$C$224*'Emissions per kg'!K176","v":0},{"$f":"$C$224*'Emissions per kg'!L176","v":0},{"$f":"$C$224*'Emissions per kg'!M176","v":0},{"$f":"$C$224*'Emissions per kg'!N176","v":0},{"$f":"$C$224*'Emissions per kg'!O176","v":0},{"$f":"$C$224*'Emissions per kg'!P176","v":0},{"$f":"$C$224*'Emissions per kg'!Q176","v":0},{"$f":"$C$224*'Emissions per kg'!R176","v":0}]
[null,"end of life P&R",{"$f":"D221*C221+D223*C223+C222*D222+C220*D220","v":6.2631578947368413E-2},null,{"$f":"$C$225*'EoL emissions'!B4","v":2.1191719121133323E-2},{"$f":"$C$225*'EoL emissions'!C4","v":2.5358121715774271E-10},{"$f":"$C$225*'EoL emissions'!D4","v":2.351587125247232E-8},{"$f":"$C$225*'EoL emissions'!E4","v":9.4061080318465567E-10},{"$f":"$C$225*'EoL emissions'!F4","v":4.7946464433291805E-10},{"$f":"$C$225*'EoL emissions'!G4","v":1.6056815197814967E-4},{"$f":"$C$225*'EoL emissions'!H4","v":2.8390421872164319E-5},{"$f":"$C$225*'EoL emissions'!I4","v":7.5225050135517928E-5},{"$f":"$C$225*'EoL emissions'!J4","v":3.0421191419216964E-4},{"$f":"$C$225*'EoL emissions'!K4","v":5.9882701310102585E-6},{"$f":"$C$225*'EoL emissions'!L4","v":3.4372263482146036E-5},{"$f":"$C$225*'EoL emissions'!M4","v":1.6627724877021628},{"$f":"$C$225*'EoL emissions'!N4","v":8.594342593036014E-2},{"$f":"$C$225*'EoL emissions'!O4","v":8.3230516927005824E-4},{"$f":"$C$225*'EoL emissions'!P4","v":-1.5290516729795856E-2},{"$f":"$C$225*'EoL emissions'!Q4","v":-1.160616644348309E-9}]
[null,"end of life HH",{"$f":"D224*C224","v":0},null,{"$f":"$C$226*'EoL emissions'!B5","v":0},{"$f":"$C$226*'EoL emissions'!C5","v":0},{"$f":"$C$226*'EoL emissions'!D5","v":0},{"$f":"$C$226*'EoL emissions'!E5","v":0},{"$f":"$C$226*'EoL emissions'!F5","v":0},{"$f":"$C$226*'EoL emissions'!G5","v":0},{"$f":"$C$226*'EoL emissions'!H5","v":0},{"$f":"$C$226*'EoL emissions'!I5","v":0},{"$f":"$C$226*'EoL emissions'!J5","v":0},{"$f":"$C$226*'EoL emissions'!K5","v":0},{"$f":"$C$226*'EoL emissions'!L5","v":0},{"$f":"$C$226*'EoL emissions'!M5","v":0},{"$f":"$C$226*'EoL emissions'!N5","v":0},{"$f":"$C$226*'EoL emissions'!O5","v":0},{"$f":"$C$226*'EoL emissions'!P5","v":0},{"$f":"$C$226*'EoL emissions'!Q5","v":0}]
["CHOCOLATE",null,null,null,{"$f":"SUM(E220:E226)","v":1.6922075085948176},{"$f":"SUM(F220:F226)","v":2.3304305490136827E-7},6.7054218704194593E-7,1.5501821329500443E-8,1.180842014864382E-7,8.8076357625662363E-2,7.6103377902932172E-3,1.6002488208030255E-2,4.7302632966823743E-2,1.21003533288905E-4,4.7894248950610934E-3,54.843140908754791,58.99120658382509,0.97851651569558573,27.956814746428098,1.5221576225460915E-5]
["Nuts","ALMONDS"]
[null,"agriculture ",{"$f":"C230/(1-D229)","v":1.0810810810810809},{"$f":"Calculation_original!D229","v":0},{"$f":"$C$229*'Emissions per kg'!C179","v":4.6054054054054046},{"$f":"$C$229*'Emissions per kg'!D179","v":2.0648648648648647E-7},{"$f":"$C$229*'Emissions per kg'!E179","v":6.6594594594594581E-8},{"$f":"$C$229*'Emissions per kg'!F179","v":6.8756756756756753E-9},{"$f":"$C$229*'Emissions per kg'!G179","v":7.4270270270270262E-7},{"$f":"$C$229*'Emissions per kg'!H179","v":8.1945945945945939E-2},{"$f":"$C$229*'Emissions per kg'!I179","v":2.0108108108108102E-2},{"$f":"$C$229*'Emissions per kg'!J179","v":9.0270270270270264E-2},{"$f":"$C$229*'Emissions per kg'!K179","v":0.40108108108108104},{"$f":"$C$229*'Emissions per kg'!L179","v":4.7891891891891887E-3},{"$f":"$C$229*'Emissions per kg'!M179","v":2.0756756756756752E-2},{"$f":"$C$229*'Emissions per kg'!N179","v":39.567567567567565},{"$f":"$C$229*'Emissions per kg'!O179","v":1243.2432432432431},{"$f":"$C$229*'Emissions per kg'!P179","v":352.43243243243239},{"$f":"$C$229*'Emissions per kg'!Q179","v":47.567567567567558},{"$f":"$C$229*'Emissions per kg'!R179","v":1.5459459459459457E-5}]
[null,"processsing",{"$f":"(C231/(1-D230))/(1-D231)","v":1.0810810810810809},{"$f":"Calculation_original!D230","v":7.4999999999999997E-2},{"$f":"$C$230*'Emissions per kg'!C180","v":0.28972972972972971},{"$f":"$C$230*'Emissions per kg'!D180","v":5.232432432432432E-8},{"$f":"$C$230*'Emissions per kg'!E180","v":3.0054054054054052E-8},{"$f":"$C$230*'Emissions per kg'!F180","v":2.1189189189189185E-9},{"$f":"$C$230*'Emissions per kg'!G180","v":1.8810810810810809E-8},{"$f":"$C$230*'Emissions per kg'!H180","v":2.5621621621621616E-2},{"$f":"$C$230*'Emissions per kg'!I180","v":2.3459459459459456E-3},{"$f":"$C$230*'Emissions per kg'!J180","v":3.3621621621621614E-3},{"$f":"$C$230*'Emissions per kg'!K180","v":8.6162162162162145E-3},{"$f":"$C$230*'Emissions per kg'!L180","v":1.1675675675675674E-5},{"$f":"$C$230*'Emissions per kg'!M180","v":7.7837837837837836E-4},{"$f":"$C$230*'Emissions per kg'!N180","v":0.41621621621621618},{"$f":"$C$230*'Emissions per kg'!O180","v":3.5783783783783778},{"$f":"$C$230*'Emissions per kg'!P180","v":4.7891891891891886E-2},{"$f":"$C$230*'Emissions per kg'!Q180","v":4.9729729729729719},{"$f":"$C$230*'Emissions per kg'!R180","v":5.1351351351351344E-7}]
[null,"packaging",{"$f":"C232","v":1},{"$f":"Calculation_original!D231","v":0},{"$f":"$C$231*'Emissions per kg'!C181","v":8.5599999999999996E-2},{"$f":"$C$231*'Emissions per kg'!D181","v":3.6600000000000002E-9},{"$f":"$C$231*'Emissions per kg'!E181","v":3.9600000000000004E-9},{"$f":"$C$231*'Emissions per kg'!F181","v":5.6300000000000002E-10},{"$f":"$C$231*'Emissions per kg'!G181","v":3.24E-9},{"$f":"$C$231*'Emissions per kg'!H181","v":4.0299999999999997E-3},{"$f":"$C$231*'Emissions per kg'!I181","v":1.8699999999999999E-4},{"$f":"$C$231*'Emissions per kg'!J181","v":3.5799999999999997E-4},{"$f":"$C$231*'Emissions per kg'!K181","v":6.3500000000000004E-4},{"$f":"$C$231*'Emissions per kg'!L181","v":2.6199999999999999E-6},{"$f":"$C$231*'Emissions per kg'!M181","v":5.7899999999999998E-5},{"$f":"$C$231*'Emissions per kg'!N181","v":6.9199999999999998E-2},{"$f":"$C$231*'Emissions per kg'!O181","v":0.98599999999999999},{"$f":"$C$231*'Emissions per kg'!P181","v":4.7899999999999998E-2},{"$f":"$C$231*'Emissions per kg'!Q181","v":0.94199999999999995},{"$f":"$C$231*'Emissions per kg'!R181","v":2.4900000000000002E-7}]
[null,"retail",1,{"$f":"Calculation_original!D232","v":0.02},{"$f":"$C$232*'Emissions per kg'!C182","v":7.9899999999999999E-2},{"$f":"$C$232*'Emissions per kg'!D182","v":1.7800000000000001E-8},{"$f":"$C$232*'Emissions per kg'!E182","v":1.31E-8},{"$f":"$C$232*'Emissions per kg'!F182","v":6.1500000000000005E-10},{"$f":"$C$232*'Emissions per kg'!G182","v":8.3400000000000006E-9},{"$f":"$C$232*'Emissions per kg'!H182","v":5.7499999999999999E-3},{"$f":"$C$232*'Emissions per kg'!I182","v":5.8299999999999997E-4},{"$f":"$C$232*'Emissions per kg'!J182","v":5.3499999999999999E-4},{"$f":"$C$232*'Emissions per kg'!K182","v":2.0899999999999998E-3},{"$f":"$C$232*'Emissions per kg'!L182","v":1.7099999999999999E-6},{"$f":"$C$232*'Emissions per kg'!M182","v":1.9000000000000001E-4},{"$f":"$C$232*'Emissions per kg'!N182","v":0.223},{"$f":"$C$232*'Emissions per kg'!O182","v":1.47},{"$f":"$C$232*'Emissions per kg'!P182","v":3.7499999999999999E-2},{"$f":"$C$232*'Emissions per kg'!Q182","v":1.28},{"$f":"$C$232*'Emissions per kg'!R182","v":2.0100000000000001E-7}]
[null,"use ",null,{"$f":"Calculation_original!D233","v":0.04},{"$f":"$C$233*'Emissions per kg'!C183","v":0},{"$f":"$C$233*'Emissions per kg'!D183","v":0},{"$f":"$C$233*'Emissions per kg'!E183","v":0},{"$f":"$C$233*'Emissions per kg'!F183","v":0},{"$f":"$C$233*'Emissions per kg'!G183","v":0},{"$f":"$C$233*'Emissions per kg'!H183","v":0},{"$f":"$C$233*'Emissions per kg'!I183","v":0},{"$f":"$C$233*'Emissions per kg'!J183","v":0},{"$f":"$C$233*'Emissions per kg'!K183","v":0},{"$f":"$C$233*'Emissions per kg'!L183","v":0},{"$f":"$C$233*'Emissions per kg'!M183","v":0},{"$f":"$C$233*'Emissions per kg'!N183","v":0},{"$f":"$C$233*'Emissions per kg'!O183","v":0},{"$f":"$C$233*'Emissions per kg'!P183","v":0},{"$f":"$C$233*'Emissions per kg'!Q183","v":0},{"$f":"$C$233*'Emissions per kg'!R183","v":0}]
[null,"end of life P&R",{"$f":"D230*C230+D232*C232+C231*D231+C229*D229","v":0.10108108108108108},null,{"$f":"$C$234*'EoL emissions'!B4","v":3.4201307307466136E-2},{"$f":"$C$234*'EoL emissions'!C4","v":4.0925462846307511E-10},{"$f":"$C$234*'EoL emissions'!D4","v":3.7952255534878105E-8},{"$f":"$C$234*'EoL emissions'!E4","v":1.5180514120895215E-9},{"$f":"$C$234*'EoL emissions'!F4","v":7.7380780436741216E-10},{"$f":"$C$234*'EoL emissions'!G4","v":2.5914087848211029E-4},{"$f":"$C$234*'EoL emissions'!H4","v":4.5819290897933152E-5},{"$f":"$C$234*'EoL emissions'!I4","v":1.214056793692915E-4},{"$f":"$C$234*'EoL emissions'!J4","v":4.9096749085840506E-4},{"$f":"$C$234*'EoL emissions'!K4","v":9.6644668523640463E-6},{"$f":"$C$234*'EoL emissions'!L4","v":5.5473382762691289E-5},{"$f":"$C$234*'EoL emissions'!M4","v":2.683547875905421},{"$f":"$C$234*'EoL emissions'!N4","v":0.13870406192621831},{"$f":"$C$234*'EoL emissions'!O4","v":1.3432569913315998E-3},{"$f":"$C$234*'EoL emissions'!P4","v":-2.4677359046543123E-2},{"$f":"$C$234*'EoL emissions'!Q4","v":-1.8731187541992013E-9}]
[null,"end of life HH",{"$f":"D233*C233","v":0},null,{"$f":"$C$235*'EoL emissions'!B5","v":0},{"$f":"$C$235*'EoL emissions'!C5","v":0},{"$f":"$C$235*'EoL emissions'!D5","v":0},{"$f":"$C$235*'EoL emissions'!E5","v":0},{"$f":"$C$235*'EoL emissions'!F5","v":0},{"$f":"$C$235*'EoL emissions'!G5","v":0},{"$f":"$C$235*'EoL emissions'!H5","v":0},{"$f":"$C$235*'EoL emissions'!I5","v":0},{"$f":"$C$235*'EoL emissions'!J5","v":0},{"$f":"$C$235*'EoL emissions'!K5","v":0},{"$f":"$C$235*'EoL emissions'!L5","v":0},{"$f":"$C$235*'EoL emissions'!M5","v":0},{"$f":"$C$235*'EoL emissions'!N5","v":0},{"$f":"$C$235*'EoL emissions'!O5","v":0},{"$f":"$C$235*'EoL emissions'!P5","v":0},{"$f":"$C$235*'EoL emissions'!Q5","v":0}]
["ALMONDS",null,null,null,{"$f":"SUM(E229:E235)","v":5.0948364424426007},{"$f":"SUM(F229:F235)","v":2.806800654392739E-7},1.5166090418352675E-7,1.1690646006684116E-8,7.7386732131788083E-7,0.11760670844604967,2.326987334495198E-2,9.4646838111801704E-2,0.41291326478815565,4.8148593317172295E-3,2.1838508517897818E-2,42.959531659689198,1249.4163256835479,352.56706758131565,54.737863181493992,1.6421099854218773E-5]
["Drinks","COFFEE"]
[null,"agriculture ",{"$f":"C239/(1-D238)","v":1},{"$f":"Calculation_original!D238","v":0},{"$f":"$C$238*'Emissions per kg'!C186","v":2.68},{"$f":"$C$238*'Emissions per kg'!D186","v":4.2699999999999999E-8},{"$f":"$C$238*'Emissions per kg'!E186","v":6.9899999999999997E-8},{"$f":"$C$238*'Emissions per kg'!F186","v":3.77E-9},{"$f":"$C$238*'Emissions per kg'!G186","v":5.44E-7},{"$f":"$C$238*'Emissions per kg'!H186","v":2.18E-2},{"$f":"$C$238*'Emissions per kg'!I186","v":6.2100000000000002E-3},{"$f":"$C$238*'Emissions per kg'!J186","v":7.3200000000000001E-2},{"$f":"$C$238*'Emissions per kg'!K186","v":0.32400000000000001},{"$f":"$C$238*'Emissions per kg'!L186","v":3.77E-4},{"$f":"$C$238*'Emissions per kg'!M186","v":5.7799999999999997E-2},{"$f":"$C$238*'Emissions per kg'!N186","v":111},{"$f":"$C$238*'Emissions per kg'!O186","v":984},{"$f":"$C$238*'Emissions per kg'!P186","v":0.126},{"$f":"$C$238*'Emissions per kg'!Q186","v":20.7},{"$f":"$C$238*'Emissions per kg'!R186","v":5.2800000000000003E-6}]
[null,"processsing",{"$f":"(C240/(1-D239))/(1-D240)","v":1},{"$f":"Calculation_original!D239","v":0},{"$f":"$C$239*'Emissions per kg'!C187","v":6.63},{"$f":"$C$239*'Emissions per kg'!D187","v":6.2600000000000002E-7},{"$f":"$C$239*'Emissions per kg'!E187","v":4.8100000000000003E-7},{"$f":"$C$239*'Emissions per kg'!F187","v":5.6099999999999999E-8},{"$f":"$C$239*'Emissions per kg'!G187","v":1.4499999999999999E-7},{"$f":"$C$239*'Emissions per kg'!H187","v":0.876},{"$f":"$C$239*'Emissions per kg'!I187","v":1.66E-2},{"$f":"$C$239*'Emissions per kg'!J187","v":3.8899999999999997E-2},{"$f":"$C$239*'Emissions per kg'!K187","v":5.8700000000000002E-2},{"$f":"$C$239*'Emissions per kg'!L187","v":6.1799999999999995E-4},{"$f":"$C$239*'Emissions per kg'!M187","v":5.3200000000000001E-3},{"$f":"$C$239*'Emissions per kg'!N187","v":2.6},{"$f":"$C$239*'Emissions per kg'!O187","v":77.7},{"$f":"$C$239*'Emissions per kg'!P187","v":1.84},{"$f":"$C$239*'Emissions per kg'!Q187","v":141},{"$f":"$C$239*'Emissions per kg'!R187","v":1.2999999999999999E-5}]
[null,"packaging",{"$f":"C241","v":1},{"$f":"Calculation_original!D240","v":0},{"$f":"$C$240*'Emissions per kg'!C188","v":0.47299999999999998},{"$f":"$C$240*'Emissions per kg'!D188","v":1.08E-7},{"$f":"$C$240*'Emissions per kg'!E188","v":2.5600000000000001E-8},{"$f":"$C$240*'Emissions per kg'!F188","v":4.01E-9},{"$f":"$C$240*'Emissions per kg'!G188","v":1.6099999999999999E-8},{"$f":"$C$240*'Emissions per kg'!H188","v":2.0299999999999999E-2},{"$f":"$C$240*'Emissions per kg'!I188","v":9.6100000000000005E-4},{"$f":"$C$240*'Emissions per kg'!J188","v":1.75E-3},{"$f":"$C$240*'Emissions per kg'!K188","v":2.7599999999999999E-3},{"$f":"$C$240*'Emissions per kg'!L188","v":1.31E-5},{"$f":"$C$240*'Emissions per kg'!M188","v":3.0600000000000001E-4},{"$f":"$C$240*'Emissions per kg'!N188","v":0.23100000000000001},{"$f":"$C$240*'Emissions per kg'!O188","v":0.77100000000000002},{"$f":"$C$240*'Emissions per kg'!P188","v":8.7300000000000003E-2},{"$f":"$C$240*'Emissions per kg'!Q188","v":7.18},{"$f":"$C$240*'Emissions per kg'!R188","v":4.6399999999999996E-6}]
[null,"retail",1,{"$f":"Calculation_original!D241","v":0},{"$f":"$C$241*'Emissions per kg'!C189","v":0.10199999999999999},{"$f":"$C$241*'Emissions per kg'!D189","v":2.2799999999999999E-8},{"$f":"$C$241*'Emissions per kg'!E189","v":1.6800000000000002E-8},{"$f":"$C$241*'Emissions per kg'!F189","v":7.8299999999999998E-10},{"$f":"$C$241*'Emissions per kg'!G189","v":1.0800000000000001E-8},{"$f":"$C$241*'Emissions per kg'!H189","v":7.1999999999999998E-3},{"$f":"$C$241*'Emissions per kg'!I189","v":7.54E-4},{"$f":"$C$241*'Emissions per kg'!J189","v":6.8499999999999995E-4},{"$f":"$C$241*'Emissions per kg'!K189","v":2.7100000000000002E-3},{"$f":"$C$241*'Emissions per kg'!L189","v":2.03E-6},{"$f":"$C$241*'Emissions per kg'!M189","v":2.4600000000000002E-4},{"$f":"$C$241*'Emissions per kg'!N189","v":0.28999999999999998},{"$f":"$C$241*'Emissions per kg'!O189","v":1.89},{"$f":"$C$241*'Emissions per kg'!P189","v":4.0399999999999998E-2},{"$f":"$C$241*'Emissions per kg'!Q189","v":1.62},{"$f":"$C$241*'Emissions per kg'!R189","v":2.5699999999999999E-7}]
[null,"use ",null,{"$f":"Calculation_original!D242","v":0.32},{"$f":"$C$242*'Emissions per kg'!C190","v":0},{"$f":"$C$242*'Emissions per kg'!D190","v":0},{"$f":"$C$242*'Emissions per kg'!E190","v":0},{"$f":"$C$242*'Emissions per kg'!F190","v":0},{"$f":"$C$242*'Emissions per kg'!G190","v":0},{"$f":"$C$242*'Emissions per kg'!H190","v":0},{"$f":"$C$242*'Emissions per kg'!I190","v":0},{"$f":"$C$242*'Emissions per kg'!J190","v":0},{"$f":"$C$242*'Emissions per kg'!K190","v":0},{"$f":"$C$242*'Emissions per kg'!L190","v":0},{"$f":"$C$242*'Emissions per kg'!M190","v":0},{"$f":"$C$242*'Emissions per kg'!N190","v":0},{"$f":"$C$242*'Emissions per kg'!O190","v":0},{"$f":"$C$242*'Emissions per kg'!P190","v":0},{"$f":"$C$242*'Emissions per kg'!Q190","v":0},{"$f":"$C$242*'Emissions per kg'!R190","v":0}]
[null,"end of life P&R",{"$f":"D239*C239+D241*C241+C240*D240+C238*D238","v":0},null,{"$f":"$C$243*'EoL emissions'!B4","v":0},{"$f":"$C$243*'EoL emissions'!C4","v":0},{"$f":"$C$243*'EoL emissions'!D4","v":0},{"$f":"$C$243*'EoL emissions'!E4","v":0},{"$f":"$C$243*'EoL emissions'!F4","v":0},{"$f":"$C$243*'EoL emissions'!G4","v":0},{"$f":"$C$243*'EoL emissions'!H4","v":0},{"$f":"$C$243*'EoL emissions'!I4","v":0},{"$f":"$C$243*'EoL emissions'!J4","v":0},{"$f":"$C$243*'EoL emissions'!K4","v":0},{"$f":"$C$243*'EoL emissions'!L4","v":0},{"$f":"$C$243*'EoL emissions'!M4","v":0},{"$f":"$C$243*'EoL emissions'!N4","v":0},{"$f":"$C$243*'EoL emissions'!O4","v":0},{"$f":"$C$243*'EoL emissions'!P4","v":0},{"$f":"$C$243*'EoL emissions'!Q4","v":0}]
[null,"end of life HH",{"$f":"D242*C242*5.14","v":0},null,{"$f":"$C$244*'EoL emissions'!B6","v":0},{"$f":"$C$244*'EoL emissions'!C6","v":0},{"$f":"$C$244*'EoL emissions'!D6","v":0},{"$f":"$C$244*'EoL emissions'!E6","v":0},{"$f":"$C$244*'EoL emissions'!F6","v":0},{"$f":"$C$244*'EoL emissions'!G6","v":0},{"$f":"$C$244*'EoL emissions'!H6","v":0},{"$f":"$C$244*'EoL emissions'!I6","v":0},{"$f":"$C$244*'EoL emissions'!J6","v":0},{"$f":"$C$244*'EoL emissions'!K6","v":0},{"$f":"$C$244*'EoL emissions'!L6","v":0},{"$f":"$C$244*'EoL emissions'!M6","v":0},{"$f":"$C$244*'EoL emissions'!N6","v":0},{"$f":"$C$244*'EoL emissions'!O6","v":0},{"$f":"$C$244*'EoL emissions'!P6","v":0},{"$f":"$C$244*'EoL emissions'!Q6","v":0}]
["COFFEE",null,null,null,{"$f":"SUM(E238:E244)","v":9.8850000000000016},{"$f":"SUM(F238:F244)","v":7.9950000000000003E-7},5.933E-7,6.4662999999999988E-8,7.159E-7,0.92530000000000001,2.4525000000000002E-2,0.11453500000000001,0.38817000000000002,1.0101300000000001E-3,6.3671999999999992E-2,114.121,1064.3610000000001,2.0937000000000001,170.5,2.3177000000000002E-5]
["Drinks","TEA"]
[null,"agriculture ",{"$f":"C248/(1-D247)","v":1.1173184357541899},{"$f":"Calculation_original!D247","v":0},{"$f":"$C$247*'Emissions per kg'!C193","v":2},{"$f":"$C$247*'Emissions per kg'!D193","v":4.4692737430167595E-8},{"$f":"$C$247*'Emissions per kg'!E193","v":3.3072625698324022E-8},{"$f":"$C$247*'Emissions per kg'!F193","v":2.2011173184357539E-9},{"$f":"$C$247*'Emissions per kg'!G193","v":5.4413407821229045E-7},{"$f":"$C$247*'Emissions per kg'!H193","v":1.8882681564245808E-2},{"$f":"$C$247*'Emissions per kg'!I193","v":3.4301675977653628E-3},{"$f":"$C$247*'Emissions per kg'!J193","v":7.5307262569832403E-2},{"$f":"$C$247*'Emissions per kg'!K193","v":0.33407821229050277},{"$f":"$C$247*'Emissions per kg'!L193","v":2.3351955307262567E-2},{"$f":"$C$247*'Emissions per kg'!M193","v":1.6648044692737431E-2},{"$f":"$C$247*'Emissions per kg'!N193","v":0.57318435754189945},{"$f":"$C$247*'Emissions per kg'!O193","v":841.34078212290501},{"$f":"$C$247*'Emissions per kg'!P193","v":1.7318435754189943},{"$f":"$C$247*'Emissions per kg'!Q193","v":18.324022346368711},{"$f":"$C$247*'Emissions per kg'!R193","v":1.6536312849162009E-6}]
[null,"processsing",{"$f":"(C249/(1-D248))/(1-D249)","v":1.1173184357541899},{"$f":"Calculation_original!D248","v":0.105},{"$f":"$C$248*'Emissions per kg'!C194","v":3.7988826815642454},{"$f":"$C$248*'Emissions per kg'!D194","v":5.0391061452513959E-7},{"$f":"$C$248*'Emissions per kg'!E194","v":3.0502793296089385E-6},{"$f":"$C$248*'Emissions per kg'!F194","v":5.3631284916201112E-8},{"$f":"$C$248*'Emissions per kg'!G194","v":1.5195530726256982E-6},{"$f":"$C$248*'Emissions per kg'!H194","v":0.37430167597765363},{"$f":"$C$248*'Emissions per kg'!I194","v":3.1508379888268156E-2},{"$f":"$C$248*'Emissions per kg'!J194","v":3.2178770949720666E-2},{"$f":"$C$248*'Emissions per kg'!K194","v":0.10022346368715083},{"$f":"$C$248*'Emissions per kg'!L194","v":2.4916201117318432E-4},{"$f":"$C$248*'Emissions per kg'!M194","v":8.9050279329608937E-3},{"$f":"$C$248*'Emissions per kg'!N194","v":4.3798882681564244},{"$f":"$C$248*'Emissions per kg'!O194","v":1530.7262569832401},{"$f":"$C$248*'Emissions per kg'!P194","v":0.7877094972067038},{"$f":"$C$248*'Emissions per kg'!Q194","v":67.039106145251395},{"$f":"$C$248*'Emissions per kg'!R194","v":7.1955307262569829E-6}]
[null,"packaging",{"$f":"C250","v":1},{"$f":"Calculation_original!D249","v":0},{"$f":"$C$249*'Emissions per kg'!C195","v":1.0900000000000001},{"$f":"$C$249*'Emissions per kg'!D195","v":5.0099999999999999E-8},{"$f":"$C$249*'Emissions per kg'!E195","v":5.7199999999999999E-7},{"$f":"$C$249*'Emissions per kg'!F195","v":9.4400000000000005E-9},{"$f":"$C$249*'Emissions per kg'!G195","v":-6.6399999999999999E-8},{"$f":"$C$249*'Emissions per kg'!H195","v":9.4799999999999995E-2},{"$f":"$C$249*'Emissions per kg'!I195","v":1.72E-3},{"$f":"$C$249*'Emissions per kg'!J195","v":4.4400000000000004E-3},{"$f":"$C$249*'Emissions per kg'!K195","v":6.43E-3},{"$f":"$C$249*'Emissions per kg'!L195","v":5.6400000000000002E-5},{"$f":"$C$249*'Emissions per kg'!M195","v":8.3500000000000002E-4},{"$f":"$C$249*'Emissions per kg'!N195","v":1.28},{"$f":"$C$249*'Emissions per kg'!O195","v":-44},{"$f":"$C$249*'Emissions per kg'!P195","v":9.3399999999999997E-2},{"$f":"$C$249*'Emissions per kg'!Q195","v":15.1},{"$f":"$C$249*'Emissions per kg'!R195","v":2.1500000000000001E-5}]
[null,"retail",1,{"$f":"Calculation_original!D250","v":0.02},{"$f":"$C$250*'Emissions per kg'!C196","v":0.15},{"$f":"$C$250*'Emissions per kg'!D196","v":3.3799999999999998E-8},{"$f":"$C$250*'Emissions per kg'!E196","v":2.51E-8},{"$f":"$C$250*'Emissions per kg'!F196","v":1.15E-9},{"$f":"$C$250*'Emissions per kg'!G196","v":1.6199999999999999E-8},{"$f":"$C$250*'Emissions per kg'!H196","v":1.04E-2},{"$f":"$C$250*'Emissions per kg'!I196","v":1.1299999999999999E-3},{"$f":"$C$250*'Emissions per kg'!J196","v":1.01E-3},{"$f":"$C$250*'Emissions per kg'!K196","v":4.0400000000000002E-3},{"$f":"$C$250*'Emissions per kg'!L196","v":2.7199999999999998E-6},{"$f":"$C$250*'Emissions per kg'!M196","v":3.68E-4},{"$f":"$C$250*'Emissions per kg'!N196","v":0.435},{"$f":"$C$250*'Emissions per kg'!O196","v":2.8},{"$f":"$C$250*'Emissions per kg'!P196","v":4.6600000000000003E-2},{"$f":"$C$250*'Emissions per kg'!Q196","v":2.37},{"$f":"$C$250*'Emissions per kg'!R196","v":3.8000000000000001E-7}]
[null,"use ",null,{"$f":"Calculation_original!D251","v":0.33300000000000002},{"$f":"$C$251*'Emissions per kg'!C197","v":0},{"$f":"$C$251*'Emissions per kg'!D197","v":0},{"$f":"$C$251*'Emissions per kg'!E197","v":0},{"$f":"$C$251*'Emissions per kg'!F197","v":0},{"$f":"$C$251*'Emissions per kg'!G197","v":0},{"$f":"$C$251*'Emissions per kg'!H197","v":0},{"$f":"$C$251*'Emissions per kg'!I197","v":0},{"$f":"$C$251*'Emissions per kg'!J197","v":0},{"$f":"$C$251*'Emissions per kg'!K197","v":0},{"$f":"$C$251*'Emissions per kg'!L197","v":0},{"$f":"$C$251*'Emissions per kg'!M197","v":0},{"$f":"$C$251*'Emissions per kg'!N197","v":0},{"$f":"$C$251*'Emissions per kg'!O197","v":0},{"$f":"$C$251*'Emissions per kg'!P197","v":0},{"$f":"$C$251*'Emissions per kg'!Q197","v":0},{"$f":"$C$251*'Emissions per kg'!R197","v":0}]
[null,"end of life P&R",{"$f":"D248*C248+D250*C250+C249*D249+C247*D247","v":0.13731843575418992},null,{"$f":"$C$252*'EoL emissions'!B4","v":4.6462403943250005E-2},{"$f":"$C$252*'EoL emissions'!C4","v":5.5597155080516869E-10},{"$f":"$C$252*'EoL emissions'!D4","v":5.1558059210035312E-8},{"$f":"$C$252*'EoL emissions'!E4","v":2.0622696460414904E-9},{"$f":"$C$252*'EoL emissions'!F4","v":1.0512162724583793E-9},{"$f":"$C$252*'EoL emissions'!G4","v":3.5204233762187436E-4},{"$f":"$C$252*'EoL emissions'!H4","v":6.2245410181391387E-5},{"$f":"$C$252*'EoL emissions'!I4","v":1.6492935972156042E-4},{"$f":"$C$252*'EoL emissions'!J4","v":6.6697830226762622E-4},{"$f":"$C$252*'EoL emissions'!K4","v":1.3129157863876863E-5},{"$f":"$C$252*'EoL emissions'!L4","v":7.5360473646457162E-5},{"$f":"$C$252*'EoL emissions'!M4","v":3.6455941373957277},{"$f":"$C$252*'EoL emissions'!N4","v":0.1884291759917224},{"$f":"$C$252*'EoL emissions'!O4","v":1.824811793589515E-3},{"$f":"$C$252*'EoL emissions'!P4","v":-3.3524140289889023E-2},{"$f":"$C$252*'EoL emissions'!Q4","v":-2.5446278824634863E-9}]
[null,"end of life HH",{"$f":"D251*C251*125","v":0},null,{"$f":"$C$253*'EoL emissions'!B6","v":0},{"$f":"$C$253*'EoL emissions'!C6","v":0},{"$f":"$C$253*'EoL emissions'!D6","v":0},{"$f":"$C$253*'EoL emissions'!E6","v":0},{"$f":"$C$253*'EoL emissions'!F6","v":0},{"$f":"$C$253*'EoL emissions'!G6","v":0},{"$f":"$C$253*'EoL emissions'!H6","v":0},{"$f":"$C$253*'EoL emissions'!I6","v":0},{"$f":"$C$253*'EoL emissions'!J6","v":0},{"$f":"$C$253*'EoL emissions'!K6","v":0},{"$f":"$C$253*'EoL emissions'!L6","v":0},{"$f":"$C$253*'EoL emissions'!M6","v":0},{"$f":"$C$253*'EoL emissions'!N6","v":0},{"$f":"$C$253*'EoL emissions'!O6","v":0},{"$f":"$C$253*'EoL emissions'!P6","v":0},{"$f":"$C$253*'EoL emissions'!Q6","v":0}]
["TEA",null,null,null,{"$f":"SUM(E247:E253)","v":7.0853450855074964},{"$f":"SUM(F247:F253)","v":6.3305932350611231E-7},3.7320100145172975E-6,6.8484671880678358E-8,2.0145383671104471E-6,0.49873639987952134,3.7850792896214909E-2,0.11310096287927464,0.44543865427992124,2.3673366476299629E-2,2.6831433099344781E-2,10.313666763094052,2331.0554682821366,2.6613778844192879,102.79960435133022,3.0726617383290721E-5]
["Drinks","BEER"]
[null,"agriculture ",{"$f":"C257/(1-D256)","v":1},{"$f":"Calculation_original!D256","v":0},{"$f":"$C$256*'Emissions per kg'!C200","v":0.107},{"$f":"$C$256*'Emissions per kg'!D200","v":3.6E-9},{"$f":"$C$256*'Emissions per kg'!E200","v":8.7599999999999996E-7},{"$f":"$C$256*'Emissions per kg'!F200","v":4.2199999999999999E-9},{"$f":"$C$256*'Emissions per kg'!G200","v":3.6300000000000001E-8},{"$f":"$C$256*'Emissions per kg'!H200","v":8.6899999999999998E-4},{"$f":"$C$256*'Emissions per kg'!I200","v":2.0799999999999999E-4},{"$f":"$C$256*'Emissions per kg'!J200","v":5.0499999999999998E-3},{"$f":"$C$256*'Emissions per kg'!K200","v":2.2499999999999999E-2},{"$f":"$C$256*'Emissions per kg'!L200","v":4.7700000000000001E-5},{"$f":"$C$256*'Emissions per kg'!M200","v":2.9099999999999998E-3},{"$f":"$C$256*'Emissions per kg'!N200","v":0.79700000000000004},{"$f":"$C$256*'Emissions per kg'!O200","v":46.4},{"$f":"$C$256*'Emissions per kg'!P200","v":2.7799999999999999E-3},{"$f":"$C$256*'Emissions per kg'!Q200","v":0.64800000000000002},{"$f":"$C$256*'Emissions per kg'!R200","v":2.7700000000000001E-7}]
[null,"processsing",{"$f":"(C258/(1-D257))/(1-D258)","v":1},{"$f":"Calculation_original!D257","v":0},{"$f":"$C$257*'Emissions per kg'!C201","v":0.29399999999999998},{"$f":"$C$257*'Emissions per kg'!D201","v":4.3299999999999997E-8},{"$f":"$C$257*'Emissions per kg'!E201","v":1.3000000000000001E-8},{"$f":"$C$257*'Emissions per kg'!F201","v":1.8E-9},{"$f":"$C$257*'Emissions per kg'!G201","v":4.8399999999999998E-9},{"$f":"$C$257*'Emissions per kg'!H201","v":1.83E-2},{"$f":"$C$257*'Emissions per kg'!I201","v":6.1300000000000005E-4},{"$f":"$C$257*'Emissions per kg'!J201","v":1.1199999999999999E-3},{"$f":"$C$257*'Emissions per kg'!K201","v":1.7899999999999999E-3},{"$f":"$C$257*'Emissions per kg'!L201","v":1.08E-4},{"$f":"$C$257*'Emissions per kg'!M201","v":3.2200000000000002E-4},{"$f":"$C$257*'Emissions per kg'!N201","v":8.5699999999999998E-2},{"$f":"$C$257*'Emissions per kg'!O201","v":1.97},{"$f":"$C$257*'Emissions per kg'!P201","v":0.80900000000000005},{"$f":"$C$257*'Emissions per kg'!Q201","v":6.04},{"$f":"$C$257*'Emissions per kg'!R201","v":3.27E-7}]
[null,"packaging",{"$f":"C259","v":1},{"$f":"Calculation_original!D258","v":0},{"$f":"$C$258*'Emissions per kg'!C202","v":0.47099999999999997},{"$f":"$C$258*'Emissions per kg'!D202","v":7.7299999999999997E-8},{"$f":"$C$258*'Emissions per kg'!E202","v":1.48E-8},{"$f":"$C$258*'Emissions per kg'!F202","v":1.25E-9},{"$f":"$C$258*'Emissions per kg'!G202","v":6.5400000000000002E-10},{"$f":"$C$258*'Emissions per kg'!H202","v":2.1600000000000001E-2},{"$f":"$C$258*'Emissions per kg'!I202","v":6.0300000000000002E-4},{"$f":"$C$258*'Emissions per kg'!J202","v":8.4800000000000001E-4},{"$f":"$C$258*'Emissions per kg'!K202","v":3.1199999999999999E-3},{"$f":"$C$258*'Emissions per kg'!L202","v":5.8799999999999996E-6},{"$f":"$C$258*'Emissions per kg'!M202","v":1.75E-4},{"$f":"$C$258*'Emissions per kg'!N202","v":0.17599999999999999},{"$f":"$C$258*'Emissions per kg'!O202","v":-6.62},{"$f":"$C$258*'Emissions per kg'!P202","v":-5.1799999999999999E-2},{"$f":"$C$258*'Emissions per kg'!Q202","v":7.13},{"$f":"$C$258*'Emissions per kg'!R202","v":1.24E-6}]
[null,"retail",1,{"$f":"Calculation_original!D259","v":0},{"$f":"$C$259*'Emissions per kg'!C203","v":0.11700000000000001},{"$f":"$C$259*'Emissions per kg'!D203","v":2.62E-8},{"$f":"$C$259*'Emissions per kg'!E203","v":1.9399999999999998E-8},{"$f":"$C$259*'Emissions per kg'!F203","v":8.9600000000000001E-10},{"$f":"$C$259*'Emissions per kg'!G203","v":1.2499999999999999E-8},{"$f":"$C$259*'Emissions per kg'!H203","v":8.1799999999999998E-3},{"$f":"$C$259*'Emissions per kg'!I203","v":8.6899999999999998E-4},{"$f":"$C$259*'Emissions per kg'!J203","v":7.8600000000000002E-4},{"$f":"$C$259*'Emissions per kg'!K203","v":1.0499999999999999E-3},{"$f":"$C$259*'Emissions per kg'!L203","v":2.2400000000000002E-6},{"$f":"$C$259*'Emissions per kg'!M203","v":2.8400000000000002E-4},{"$f":"$C$259*'Emissions per kg'!N203","v":0.33500000000000002},{"$f":"$C$259*'Emissions per kg'!O203","v":2.17},{"$f":"$C$259*'Emissions per kg'!P203","v":4.2299999999999997E-2},{"$f":"$C$259*'Emissions per kg'!Q203","v":1.85},{"$f":"$C$259*'Emissions per kg'!R203","v":2.9499999999999998E-7}]
[null,"use ",null,{"$f":"Calculation_original!D260","v":0.1},{"$f":"$C$260*'Emissions per kg'!C204","v":0},{"$f":"$C$260*'Emissions per kg'!D204","v":0},{"$f":"$C$260*'Emissions per kg'!E204","v":0},{"$f":"$C$260*'Emissions per kg'!F204","v":0},{"$f":"$C$260*'Emissions per kg'!G204","v":0},{"$f":"$C$260*'Emissions per kg'!H204","v":0},{"$f":"$C$260*'Emissions per kg'!I204","v":0},{"$f":"$C$260*'Emissions per kg'!J204","v":0},{"$f":"$C$260*'Emissions per kg'!K204","v":0},{"$f":"$C$260*'Emissions per kg'!L204","v":0},{"$f":"$C$260*'Emissions per kg'!M204","v":0},{"$f":"$C$260*'Emissions per kg'!N204","v":0},{"$f":"$C$260*'Emissions per kg'!O204","v":0},{"$f":"$C$260*'Emissions per kg'!P204","v":0},{"$f":"$C$260*'Emissions per kg'!Q204","v":0},{"$f":"$C$260*'Emissions per kg'!R204","v":0}]
[null,"end of life A&P",{"$f":"D257*C257+C256*D256","v":0},null,{"$f":"$C$261*'EoL emissions'!B4","v":0},{"$f":"$C$261*'EoL emissions'!C4","v":0},{"$f":"$C$261*'EoL emissions'!D4","v":0},{"$f":"$C$261*'EoL emissions'!E4","v":0},{"$f":"$C$261*'EoL emissions'!F4","v":0},{"$f":"$C$261*'EoL emissions'!G4","v":0},{"$f":"$C$261*'EoL emissions'!H4","v":0},{"$f":"$C$261*'EoL emissions'!I4","v":0},{"$f":"$C$261*'EoL emissions'!J4","v":0},{"$f":"$C$261*'EoL emissions'!K4","v":0},{"$f":"$C$261*'EoL emissions'!L4","v":0},{"$f":"$C$261*'EoL emissions'!M4","v":0},{"$f":"$C$261*'EoL emissions'!N4","v":0},{"$f":"$C$261*'EoL emissions'!O4","v":0},{"$f":"$C$261*'EoL emissions'!P4","v":0},{"$f":"$C$261*'EoL emissions'!Q4","v":0}]
[null,"end of life beer",{"$f":"D260*C260+C259*D259+C258*D258","v":0},null,{"$f":"$C$262*'EoL emissions'!B6","v":0},{"$f":"$C$262*'EoL emissions'!C6","v":0},{"$f":"$C$262*'EoL emissions'!D6","v":0},{"$f":"$C$262*'EoL emissions'!E6","v":0},{"$f":"$C$262*'EoL emissions'!F6","v":0},{"$f":"$C$262*'EoL emissions'!G6","v":0},{"$f":"$C$262*'EoL emissions'!H6","v":0},{"$f":"$C$262*'EoL emissions'!I6","v":0},{"$f":"$C$262*'EoL emissions'!J6","v":0},{"$f":"$C$262*'EoL emissions'!K6","v":0},{"$f":"$C$262*'EoL emissions'!L6","v":0},{"$f":"$C$262*'EoL emissions'!M6","v":0},{"$f":"$C$262*'EoL emissions'!N6","v":0},{"$f":"$C$262*'EoL emissions'!O6","v":0},{"$f":"$C$262*'EoL emissions'!P6","v":0},{"$f":"$C$262*'EoL emissions'!Q6","v":0}]
["BEER",null,null,null,{"$f":"SUM(E256:E262)","v":0.98899999999999988},{"$f":"SUM(F256:F262)","v":1.504E-7},9.231999999999999E-7,8.1660000000000001E-9,5.4294000000000003E-8,4.8948999999999999E-2,2.2929999999999999E-3,7.8040000000000002E-3,2.8459999999999999E-2,1.6381999999999999E-4,3.6909999999999994E-3,1.3936999999999999,43.92,0.8022800000000001,15.667999999999999,2.1390000000000002E-6]
["Drinks","WINE"]
[null,"agriculture ",{"$f":"C266/(1-D265)","v":1.0030090270812437},{"$f":"Calculation_original!D265","v":0},{"$f":"$C$265*'Emissions per kg'!C207","v":0.48545636910732193},{"$f":"$C$265*'Emissions per kg'!D207","v":4.5035105315947845E-8},{"$f":"$C$265*'Emissions per kg'!E207","v":1.9458375125376129E-6},{"$f":"$C$265*'Emissions per kg'!F207","v":5.7271815446339018E-8},{"$f":"$C$265*'Emissions per kg'!G207","v":4.0020060180541628E-8},{"$f":"$C$265*'Emissions per kg'!H207","v":1.7552657973921765E-2},{"$f":"$C$265*'Emissions per kg'!I207","v":2.708124373119358E-3},{"$f":"$C$265*'Emissions per kg'!J207","v":5.9177532597793382E-3},{"$f":"$C$265*'Emissions per kg'!K207","v":2.316950852557673E-2},{"$f":"$C$265*'Emissions per kg'!L207","v":9.5887662988966907E-5},{"$f":"$C$265*'Emissions per kg'!M207","v":5.5065195586760278E-3},{"$f":"$C$265*'Emissions per kg'!N207","v":39.017051153460379},{"$f":"$C$265*'Emissions per kg'!O207","v":219.65897693079236},{"$f":"$C$265*'Emissions per kg'!P207","v":68.806419257773314},{"$f":"$C$265*'Emissions per kg'!Q207","v":6.0381143430290871},{"$f":"$C$265*'Emissions per kg'!R207","v":6.3791374122367104E-6}]
[null,"processsing",{"$f":"(C267/(1-D266))/(1-D267)","v":1.0030090270812437},{"$f":"Calculation_original!D266","v":0},{"$f":"$C$266*'Emissions per kg'!C208","v":0.57372116349047142},{"$f":"$C$266*'Emissions per kg'!D208","v":4.623871614844534E-8},{"$f":"$C$266*'Emissions per kg'!E208","v":3.3400200601805413E-8},{"$f":"$C$266*'Emissions per kg'!F208","v":4.2226680040120361E-9},{"$f":"$C$266*'Emissions per kg'!G208","v":1.3640922768304914E-8},{"$f":"$C$266*'Emissions per kg'!H208","v":6.3590772316950844E-2},{"$f":"$C$266*'Emissions per kg'!I208","v":1.8054162487462387E-3},{"$f":"$C$266*'Emissions per kg'!J208","v":3.1695085255767303E-3},{"$f":"$C$266*'Emissions per kg'!K208","v":5.63691073219659E-3},{"$f":"$C$266*'Emissions per kg'!L208","v":3.6710130391173525E-5},{"$f":"$C$266*'Emissions per kg'!M208","v":5.6068204613841531E-4},{"$f":"$C$266*'Emissions per kg'!N208","v":0.18956870611835508},{"$f":"$C$266*'Emissions per kg'!O208","v":5.5667001003009027},{"$f":"$C$266*'Emissions per kg'!P208","v":0.20160481444333},{"$f":"$C$266*'Emissions per kg'!Q208","v":9.3881644934804402},{"$f":"$C$266*'Emissions per kg'!R208","v":1.1334002006018054E-6}]
[null,"packaging",{"$f":"C268","v":1},{"$f":"Calculation_original!D267","v":3.0000000000000001E-3},{"$f":"$C$267*'Emissions per kg'!C209","v":0.48199999999999998},{"$f":"$C$267*'Emissions per kg'!D209","v":7.2899999999999998E-8},{"$f":"$C$267*'Emissions per kg'!E209","v":2.0999999999999999E-8},{"$f":"$C$267*'Emissions per kg'!F209","v":8.8800000000000004E-10},{"$f":"$C$267*'Emissions per kg'!G209","v":-5.3700000000000001E-10},{"$f":"$C$267*'Emissions per kg'!H209","v":2.3199999999999998E-2},{"$f":"$C$267*'Emissions per kg'!I209","v":6.6299999999999996E-4},{"$f":"$C$267*'Emissions per kg'!J209","v":8.1400000000000005E-4},{"$f":"$C$267*'Emissions per kg'!K209","v":1.2700000000000001E-3},{"$f":"$C$267*'Emissions per kg'!L209","v":5.2299999999999999E-6},{"$f":"$C$267*'Emissions per kg'!M209","v":1.9799999999999999E-4},{"$f":"$C$267*'Emissions per kg'!N209","v":0.29699999999999999},{"$f":"$C$267*'Emissions per kg'!O209","v":-9.4},{"$f":"$C$267*'Emissions per kg'!P209","v":-7.7399999999999997E-2},{"$f":"$C$267*'Emissions per kg'!Q209","v":7.23},{"$f":"$C$267*'Emissions per kg'!R209","v":7.6499999999999998E-7}]
[null,"retail",1,{"$f":"Calculation_original!D268","v":0.01},{"$f":"$C$268*'Emissions per kg'!C210","v":0.183},{"$f":"$C$268*'Emissions per kg'!D210","v":4.0499999999999999E-8},{"$f":"$C$268*'Emissions per kg'!E210","v":2.4599999999999999E-8},{"$f":"$C$268*'Emissions per kg'!F210","v":1.2799999999999999E-9},{"$f":"$C$268*'Emissions per kg'!G210","v":1.6700000000000001E-8},{"$f":"$C$268*'Emissions per kg'!H210","v":1.21E-2},{"$f":"$C$268*'Emissions per kg'!I210","v":1.7700000000000001E-3},{"$f":"$C$268*'Emissions per kg'!J210","v":2.1700000000000001E-3},{"$f":"$C$268*'Emissions per kg'!K210","v":6.4799999999999996E-3},{"$f":"$C$268*'Emissions per kg'!L210","v":2.7499999999999999E-6},{"$f":"$C$268*'Emissions per kg'!M210","v":5.8600000000000004E-4},{"$f":"$C$268*'Emissions per kg'!N210","v":0.41499999999999998},{"$f":"$C$268*'Emissions per kg'!O210","v":2.67},{"$f":"$C$268*'Emissions per kg'!P210","v":2.3E-2},{"$f":"$C$268*'Emissions per kg'!Q210","v":2.81},{"$f":"$C$268*'Emissions per kg'!R210","v":3.5600000000000001E-7}]
[null,"use ",null,{"$f":"Calculation_original!D269","v":0.1},{"$f":"$C$269*'Emissions per kg'!C211","v":0},{"$f":"$C$269*'Emissions per kg'!D211","v":0},{"$f":"$C$269*'Emissions per kg'!E211","v":0},{"$f":"$C$269*'Emissions per kg'!F211","v":0},{"$f":"$C$269*'Emissions per kg'!G211","v":0},{"$f":"$C$269*'Emissions per kg'!H211","v":0},{"$f":"$C$269*'Emissions per kg'!I211","v":0},{"$f":"$C$269*'Emissions per kg'!J211","v":0},{"$f":"$C$269*'Emissions per kg'!K211","v":0},{"$f":"$C$269*'Emissions per kg'!L211","v":0},{"$f":"$C$269*'Emissions per kg'!M211","v":0},{"$f":"$C$269*'Emissions per kg'!N211","v":0},{"$f":"$C$269*'Emissions per kg'!O211","v":0},{"$f":"$C$269*'Emissions per kg'!P211","v":0},{"$f":"$C$269*'Emissions per kg'!Q211","v":0},{"$f":"$C$269*'Emissions per kg'!R211","v":0}]
[null,"end of life A&P",{"$f":"D266*C266+C265*D265","v":0},null,{"$f":"$C$270*'EoL emissions'!B4","v":0},{"$f":"$C$270*'EoL emissions'!C4","v":0},{"$f":"$C$270*'EoL emissions'!D4","v":0},{"$f":"$C$270*'EoL emissions'!E4","v":0},{"$f":"$C$270*'EoL emissions'!F4","v":0},{"$f":"$C$270*'EoL emissions'!G4","v":0},{"$f":"$C$270*'EoL emissions'!H4","v":0},{"$f":"$C$270*'EoL emissions'!I4","v":0},{"$f":"$C$270*'EoL emissions'!J4","v":0},{"$f":"$C$270*'EoL emissions'!K4","v":0},{"$f":"$C$270*'EoL emissions'!L4","v":0},{"$f":"$C$270*'EoL emissions'!M4","v":0},{"$f":"$C$270*'EoL emissions'!N4","v":0},{"$f":"$C$270*'EoL emissions'!O4","v":0},{"$f":"$C$270*'EoL emissions'!P4","v":0},{"$f":"$C$270*'EoL emissions'!Q4","v":0}]
[null,"end of life wine",{"$f":"D269*C269+C268*D268+C267*D267","v":1.3000000000000001E-2},null,{"$f":"$C$271*'EoL emissions'!B6","v":4.1989999999999999E-6},{"$f":"$C$271*'EoL emissions'!C6","v":2.7560000000000001E-13},{"$f":"$C$271*'EoL emissions'!D6","v":6.8250000000000007E-13},{"$f":"$C$271*'EoL emissions'!E6","v":2.7170000000000004E-13},{"$f":"$C$271*'EoL emissions'!F6","v":3.159E-13},{"$f":"$C$271*'EoL emissions'!G6","v":1.1596E-7},{"$f":"$C$271*'EoL emissions'!H6","v":1.4950000000000002E-8},{"$f":"$C$271*'EoL emissions'!I6","v":1.9630000000000001E-8},{"$f":"$C$271*'EoL emissions'!J6","v":4.5760000000000007E-8},{"$f":"$C$271*'EoL emissions'!K6","v":2.1710000000000003E-10},{"$f":"$C$271*'EoL emissions'!L6","v":4.0690000000000007E-9},{"$f":"$C$271*'EoL emissions'!M6","v":4.7450000000000003E-6},{"$f":"$C$271*'EoL emissions'!N6","v":3.3280000000000007E-5},{"$f":"$C$271*'EoL emissions'!O6","v":-4.9919999999999999E-4},{"$f":"$C$271*'EoL emissions'!P6","v":5.3170000000000001E-5},{"$f":"$C$271*'EoL emissions'!Q6","v":2.0280000000000003E-11}]
["WINE",null,null,null,{"$f":"SUM(E265:E271)","v":1.7241817315977934},{"$f":"SUM(F265:F271)","v":2.0467409706439317E-7},2.0248383956394181E-6,6.3662755150351052E-8,6.9824298848846537E-8,0.11644354625087261,6.9465555718655975E-3,1.2071281415356069E-2,3.6556465017773321E-2,1.4057801048014045E-4,6.8512056738144426E-3,39.918624604578731,218.49571031109323,68.953124872216648,25.466332006509528,8.633557892838516E-6]
["Drinks","MINERAL WATER"]
[null,"agriculture ",{"$f":"C275/(1-D274)","v":1},{"$f":"Calculation_original!D274","v":0},{"$f":"$C$274*'Emissions per kg'!C214","v":0},{"$f":"$C$274*'Emissions per kg'!D214","v":0},{"$f":"$C$274*'Emissions per kg'!E214","v":0},{"$f":"$C$274*'Emissions per kg'!F214","v":0},{"$f":"$C$274*'Emissions per kg'!G214","v":0},{"$f":"$C$274*'Emissions per kg'!H214","v":0},{"$f":"$C$274*'Emissions per kg'!I214","v":0},{"$f":"$C$274*'Emissions per kg'!J214","v":0},{"$f":"$C$274*'Emissions per kg'!K214","v":0},{"$f":"$C$274*'Emissions per kg'!L214","v":0},{"$f":"$C$274*'Emissions per kg'!M214","v":0},{"$f":"$C$274*'Emissions per kg'!N214","v":0},{"$f":"$C$274*'Emissions per kg'!O214","v":0},{"$f":"$C$274*'Emissions per kg'!P214","v":0},{"$f":"$C$274*'Emissions per kg'!Q214","v":0},{"$f":"$C$274*'Emissions per kg'!R214","v":0}]
[null,"processsing",{"$f":"(C276/(1-D275))/(1-D276)","v":1},{"$f":"Calculation_original!D275","v":0},{"$f":"$C$275*'Emissions per kg'!C215","v":3.9399999999999998E-2},{"$f":"$C$275*'Emissions per kg'!D215","v":1.62E-9},{"$f":"$C$275*'Emissions per kg'!E215","v":2.0299999999999998E-9},{"$f":"$C$275*'Emissions per kg'!F215","v":3.6499999999999998E-10},{"$f":"$C$275*'Emissions per kg'!G215","v":1.5799999999999999E-9},{"$f":"$C$275*'Emissions per kg'!H215","v":1.9499999999999999E-3},{"$f":"$C$275*'Emissions per kg'!I215","v":1.3899999999999999E-4},{"$f":"$C$275*'Emissions per kg'!J215","v":1.92E-4},{"$f":"$C$275*'Emissions per kg'!K215","v":3.3300000000000002E-4},{"$f":"$C$275*'Emissions per kg'!L215","v":1.37E-6},{"$f":"$C$275*'Emissions per kg'!M215","v":3.1900000000000003E-5},{"$f":"$C$275*'Emissions per kg'!N215","v":2.3400000000000001E-2},{"$f":"$C$275*'Emissions per kg'!O215","v":0.57699999999999996},{"$f":"$C$275*'Emissions per kg'!P215","v":6.5199999999999994E-2},{"$f":"$C$275*'Emissions per kg'!Q215","v":1.1000000000000001},{"$f":"$C$275*'Emissions per kg'!R215","v":1.03E-7}]
[null,"packaging",{"$f":"C277","v":1},{"$f":"Calculation_original!D276","v":0},{"$f":"$C$276*'Emissions per kg'!C216","v":3.8199999999999998E-2},{"$f":"$C$276*'Emissions per kg'!D216","v":3.6399999999999998E-9},{"$f":"$C$276*'Emissions per kg'!E216","v":3.72E-9},{"$f":"$C$276*'Emissions per kg'!F216","v":2.6700000000000001E-10},{"$f":"$C$276*'Emissions per kg'!G216","v":1.2199999999999999E-10},{"$f":"$C$276*'Emissions per kg'!H216","v":4.5199999999999997E-3},{"$f":"$C$276*'Emissions per kg'!I216","v":2.3499999999999999E-5},{"$f":"$C$276*'Emissions per kg'!J216","v":1.3999999999999999E-4},{"$f":"$C$276*'Emissions per kg'!K216","v":2.2699999999999999E-4},{"$f":"$C$276*'Emissions per kg'!L216","v":3.3400000000000002E-6},{"$f":"$C$276*'Emissions per kg'!M216","v":2.1699999999999999E-5},{"$f":"$C$276*'Emissions per kg'!N216","v":6.0600000000000001E-2},{"$f":"$C$276*'Emissions per kg'!O216","v":0.58199999999999996},{"$f":"$C$276*'Emissions per kg'!P216","v":5.8599999999999998E-3},{"$f":"$C$276*'Emissions per kg'!Q216","v":7.7299999999999994E-2},{"$f":"$C$276*'Emissions per kg'!R216","v":1.05E-7}]
[null,"retail",1,{"$f":"Calculation_original!D277","v":0},{"$f":"$C$277*'Emissions per kg'!C217","v":7.9699999999999993E-2},{"$f":"$C$277*'Emissions per kg'!D217","v":1.77E-8},{"$f":"$C$277*'Emissions per kg'!E217","v":1.3000000000000001E-8},{"$f":"$C$277*'Emissions per kg'!F217","v":6.1299999999999995E-10},{"$f":"$C$277*'Emissions per kg'!G217","v":8.3099999999999996E-9},{"$f":"$C$277*'Emissions per kg'!H217","v":5.7299999999999999E-3},{"$f":"$C$277*'Emissions per kg'!I217","v":5.8100000000000003E-4},{"$f":"$C$277*'Emissions per kg'!J217","v":5.3399999999999997E-4},{"$f":"$C$277*'Emissions per kg'!K217","v":2.0899999999999998E-3},{"$f":"$C$277*'Emissions per kg'!L217","v":1.7099999999999999E-6},{"$f":"$C$277*'Emissions per kg'!M217","v":1.9000000000000001E-4},{"$f":"$C$277*'Emissions per kg'!N217","v":0.223},{"$f":"$C$277*'Emissions per kg'!O217","v":1.47},{"$f":"$C$277*'Emissions per kg'!P217","v":3.7499999999999999E-2},{"$f":"$C$277*'Emissions per kg'!Q217","v":1.28},{"$f":"$C$277*'Emissions per kg'!R217","v":1.9999999999999999E-7}]
[null,"use ",null,{"$f":"Calculation_original!D278","v":0.1},{"$f":"$C$278*'Emissions per kg'!C218","v":0},{"$f":"$C$278*'Emissions per kg'!D218","v":0},{"$f":"$C$278*'Emissions per kg'!E218","v":0},{"$f":"$C$278*'Emissions per kg'!F218","v":0},{"$f":"$C$278*'Emissions per kg'!G218","v":0},{"$f":"$C$278*'Emissions per kg'!H218","v":0},{"$f":"$C$278*'Emissions per kg'!I218","v":0},{"$f":"$C$278*'Emissions per kg'!J218","v":0},{"$f":"$C$278*'Emissions per kg'!K218","v":0},{"$f":"$C$278*'Emissions per kg'!L218","v":0},{"$f":"$C$278*'Emissions per kg'!M218","v":0},{"$f":"$C$278*'Emissions per kg'!N218","v":0},{"$f":"$C$278*'Emissions per kg'!O218","v":0},{"$f":"$C$278*'Emissions per kg'!P218","v":0},{"$f":"$C$278*'Emissions per kg'!Q218","v":0},{"$f":"$C$278*'Emissions per kg'!R218","v":0}]
[null,"end of life",{"$f":"D275*C275+D277*C277+C276*D276+C274*D274+C278*D278","v":0},null,{"$f":"$C$279*'EoL emissions'!B6","v":0},{"$f":"$C$279*'EoL emissions'!C6","v":0},{"$f":"$C$279*'EoL emissions'!D6","v":0},{"$f":"$C$279*'EoL emissions'!E6","v":0},{"$f":"$C$279*'EoL emissions'!F6","v":0},{"$f":"$C$279*'EoL emissions'!G6","v":0},{"$f":"$C$279*'EoL emissions'!H6","v":0},{"$f":"$C$279*'EoL emissions'!I6","v":0},{"$f":"$C$279*'EoL emissions'!J6","v":0},{"$f":"$C$279*'EoL emissions'!K6","v":0},{"$f":"$C$279*'EoL emissions'!L6","v":0},{"$f":"$C$279*'EoL emissions'!M6","v":0},{"$f":"$C$279*'EoL emissions'!N6","v":0},{"$f":"$C$279*'EoL emissions'!O6","v":0},{"$f":"$C$279*'EoL emissions'!P6","v":0},{"$f":"$C$279*'EoL emissions'!Q6","v":0}]
["MINERAL WATER",null,null,null,{"$f":"SUM(E274:E279)","v":0.1573},{"$f":"SUM(F274:F279)","v":2.2959999999999998E-8},1.8749999999999999E-8,1.2449999999999999E-9,1.0011999999999999E-8,1.2199999999999999E-2,7.4350000000000002E-4,8.6600000000000002E-4,2.6499999999999996E-3,6.4200000000000004E-6,2.4360000000000001E-4,0.307,2.6289999999999996,0.10855999999999999,2.4573,4.08E-7]
["Pre-prepared","MEAT BASED DISHES"]
[null,"agriculture ",{"$f":"C283/(1-D282)","v":1.0319917440660475},{"$f":"Calculation_original!D282","v":0},{"$f":"$C$282*'Emissions per kg'!C221","v":3.6842105263157894},{"$f":"$C$282*'Emissions per kg'!D221","v":1.3931888544891644E-7},{"$f":"$C$282*'Emissions per kg'!E221","v":1.4551083591331271E-6},{"$f":"$C$282*'Emissions per kg'!F221","v":4.0041279669762643E-8},{"$f":"$C$282*'Emissions per kg'!G221","v":3.7358101135190921E-7},{"$f":"$C$282*'Emissions per kg'!H221","v":0.10423116615067081},{"$f":"$C$282*'Emissions per kg'!I221","v":9.195046439628483E-3},{"$f":"$C$282*'Emissions per kg'!J221","v":4.5201238390092879E-2},{"$f":"$C$282*'Emissions per kg'!K221","v":0.1713106295149639},{"$f":"$C$282*'Emissions per kg'!L221","v":7.2136222910216717E-4},{"$f":"$C$282*'Emissions per kg'!M221","v":1.3415892672858618E-2},{"$f":"$C$282*'Emissions per kg'!N221","v":14.860681114551085},{"$f":"$C$282*'Emissions per kg'!O221","v":375.64499484004131},{"$f":"$C$282*'Emissions per kg'!P221","v":0.71620227038183693},{"$f":"$C$282*'Emissions per kg'!Q221","v":27.863777089783284},{"$f":"$C$282*'Emissions per kg'!R221","v":4.7162022703818372E-6}]
[null,"processsing",{"$f":"(C284/(1-D283))/(1-D284)","v":1.0319917440660475},{"$f":"Calculation_original!D283","v":3.1E-2},{"$f":"$C$283*'Emissions per kg'!C222","v":1.1867905056759547},{"$f":"$C$283*'Emissions per kg'!D222","v":1.6305469556243552E-7},{"$f":"$C$283*'Emissions per kg'!E222","v":5.9442724458204335E-8},{"$f":"$C$283*'Emissions per kg'!F222","v":8.297213622291022E-9},{"$f":"$C$283*'Emissions per kg'!G222","v":2.4148606811145515E-8},{"$f":"$C$283*'Emissions per kg'!H222","v":0.10835913312693499},{"$f":"$C$283*'Emissions per kg'!I222","v":2.3116615067079464E-3},{"$f":"$C$283*'Emissions per kg'!J222","v":4.9226006191950469E-3},{"$f":"$C$283*'Emissions per kg'!K222","v":8.297213622291022E-3},{"$f":"$C$283*'Emissions per kg'!L222","v":6.6976264189886497E-5},{"$f":"$C$283*'Emissions per kg'!M222","v":6.9762641898864805E-4},{"$f":"$C$283*'Emissions per kg'!N222","v":0.32817337461300311},{"$f":"$C$283*'Emissions per kg'!O222","v":9.4220846233230144},{"$f":"$C$283*'Emissions per kg'!P222","v":2.9308565531475748},{"$f":"$C$283*'Emissions per kg'!Q222","v":20.639834881320951},{"$f":"$C$283*'Emissions per kg'!R222","v":1.4447884416924664E-6}]
[null,"packaging",{"$f":"C285","v":1},{"$f":"Calculation_original!D284","v":0},{"$f":"$C$284*'Emissions per kg'!C223","v":0.22},{"$f":"$C$284*'Emissions per kg'!D223","v":1.5399999999999999E-8},{"$f":"$C$284*'Emissions per kg'!E223","v":2.2300000000000001E-8},{"$f":"$C$284*'Emissions per kg'!F223","v":2.7400000000000001E-9},{"$f":"$C$284*'Emissions per kg'!G223","v":2.03E-10},{"$f":"$C$284*'Emissions per kg'!H223","v":1.09E-2},{"$f":"$C$284*'Emissions per kg'!I223","v":1.5300000000000001E-4},{"$f":"$C$284*'Emissions per kg'!J223","v":7.8899999999999999E-4},{"$f":"$C$284*'Emissions per kg'!K223","v":1.2199999999999999E-3},{"$f":"$C$284*'Emissions per kg'!L223","v":1.42E-5},{"$f":"$C$284*'Emissions per kg'!M223","v":1.3200000000000001E-4},{"$f":"$C$284*'Emissions per kg'!N223","v":0.219},{"$f":"$C$284*'Emissions per kg'!O223","v":-9.2899999999999991},{"$f":"$C$284*'Emissions per kg'!P223","v":0.17699999999999999},{"$f":"$C$284*'Emissions per kg'!Q223","v":1.35},{"$f":"$C$284*'Emissions per kg'!R223","v":1.61E-6}]
[null,"retail",1,{"$f":"Calculation_original!D285","v":0.01},{"$f":"$C$285*'Emissions per kg'!C224","v":0.40699999999999997},{"$f":"$C$285*'Emissions per kg'!D224","v":2.6800000000000002E-6},{"$f":"$C$285*'Emissions per kg'!E224","v":3.0899999999999999E-8},{"$f":"$C$285*'Emissions per kg'!F224","v":2.5399999999999999E-9},{"$f":"$C$285*'Emissions per kg'!G224","v":1.4300000000000001E-8},{"$f":"$C$285*'Emissions per kg'!H224","v":3.5900000000000001E-2},{"$f":"$C$285*'Emissions per kg'!I224","v":1.17E-3},{"$f":"$C$285*'Emissions per kg'!J224","v":1.8E-3},{"$f":"$C$285*'Emissions per kg'!K224","v":4.1700000000000001E-3},{"$f":"$C$285*'Emissions per kg'!L224","v":2.27E-5},{"$f":"$C$285*'Emissions per kg'!M224","v":3.8099999999999999E-4},{"$f":"$C$285*'Emissions per kg'!N224","v":0.34},{"$f":"$C$285*'Emissions per kg'!O224","v":4.4400000000000004},{"$f":"$C$285*'Emissions per kg'!P224","v":9.5399999999999999E-2},{"$f":"$C$285*'Emissions per kg'!Q224","v":5.98},{"$f":"$C$285*'Emissions per kg'!R224","v":6.7299999999999995E-7}]
[null,"use ",null,{"$f":"Calculation_original!D286","v":0.24},{"$f":"$C$286*'Emissions per kg'!C225","v":0},{"$f":"$C$286*'Emissions per kg'!D225","v":0},{"$f":"$C$286*'Emissions per kg'!E225","v":0},{"$f":"$C$286*'Emissions per kg'!F225","v":0},{"$f":"$C$286*'Emissions per kg'!G225","v":0},{"$f":"$C$286*'Emissions per kg'!H225","v":0},{"$f":"$C$286*'Emissions per kg'!I225","v":0},{"$f":"$C$286*'Emissions per kg'!J225","v":0},{"$f":"$C$286*'Emissions per kg'!K225","v":0},{"$f":"$C$286*'Emissions per kg'!L225","v":0},{"$f":"$C$286*'Emissions per kg'!M225","v":0},{"$f":"$C$286*'Emissions per kg'!N225","v":0},{"$f":"$C$286*'Emissions per kg'!O225","v":0},{"$f":"$C$286*'Emissions per kg'!P225","v":0},{"$f":"$C$286*'Emissions per kg'!Q225","v":0},{"$f":"$C$286*'Emissions per kg'!R225","v":0}]
[null,"end of life P&R",{"$f":"D283*C283+D285*C285+C284*D284+C282*D282","v":4.1991744066047478E-2},null,{"$f":"$C$287*'EoL emissions'!B4","v":1.4208124090277066E-2},{"$f":"$C$287*'EoL emissions'!C4","v":1.7001515449247904E-10},{"$f":"$C$287*'EoL emissions'!D4","v":1.5766366802819228E-8},{"$f":"$C$287*'EoL emissions'!E4","v":6.3063854970478902E-10},{"$f":"$C$287*'EoL emissions'!F4","v":3.2146014793057241E-10},{"$f":"$C$287*'EoL emissions'!G4","v":1.0765394799787299E-4},{"$f":"$C$287*'EoL emissions'!H4","v":1.9034540549981323E-5},{"$f":"$C$287*'EoL emissions'!I4","v":5.0435117647293221E-5},{"$f":"$C$287*'EoL emissions'!J4","v":2.0396083025999977E-4},{"$f":"$C$287*'EoL emissions'!K4","v":4.0148741412227303E-6},{"$f":"$C$287*'EoL emissions'!L4","v":2.304510464802311E-5},{"$f":"$C$287*'EoL emissions'!M4","v":1.1148164858230518},{"$f":"$C$287*'EoL emissions'!N4","v":5.7621321487993989E-2},{"$f":"$C$287*'EoL emissions'!O4","v":5.5802434235621484E-4},{"$f":"$C$287*'EoL emissions'!P4","v":-1.0251625073906633E-2},{"$f":"$C$287*'EoL emissions'!Q4","v":-7.7814287787992593E-10}]
[null,"end of life HH",{"$f":"D286*C286","v":0},null,{"$f":"$C$288*'EoL emissions'!B5","v":0},{"$f":"$C$288*'EoL emissions'!C5","v":0},{"$f":"$C$288*'EoL emissions'!D5","v":0},{"$f":"$C$288*'EoL emissions'!E5","v":0},{"$f":"$C$288*'EoL emissions'!F5","v":0},{"$f":"$C$288*'EoL emissions'!G5","v":0},{"$f":"$C$288*'EoL emissions'!H5","v":0},{"$f":"$C$288*'EoL emissions'!I5","v":0},{"$f":"$C$288*'EoL emissions'!J5","v":0},{"$f":"$C$288*'EoL emissions'!K5","v":0},{"$f":"$C$288*'EoL emissions'!L5","v":0},{"$f":"$C$288*'EoL emissions'!M5","v":0},{"$f":"$C$288*'EoL emissions'!N5","v":0},{"$f":"$C$288*'EoL emissions'!O5","v":0},{"$f":"$C$288*'EoL emissions'!P5","v":0},{"$f":"$C$288*'EoL emissions'!Q5","v":0}]
["MEAT BASED DISHES",null,null,null,{"$f":"SUM(E282:E288)","v":5.5122091560820206},{"$f":"SUM(F282:F288)","v":2.9979435961658447E-6},1.5835174503941506E-6,5.4249131841758457E-8,4.1255407831098534E-7,0.25949795322560371,1.2848742486886409E-2,5.2763274126935225E-2,0.18520180396751493,8.2925336743327636E-4,1.4649564196495289E-2,16.86267097498714,380.27470078485231,3.9200168478717683,55.823360346030327,8.4432125691964236E-6]
[null,"AVERAGE BASKET"]
[null,"agriculture ",{"$f":"C292/(1-D291)","v":1.0356535649758949},6.1000000000000004E-3,{"$f":"$C$291*'Emissions per kg'!C230","v":2.380297926887756},{"$f":"$C$291*'Emissions per kg'!D230","v":2.9672298472636832E-8},{"$f":"$C$291*'Emissions per kg'!E230","v":2.5299987280614264E-6},{"$f":"$C$291*'Emissions per kg'!F230","v":3.2705611727406994E-8},{"$f":"$C$291*'Emissions per kg'!G230","v":3.2270366311984632E-7},{"$f":"$C$291*'Emissions per kg'!H230","v":1.6853762773721363E-2},{"$f":"$C$291*'Emissions per kg'!I230","v":3.4819282808152426E-3},{"$f":"$C$291*'Emissions per kg'!J230","v":4.4031909455762443E-2},{"$f":"$C$291*'Emissions per kg'!K230","v":0.19448655828437847},{"$f":"$C$291*'Emissions per kg'!L230","v":5.4990659356584422E-4},{"$f":"$C$291*'Emissions per kg'!M230","v":1.6906053605669383E-2},{"$f":"$C$291*'Emissions per kg'!N230","v":8.8302174892689074},{"$f":"$C$291*'Emissions per kg'!O230","v":324.61161725122395},{"$f":"$C$291*'Emissions per kg'!P230","v":5.139768247844775},{"$f":"$C$291*'Emissions per kg'!Q230","v":8.1493251170820979},{"$f":"$C$291*'Emissions per kg'!R230","v":9.748208713582587E-7}]
[null,"processsing",{"$f":"(C293/(1-D292))/(1-D293)","v":1.029336078229542},2.8500000000000001E-2,{"$f":"$C$292*'Emissions per kg'!C231","v":0.37166627514446104},{"$f":"$C$292*'Emissions per kg'!D231","v":1.0312900060090734E-6},{"$f":"$C$292*'Emissions per kg'!E231","v":2.4431033563680934E-8},{"$f":"$C$292*'Emissions per kg'!F231","v":1.9083598154344827E-9},{"$f":"$C$292*'Emissions per kg'!G231","v":1.0476966934815347E-8},{"$f":"$C$292*'Emissions per kg'!H231","v":2.6871881186044354E-2},{"$f":"$C$292*'Emissions per kg'!I231","v":9.7496222829082408E-4},{"$f":"$C$292*'Emissions per kg'!J231","v":1.6460250998394073E-3},{"$f":"$C$292*'Emissions per kg'!K231","v":3.5536520138623354E-3},{"$f":"$C$292*'Emissions per kg'!L231","v":2.8048216245073175E-5},{"$f":"$C$292*'Emissions per kg'!M231","v":3.3026950242519618E-4},{"$f":"$C$292*'Emissions per kg'!N231","v":0.16159562310396067},{"$f":"$C$292*'Emissions per kg'!O231","v":3.8142897535758538},{"$f":"$C$292*'Emissions per kg'!P231","v":0.33609553030342432},{"$f":"$C$292*'Emissions per kg'!Q231","v":5.6754329208960632},{"$f":"$C$292*'Emissions per kg'!R231","v":5.5664989540742977E-7}]
[null,"packaging",{"$f":"C294","v":1},0,{"$f":"$C$293*'Emissions per kg'!C232","v":0.1797022568333608},{"$f":"$C$293*'Emissions per kg'!D232","v":1.7661934985067989E-8},{"$f":"$C$293*'Emissions per kg'!E232","v":9.9738872333957555E-9},{"$f":"$C$293*'Emissions per kg'!F232","v":7.989363157215768E-10},{"$f":"$C$293*'Emissions per kg'!G232","v":-5.4785689118311634E-10},{"$f":"$C$293*'Emissions per kg'!H232","v":6.7932243202884325E-3},{"$f":"$C$293*'Emissions per kg'!I232","v":1.7818452620594813E-4},{"$f":"$C$293*'Emissions per kg'!J232","v":3.7219591330860742E-4},{"$f":"$C$293*'Emissions per kg'!K232","v":7.4611779667744539E-4},{"$f":"$C$293*'Emissions per kg'!L232","v":4.5896368561532638E-6},{"$f":"$C$293*'Emissions per kg'!M232","v":6.7714199750118067E-5},{"$f":"$C$293*'Emissions per kg'!N232","v":8.6949183887218368E-2},{"$f":"$C$293*'Emissions per kg'!O232","v":-5.0765278810736056},{"$f":"$C$293*'Emissions per kg'!P232","v":2.7271796017758556E-4},{"$f":"$C$293*'Emissions per kg'!Q232","v":1.7586155323594921},{"$f":"$C$293*'Emissions per kg'!R232","v":7.7768746405359901E-7}]
[null,"retail",1,2.9000000000000001E-2,{"$f":"$C$294*'Emissions per kg'!C233","v":0.21157894493100479},{"$f":"$C$294*'Emissions per kg'!D233","v":3.7164187497155517E-6},{"$f":"$C$294*'Emissions per kg'!E233","v":1.5639378928267738E-8},{"$f":"$C$294*'Emissions per kg'!F233","v":7.8239978856082671E-10},{"$f":"$C$294*'Emissions per kg'!G233","v":1.006088785446974E-8},{"$f":"$C$294*'Emissions per kg'!H233","v":7.0491686734437146E-3},{"$f":"$C$294*'Emissions per kg'!I233","v":7.298442552257778E-4},{"$f":"$C$294*'Emissions per kg'!J233","v":7.1088443894495965E-4},{"$f":"$C$294*'Emissions per kg'!K233","v":2.4063716189099849E-3},{"$f":"$C$294*'Emissions per kg'!L233","v":2.2164810347066096E-6},{"$f":"$C$294*'Emissions per kg'!M233","v":2.3810037412481385E-4},{"$f":"$C$294*'Emissions per kg'!N233","v":0.25972394459622528},{"$f":"$C$294*'Emissions per kg'!O233","v":1.7840629484154158},{"$f":"$C$294*'Emissions per kg'!P233","v":0.13678530499704855},{"$f":"$C$294*'Emissions per kg'!Q233","v":1.5967144713539692},{"$f":"$C$294*'Emissions per kg'!R233","v":3.0662674707705691E-7}]
[null,"use ",null,0.124,{"$f":"$C$295*'Emissions per kg'!C234","v":0},{"$f":"$C$295*'Emissions per kg'!D234","v":0},{"$f":"$C$295*'Emissions per kg'!E234","v":0},{"$f":"$C$295*'Emissions per kg'!F234","v":0},{"$f":"$C$295*'Emissions per kg'!G234","v":0},{"$f":"$C$295*'Emissions per kg'!H234","v":0},{"$f":"$C$295*'Emissions per kg'!I234","v":0},{"$f":"$C$295*'Emissions per kg'!J234","v":0},{"$f":"$C$295*'Emissions per kg'!K234","v":0},{"$f":"$C$295*'Emissions per kg'!L234","v":0},{"$f":"$C$295*'Emissions per kg'!M234","v":0},{"$f":"$C$295*'Emissions per kg'!N234","v":0},{"$f":"$C$295*'Emissions per kg'!O234","v":0},{"$f":"$C$295*'Emissions per kg'!P234","v":0},{"$f":"$C$295*'Emissions per kg'!Q234","v":0},{"$f":"$C$295*'Emissions per kg'!R234","v":0}]
[null,"end of life P&R",{"$f":"D292*C292+D294*C294+C293*D293+C291*D291","v":6.4653564975894903E-2},null,{"$f":"$C$296*'EoL emissions'!B4","v":2.1875868566246261E-2},{"$f":"$C$296*'EoL emissions'!C4","v":2.6176778512883873E-10},{"$f":"$C$296*'EoL emissions'!D4","v":2.4275053184658378E-8},{"$f":"$C$296*'EoL emissions'!E4","v":9.7097730414607476E-10},{"$f":"$C$296*'EoL emissions'!F4","v":4.9494359007094999E-10},{"$f":"$C$296*'EoL emissions'!G4","v":1.6575190377528967E-4},{"$f":"$C$296*'EoL emissions'!H4","v":2.930697287302171E-5},{"$f":"$C$296*'EoL emissions'!I4","v":7.7653601401917277E-5},{"$f":"$C$296*'EoL emissions'!J4","v":3.1403303399380784E-4},{"$f":"$C$296*'EoL emissions'!K4","v":6.1815943093791318E-6},{"$f":"$C$296*'EoL emissions'!L4","v":3.5481931124217363E-5},{"$f":"$C$296*'EoL emissions'!M4","v":1.71645311966543},{"$f":"$C$296*'EoL emissions'!N4","v":8.8718007210211322E-2},{"$f":"$C$296*'EoL emissions'!O4","v":8.5917515166581814E-4},{"$f":"$C$296*'EoL emissions'!P4","v":-1.5784152874951621E-2},{"$f":"$C$296*'EoL emissions'!Q4","v":-1.1980857722034385E-9}]
[null,"end of life HH",{"$f":"D295*C295","v":0},null,{"$f":"$C$297*'EoL emissions'!B5","v":0},{"$f":"$C$297*'EoL emissions'!C5","v":0},{"$f":"$C$297*'EoL emissions'!D5","v":0},{"$f":"$C$297*'EoL emissions'!E5","v":0},{"$f":"$C$297*'EoL emissions'!F5","v":0},{"$f":"$C$297*'EoL emissions'!G5","v":0},{"$f":"$C$297*'EoL emissions'!H5","v":0},{"$f":"$C$297*'EoL emissions'!I5","v":0},{"$f":"$C$297*'EoL emissions'!J5","v":0},{"$f":"$C$297*'EoL emissions'!K5","v":0},{"$f":"$C$297*'EoL emissions'!L5","v":0},{"$f":"$C$297*'EoL emissions'!M5","v":0},{"$f":"$C$297*'EoL emissions'!N5","v":0},{"$f":"$C$297*'EoL emissions'!O5","v":0},{"$f":"$C$297*'EoL emissions'!P5","v":0},{"$f":"$C$297*'EoL emissions'!Q5","v":0}]
["UNSPECIFIED/UNKOWN",null,null,null,{"$f":"SUM(E291:E297)","v":3.1651212723628284},{"$f":"SUM(F291:F297)","v":4.7953047569674585E-6},2.6043180809714292E-6,3.7166284951269955E-8,3.4318860460801926E-7,5.7733788857273156E-2,5.3942262634108142E-3,4.6838668509257338E-2,0.20150673274782205,5.9094252201115642E-4,1.7577619613093728E-2,11.054939360521743,325.2221600793518,5.6137809762570914,17.164303888816672,2.6145868921241414E-6]
[]
[]
["FOOD WASTE PREVENTION"]
[null,"agriculture ",{"$f":"C282+C274+C265+C256+C247+C238+C229+C220+C211+C202+C193+C184+C175+C166+C157+C148+C139+C130+C121+C112+C103+C94+C85+C76+C67+C58+C49+C40+C31+C22+C13+C4","v":33.854850804491512},null,{"$f":"E282+E274+E265+E256+E247+E238+E229+E220+E211+E202+E193+E184+E175+E166+E157+E148+E139+E130+E121+E112+E103+E94+E85+E76+E67+E58+E49+E40+E31+E22+E13+E4","v":136.65414713830214},{"$f":"F282+F274+F265+F256+F247+F238+F229+F220+F211+F202+F193+F184+F175+F166+F157+F148+F139+F130+F121+F112+F103+F94+F85+F76+F67+F58+F49+F40+F31+F22+F13+F4","v":2.389435865226203E-6},1.4290534163689228E-4,1.8267115372582373E-6,1.7255877874547338E-5,1.1424651236556869,0.24496628777155405,2.3228800434587322,10.153059394816987,7.5478655884373858E-2,1.0805117133330717,582.95407048932714,21089.830017272961,575.3110709373326,596.28977389637566,9.3098867595171319E-5]
[null,"processsing",null,null,{"$f":"E283+E275+E266+E257+E248+E239+E230+E221+E212+E203+E194+E185+E176+E167+E158+E149+E140+E131+E122+E113+E104+E95+E86+E77+E68+E59+E50+E41+E32+E23+E14+E5","v":26.215347420921042},{"$f":"F283+F275+F266+F257+F248+F239+F230+F221+F212+F203+F194+F185+F176+F167+F158+F149+F140+F131+F122+F113+F104+F95+F86+F77+F68+F59+F50+F41+F32+F23+F14+F5","v":4.4916214631843848E-5},4.4809318644754338E-6,1.7959818771535446E-7,2.1584822195621823E-6,2.206777500945059,9.7618783018845384E-2,0.14516681679352073,0.33349467862282789,1.7819569434046037E-3,3.029447272574972E-2,14.929300816649352,1700.7533277210691,18.432763359079168,424.2743101778828,3.6901579781617997E-5]
[null,"packaging",null,null,{"$f":"E284+E276+E267+E258+E249+E240+E231+E222+E213+E204+E195+E186+E177+E168+E159+E150+E141+E132+E123+E114+E105+E96+E87+E78+E69+E60+E51+E42+E33+E24+E15+E6","v":7.4811800000000002},{"$f":"F284+F276+F267+F258+F249+F240+F231+F222+F213+F204+F195+F186+F177+F168+F159+F150+F141+F132+F123+F114+F105+F96+F87+F78+F69+F60+F51+F42+F33+F24+F15+F6","v":6.9690399999999995E-7},1.048246E-6,4.6094300000000005E-8,-1.2675899999999998E-7,0.34357899999999997,9.1228900000000016E-3,2.1389600000000005E-2,3.2096399999999983E-2,2.4346570000000005E-4,3.7096799999999999E-3,4.773600000000001,-389.08509999999995,-9.6502999999999936E-2,84.958799999999982,6.7525310000000023E-5]
[null,"retail",null,null,{"$f":"E285+E277+E268+E259+E250+E241+E232+E223+E214+E205+E196+E187+E178+E169+E160+E151+E142+E133+E124+E115+E106+E97+E88+E79+E70+E61+E52+E43+E34+E25+E16+E7","v":9.3467000000000002},{"$f":"F285+F277+F268+F259+F250+F241+F232+F223+F214+F205+F196+F187+F178+F169+F160+F151+F142+F133+F124+F115+F106+F97+F88+F79+F70+F61+F52+F43+F34+F25+F16+F7","v":1.6584380000000002E-4},5.3569999999999991E-7,2.8458999999999994E-8,3.3929000000000012E-7,0.26172000000000001,2.4929999999999994E-2,2.4801999999999998E-2,8.7209999999999996E-2,9.2439999999999989E-5,8.1230000000000017E-3,8.657,62.090000000000011,8.4446999999999974,57.829999999999991,1.1326E-5]
[null,"use ",null,null,{"$f":"E286+E278+E269+E260+E251+E242+E233+E224+E215+E206+E197+E188+E179+E170+E161+E152+E143+E134+E125+E116+E107+E98+E89+E80+E71+E62+E53+E44+E35+E26+E17+E8","v":0},{"$f":"F286+F278+F269+F260+F251+F242+F233+F224+F215+F206+F197+F188+F179+F170+F161+F152+F143+F134+F125+F116+F107+F98+F89+F80+F71+F62+F53+F44+F35+F26+F17+F8","v":0},0,0,0,0,0,0,0,0,0,0,0,0,0,0]
[null,"end of life food waste",null,null,{"$f":"E288+E287+E279+E271+E270+E262+E261+E253+E252+E244+E243+E235+E234+E226+E225+E217+E216+E208+E207+E199+E198+E190+E189+E181+E180+E172+E171+E163+E162+E154+E153+E145+E144+E136+E135+E127+E126+E118+E117+E109+E108+E100+E99+E91+E90+E82+E81+E73+E72+E64+E63+E55+E54+E46+E45+E37+E36+E28+E27+E19+E18+E10+E9","v":1.0133244254060214},{"$f":"F288+F287+F279+F271+F270+F262+F261+F253+F252+F244+F243+F235+F234+F226+F225+F217+F216+F208+F207+F199+F198+F190+F189+F181+F180+F172+F171+F163+F162+F154+F153+F145+F144+F136+F135+F127+F126+F118+F117+F109+F108+F100+F99+F91+F90+F82+F81+F73+F72+F64+F63+F55+F54+F46+F45+F37+F36+F28+F27+F19+F18+F10+F9","v":1.2125718321933189E-8},1.1244544299983174E-6,4.4977271753408202E-8,2.2926781618611885E-8,7.6779714084443196E-3,1.3575541168236443E-3,3.5970409192596507E-3,1.4546486471230642E-2,2.8634014121141485E-4,1.6435757686211754E-3,79.508466709267054,4.1095730169160802,3.9298971056475097E-2,-0.73109043311855515,-5.547669568654494E-8]
[null,"TOTAL",null,null,{"$f":"SUM(E302:E307)","v":180.71069898462918},{"$f":"SUM(F302:F307)","v":2.1385848021539199E-4},1.5009467393136601E-4,2.125840296727E-6,1.9649817875728132E-5,3.9622195960091902,0.37799551490722311,2.5178355011715126,10.620406959911046,7.7882858668989877E-2,1.1242824418274429,690.82243801524362,22467.697818010944,602.13133026746834,1162.6217936411397,2.0879628068110282E-4]
[]
[]
["TOTAL BASKET WITH WASTE AMOUNTS IN SIMAPRO"]
[null,"agriculture ",708.5979720451387,null,1631.5969417471056,2.0418228148237946E-5,1.7311128187481363E-3,2.2382432742444079E-5,2.2266275613243454E-4,11.577299044466747,2.3880046534401647,30.391477429015602,134.24348308658077,0.38630180670328906,11.624496427172886,6025.7460848144528,222111.13320087802,5308.5969099121567,5610.4844881554636,6.6911056240210839E-4]
[null,"processsing",null,null,254.31281984122398,7.0566066130240042E-4,1.6716945961266835E-5,1.3057960821066813E-6,7.168869447572379E-6,18.387097070362532,0.66711835347167303,1.1262934322111589,2.4315880261896381,1.9192004875956233E-2,0.22598705905361816,110.57187948945477,2609.9295195571071,1082.3135002418903,3883.4175884583278,3.8088794715195073E-4]
[null,"packaging",null,null,122.94787510708115,1.208386257890557E-5,6.8238889344655241E-6,5.4661262521001646E-7,-3.7483024320722329E-7,4.6477574072968206,0.12190948104952425,0.25464731201048235,0.51047549038927398,3.1401169296413154E-3,4.6328394092310078E-2,59.488498306070092,-3473.2358229570273,0.18658693718278907,1203.2015993789571,5.3207468224213258E-4]
[null,"retail",null,null,144.75712300479,2.5426825257367407E-3,1.0700079348519428E-5,5.3529873905248149E-7,6.8834126248327614E-6,4.8228682540975853,0.49934153260150455,0.49524512005516214,1.6463804210167543,1.5164619422950499E-3,0.16290243415247055,177.69675053188905,1220.6120970887489,93.585149633685916,1092.4328657026217,2.0978649722289911E-4]
[null,"use ",null,null,179.75526699999995,1.1969046640000002E-5,1.8892666799999999E-5,1.8380119899999999E-6,6.9320137900000001E-6,8.9976042400000011,0.38182367200000011,0.94928086600000006,2.1911555499999995,0.22006650502999997,3.4424493619999996,208.65540300000001,5155.6372660000006,992.66854630000023,2201.3038649999999,5.2626590459999988E-4]
[null,"end of life food waste",null,null,34.726127411719176,2.8772729542925372E-7,7.1237954396470717E-7,1.4563119009689656E-7,4.9186053809221436E-7,0.10488003141648113,3.2208071064044629E-2,8.4745406064160034E-2,0.3693040304076407,1.9442490594397466E-4,4.964763059232339E-2,4.0066020571636187,61.536298298470108,-0.4908253495520466,18.020222240316375,-3.7805340232260273E-6]
[null,"TOTAL",null,null,2368.09615411192,3.2931020517017141E-3,1.7849587793363527E-3,2.6753783368910155E-5,2.4376408228972464E-4,48.537506047640164,4.0904057636269107,33.301689565356568,141.39238660458406,0.63041132038712566,15.551811307063609,6586.1652181990303,227685.61255886531,7476.8598676753645,14008.860628935687,2.3143450595958645E-3]
[]
[]
["DIFFERENCE",null,{"$f":"C302-C312","v":-674.74312124064716},null,{"$f":"E308-E318","v":-2187.3854551272907},{"$f":"F308-F318","v":-3.079243571486322E-3},-1.6348641054049868E-3,-2.4627943072183154E-5,-2.2411426441399651E-4,-44.575286451630973,-3.7124102487196877,-30.783854064185057,-130.77197964467302,-0.55252846171813574,-14.427528865236166,-5895.342780183787,-205217.91474085435,-6874.7285374078965,-12846.238835294547,-2.1055487789147617E-3]
[null,null,{"$f":"C321/C312","v":-0.95222276644853998},null,{"$f":"E321/E318","v":-0.92368945886304221},{"$f":"F321/F318","v":-0.93505865385954845},-0.91591140609579169,-0.92054057299434588,-0.91939001968151557,-0.91836787839654921,-0.90758972660647264,-0.9243931604061677,-0.92488699558051934,-0.876457074690278,-0.92770729919306594,-0.89511006554977568,-0.90132139854817483,-0.91946735114420741,-0.91700811190599529,-0.90978169836197065]
[]
["Food waste amount, kg",null,{"$f":"C312-C302","v":674.74312124064716}]
[]
["FOOD WASTE PREVENTION"]
["DEFAULT FOOD WASTE AMOUNTS"]

{"sheet":"Calculation_processing","index":9,"n_rows":326,"n_cols":20,"rows_kept":326,"cut":false,"hidden":true,"merged":[[279,0,279,1],[288,0,288,1],[297,0,297,1],[226,0,226,1],[235,0,235,1],[244,0,244,1],[253,0,253,1],[262,0,262,1],[271,0,271,1],[217,0,217,1],[118,0,118,1],[127,0,127,1],[136,0,136,1],[145,0,145,1],[154,0,154,1],[163,0,163,1],[172,0,172,1],[181,0,181,1],[190,0,190,1],[199,0,199,1],[208,0,208,1],[109,0,109,1],[10,0,10,1],[19,0,19,1],[28,0,28,1],[37,0,37,1],[46,0,46,1],[55,0,55,1],[64,0,64,1],[73,0,73,1],[82,0,82,1],[91,0,91,1],[100,0,100,1]]}
[null,null,"Amount","Foodwaste","IPCC GWP 100a","Ozone depletion","Human toxicity, non-cancer effects","Human toxicity, cancer effects","Particulate matter","Ionizing radiation HH","Photochemical ozone formation","Acidification","Terrestrial eutrophication","Freshwater eutrophication","Marine eutrophication","Freshwater ecotoxicity","Land use","Water scarcity","ADP Fossil","ADP (ultimate)"]
[null,null,"kg","%","kg CO2 eq","kg CFC11 eq","CTUh","CTUh","Death","kBq U235 eq","kg NMVOC eq","molc H+ eq","molc N eq","kg P eq","kg N eq","CTUe","Pt","m3 water eq","MJ","kg Sb eq"]
["Meat","PORK"]
[null,"agriculture ",{"$f":"C5/(1-D4)","v":1.0526315789473684},{"$f":"Calculation_original!D4","v":0},{"$f":"$C$4*'Emissions per kg'!C4","v":6.4315789473684211},{"$f":"$C$4*'Emissions per kg'!D4","v":3.5999999999999998E-8},{"$f":"$C$4*'Emissions per kg'!E4","v":2.3263157894736842E-6},{"$f":"$C$4*'Emissions per kg'!F4","v":7.357894736842105E-8},{"$f":"$C$4*'Emissions per kg'!G4","v":9.5473684210526308E-7},{"$f":"$C$4*'Emissions per kg'!H4","v":5.8315789473684203E-2},{"$f":"$C$4*'Emissions per kg'!I4","v":7.9473684210526318E-3},{"$f":"$C$4*'Emissions per kg'!J4","v":0.13263157894736841},{"$f":"$C$4*'Emissions per kg'!K4","v":0.58842105263157896},{"$f":"$C$4*'Emissions per kg'!L4","v":1.4E-3},{"$f":"$C$4*'Emissions per kg'!M4","v":4.1263157894736842E-2},{"$f":"$C$4*'Emissions per kg'!N4","v":17.684210526315788},{"$f":"$C$4*'Emissions per kg'!O4","v":827.36842105263156},{"$f":"$C$4*'Emissions per kg'!P4","v":1.2736842105263158},{"$f":"$C$4*'Emissions per kg'!Q4","v":21.999999999999996},{"$f":"$C$4*'Emissions per kg'!R4","v":1.9052631578947367E-7}]
[null,"processsing",{"$f":"(C6/(1-D5))/(1-D6)","v":1.0526315789473684},{"$f":"Calculation_original!D5","v":0.05},{"$f":"$C$5*'Emissions per kg'!C5","v":0.34210526315789475},{"$f":"$C$5*'Emissions per kg'!D5","v":8.473684210526316E-7},{"$f":"$C$5*'Emissions per kg'!E5","v":1.034736842105263E-8},{"$f":"$C$5*'Emissions per kg'!F5","v":7.2736842105263152E-10},{"$f":"$C$5*'Emissions per kg'!G5","v":9.1473684210526308E-9},{"$f":"$C$5*'Emissions per kg'!H5","v":1.4526315789473682E-2},{"$f":"$C$5*'Emissions per kg'!I5","v":7.3263157894736843E-4},{"$f":"$C$5*'Emissions per kg'!J5","v":1.0736842105263159E-3},{"$f":"$C$5*'Emissions per kg'!K5","v":4.1894736842105259E-3},{"$f":"$C$5*'Emissions per kg'!L5","v":1.5789473684210526E-6},{"$f":"$C$5*'Emissions per kg'!M5","v":2.7999999999999998E-4},{"$f":"$C$5*'Emissions per kg'!N5","v":0.14421052631578948},{"$f":"$C$5*'Emissions per kg'!O5","v":1.1473684210526316},{"$f":"$C$5*'Emissions per kg'!P5","v":0.20947368421052631},{"$f":"$C$5*'Emissions per kg'!Q5","v":3.3684210526315788},{"$f":"$C$5*'Emissions per kg'!R5","v":1.231578947368421E-7}]
[null,"packaging",1,{"$f":"Calculation_original!D6","v":0},{"$f":"$C$6*'Emissions per kg'!C6","v":5.0900000000000001E-2},{"$f":"$C$6*'Emissions per kg'!D6","v":1.5900000000000001E-9},{"$f":"$C$6*'Emissions per kg'!E6","v":1.6500000000000001E-9},{"$f":"$C$6*'Emissions per kg'!F6","v":1.6900000000000001E-10},{"$f":"$C$6*'Emissions per kg'!G6","v":1.27E-9},{"$f":"$C$6*'Emissions per kg'!H6","v":1.1999999999999999E-3},{"$f":"$C$6*'Emissions per kg'!I6","v":7.3499999999999998E-5},{"$f":"$C$6*'Emissions per kg'!J6","v":1.37E-4},{"$f":"$C$6*'Emissions per kg'!K6","v":2.61E-4},{"$f":"$C$6*'Emissions per kg'!L6","v":1.08E-6},{"$f":"$C$6*'Emissions per kg'!M6","v":2.4300000000000001E-5},{"$f":"$C$6*'Emissions per kg'!N6","v":3.0700000000000002E-2},{"$f":"$C$6*'Emissions per kg'!O6","v":0.156},{"$f":"$C$6*'Emissions per kg'!P6","v":4.9300000000000004E-3},{"$f":"$C$6*'Emissions per kg'!Q6","v":0.33300000000000002},{"$f":"$C$6*'Emissions per kg'!R6","v":1.44E-8}]
[null,"retail",0,{"$f":"Calculation_original!D7","v":0.04},{"$f":"$C$7*'Emissions per kg'!C7","v":0},{"$f":"$C$7*'Emissions per kg'!D7","v":0},{"$f":"$C$7*'Emissions per kg'!E7","v":0},{"$f":"$C$7*'Emissions per kg'!F7","v":0},{"$f":"$C$7*'Emissions per kg'!G7","v":0},{"$f":"$C$7*'Emissions per kg'!H7","v":0},{"$f":"$C$7*'Emissions per kg'!I7","v":0},{"$f":"$C$7*'Emissions per kg'!J7","v":0},{"$f":"$C$7*'Emissions per kg'!K7","v":0},{"$f":"$C$7*'Emissions per kg'!L7","v":0},{"$f":"$C$7*'Emissions per kg'!M7","v":0},{"$f":"$C$7*'Emissions per kg'!N7","v":0},{"$f":"$C$7*'Emissions per kg'!O7","v":0},{"$f":"$C$7*'Emissions per kg'!P7","v":0},{"$f":"$C$7*'Emissions per kg'!Q7","v":0},{"$f":"$C$7*'Emissions per kg'!R7","v":0}]
[null,"use ",0,{"$f":"Calculation_original!D8","v":0.11},{"$f":"$C$8*'Emissions per kg'!C8","v":0},{"$f":"$C$8*'Emissions per kg'!D8","v":0},{"$f":"$C$8*'Emissions per kg'!E8","v":0},{"$f":"$C$8*'Emissions per kg'!F8","v":0},{"$f":"$C$8*'Emissions per kg'!G8","v":0},{"$f":"$C$8*'Emissions per kg'!H8","v":0},{"$f":"$C$8*'Emissions per kg'!I8","v":0},{"$f":"$C$8*'Emissions per kg'!J8","v":0},{"$f":"$C$8*'Emissions per kg'!K8","v":0},{"$f":"$C$8*'Emissions per kg'!L8","v":0},{"$f":"$C$8*'Emissions per kg'!M8","v":0},{"$f":"$C$8*'Emissions per kg'!N8","v":0},{"$f":"$C$8*'Emissions per kg'!O8","v":0},{"$f":"$C$8*'Emissions per kg'!P8","v":0},{"$f":"$C$8*'Emissions per kg'!Q8","v":0},{"$f":"$C$8*'Emissions per kg'!R8","v":0}]
[null,"end of life P&R",{"$f":"D5*C5+D7*C7+C6*D6+C4*D4","v":5.2631578947368418E-2},null,{"$f":"$C$9*'EoL emissions'!B4","v":1.7808167328683466E-2},{"$f":"$C$9*'EoL emissions'!C4","v":2.1309345979642244E-10},{"$f":"$C$9*'EoL emissions'!D4","v":1.9761236346615394E-8},{"$f":"$C$9*'EoL emissions'!E4","v":7.9042924637366025E-10},{"$f":"$C$9*'EoL emissions'!F4","v":4.0291146582598153E-10},{"$f":"$C$9*'EoL emissions'!G4","v":1.3493122014970562E-4},{"$f":"$C$9*'EoL emissions'!H4","v":2.3857497371566657E-5},{"$f":"$C$9*'EoL emissions'!I4","v":6.3214327844973061E-5},{"$f":"$C$9*'EoL emissions'!J4","v":2.5564026402703332E-4},{"$f":"$C$9*'EoL emissions'!K4","v":5.0321597739582005E-6},{"$f":"$C$9*'EoL emissions'!L4","v":2.8884255027013477E-5},{"$f":"$C$9*'EoL emissions'!M4","v":1.3972878047917334},{"$f":"$C$9*'EoL emissions'!N4","v":7.2221366328033734E-2},{"$f":"$C$9*'EoL emissions'!O4","v":6.9941610863030117E-4},{"$f":"$C$9*'EoL emissions'!P4","v":-1.2849173722517529E-2},{"$f":"$C$9*'EoL emissions'!Q4","v":-9.7530810449437732E-10}]
[null,"end of life HH",{"$f":"D8*C8","v":0},null,{"$f":"$C$10*'EoL emissions'!B5","v":0},{"$f":"$C$10*'EoL emissions'!C5","v":0},{"$f":"$C$10*'EoL emissions'!D5","v":0},{"$f":"$C$10*'EoL emissions'!E5","v":0},{"$f":"$C$10*'EoL emissions'!F5","v":0},{"$f":"$C$10*'EoL emissions'!G5","v":0},{"$f":"$C$10*'EoL emissions'!H5","v":0},{"$f":"$C$10*'EoL emissions'!I5","v":0},{"$f":"$C$10*'EoL emissions'!J5","v":0},{"$f":"$C$10*'EoL emissions'!K5","v":0},{"$f":"$C$10*'EoL emissions'!L5","v":0},{"$f":"$C$10*'EoL emissions'!M5","v":0},{"$f":"$C$10*'EoL emissions'!N5","v":0},{"$f":"$C$10*'EoL emissions'!O5","v":0},{"$f":"$C$10*'EoL emissions'!P5","v":0},{"$f":"$C$10*'EoL emissions'!Q5","v":0}]
["PORK",null,null,null,{"$f":"SUM(E4:E10)","v":6.842392377855},{"$f":"SUM(F4:F10)","v":8.8517151451242795E-7},2.3580743942413519E-6,7.5265745035847343E-8,9.6555712199214145E-7,7.4177036483307604E-2,8.7773574973715671E-3,0.13390547748573969,0.59312716657981646,1.4076911071423794E-3,4.1596342149763856E-2,19.25640885742331,828.74401084001215,1.4887873108454723,25.688571878909055,3.2710890242182141E-7]
["Meat","BEEF"]
[null,"agriculture ",{"$f":"C14/(1-D13)","v":1.0526315789473684},{"$f":"Calculation_original!D13","v":0},{"$f":"$C$13*'Emissions per kg'!C11","v":29.789473684210524},{"$f":"$C$13*'Emissions per kg'!D11","v":1.3052631578947368E-8},{"$f":"$C$13*'Emissions per kg'!E11","v":2.1157894736842106E-5},{"$f":"$C$13*'Emissions per kg'!F11","v":3.4105263157894735E-7},{"$f":"$C$13*'Emissions per kg'!G11","v":3.7789473684210523E-6},{"$f":"$C$13*'Emissions per kg'!H11","v":2.0947368421052631E-2},{"$f":"$C$13*'Emissions per kg'!I11","v":3.2526315789473681E-2},{"$f":"$C$13*'Emissions per kg'!J11","v":0.50842105263157888},{"$f":"$C$13*'Emissions per kg'!K11","v":2.2526315789473683},{"$f":"$C$13*'Emissions per kg'!L11","v":4.4842105263157893E-3},{"$f":"$C$13*'Emissions per kg'!M11","v":0.19894736842105262},{"$f":"$C$13*'Emissions per kg'!N11","v":38.94736842105263},{"$f":"$C$13*'Emissions per kg'!O11","v":3494.7368421052629},{"$f":"$C$13*'Emissions per kg'!P11","v":9.2947368421052623},{"$f":"$C$13*'Emissions per kg'!Q11","v":64.526315789473671},{"$f":"$C$13*'Emissions per kg'!R11","v":3.6631578947368421E-7}]
[null,"processsing",{"$f":"(C15/(1-D14))/(1-D15)","v":1.0526315789473684},{"$f":"Calculation_original!D14","v":0.05},{"$f":"$C$14*'Emissions per kg'!C12","v":0.49789473684210522},{"$f":"$C$14*'Emissions per kg'!D12","v":2.5894736842105264E-6},{"$f":"$C$14*'Emissions per kg'!E12","v":1.5263157894736843E-8},{"$f":"$C$14*'Emissions per kg'!F12","v":9.1052631578947367E-10},{"$f":"$C$14*'Emissions per kg'!G12","v":1.9684210526315787E-8},{"$f":"$C$14*'Emissions per kg'!H12","v":7.5999999999999991E-3},{"$f":"$C$14*'Emissions per kg'!I12","v":1.1578947368421054E-3},{"$f":"$C$14*'Emissions per kg'!J12","v":2.336842105263158E-3},{"$f":"$C$14*'Emissions per kg'!K12","v":5.3578947368421049E-3},{"$f":"$C$14*'Emissions per kg'!L12","v":3.1473684210526315E-6},{"$f":"$C$14*'Emissions per kg'!M12","v":4.0631578947368421E-4},{"$f":"$C$14*'Emissions per kg'!N12","v":0.17052631578947369},{"$f":"$C$14*'Emissions per kg'!O12","v":1.3894736842105262},{"$f":"$C$14*'Emissions per kg'!P12","v":0.21999999999999997},{"$f":"$C$14*'Emissions per kg'!Q12","v":4.4631578947368418},{"$f":"$C$14*'Emissions per kg'!R12","v":1.7578947368421051E-7}]
[null,"packaging",1,{"$f":"Calculation_original!D15","v":0},{"$f":"$C$15*'Emissions per kg'!C13","v":5.0900000000000001E-2},{"$f":"$C$15*'Emissions per kg'!D13","v":1.5900000000000001E-9},{"$f":"$C$15*'Emissions per kg'!E13","v":1.6500000000000001E-9},{"$f":"$C$15*'Emissions per kg'!F13","v":1.6900000000000001E-10},{"$f":"$C$15*'Emissions per kg'!G13","v":1.27E-9},{"$f":"$C$15*'Emissions per kg'!H13","v":1.1999999999999999E-3},{"$f":"$C$15*'Emissions per kg'!I13","v":7.3499999999999998E-5},{"$f":"$C$15*'Emissions per kg'!J13","v":1.37E-4},{"$f":"$C$15*'Emissions per kg'!K13","v":2.61E-4},{"$f":"$C$15*'Emissions per kg'!L13","v":1.08E-6},{"$f":"$C$15*'Emissions per kg'!M13","v":2.4300000000000001E-5},{"$f":"$C$15*'Emissions per kg'!N13","v":3.0700000000000002E-2},{"$f":"$C$15*'Emissions per kg'!O13","v":0.156},{"$f":"$C$15*'Emissions per kg'!P13","v":4.9300000000000004E-3},{"$f":"$C$15*'Emissions per kg'!Q13","v":0.33300000000000002},{"$f":"$C$15*'Emissions per kg'!R13","v":1.44E-8}]
[null,"retail",0,{"$f":"Calculation_original!D16","v":0.04},{"$f":"$C$16*'Emissions per kg'!C14","v":0},{"$f":"$C$16*'Emissions per kg'!D14","v":0},{"$f":"$C$16*'Emissions per kg'!E14","v":0},{"$f":"$C$16*'Emissions per kg'!F14","v":0},{"$f":"$C$16*'Emissions per kg'!G14","v":0},{"$f":"$C$16*'Emissions per kg'!H14","v":0},{"$f":"$C$16*'Emissions per kg'!I14","v":0},{"$f":"$C$16*'Emissions per kg'!J14","v":0},{"$f":"$C$16*'Emissions per kg'!K14","v":0},{"$f":"$C$16*'Emissions per kg'!L14","v":0},{"$f":"$C$16*'Emissions per kg'!M14","v":0},{"$f":"$C$16*'Emissions per kg'!N14","v":0},{"$f":"$C$16*'Emissions per kg'!O14","v":0},{"$f":"$C$16*'Emissions per kg'!P14","v":0},{"$f":"$C$16*'Emissions per kg'!Q14","v":0},{"$f":"$C$16*'Emissions per kg'!R14","v":0}]
[null,"use ",0,{"$f":"Calculation_original!D17","v":0.11},{"$f":"$C$17*'Emissions per kg'!C15","v":0},{"$f":"$C$17*'Emissions per kg'!D15","v":0},{"$f":"$C$17*'Emissions per kg'!E15","v":0},{"$f":"$C$17*'Emissions per kg'!F15","v":0},{"$f":"$C$17*'Emissions per kg'!G15","v":0},{"$f":"$C$17*'Emissions per kg'!H15","v":0},{"$f":"$C$17*'Emissions per kg'!I15","v":0},{"$f":"$C$17*'Emissions per kg'!J15","v":0},{"$f":"$C$17*'Emissions per kg'!K15","v":0},{"$f":"$C$17*'Emissions per kg'!L15","v":0},{"$f":"$C$17*'Emissions per kg'!M15","v":0},{"$f":"$C$17*'Emissions per kg'!N15","v":0},{"$f":"$C$17*'Emissions per kg'!O15","v":0},{"$f":"$C$17*'Emissions per kg'!P15","v":0},{"$f":"$C$17*'Emissions per kg'!Q15","v":0},{"$f":"$C$17*'Emissions per kg'!R15","v":0}]
[null,"end of life P&R",{"$f":"D14*C14+D16*C16+C15*D15+C13*D13","v":5.2631578947368418E-2},null,{"$f":"$C$18*'EoL emissions'!B4","v":1.7808167328683466E-2},{"$f":"$C$18*'EoL emissions'!C4","v":2.1309345979642244E-10},{"$f":"$C$18*'EoL emissions'!D4","v":1.9761236346615394E-8},{"$f":"$C$18*'EoL emissions'!E4","v":7.9042924637366025E-10},{"$f":"$C$18*'EoL emissions'!F4","v":4.0291146582598153E-10},{"$f":"$C$18*'EoL emissions'!G4","v":1.3493122014970562E-4},{"$f":"$C$18*'EoL emissions'!H4","v":2.3857497371566657E-5},{"$f":"$C$18*'EoL emissions'!I4","v":6.3214327844973061E-5},{"$f":"$C$18*'EoL emissions'!J4","v":2.5564026402703332E-4},{"$f":"$C$18*'EoL emissions'!K4","v":5.0321597739582005E-6},{"$f":"$C$18*'EoL emissions'!L4","v":2.8884255027013477E-5},{"$f":"$C$18*'EoL emissions'!M4","v":1.3972878047917334},{"$f":"$C$18*'EoL emissions'!N4","v":7.2221366328033734E-2},{"$f":"$C$18*'EoL emissions'!O4","v":6.9941610863030117E-4},{"$f":"$C$18*'EoL emissions'!P4","v":-1.2849173722517529E-2},{"$f":"$C$18*'EoL emissions'!Q4","v":-9.7530810449437732E-10}]
[null,"end of life HH",{"$f":"D17*C17","v":0},null,{"$f":"$C$19*'EoL emissions'!B5","v":0},{"$f":"$C$19*'EoL emissions'!C5","v":0},{"$f":"$C$19*'EoL emissions'!D5","v":0},{"$f":"$C$19*'EoL emissions'!E5","v":0},{"$f":"$C$19*'EoL emissions'!F5","v":0},{"$f":"$C$19*'EoL emissions'!G5","v":0},{"$f":"$C$19*'EoL emissions'!H5","v":0},{"$f":"$C$19*'EoL emissions'!I5","v":0},{"$f":"$C$19*'EoL emissions'!J5","v":0},{"$f":"$C$19*'EoL emissions'!K5","v":0},{"$f":"$C$19*'EoL emissions'!L5","v":0},{"$f":"$C$19*'EoL emissions'!M5","v":0},{"$f":"$C$19*'EoL emissions'!N5","v":0},{"$f":"$C$19*'EoL emissions'!O5","v":0},{"$f":"$C$19*'EoL emissions'!P5","v":0},{"$f":"$C$19*'EoL emissions'!Q5","v":0}]
["BEEF",null,null,null,{"$f":"SUM(E13:E19)","v":30.356076588381313},{"$f":"SUM(F13:F19)","v":2.60432940924927E-6},2.1194569131083458E-5,3.4292258714111052E-7,3.8003044904131939E-6,2.9882299641202335E-2,3.3781568023687356E-2,0.51095810906468708,2.2585061139482376,4.4934700545107998E-3,0.19940686846555331,40.545882541633837,3496.3545371558012,9.5203662582138939,69.309624510487993,5.5552995505340039E-7]
["Meat","POULTRY"]
[null,"agriculture ",{"$f":"C23/(1-D22)","v":1.0526315789473684},{"$f":"Calculation_original!D22","v":0},{"$f":"$C$22*'Emissions per kg'!C18","v":5.8736842105263154},{"$f":"$C$22*'Emissions per kg'!D18","v":3.4210526315789469E-8},{"$f":"$C$22*'Emissions per kg'!E18","v":1.5263157894736842E-6},{"$f":"$C$22*'Emissions per kg'!F18","v":5.2631578947368416E-8},{"$f":"$C$22*'Emissions per kg'!G18","v":7.705263157894737E-7},{"$f":"$C$22*'Emissions per kg'!H18","v":5.5052631578947367E-2},{"$f":"$C$22*'Emissions per kg'!I18","v":6.4105263157894733E-3},{"$f":"$C$22*'Emissions per kg'!J18","v":9.4947368421052628E-2},{"$f":"$C$22*'Emissions per kg'!K18","v":0.42},{"$f":"$C$22*'Emissions per kg'!L18","v":1.2421052631578946E-3},{"$f":"$C$22*'Emissions per kg'!M18","v":2.4736842105263158E-2},{"$f":"$C$22*'Emissions per kg'!N18","v":12.736842105263158},{"$f":"$C$22*'Emissions per kg'!O18","v":634.73684210526312},{"$f":"$C$22*'Emissions per kg'!P18","v":0.71263157894736839},{"$f":"$C$22*'Emissions per kg'!Q18","v":19.578947368421051},{"$f":"$C$22*'Emissions per kg'!R18","v":2.0526315789473685E-7}]
[null,"processsing",{"$f":"(C24/(1-D23))/(1-D24)","v":1.0526315789473684},{"$f":"Calculation_original!D23","v":0.05},{"$f":"$C$23*'Emissions per kg'!C19","v":0.28210526315789475},{"$f":"$C$23*'Emissions per kg'!D19","v":5.0210526315789473E-7},{"$f":"$C$23*'Emissions per kg'!E19","v":1.0421052631578946E-8},{"$f":"$C$23*'Emissions per kg'!F19","v":6.1578947368421056E-10},{"$f":"$C$23*'Emissions per kg'!G19","v":8.6631578947368419E-9},{"$f":"$C$23*'Emissions per kg'!H19","v":1.4210526315789472E-2},{"$f":"$C$23*'Emissions per kg'!I19","v":7.0842105263157888E-4},{"$f":"$C$23*'Emissions per kg'!J19","v":9.1999999999999992E-4},{"$f":"$C$23*'Emissions per kg'!K19","v":3.5157894736842104E-3},{"$f":"$C$23*'Emissions per kg'!L19","v":1.263157894736842E-6},{"$f":"$C$23*'Emissions per kg'!M19","v":2.5894736842105266E-4},{"$f":"$C$23*'Emissions per kg'!N19","v":0.15473684210526314},{"$f":"$C$23*'Emissions per kg'!O19","v":1.1368421052631579},{"$f":"$C$23*'Emissions per kg'!P19","v":0.15684210526315787},{"$f":"$C$23*'Emissions per kg'!Q19","v":3.0736842105263156},{"$f":"$C$23*'Emissions per kg'!R19","v":1.2842105263157896E-7}]
[null,"packaging",1,{"$f":"Calculation_original!D24","v":0},{"$f":"$C$24*'Emissions per kg'!C20","v":1.27},{"$f":"$C$24*'Emissions per kg'!D20","v":1.5400000000000001E-9},{"$f":"$C$24*'Emissions per kg'!E20","v":1.61E-9},{"$f":"$C$24*'Emissions per kg'!F20","v":1.6799999999999999E-10},{"$f":"$C$24*'Emissions per kg'!G20","v":1.2400000000000001E-9},{"$f":"$C$24*'Emissions per kg'!H20","v":1.1900000000000001E-3},{"$f":"$C$24*'Emissions per kg'!I20","v":7.1899999999999999E-5},{"$f":"$C$24*'Emissions per kg'!J20","v":1.35E-4},{"$f":"$C$24*'Emissions per kg'!K20","v":2.5500000000000002E-4},{"$f":"$C$24*'Emissions per kg'!L20","v":1.0699999999999999E-6},{"$f":"$C$24*'Emissions per kg'!M20","v":2.37E-5},{"$f":"$C$24*'Emissions per kg'!N20","v":3.0099999999999998E-2},{"$f":"$C$24*'Emissions per kg'!O20","v":0.152},{"$f":"$C$24*'Emissions per kg'!P20","v":4.9100000000000003E-3},{"$f":"$C$24*'Emissions per kg'!Q20","v":0.33},{"$f":"$C$24*'Emissions per kg'!R20","v":1.39E-8}]
[null,"retail",0,{"$f":"Calculation_original!D25","v":0.04},{"$f":"$C$25*'Emissions per kg'!C21","v":0},{"$f":"$C$25*'Emissions per kg'!D21","v":0},{"$f":"$C$25*'Emissions per kg'!E21","v":0},{"$f":"$C$25*'Emissions per kg'!F21","v":0},{"$f":"$C$25*'Emissions per kg'!G21","v":0},{"$f":"$C$25*'Emissions per kg'!H21","v":0},{"$f":"$C$25*'Emissions per kg'!I21","v":0},{"$f":"$C$25*'Emissions per kg'!J21","v":0},{"$f":"$C$25*'Emissions per kg'!K21","v":0},{"$f":"$C$25*'Emissions per kg'!L21","v":0},{"$f":"$C$25*'Emissions per kg'!M21","v":0},{"$f":"$C$25*'Emissions per kg'!N21","v":0},{"$f":"$C$25*'Emissions per kg'!O21","v":0},{"$f":"$C$25*'Emissions per kg'!P21","v":0},{"$f":"$C$25*'Emissions per kg'!Q21","v":0},{"$f":"$C$25*'Emissions per kg'!R21","v":0}]
[null,"use ",0,{"$f":"Calculation_original!D26","v":0.11},{"$f":"$C$26*'Emissions per kg'!C22","v":0},{"$f":"$C$26*'Emissions per kg'!D22","v":0},{"$f":"$C$26*'Emissions per kg'!E22","v":0},{"$f":"$C$26*'Emissions per kg'!F22","v":0},{"$f":"$C$26*'Emissions per kg'!G22","v":0},{"$f":"$C$26*'Emissions per kg'!H22","v":0},{"$f":"$C$26*'Emissions per kg'!I22","v":0},{"$f":"$C$26*'Emissions per kg'!J22","v":0},{"$f":"$C$26*'Emissions per kg'!K22","v":0},{"$f":"$C$26*'Emissions per kg'!L22","v":0},{"$f":"$C$26*'Emissions per kg'!M22","v":0},{"$f":"$C$26*'Emissions per kg'!N22","v":0},{"$f":"$C$26*'Emissions per kg'!O22","v":0},{"$f":"$C$26*'Emissions per kg'!P22","v":0},{"$f":"$C$26*'Emissions per kg'!Q22","v":0},{"$f":"$C$26*'Emissions per kg'!R22","v":0}]
[null,"end of life P&R",{"$f":"D23*C23+D25*C25+C24*D24+C22*D22","v":5.2631578947368418E-2},null,{"$f":"$C$27*'EoL emissions'!B4","v":1.7808167328683466E-2},{"$f":"$C$27*'EoL emissions'!C4","v":2.1309345979642244E-10},{"$f":"$C$27*'EoL emissions'!D4","v":1.9761236346615394E-8},{"$f":"$C$27*'EoL emissions'!E4","v":7.9042924637366025E-10},{"$f":"$C$27*'EoL emissions'!F4","v":4.0291146582598153E-10},{"$f":"$C$27*'EoL emissions'!G4","v":1.3493122014970562E-4},{"$f":"$C$27*'EoL emissions'!H4","v":2.3857497371566657E-5},{"$f":"$C$27*'EoL emissions'!I4","v":6.3214327844973061E-5},{"$f":"$C$27*'EoL emissions'!J4","v":2.5564026402703332E-4},{"$f":"$C$27*'EoL emissions'!K4","v":5.0321597739582005E-6},{"$f":"$C$27*'EoL emissions'!L4","v":2.8884255027013477E-5},{"$f":"$C$27*'EoL emissions'!M4","v":1.3972878047917334},{"$f":"$C$27*'EoL emissions'!N4","v":7.2221366328033734E-2},{"$f":"$C$27*'EoL emissions'!O4","v":6.9941610863030117E-4},{"$f":"$C$27*'EoL emissions'!P4","v":-1.2849173722517529E-2},{"$f":"$C$27*'EoL emissions'!Q4","v":-9.7530810449437732E-10}]
[null,"end of life HH",{"$f":"D26*C26","v":0},null,{"$f":"$C$28*'EoL emissions'!B5","v":0},{"$f":"$C$28*'EoL emissions'!C5","v":0},{"$f":"$C$28*'EoL emissions'!D5","v":0},{"$f":"$C$28*'EoL emissions'!E5","v":0},{"$f":"$C$28*'EoL emissions'!F5","v":0},{"$f":"$C$28*'EoL emissions'!G5","v":0},{"$f":"$C$28*'EoL emissions'!H5","v":0},{"$f":"$C$28*'EoL emissions'!I5","v":0},{"$f":"$C$28*'EoL emissions'!J5","v":0},{"$f":"$C$28*'EoL emissions'!K5","v":0},{"$f":"$C$28*'EoL emissions'!L5","v":0},{"$f":"$C$28*'EoL emissions'!M5","v":0},{"$f":"$C$28*'EoL emissions'!N5","v":0},{"$f":"$C$28*'EoL emissions'!O5","v":0},{"$f":"$C$28*'EoL emissions'!P5","v":0},{"$f":"$C$28*'EoL emissions'!Q5","v":0}]
["POULTRY",null,null,null,{"$f":"SUM(E22:E28)","v":7.4435976410128939},{"$f":"SUM(F22:F28)","v":5.3806888293348067E-7},1.5581080784518786E-6,5.4205797667426282E-8,7.8083238515003659E-7,7.0588089114886537E-2,7.2147048657926188E-3,9.6065582748897607E-2,0.42402642973771121,1.2494705808265897E-3,2.5048373728711226E-2,14.318966752160154,636.09790557685437,0.87508310031915659,22.969782405224848,3.4660890242182145E-7]
["Fish","COD"]
[null,"agriculture ",{"$f":"C32/(1-D31)","v":1.0638297872340425},{"$f":"Calculation_original!D31","v":0},{"$f":"'Emissions per kg'!C25*$C$31","v":2.3936170212765955},{"$f":"'Emissions per kg'!D25*$C$31","v":7.0425531914893613E-7},{"$f":"'Emissions per kg'!E25*$C$31","v":3.5425531914893616E-8},{"$f":"'Emissions per kg'!F25*$C$31","v":5.7659574468085104E-9},{"$f":"'Emissions per kg'!G25*$C$31","v":9.1063829787234038E-8},{"$f":"'Emissions per kg'!H25*$C$31","v":1.5957446808510637E-2},{"$f":"'Emissions per kg'!I25*$C$31","v":3.9468085106382979E-2},{"$f":"'Emissions per kg'!J25*$C$31","v":3.3085106382978721E-2},{"$f":"'Emissions per kg'!K25*$C$31","v":0.15531914893617019},{"$f":"'Emissions per kg'!L25*$C$31","v":1.0957446808510638E-5},{"$f":"'Emissions per kg'!M25*$C$31","v":1.4148936170212765E-2},{"$f":"'Emissions per kg'!N25*$C$31","v":3.8404255319148932},{"$f":"'Emissions per kg'!O25*$C$31","v":1.9680851063829787},{"$f":"'Emissions per kg'!P25*$C$31","v":18.723404255319149},{"$f":"'Emissions per kg'!Q25*$C$31","v":32.553191489361701},{"$f":"'Emissions per kg'!R25*$C$31","v":3.1914893617021275E-7}]
[null,"processsing",{"$f":"(C33/(1-D32))/(1-D33)","v":1.0638297872340425},{"$f":"Calculation_original!D32","v":0.06},{"$f":"'Emissions per kg'!C26*$C$32","v":0.66808510638297869},{"$f":"'Emissions per kg'!D26*$C$32","v":3.5851063829787231E-6},{"$f":"'Emissions per kg'!E26*$C$32","v":5.329787234042553E-8},{"$f":"'Emissions per kg'!F26*$C$32","v":4.308510638297872E-9},{"$f":"'Emissions per kg'!G26*$C$32","v":2.6170212765957445E-8},{"$f":"'Emissions per kg'!H26*$C$32","v":5.9787234042553192E-2},{"$f":"'Emissions per kg'!I26*$C$32","v":2.5638297872340424E-3},{"$f":"'Emissions per kg'!J26*$C$32","v":3.9042553191489361E-3},{"$f":"'Emissions per kg'!K26*$C$32","v":9.2127659574468071E-3},{"$f":"'Emissions per kg'!L26*$C$32","v":3.6063829787234039E-5},{"$f":"'Emissions per kg'!M26*$C$32","v":8.3829787234042548E-4},{"$f":"'Emissions per kg'!N26*$C$32","v":0.60851063829787233},{"$f":"'Emissions per kg'!O26*$C$32","v":7.4787234042553195},{"$f":"'Emissions per kg'!P26*$C$32","v":0.11382978723404255},{"$f":"'Emissions per kg'!Q26*$C$32","v":10.170212765957448},{"$f":"'Emissions per kg'!R26*$C$32","v":1.1063829787234042E-6}]
[null,"packaging",1,{"$f":"Calculation_original!D33","v":0},{"$f":"'Emissions per kg'!C27*$C$33","v":8.6099999999999996E-2},{"$f":"'Emissions per kg'!D27*$C$33","v":2.69E-9},{"$f":"'Emissions per kg'!E27*$C$33","v":1.8299999999999998E-8},{"$f":"'Emissions per kg'!F27*$C$33","v":8.7299999999999998E-10},{"$f":"'Emissions per kg'!G27*$C$33","v":-1.3000000000000001E-8},{"$f":"'Emissions per kg'!H27*$C$33","v":1.82E-3},{"$f":"'Emissions per kg'!I27*$C$33","v":2.4499999999999999E-5},{"$f":"'Emissions per kg'!J27*$C$33","v":1.56E-4},{"$f":"'Emissions per kg'!K27*$C$33","v":1.7899999999999999E-4},{"$f":"'Emissions per kg'!L27*$C$33","v":3.9199999999999997E-6},{"$f":"'Emissions per kg'!M27*$C$33","v":6.6199999999999996E-5},{"$f":"'Emissions per kg'!N27*$C$33","v":0.11600000000000001},{"$f":"'Emissions per kg'!O27*$C$33","v":-26.3},{"$f":"'Emissions per kg'!P27*$C$33","v":-9.3799999999999994E-2},{"$f":"'Emissions per kg'!Q27*$C$33","v":1.1599999999999999},{"$f":"'Emissions per kg'!R27*$C$33","v":1.79E-6}]
[null,"retail",0,{"$f":"Calculation_original!D34","v":0.09},{"$f":"'Emissions per kg'!C28*$C$34","v":0},{"$f":"'Emissions per kg'!D28*$C$34","v":0},{"$f":"'Emissions per kg'!E28*$C$34","v":0},{"$f":"'Emissions per kg'!F28*$C$34","v":0},{"$f":"'Emissions per kg'!G28*$C$34","v":0},{"$f":"'Emissions per kg'!H28*$C$34","v":0},{"$f":"'Emissions per kg'!I28*$C$34","v":0},{"$f":"'Emissions per kg'!J28*$C$34","v":0},{"$f":"'Emissions per kg'!K28*$C$34","v":0},{"$f":"'Emissions per kg'!L28*$C$34","v":0},{"$f":"'Emissions per kg'!M28*$C$34","v":0},{"$f":"'Emissions per kg'!N28*$C$34","v":0},{"$f":"'Emissions per kg'!O28*$C$34","v":0},{"$f":"'Emissions per kg'!P28*$C$34","v":0},{"$f":"'Emissions per kg'!Q28*$C$34","v":0},{"$f":"'Emissions per kg'!R28*$C$34","v":0}]
[null,"use ",0,{"$f":"Calculation_original!D35","v":0.11},{"$f":"'Emissions per kg'!C29*$C$35","v":0},{"$f":"'Emissions per kg'!D29*$C$35","v":0},{"$f":"'Emissions per kg'!E29*$C$35","v":0},{"$f":"'Emissions per kg'!F29*$C$35","v":0},{"$f":"'Emissions per kg'!G29*$C$35","v":0},{"$f":"'Emissions per kg'!H29*$C$35","v":0},{"$f":"'Emissions per kg'!I29*$C$35","v":0},{"$f":"'Emissions per kg'!J29*$C$35","v":0},{"$f":"'Emissions per kg'!K29*$C$35","v":0},{"$f":"'Emissions per kg'!L29*$C$35","v":0},{"$f":"'Emissions per kg'!M29*$C$35","v":0},{"$f":"'Emissions per kg'!N29*$C$35","v":0},{"$f":"'Emissions per kg'!O29*$C$35","v":0},{"$f":"'Emissions per kg'!P29*$C$35","v":0},{"$f":"'Emissions per kg'!Q29*$C$35","v":0},{"$f":"'Emissions per kg'!R29*$C$35","v":0}]
[null,"end of life P&R",{"$f":"D32*C32+D34*C34+C33*D33+C31*D31","v":6.3829787234042548E-2},null,{"$f":"'EoL emissions'!B4*$C$36","v":2.1597139100743776E-2},{"$f":"'EoL emissions'!C4*$C$36","v":2.5843249379566127E-10},{"$f":"'EoL emissions'!D4*$C$36","v":2.396575471823569E-8},{"$f":"'EoL emissions'!E4*$C$36","v":9.5860568177231144E-10},{"$f":"'EoL emissions'!F4*$C$36","v":4.8863730961874355E-10},{"$f":"'EoL emissions'!G4*$C$36","v":1.6363999039432383E-4},{"$f":"'EoL emissions'!H4*$C$36","v":2.8933560642112754E-5},{"$f":"'EoL emissions'!I4*$C$36","v":7.6664184833265199E-5},{"$f":"'EoL emissions'!J4*$C$36","v":3.100318095647E-4},{"$f":"'EoL emissions'!K4*$C$36","v":6.1028320662897322E-6},{"$f":"'EoL emissions'!L4*$C$36","v":3.5029841202973794E-5},{"$f":"'EoL emissions'!M4*$C$36","v":1.6945830824069958},{"$f":"'EoL emissions'!N4*$C$36","v":8.7587614482934534E-2},{"$f":"'EoL emissions'!O4*$C$36","v":8.4822804663674809E-4},{"$f":"'EoL emissions'!P4*$C$36","v":-1.5583040471989341E-2},{"$f":"'EoL emissions'!Q4*$C$36","v":-1.1828204671527555E-9}]
[null,"end of life HH",{"$f":"D35*C35","v":0},null,{"$f":"'EoL emissions'!B5*$C$37","v":0},{"$f":"'EoL emissions'!C5*$C$37","v":0},{"$f":"'EoL emissions'!D5*$C$37","v":0},{"$f":"'EoL emissions'!E5*$C$37","v":0},{"$f":"'EoL emissions'!F5*$C$37","v":0},{"$f":"'EoL emissions'!G5*$C$37","v":0},{"$f":"'EoL emissions'!H5*$C$37","v":0},{"$f":"'EoL emissions'!I5*$C$37","v":0},{"$f":"'EoL emissions'!J5*$C$37","v":0},{"$f":"'EoL emissions'!K5*$C$37","v":0},{"$f":"'EoL emissions'!L5*$C$37","v":0},{"$f":"'EoL emissions'!M5*$C$37","v":0},{"$f":"'EoL emissions'!N5*$C$37","v":0},{"$f":"'EoL emissions'!O5*$C$37","v":0},{"$f":"'EoL emissions'!P5*$C$37","v":0},{"$f":"'EoL emissions'!Q5*$C$37","v":0}]
["COD",null,null,null,{"$f":"SUM(E31:E37)","v":3.1693992667603177},{"$f":"SUM(F31:F37)","v":4.2923101346214546E-6},1.3098915897355484E-7,1.1906073766878694E-8,1.0472267986281022E-7,7.7728320841458157E-2,4.2085348454259132E-2,3.7222025886960927E-2,0.16502094670318171,5.7044108662034413E-5,1.5088463883756165E-2,6.2595192526197607,-16.765603874878767,18.744282270599825,43.867821214847162,3.214349094426464E-6]
["Fish","SALMON"]
[null,"agriculture ",{"$f":"C41/(1-D40)","v":1.0638297872340425},{"$f":"Calculation_original!D40","v":0},{"$f":"$C$40*'Emissions per kg'!C32","v":6.8829787234042552},{"$f":"$C$40*'Emissions per kg'!D32","v":1.0563829787234041E-7},{"$f":"$C$40*'Emissions per kg'!E32","v":5.2446808510638299E-6},{"$f":"$C$40*'Emissions per kg'!F32","v":5.9999999999999995E-8},{"$f":"$C$40*'Emissions per kg'!G32","v":3.9893617021276597E-7},{"$f":"$C$40*'Emissions per kg'!H32","v":9.7127659574468089E-2},{"$f":"$C$40*'Emissions per kg'!I32","v":1.7872340425531912E-2},{"$f":"$C$40*'Emissions per kg'!J32","v":4.4468085106382976E-2},{"$f":"$C$40*'Emissions per kg'!K32","v":0.18829787234042553},{"$f":"$C$40*'Emissions per kg'!L32","v":1.1702127659574468E-2},{"$f":"$C$40*'Emissions per kg'!M32","v":0.10638297872340426},{"$f":"$C$40*'Emissions per kg'!N32","v":11.702127659574469},{"$f":"$C$40*'Emissions per kg'!O32","v":512.76595744680856},{"$f":"$C$40*'Emissions per kg'!P32","v":0.30744680851063827},{"$f":"$C$40*'Emissions per kg'!Q32","v":38.829787234042556},{"$f":"$C$40*'Emissions per kg'!R32","v":1.4574468085106382E-6}]
[null,"processsing",{"$f":"(C42/(1-D41))/(1-D42)","v":1.0638297872340425},{"$f":"Calculation_original!D41","v":0.06},{"$f":"$C$41*'Emissions per kg'!C33","v":0.31808510638297871},{"$f":"$C$41*'Emissions per kg'!D33","v":6.627659574468085E-7},{"$f":"$C$41*'Emissions per kg'!E33","v":2.9999999999999997E-8},{"$f":"$C$41*'Emissions per kg'!F33","v":2.3085106382978723E-9},{"$f":"$C$41*'Emissions per kg'!G33","v":1.5744680851063828E-8},{"$f":"$C$41*'Emissions per kg'!H33","v":3.1063829787234043E-2},{"$f":"$C$41*'Emissions per kg'!I33","v":1.6914893617021277E-3},{"$f":"$C$41*'Emissions per kg'!J33","v":2.5000000000000001E-3},{"$f":"$C$41*'Emissions per kg'!K33","v":6.1276595744680857E-3},{"$f":"$C$41*'Emissions per kg'!L33","v":1.7659574468085106E-5},{"$f":"$C$41*'Emissions per kg'!M33","v":5.5531914893617023E-4},{"$f":"$C$41*'Emissions per kg'!N33","v":0.36702127659574463},{"$f":"$C$41*'Emissions per kg'!O33","v":4.0212765957446805},{"$f":"$C$41*'Emissions per kg'!P33","v":5.8723404255319148E-2},{"$f":"$C$41*'Emissions per kg'!Q33","v":5.457446808510638},{"$f":"$C$41*'Emissions per kg'!R33","v":5.8617021276595743E-7}]
[null,"packaging",1,{"$f":"Calculation_original!D42","v":0},{"$f":"$C$42*'Emissions per kg'!C34","v":8.0199999999999994E-2},{"$f":"$C$42*'Emissions per kg'!D34","v":5.0600000000000003E-9},{"$f":"$C$42*'Emissions per kg'!E34","v":4.4500000000000001E-9},{"$f":"$C$42*'Emissions per kg'!F34","v":5.1599999999999998E-10},{"$f":"$C$42*'Emissions per kg'!G34","v":1.62E-9},{"$f":"$C$42*'Emissions per kg'!H34","v":7.6E-3},{"$f":"$C$42*'Emissions per kg'!I34","v":1.44E-4},{"$f":"$C$42*'Emissions per kg'!J34","v":3.4699999999999998E-4},{"$f":"$C$42*'Emissions per kg'!K34","v":5.0500000000000002E-4},{"$f":"$C$42*'Emissions per kg'!L34","v":5.6099999999999997E-6},{"$f":"$C$42*'Emissions per kg'!M34","v":4.6699999999999997E-5},{"$f":"$C$42*'Emissions per kg'!N34","v":3.1300000000000001E-2},{"$f":"$C$42*'Emissions per kg'!O34","v":0.67700000000000005},{"$f":"$C$42*'Emissions per kg'!P34","v":1.5599999999999999E-2},{"$f":"$C$42*'Emissions per kg'!Q34","v":1.24},{"$f":"$C$42*'Emissions per kg'!R34","v":1.06E-7}]
[null,"retail",0,{"$f":"Calculation_original!D43","v":0.09},{"$f":"$C$43*'Emissions per kg'!C35","v":0},{"$f":"$C$43*'Emissions per kg'!D35","v":0},{"$f":"$C$43*'Emissions per kg'!E35","v":0},{"$f":"$C$43*'Emissions per kg'!F35","v":0},{"$f":"$C$43*'Emissions per kg'!G35","v":0},{"$f":"$C$43*'Emissions per kg'!H35","v":0},{"$f":"$C$43*'Emissions per kg'!I35","v":0},{"$f":"$C$43*'Emissions per kg'!J35","v":0},{"$f":"$C$43*'Emissions per kg'!K35","v":0},{"$f":"$C$43*'Emissions per kg'!L35","v":0},{"$f":"$C$43*'Emissions per kg'!M35","v":0},{"$f":"$C$43*'Emissions per kg'!N35","v":0},{"$f":"$C$43*'Emissions per kg'!O35","v":0},{"$f":"$C$43*'Emissions per kg'!P35","v":0},{"$f":"$C$43*'Emissions per kg'!Q35","v":0},{"$f":"$C$43*'Emissions per kg'!R35","v":0}]
[null,"use ",0,{"$f":"Calculation_original!D44","v":0.11},{"$f":"$C$44*'Emissions per kg'!C36","v":0},{"$f":"$C$44*'Emissions per kg'!D36","v":0},{"$f":"$C$44*'Emissions per kg'!E36","v":0},{"$f":"$C$44*'Emissions per kg'!F36","v":0},{"$f":"$C$44*'Emissions per kg'!G36","v":0},{"$f":"$C$44*'Emissions per kg'!H36","v":0},{"$f":"$C$44*'Emissions per kg'!I36","v":0},{"$f":"$C$44*'Emissions per kg'!J36","v":0},{"$f":"$C$44*'Emissions per kg'!K36","v":0},{"$f":"$C$44*'Emissions per kg'!L36","v":0},{"$f":"$C$44*'Emissions per kg'!M36","v":0},{"$f":"$C$44*'Emissions per kg'!N36","v":0},{"$f":"$C$44*'Emissions per kg'!O36","v":0},{"$f":"$C$44*'Emissions per kg'!P36","v":0},{"$f":"$C$44*'Emissions per kg'!Q36","v":0},{"$f":"$C$44*'Emissions per kg'!R36","v":0}]
[null,"end of life P&R",{"$f":"D41*C41+D43*C43+C42*D42+C40*D40","v":6.3829787234042548E-2},null,{"$f":"$C$45*'EoL emissions'!B4","v":2.1597139100743776E-2},{"$f":"$C$45*'EoL emissions'!C4","v":2.5843249379566127E-10},{"$f":"$C$45*'EoL emissions'!D4","v":2.396575471823569E-8},{"$f":"$C$45*'EoL emissions'!E4","v":9.5860568177231144E-10},{"$f":"$C$45*'EoL emissions'!F4","v":4.8863730961874355E-10},{"$f":"$C$45*'EoL emissions'!G4","v":1.6363999039432383E-4},{"$f":"$C$45*'EoL emissions'!H4","v":2.8933560642112754E-5},{"$f":"$C$45*'EoL emissions'!I4","v":7.6664184833265199E-5},{"$f":"$C$45*'EoL emissions'!J4","v":3.100318095647E-4},{"$f":"$C$45*'EoL emissions'!K4","v":6.1028320662897322E-6},{"$f":"$C$45*'EoL emissions'!L4","v":3.5029841202973794E-5},{"$f":"$C$45*'EoL emissions'!M4","v":1.6945830824069958},{"$f":"$C$45*'EoL emissions'!N4","v":8.7587614482934534E-2},{"$f":"$C$45*'EoL emissions'!O4","v":8.4822804663674809E-4},{"$f":"$C$45*'EoL emissions'!P4","v":-1.5583040471989341E-2},{"$f":"$C$45*'EoL emissions'!Q4","v":-1.1828204671527555E-9}]
[null,"end of life HH",{"$f":"D44*C44","v":0},null,{"$f":"$C$46*'EoL emissions'!B5","v":0},{"$f":"$C$46*'EoL emissions'!C5","v":0},{"$f":"$C$46*'EoL emissions'!D5","v":0},{"$f":"$C$46*'EoL emissions'!E5","v":0},{"$f":"$C$46*'EoL emissions'!F5","v":0},{"$f":"$C$46*'EoL emissions'!G5","v":0},{"$f":"$C$46*'EoL emissions'!H5","v":0},{"$f":"$C$46*'EoL emissions'!I5","v":0},{"$f":"$C$46*'EoL emissions'!J5","v":0},{"$f":"$C$46*'EoL emissions'!K5","v":0},{"$f":"$C$46*'EoL emissions'!L5","v":0},{"$f":"$C$46*'EoL emissions'!M5","v":0},{"$f":"$C$46*'EoL emissions'!N5","v":0},{"$f":"$C$46*'EoL emissions'!O5","v":0},{"$f":"$C$46*'EoL emissions'!P5","v":0},{"$f":"$C$46*'EoL emissions'!Q5","v":0}]
["SALMON",null,null,null,{"$f":"SUM(E40:E46)","v":7.3028609688879778},{"$f":"SUM(F40:F46)","v":7.7372268781294456E-7},5.3030966057820651E-6,6.3783116320070173E-8,4.1678948837344853E-7,0.13595512935209644,1.9736763347876152E-2,4.7391749291216242E-2,0.19524056372445833,1.1731500066108843E-2,0.10702002771354339,13.79503201857721,517.55182165703616,0.38261844081259416,45.511651002081209,2.1484342008094429E-6]
["Seafood","SHRIMP"]
[null,"agriculture ",{"$f":"C50/(1-D49)","v":1.0638297872340425},{"$f":"Calculation_original!D49","v":0},{"$f":"$C$49*'Emissions per kg'!C39","v":7.0319148936170217},{"$f":"$C$49*'Emissions per kg'!D39","v":1.6914893617021276E-7},{"$f":"$C$49*'Emissions per kg'!E39","v":1.2446808510638299E-6},{"$f":"$C$49*'Emissions per kg'!F39","v":3.4893617021276596E-8},{"$f":"$C$49*'Emissions per kg'!G39","v":5.2978723404255319E-7},{"$f":"$C$49*'Emissions per kg'!H39","v":8.3723404255319156E-2},{"$f":"$C$49*'Emissions per kg'!I39","v":2.6276595744680852E-2},{"$f":"$C$49*'Emissions per kg'!J39","v":4.7765957446808512E-2},{"$f":"$C$49*'Emissions per kg'!K39","v":0.12978723404255318},{"$f":"$C$49*'Emissions per kg'!L39","v":1.1702127659574468E-2},{"$f":"$C$49*'Emissions per kg'!M39","v":0.1001063829787234},{"$f":"$C$49*'Emissions per kg'!N39","v":6.4893617021276588},{"$f":"$C$49*'Emissions per kg'!O39","v":369.14893617021278},{"$f":"$C$49*'Emissions per kg'!P39","v":0.63191489361702124},{"$f":"$C$49*'Emissions per kg'!Q39","v":81.170212765957444},{"$f":"$C$49*'Emissions per kg'!R39","v":4.6808510638297878E-6}]
[null,"processsing",{"$f":"(C51/(1-D50))/(1-D51)","v":1.0638297872340425},{"$f":"Calculation_original!D50","v":0.06},{"$f":"$C$50*'Emissions per kg'!C40","v":1.1914893617021278},{"$f":"$C$50*'Emissions per kg'!D40","v":3.5425531914893613E-6},{"$f":"$C$50*'Emissions per kg'!E40","v":5.4042553191489356E-8},{"$f":"$C$50*'Emissions per kg'!F40","v":4.0851063829787231E-9},{"$f":"$C$50*'Emissions per kg'!G40","v":6.8617021276595745E-8},{"$f":"$C$50*'Emissions per kg'!H40","v":1.9787234042553191E-2},{"$f":"$C$50*'Emissions per kg'!I40","v":4.4255319148936165E-3},{"$f":"$C$50*'Emissions per kg'!J40","v":7.4255319148936166E-3},{"$f":"$C$50*'Emissions per kg'!K40","v":1.6382978723404256E-2},{"$f":"$C$50*'Emissions per kg'!L40","v":1.9042553191489363E-5},{"$f":"$C$50*'Emissions per kg'!M40","v":1.478723404255319E-3},{"$f":"$C$50*'Emissions per kg'!N40","v":0.52446808510638299},{"$f":"$C$50*'Emissions per kg'!O40","v":4.8297872340425529},{"$f":"$C$50*'Emissions per kg'!P40","v":0.77234042553191484},{"$f":"$C$50*'Emissions per kg'!Q40","v":12.978723404255318},{"$f":"$C$50*'Emissions per kg'!R40","v":6.9787234042553194E-7}]
[null,"packaging",1,{"$f":"Calculation_original!D51","v":0},{"$f":"$C$51*'Emissions per kg'!C41","v":0.19900000000000001},{"$f":"$C$51*'Emissions per kg'!D41","v":6.4400000000000001E-9},{"$f":"$C$51*'Emissions per kg'!E41","v":3.2999999999999998E-8},{"$f":"$C$51*'Emissions per kg'!F41","v":1.09E-9},{"$f":"$C$51*'Emissions per kg'!G41","v":-1.02E-8},{"$f":"$C$51*'Emissions per kg'!H41","v":7.1700000000000002E-3},{"$f":"$C$51*'Emissions per kg'!I41","v":2.5399999999999999E-4},{"$f":"$C$51*'Emissions per kg'!J41","v":8.4500000000000005E-4},{"$f":"$C$51*'Emissions per kg'!K41","v":8.7799999999999998E-4},{"$f":"$C$51*'Emissions per kg'!L41","v":8.6400000000000003E-6},{"$f":"$C$51*'Emissions per kg'!M41","v":9.2800000000000006E-5},{"$f":"$C$51*'Emissions per kg'!N41","v":0.14299999999999999},{"$f":"$C$51*'Emissions per kg'!O41","v":-29.8},{"$f":"$C$51*'Emissions per kg'!P41","v":-8.1699999999999995E-2},{"$f":"$C$51*'Emissions per kg'!Q41","v":2.6},{"$f":"$C$51*'Emissions per kg'!R41","v":2.03E-6}]
[null,"retail",0,{"$f":"Calculation_original!D52","v":0.09},{"$f":"$C$52*'Emissions per kg'!C42","v":0},{"$f":"$C$52*'Emissions per kg'!D42","v":0},{"$f":"$C$52*'Emissions per kg'!E42","v":0},{"$f":"$C$52*'Emissions per kg'!F42","v":0},{"$f":"$C$52*'Emissions per kg'!G42","v":0},{"$f":"$C$52*'Emissions per kg'!H42","v":0},{"$f":"$C$52*'Emissions per kg'!I42","v":0},{"$f":"$C$52*'Emissions per kg'!J42","v":0},{"$f":"$C$52*'Emissions per kg'!K42","v":0},{"$f":"$C$52*'Emissions per kg'!L42","v":0},{"$f":"$C$52*'Emissions per kg'!M42","v":0},{"$f":"$C$52*'Emissions per kg'!N42","v":0},{"$f":"$C$52*'Emissions per kg'!O42","v":0},{"$f":"$C$52*'Emissions per kg'!P42","v":0},{"$f":"$C$52*'Emissions per kg'!Q42","v":0},{"$f":"$C$52*'Emissions per kg'!R42","v":0}]
[null,"use ",0,{"$f":"Calculation_original!D53","v":0.11},{"$f":"$C$53*'Emissions per kg'!C43","v":0},{"$f":"$C$53*'Emissions per kg'!D43","v":0},{"$f":"$C$53*'Emissions per kg'!E43","v":0},{"$f":"$C$53*'Emissions per kg'!F43","v":0},{"$f":"$C$53*'Emissions per kg'!G43","v":0},{"$f":"$C$53*'Emissions per kg'!H43","v":0},{"$f":"$C$53*'Emissions per kg'!I43","v":0},{"$f":"$C$53*'Emissions per kg'!J43","v":0},{"$f":"$C$53*'Emissions per kg'!K43","v":0},{"$f":"$C$53*'Emissions per kg'!L43","v":0},{"$f":"$C$53*'Emissions per kg'!M43","v":0},{"$f":"$C$53*'Emissions per kg'!N43","v":0},{"$f":"$C$53*'Emissions per kg'!O43","v":0},{"$f":"$C$53*'Emissions per kg'!P43","v":0},{"$f":"$C$53*'Emissions per kg'!Q43","v":0},{"$f":"$C$53*'Emissions per kg'!R43","v":0}]
[null,"end of life P&R",{"$f":"D50*C50+D52*C52+C51*D51+C49*D49","v":6.3829787234042548E-2},null,{"$f":"$C$54*'EoL emissions'!B4","v":2.1597139100743776E-2},{"$f":"$C$54*'EoL emissions'!C4","v":2.5843249379566127E-10},{"$f":"$C$54*'EoL emissions'!D4","v":2.396575471823569E-8},{"$f":"$C$54*'EoL emissions'!E4","v":9.5860568177231144E-10},{"$f":"$C$54*'EoL emissions'!F4","v":4.8863730961874355E-10},{"$f":"$C$54*'EoL emissions'!G4","v":1.6363999039432383E-4},{"$f":"$C$54*'EoL emissions'!H4","v":2.8933560642112754E-5},{"$f":"$C$54*'EoL emissions'!I4","v":7.6664184833265199E-5},{"$f":"$C$54*'EoL emissions'!J4","v":3.100318095647E-4},{"$f":"$C$54*'EoL emissions'!K4","v":6.1028320662897322E-6},{"$f":"$C$54*'EoL emissions'!L4","v":3.5029841202973794E-5},{"$f":"$C$54*'EoL emissions'!M4","v":1.6945830824069958},{"$f":"$C$54*'EoL emissions'!N4","v":8.7587614482934534E-2},{"$f":"$C$54*'EoL emissions'!O4","v":8.4822804663674809E-4},{"$f":"$C$54*'EoL emissions'!P4","v":-1.5583040471989341E-2},{"$f":"$C$54*'EoL emissions'!Q4","v":-1.1828204671527555E-9}]
[null,"end of life HH",{"$f":"D53*C53","v":0},null,{"$f":"$C$55*'EoL emissions'!B5","v":0},{"$f":"$C$55*'EoL emissions'!C5","v":0},{"$f":"$C$55*'EoL emissions'!D5","v":0},{"$f":"$C$55*'EoL emissions'!E5","v":0},{"$f":"$C$55*'EoL emissions'!F5","v":0},{"$f":"$C$55*'EoL emissions'!G5","v":0},{"$f":"$C$55*'EoL emissions'!H5","v":0},{"$f":"$C$55*'EoL emissions'!I5","v":0},{"$f":"$C$55*'EoL emissions'!J5","v":0},{"$f":"$C$55*'EoL emissions'!K5","v":0},{"$f":"$C$55*'EoL emissions'!L5","v":0},{"$f":"$C$55*'EoL emissions'!M5","v":0},{"$f":"$C$55*'EoL emissions'!N5","v":0},{"$f":"$C$55*'EoL emissions'!O5","v":0},{"$f":"$C$55*'EoL emissions'!P5","v":0},{"$f":"$C$55*'EoL emissions'!Q5","v":0}]
["SHRIMP",null,null,null,{"$f":"SUM(E49:E55)","v":8.4440013944198924},{"$f":"SUM(F49:F55)","v":3.7184005601533699E-6},1.3556891589735547E-6,4.1027329086027627E-8,5.8869289262876761E-7,0.11084427828826668,3.0985061220216582E-2,5.6113153546535392E-2,0.14735824457552213,1.1735913044832248E-2,0.1017129362241817,8.8514128696410381,344.26631101873824,1.3234035471955727,96.733353129740763,7.4075405837881669E-6]
["Dairy","MILK"]
[null,"agriculture ",{"$f":"C59/(1-D58)","v":1.0541906714667484},{"$f":"Calculation_original!D58","v":3.5000000000000003E-2},{"$f":"$C$58*'Emissions per kg'!C46","v":1.3177383393334354},{"$f":"$C$58*'Emissions per kg'!D46","v":4.2694722194403309E-9},{"$f":"$C$58*'Emissions per kg'!E46","v":2.1716327832215018E-6},{"$f":"$C$58*'Emissions per kg'!F46","v":1.5074926601974504E-8},{"$f":"$C$58*'Emissions per kg'!G46","v":1.6867050743467973E-7},{"$f":"$C$58*'Emissions per kg'!H46","v":6.9682003383952076E-3},{"$f":"$C$58*'Emissions per kg'!I46","v":1.1279840184694207E-3},{"$f":"$C$58*'Emissions per kg'!J46","v":2.3824709175148513E-2},{"$f":"$C$58*'Emissions per kg'!K46","v":0.10541906714667484},{"$f":"$C$58*'Emissions per kg'!L46","v":1.7710403280641373E-4},{"$f":"$C$58*'Emissions per kg'!M46","v":7.6428823681339263E-3},{"$f":"$C$58*'Emissions per kg'!N46","v":3.2152815479735826},{"$f":"$C$58*'Emissions per kg'!O46","v":108.58163916107509},{"$f":"$C$58*'Emissions per kg'!P46","v":0.12861126191894329},{"$f":"$C$58*'Emissions per kg'!Q46","v":3.1309462942562427},{"$f":"$C$58*'Emissions per kg'!R46","v":2.1083813429334967E-8}]
[null,"processsing",{"$f":"(C60/(1-D59))/(1-D60)","v":1.0172939979654121},{"$f":"Calculation_original!D59","v":1.7000000000000001E-2},{"$f":"$C$59*'Emissions per kg'!C47","v":7.039674465920652E-2},{"$f":"$C$59*'Emissions per kg'!D47","v":6.2767039674465929E-9},{"$f":"$C$59*'Emissions per kg'!E47","v":3.8148524923702952E-9},{"$f":"$C$59*'Emissions per kg'!F47","v":5.5239064089521875E-10},{"$f":"$C$59*'Emissions per kg'!G47","v":1.4343845371312311E-9},{"$f":"$C$59*'Emissions per kg'!H47","v":4.9440488301119023E-3},{"$f":"$C$59*'Emissions per kg'!I47","v":1.8921668362156663E-4},{"$f":"$C$59*'Emissions per kg'!J47","v":3.4486266531027468E-4},{"$f":"$C$59*'Emissions per kg'!K47","v":6.7751780264496447E-4},{"$f":"$C$59*'Emissions per kg'!L47","v":3.621566632756867E-6},{"$f":"$C$59*'Emissions per kg'!M47","v":6.042726347914548E-5},{"$f":"$C$59*'Emissions per kg'!N47","v":2.3804679552390642E-2},{"$f":"$C$59*'Emissions per kg'!O47","v":0.62054933875890139},{"$f":"$C$59*'Emissions per kg'!P47","v":0.24923702950152596},{"$f":"$C$59*'Emissions per kg'!Q47","v":1.3123092573753816},{"$f":"$C$59*'Emissions per kg'!R47","v":9.5829094608341816E-8}]
[null,"packaging",1,{"$f":"Calculation_original!D60","v":0},{"$f":"$C$60*'Emissions per kg'!C48","v":9.6100000000000005E-2},{"$f":"$C$60*'Emissions per kg'!D48","v":9.4699999999999998E-9},{"$f":"$C$60*'Emissions per kg'!E48","v":1.2299999999999999E-8},{"$f":"$C$60*'Emissions per kg'!F48","v":1.61E-9},{"$f":"$C$60*'Emissions per kg'!G48","v":3.72E-9},{"$f":"$C$60*'Emissions per kg'!H48","v":8.2000000000000007E-3},{"$f":"$C$60*'Emissions per kg'!I48","v":1.55E-4},{"$f":"$C$60*'Emissions per kg'!J48","v":5.0799999999999999E-4},{"$f":"$C$60*'Emissions per kg'!K48","v":7.9699999999999997E-4},{"$f":"$C$60*'Emissions per kg'!L48","v":1.08E-5},{"$f":"$C$60*'Emissions per kg'!M48","v":7.1500000000000003E-5},{"$f":"$C$60*'Emissions per kg'!N48","v":8.5199999999999998E-2},{"$f":"$C$60*'Emissions per kg'!O48","v":2.66},{"$f":"$C$60*'Emissions per kg'!P48","v":0.107},{"$f":"$C$60*'Emissions per kg'!Q48","v":1.06},{"$f":"$C$60*'Emissions per kg'!R48","v":6.8899999999999999E-7}]
[null,"retail",0,{"$f":"Calculation_original!D61","v":5.0000000000000001E-3},{"$f":"$C$61*'Emissions per kg'!C49","v":0},{"$f":"$C$61*'Emissions per kg'!D49","v":0},{"$f":"$C$61*'Emissions per kg'!E49","v":0},{"$f":"$C$61*'Emissions per kg'!F49","v":0},{"$f":"$C$61*'Emissions per kg'!G49","v":0},{"$f":"$C$61*'Emissions per kg'!H49","v":0},{"$f":"$C$61*'Emissions per kg'!I49","v":0},{"$f":"$C$61*'Emissions per kg'!J49","v":0},{"$f":"$C$61*'Emissions per kg'!K49","v":0},{"$f":"$C$61*'Emissions per kg'!L49","v":0},{"$f":"$C$61*'Emissions per kg'!M49","v":0},{"$f":"$C$61*'Emissions per kg'!N49","v":0},{"$f":"$C$61*'Emissions per kg'!O49","v":0},{"$f":"$C$61*'Emissions per kg'!P49","v":0},{"$f":"$C$61*'Emissions per kg'!Q49","v":0},{"$f":"$C$61*'Emissions per kg'!R49","v":0}]
[null,"use ",0,{"$f":"Calculation_original!D62","v":7.0000000000000007E-2},{"$f":"$C$62*'Emissions per kg'!C50","v":0},{"$f":"$C$62*'Emissions per kg'!D50","v":0},{"$f":"$C$62*'Emissions per kg'!E50","v":0},{"$f":"$C$62*'Emissions per kg'!F50","v":0},{"$f":"$C$62*'Emissions per kg'!G50","v":0},{"$f":"$C$62*'Emissions per kg'!H50","v":0},{"$f":"$C$62*'Emissions per kg'!I50","v":0},{"$f":"$C$62*'Emissions per kg'!J50","v":0},{"$f":"$C$62*'Emissions per kg'!K50","v":0},{"$f":"$C$62*'Emissions per kg'!L50","v":0},{"$f":"$C$62*'Emissions per kg'!M50","v":0},{"$f":"$C$62*'Emissions per kg'!N50","v":0},{"$f":"$C$62*'Emissions per kg'!O50","v":0},{"$f":"$C$62*'Emissions per kg'!P50","v":0},{"$f":"$C$62*'Emissions per kg'!Q50","v":0},{"$f":"$C$62*'Emissions per kg'!R50","v":0}]
[null,"end of life P&R",{"$f":"D59*C59+D61*C61+C60*D60+C58*D58","v":5.4190671466748205E-2},null,{"$f":"$C$63*'EoL emissions'!B4","v":1.8335694357537732E-2},{"$f":"$C$63*'EoL emissions'!C4","v":2.1940587575927229E-10},{"$f":"$C$63*'EoL emissions'!D4","v":2.0346618666087771E-8},{"$f":"$C$63*'EoL emissions'!E4","v":8.1384394055094357E-10},{"$f":"$C$63*'EoL emissions'!F4","v":4.1484681462047258E-10},{"$f":"$C$63*'EoL emissions'!G4","v":1.3892825501306329E-4},{"$f":"$C$63*'EoL emissions'!H4","v":2.4564222239546177E-5},{"$f":"$C$63*'EoL emissions'!I4","v":6.5086910572526716E-5},{"$f":"$C$63*'EoL emissions'!J4","v":2.6321303366967294E-4},{"$f":"$C$63*'EoL emissions'!K4","v":5.1812262244963409E-6},{"$f":"$C$63*'EoL emissions'!L4","v":2.9739886319882495E-5},{"$f":"$C$63*'EoL emissions'!M4","v":1.4386793231052899},{"$f":"$C$63*'EoL emissions'!N4","v":7.4360762375680803E-2},{"$f":"$C$63*'EoL emissions'!O4","v":7.2013474266538632E-4},{"$f":"$C$63*'EoL emissions'!P4","v":-1.3229801684506307E-2},{"$f":"$C$63*'EoL emissions'!Q4","v":-1.004199420320723E-9}]
[null,"end of life HH",{"$f":"D62*C62","v":0},null,{"$f":"$C$64*'EoL emissions'!B5","v":0},{"$f":"$C$64*'EoL emissions'!C5","v":0},{"$f":"$C$64*'EoL emissions'!D5","v":0},{"$f":"$C$64*'EoL emissions'!E5","v":0},{"$f":"$C$64*'EoL emissions'!F5","v":0},{"$f":"$C$64*'EoL emissions'!G5","v":0},{"$f":"$C$64*'EoL emissions'!H5","v":0},{"$f":"$C$64*'EoL emissions'!I5","v":0},{"$f":"$C$64*'EoL emissions'!J5","v":0},{"$f":"$C$64*'EoL emissions'!K5","v":0},{"$f":"$C$64*'EoL emissions'!L5","v":0},{"$f":"$C$64*'EoL emissions'!M5","v":0},{"$f":"$C$64*'EoL emissions'!N5","v":0},{"$f":"$C$64*'EoL emissions'!O5","v":0},{"$f":"$C$64*'EoL emissions'!P5","v":0},{"$f":"$C$64*'EoL emissions'!Q5","v":0}]
["MILK",null,null,null,{"$f":"SUM(E58:E64)","v":1.5025707783501796},{"$f":"SUM(F58:F64)","v":2.0235582062646195E-8},2.2080942543799597E-6,1.8051161183420666E-8,1.7423973878643145E-7,2.0251177423520172E-2,1.4967649243305334E-3,2.4742658751031314E-2,0.10715679798298949,1.9670682566366694E-4,7.8045495179329552E-3,4.7629655506312627,111.93654926220967,0.48556842616313467,5.4900257499471188,8.049087086173561E-7]
["Dairy","CHEESE"]
[null,"agriculture ",{"$f":"C68/(1-D67)","v":1.0362694300518136},{"$f":"Calculation_original!D67","v":3.5000000000000003E-2},{"$f":"$C$67*'Emissions per kg'!C53","v":12.020725388601038},{"$f":"$C$67*'Emissions per kg'!D53","v":3.9170984455958552E-8},{"$f":"$C$67*'Emissions per kg'!E53","v":2.0000000000000005E-5},{"$f":"$C$67*'Emissions per kg'!F53","v":1.3782383419689123E-7},{"$f":"$C$67*'Emissions per kg'!G53","v":1.5544041450777204E-6},{"$f":"$C$67*'Emissions per kg'!H53","v":6.3937823834196897E-2},{"$f":"$C$67*'Emissions per kg'!I53","v":1.0362694300518137E-2},{"$f":"$C$67*'Emissions per kg'!J53","v":0.21865284974093266},{"$f":"$C$67*'Emissions per kg'!K53","v":0.97098445595854943},{"$f":"$C$67*'Emissions per kg'!L53","v":1.6165803108808292E-3},{"$f":"$C$67*'Emissions per kg'!M53","v":7.0155440414507775E-2},{"$f":"$C$67*'Emissions per kg'!N53","v":29.533678756476689},{"$f":"$C$67*'Emissions per kg'!O53","v":996.89119170984463},{"$f":"$C$67*'Emissions per kg'!P53","v":1.1813471502590673},{"$f":"$C$67*'Emissions per kg'!Q53","v":28.704663212435236},{"$f":"$C$67*'Emissions per kg'!R53","v":1.9378238341968915E-7}]
[null,"processsing",{"$f":"(C69/(1-D68))/(1-D69)","v":1},{"$f":"Calculation_original!D68","v":0},{"$f":"$C$68*'Emissions per kg'!C54","v":2.25},{"$f":"$C$68*'Emissions per kg'!D54","v":4.6400000000000003E-7},{"$f":"$C$68*'Emissions per kg'!E54","v":2.6300000000000001E-7},{"$f":"$C$68*'Emissions per kg'!F54","v":7.8199999999999999E-9},{"$f":"$C$68*'Emissions per kg'!G54","v":4.88E-8},{"$f":"$C$68*'Emissions per kg'!H54","v":0.14299999999999999},{"$f":"$C$68*'Emissions per kg'!I54","v":4.2100000000000002E-3},{"$f":"$C$68*'Emissions per kg'!J54","v":8.3000000000000001E-3},{"$f":"$C$68*'Emissions per kg'!K54","v":1.7600000000000001E-2},{"$f":"$C$68*'Emissions per kg'!L54","v":4.0399999999999999E-5},{"$f":"$C$68*'Emissions per kg'!M54","v":1.33E-3},{"$f":"$C$68*'Emissions per kg'!N54","v":0.998},{"$f":"$C$68*'Emissions per kg'!O54","v":7.01},{"$f":"$C$68*'Emissions per kg'!P54","v":1.51},{"$f":"$C$68*'Emissions per kg'!Q54","v":31.4},{"$f":"$C$68*'Emissions per kg'!R54","v":1.5099999999999999E-6}]
[null,"packaging",1,{"$f":"Calculation_original!D69","v":0},{"$f":"$C$69*'Emissions per kg'!C55","v":0.11899999999999999},{"$f":"$C$69*'Emissions per kg'!D55","v":3.7399999999999999E-9},{"$f":"$C$69*'Emissions per kg'!E55","v":2.1600000000000002E-8},{"$f":"$C$69*'Emissions per kg'!F55","v":1.0500000000000001E-9},{"$f":"$C$69*'Emissions per kg'!G55","v":-1.4500000000000001E-8},{"$f":"$C$69*'Emissions per kg'!H55","v":2.5799999999999998E-3},{"$f":"$C$69*'Emissions per kg'!I55","v":5.6900000000000001E-5},{"$f":"$C$69*'Emissions per kg'!J55","v":2.32E-4},{"$f":"$C$69*'Emissions per kg'!K55","v":3.0800000000000001E-4},{"$f":"$C$69*'Emissions per kg'!L55","v":4.95E-6},{"$f":"$C$69*'Emissions per kg'!M55","v":8.5599999999999994E-5},{"$f":"$C$69*'Emissions per kg'!N55","v":0.14899999999999999},{"$f":"$C$69*'Emissions per kg'!O55","v":-30.1},{"$f":"$C$69*'Emissions per kg'!P55","v":-0.107},{"$f":"$C$69*'Emissions per kg'!Q55","v":1.46},{"$f":"$C$69*'Emissions per kg'!R55","v":3.9099999999999999E-7}]
[null,"retail",0,{"$f":"Calculation_original!D70","v":3.4000000000000002E-2},{"$f":"$C$70*'Emissions per kg'!C56","v":0},{"$f":"$C$70*'Emissions per kg'!D56","v":0},{"$f":"$C$70*'Emissions per kg'!E56","v":0},{"$f":"$C$70*'Emissions per kg'!F56","v":0},{"$f":"$C$70*'Emissions per kg'!G56","v":0},{"$f":"$C$70*'Emissions per kg'!H56","v":0},{"$f":"$C$70*'Emissions per kg'!I56","v":0},{"$f":"$C$70*'Emissions per kg'!J56","v":0},{"$f":"$C$70*'Emissions per kg'!K56","v":0},{"$f":"$C$70*'Emissions per kg'!L56","v":0},{"$f":"$C$70*'Emissions per kg'!M56","v":0},{"$f":"$C$70*'Emissions per kg'!N56","v":0},{"$f":"$C$70*'Emissions per kg'!O56","v":0},{"$f":"$C$70*'Emissions per kg'!P56","v":0},{"$f":"$C$70*'Emissions per kg'!Q56","v":0},{"$f":"$C$70*'Emissions per kg'!R56","v":0}]
[null,"use ",0,{"$f":"Calculation_original!D71","v":3.4000000000000002E-2},{"$f":"$C$71*'Emissions per kg'!C57","v":0},{"$f":"$C$71*'Emissions per kg'!D57","v":0},{"$f":"$C$71*'Emissions per kg'!E57","v":0},{"$f":"$C$71*'Emissions per kg'!F57","v":0},{"$f":"$C$71*'Emissions per kg'!G57","v":0},{"$f":"$C$71*'Emissions per kg'!H57","v":0},{"$f":"$C$71*'Emissions per kg'!I57","v":0},{"$f":"$C$71*'Emissions per kg'!J57","v":0},{"$f":"$C$71*'Emissions per kg'!K57","v":0},{"$f":"$C$71*'Emissions per kg'!L57","v":0},{"$f":"$C$71*'Emissions per kg'!M57","v":0},{"$f":"$C$71*'Emissions per kg'!N57","v":0},{"$f":"$C$71*'Emissions per kg'!O57","v":0},{"$f":"$C$71*'Emissions per kg'!P57","v":0},{"$f":"$C$71*'Emissions per kg'!Q57","v":0},{"$f":"$C$71*'Emissions per kg'!R57","v":0}]
[null,"end of life P&R",{"$f":"D68*C68+D70*C70+C69*D69+C67*D67","v":3.6269430051813482E-2},null,{"$f":"$C$72*'EoL emissions'!B4","v":1.2271949506294828E-2},{"$f":"$C$72*'EoL emissions'!C4","v":1.4684678835712018E-10},{"$f":"$C$72*'EoL emissions'!D4","v":1.3617846808807506E-8},{"$f":"$C$72*'EoL emissions'!E4","v":5.4469994698288526E-10},{"$f":"$C$72*'EoL emissions'!F4","v":2.7765401531013246E-10},{"$f":"$C$72*'EoL emissions'!G4","v":9.2983690569486293E-5},{"$f":"$C$72*'EoL emissions'!H4","v":1.644065881045786E-5},{"$f":"$C$72*'EoL emissions'!I4","v":4.3562205198867461E-5},{"$f":"$C$72*'EoL emissions'!J4","v":1.761666068165567E-4},{"$f":"$C$72*'EoL emissions'!K4","v":3.4677577716914037E-6},{"$f":"$C$72*'EoL emissions'!L4","v":1.9904693878719139E-5},{"$f":"$C$72*'EoL emissions'!M4","v":0.96289781366477001},{"$f":"$C$72*'EoL emissions'!N4","v":4.9769128091339328E-2},{"$f":"$C$72*'EoL emissions'!O4","v":4.8198104895248744E-4},{"$f":"$C$72*'EoL emissions'!P4","v":-8.8546119434965379E-3},{"$f":"$C$72*'EoL emissions'!Q4","v":-6.7210351242358668E-10}]
[null,"end of life HH",{"$f":"D71*C71","v":0},null,{"$f":"$C$73*'EoL emissions'!B5","v":0},{"$f":"$C$73*'EoL emissions'!C5","v":0},{"$f":"$C$73*'EoL emissions'!D5","v":0},{"$f":"$C$73*'EoL emissions'!E5","v":0},{"$f":"$C$73*'EoL emissions'!F5","v":0},{"$f":"$C$73*'EoL emissions'!G5","v":0},{"$f":"$C$73*'EoL emissions'!H5","v":0},{"$f":"$C$73*'EoL emissions'!I5","v":0},{"$f":"$C$73*'EoL emissions'!J5","v":0},{"$f":"$C$73*'EoL emissions'!K5","v":0},{"$f":"$C$73*'EoL emissions'!L5","v":0},{"$f":"$C$73*'EoL emissions'!M5","v":0},{"$f":"$C$73*'EoL emissions'!N5","v":0},{"$f":"$C$73*'EoL emissions'!O5","v":0},{"$f":"$C$73*'EoL emissions'!P5","v":0},{"$f":"$C$73*'EoL emissions'!Q5","v":0}]
["CHEESE",null,null,null,{"$f":"SUM(E67:E73)","v":14.401997338107332},{"$f":"SUM(F67:F73)","v":5.0705783124431565E-7},2.0298217846808814E-5,1.4723853414387412E-7,1.5889817990930306E-6,0.20961080752476638,1.4646034959328594E-2,0.22722841194613153,0.98906862256536587,1.6653980686525205E-3,7.1590945108386497E-2,31.643576570141462,973.85096083793599,2.5848291313080196,61.555808600491737,2.0941102799072656E-6]
["Dairy","BUTTER"]
[null,"agriculture ",{"$f":"C77/(1-D76)","v":1.0362694300518136},{"$f":"Calculation_original!D76","v":3.5000000000000003E-2},{"$f":"$C$76*'Emissions per kg'!C60","v":29.015544041450781},{"$f":"$C$76*'Emissions per kg'!D60","v":9.4507772020725396E-8},{"$f":"$C$76*'Emissions per kg'!E60","v":4.8186528497409331E-5},{"$f":"$C$76*'Emissions per kg'!F60","v":3.3367875647668399E-7},{"$f":"$C$76*'Emissions per kg'!G60","v":3.7409326424870474E-6},{"$f":"$C$76*'Emissions per kg'!H60","v":0.15440414507772021},{"$f":"$C$76*'Emissions per kg'!I60","v":2.4974093264248709E-2},{"$f":"$C$76*'Emissions per kg'!J60","v":0.52642487046632136},{"$f":"$C$76*'Emissions per kg'!K60","v":2.3419689119170983},{"$f":"$C$76*'Emissions per kg'!L60","v":3.9067357512953373E-3},{"$f":"$C$76*'Emissions per kg'!M60","v":0.16891191709844564},{"$f":"$C$76*'Emissions per kg'!N60","v":71.088082901554401},{"$f":"$C$76*'Emissions per kg'!O60","v":2404.1450777202076},{"$f":"$C$76*'Emissions per kg'!P60","v":2.8497409326424874},{"$f":"$C$76*'Emissions per kg'!Q60","v":69.222797927461144},{"$f":"$C$76*'Emissions per kg'!R60","v":4.6632124352331608E-7}]
[null,"processsing",{"$f":"(C78/(1-D77))/(1-D78)","v":1},{"$f":"Calculation_original!D77","v":0},{"$f":"$C$77*'Emissions per kg'!C61","v":0.505},{"$f":"$C$77*'Emissions per kg'!D61","v":9.3800000000000006E-8},{"$f":"$C$77*'Emissions per kg'!E61","v":6.4000000000000004E-8},{"$f":"$C$77*'Emissions per kg'!F61","v":3.3099999999999999E-9},{"$f":"$C$77*'Emissions per kg'!G61","v":2.48E-8},{"$f":"$C$77*'Emissions per kg'!H61","v":4.2299999999999997E-2},{"$f":"$C$77*'Emissions per kg'!I61","v":1.9499999999999999E-3},{"$f":"$C$77*'Emissions per kg'!J61","v":2.6800000000000001E-3},{"$f":"$C$77*'Emissions per kg'!K61","v":7.2100000000000003E-3},{"$f":"$C$77*'Emissions per kg'!L61","v":1.95E-5},{"$f":"$C$77*'Emissions per kg'!M61","v":6.4300000000000002E-4},{"$f":"$C$77*'Emissions per kg'!N61","v":0.61399999999999999},{"$f":"$C$77*'Emissions per kg'!O61","v":5.34},{"$f":"$C$77*'Emissions per kg'!P61","v":0.49299999999999999},{"$f":"$C$77*'Emissions per kg'!Q61","v":8.17},{"$f":"$C$77*'Emissions per kg'!R61","v":8.3500000000000005E-7}]
[null,"packaging",1,{"$f":"Calculation_original!D78","v":0},{"$f":"$C$78*'Emissions per kg'!C62","v":0.20300000000000001},{"$f":"$C$78*'Emissions per kg'!D62","v":6.5799999999999994E-8},{"$f":"$C$78*'Emissions per kg'!E62","v":1.6899999999999999E-8},{"$f":"$C$78*'Emissions per kg'!F62","v":3.4900000000000001E-9},{"$f":"$C$78*'Emissions per kg'!G62","v":1.6899999999999999E-8},{"$f":"$C$78*'Emissions per kg'!H62","v":6.0400000000000002E-3},{"$f":"$C$78*'Emissions per kg'!I62","v":6.4099999999999997E-4},{"$f":"$C$78*'Emissions per kg'!J62","v":1.32E-3},{"$f":"$C$78*'Emissions per kg'!K62","v":2.2799999999999999E-3},{"$f":"$C$78*'Emissions per kg'!L62","v":1.01E-5},{"$f":"$C$78*'Emissions per kg'!M62","v":2.1499999999999999E-4},{"$f":"$C$78*'Emissions per kg'!N62","v":0.13300000000000001},{"$f":"$C$78*'Emissions per kg'!O62","v":5.23},{"$f":"$C$78*'Emissions per kg'!P62","v":0.124},{"$f":"$C$78*'Emissions per kg'!Q62","v":3.07},{"$f":"$C$78*'Emissions per kg'!R62","v":3.8299999999999998E-6}]
[null,"retail",0,{"$f":"Calculation_original!D79","v":3.4000000000000002E-2},{"$f":"$C$79*'Emissions per kg'!C63","v":0},{"$f":"$C$79*'Emissions per kg'!D63","v":0},{"$f":"$C$79*'Emissions per kg'!E63","v":0},{"$f":"$C$79*'Emissions per kg'!F63","v":0},{"$f":"$C$79*'Emissions per kg'!G63","v":0},{"$f":"$C$79*'Emissions per kg'!H63","v":0},{"$f":"$C$79*'Emissions per kg'!I63","v":0},{"$f":"$C$79*'Emissions per kg'!J63","v":0},{"$f":"$C$79*'Emissions per kg'!K63","v":0},{"$f":"$C$79*'Emissions per kg'!L63","v":0},{"$f":"$C$79*'Emissions per kg'!M63","v":0},{"$f":"$C$79*'Emissions per kg'!N63","v":0},{"$f":"$C$79*'Emissions per kg'!O63","v":0},{"$f":"$C$79*'Emissions per kg'!P63","v":0},{"$f":"$C$79*'Emissions per kg'!Q63","v":0},{"$f":"$C$79*'Emissions per kg'!R63","v":0}]
[null,"use ",0,{"$f":"Calculation_original!D80","v":3.4000000000000002E-2},{"$f":"$C$80*'Emissions per kg'!C64","v":0},{"$f":"$C$80*'Emissions per kg'!D64","v":0},{"$f":"$C$80*'Emissions per kg'!E64","v":0},{"$f":"$C$80*'Emissions per kg'!F64","v":0},{"$f":"$C$80*'Emissions per kg'!G64","v":0},{"$f":"$C$80*'Emissions per kg'!H64","v":0},{"$f":"$C$80*'Emissions per kg'!I64","v":0},{"$f":"$C$80*'Emissions per kg'!J64","v":0},{"$f":"$C$80*'Emissions per kg'!K64","v":0},{"$f":"$C$80*'Emissions per kg'!L64","v":0},{"$f":"$C$80*'Emissions per kg'!M64","v":0},{"$f":"$C$80*'Emissions per kg'!N64","v":0},{"$f":"$C$80*'Emissions per kg'!O64","v":0},{"$f":"$C$80*'Emissions per kg'!P64","v":0},{"$f":"$C$80*'Emissions per kg'!Q64","v":0},{"$f":"$C$80*'Emissions per kg'!R64","v":0}]
[null,"end of life P&R",{"$f":"D77*C77+D79*C79+C78*D78+C76*D76","v":3.6269430051813482E-2},null,{"$f":"$C$81*'EoL emissions'!B4","v":1.2271949506294828E-2},{"$f":"$C$81*'EoL emissions'!C4","v":1.4684678835712018E-10},{"$f":"$C$81*'EoL emissions'!D4","v":1.3617846808807506E-8},{"$f":"$C$81*'EoL emissions'!E4","v":5.4469994698288526E-10},{"$f":"$C$81*'EoL emissions'!F4","v":2.7765401531013246E-10},{"$f":"$C$81*'EoL emissions'!G4","v":9.2983690569486293E-5},{"$f":"$C$81*'EoL emissions'!H4","v":1.644065881045786E-5},{"$f":"$C$81*'EoL emissions'!I4","v":4.3562205198867461E-5},{"$f":"$C$81*'EoL emissions'!J4","v":1.761666068165567E-4},{"$f":"$C$81*'EoL emissions'!K4","v":3.4677577716914037E-6},{"$f":"$C$81*'EoL emissions'!L4","v":1.9904693878719139E-5},{"$f":"$C$81*'EoL emissions'!M4","v":0.96289781366477001},{"$f":"$C$81*'EoL emissions'!N4","v":4.9769128091339328E-2},{"$f":"$C$81*'EoL emissions'!O4","v":4.8198104895248744E-4},{"$f":"$C$81*'EoL emissions'!P4","v":-8.8546119434965379E-3},{"$f":"$C$81*'EoL emissions'!Q4","v":-6.7210351242358668E-10}]
[null,"end of life HH",{"$f":"D80*C80","v":0},null,{"$f":"$C$82*'EoL emissions'!B5","v":0},{"$f":"$C$82*'EoL emissions'!C5","v":0},{"$f":"$C$82*'EoL emissions'!D5","v":0},{"$f":"$C$82*'EoL emissions'!E5","v":0},{"$f":"$C$82*'EoL emissions'!F5","v":0},{"$f":"$C$82*'EoL emissions'!G5","v":0},{"$f":"$C$82*'EoL emissions'!H5","v":0},{"$f":"$C$82*'EoL emissions'!I5","v":0},{"$f":"$C$82*'EoL emissions'!J5","v":0},{"$f":"$C$82*'EoL emissions'!K5","v":0},{"$f":"$C$82*'EoL emissions'!L5","v":0},{"$f":"$C$82*'EoL emissions'!M5","v":0},{"$f":"$C$82*'EoL emissions'!N5","v":0},{"$f":"$C$82*'EoL emissions'!O5","v":0},{"$f":"$C$82*'EoL emissions'!P5","v":0},{"$f":"$C$82*'EoL emissions'!Q5","v":0}]
["BUTTER",null,null,null,{"$f":"SUM(E76:E82)","v":29.735815990957075},{"$f":"SUM(F76:F82)","v":2.542546188090825E-7},4.8281046344218137E-5,3.4102345642366683E-7,3.7829102965023578E-6,0.20283712876828969,2.7581533923059166E-2,0.53046843267152022,2.3516350785239148,3.9398035090670294E-3,0.16978982179232435,72.797980715219168,2414.7648468482989,3.4672229136914399,80.453943315517648,5.1306491400108924E-6]
["Eggs1","EGGS"]
[null,"agriculture ",{"$f":"C86/(1-D85)","v":1.0111223458038423},{"$f":"Calculation_original!D85","v":0},{"$f":"$C$85*'Emissions per kg'!C67","v":4.984833164812942},{"$f":"$C$85*'Emissions per kg'!D67","v":5.7431749241658239E-8},{"$f":"$C$85*'Emissions per kg'!E67","v":7.7553083923154698E-6},{"$f":"$C$85*'Emissions per kg'!F67","v":7.5733063700707791E-8},{"$f":"$C$85*'Emissions per kg'!G67","v":1.0616784630940343E-6},{"$f":"$C$85*'Emissions per kg'!H67","v":9.1809908998988887E-2},{"$f":"$C$85*'Emissions per kg'!I67","v":6.8655207280080895E-3},{"$f":"$C$85*'Emissions per kg'!J67","v":0.13751263902932256},{"$f":"$C$85*'Emissions per kg'!K67","v":0.60667340748230536},{"$f":"$C$85*'Emissions per kg'!L67","v":7.7350859453993932E-4},{"$f":"$C$85*'Emissions per kg'!M67","v":3.1648129423660264E-2},{"$f":"$C$85*'Emissions per kg'!N67","v":17.593528816986854},{"$f":"$C$85*'Emissions per kg'!O67","v":733.06370070778564},{"$f":"$C$85*'Emissions per kg'!P67","v":1.2841253791708798},{"$f":"$C$85*'Emissions per kg'!Q67","v":20.829120323559152},{"$f":"$C$85*'Emissions per kg'!R67","v":1.4863498483316482E-7}]
[null,"processsing",{"$f":"(C87/(1-D86))/(1-D87)","v":1.0111223458038423},{"$f":"Calculation_original!D86","v":1.0999999999999999E-2},{"$f":"$C$86*'Emissions per kg'!C68","v":0.10717896865520728},{"$f":"$C$86*'Emissions per kg'!D68","v":1.0920121334681498E-6},{"$f":"$C$86*'Emissions per kg'!E68","v":4.5702730030333672E-9},{"$f":"$C$86*'Emissions per kg'!F68","v":5.0960566228513655E-10},{"$f":"$C$86*'Emissions per kg'!G68","v":2.5176946410515672E-9},{"$f":"$C$86*'Emissions per kg'!H68","v":7.4823053589484333E-3},{"$f":"$C$86*'Emissions per kg'!I68","v":1.9716885743174925E-4},{"$f":"$C$86*'Emissions per kg'!J68","v":3.4782608695652176E-4},{"$f":"$C$86*'Emissions per kg'!K68","v":6.9261880687563194E-4},{"$f":"$C$86*'Emissions per kg'!L68","v":4.984833164812943E-6},{"$f":"$C$86*'Emissions per kg'!M68","v":6.3498483316481286E-5},{"$f":"$C$86*'Emissions per kg'!N68","v":3.1648129423660264E-2},{"$f":"$C$86*'Emissions per kg'!O68","v":0.68351870576339746},{"$f":"$C$86*'Emissions per kg'!P68","v":3.1951466127401421E-2},{"$f":"$C$86*'Emissions per kg'!Q68","v":1.2335692618806875},{"$f":"$C$86*'Emissions per kg'!R68","v":1.2032355915065723E-7}]
[null,"packaging",1,{"$f":"Calculation_original!D87","v":0},{"$f":"$C$87*'Emissions per kg'!C69","v":0.10299999999999999},{"$f":"$C$87*'Emissions per kg'!D69","v":3.1899999999999999E-9},{"$f":"$C$87*'Emissions per kg'!E69","v":1.9099999999999999E-8},{"$f":"$C$87*'Emissions per kg'!F69","v":6.1099999999999996E-10},{"$f":"$C$87*'Emissions per kg'!G69","v":-7.61E-9},{"$f":"$C$87*'Emissions per kg'!H69","v":3.3800000000000002E-3},{"$f":"$C$87*'Emissions per kg'!I69","v":1.08E-4},{"$f":"$C$87*'Emissions per kg'!J69","v":4.06E-4},{"$f":"$C$87*'Emissions per kg'!K69","v":3.88E-4},{"$f":"$C$87*'Emissions per kg'!L69","v":4.6399999999999996E-6},{"$f":"$C$87*'Emissions per kg'!M69","v":4.9400000000000001E-5},{"$f":"$C$87*'Emissions per kg'!N69","v":8.1000000000000003E-2},{"$f":"$C$87*'Emissions per kg'!O69","v":-19.3},{"$f":"$C$87*'Emissions per kg'!P69","v":-6.2399999999999997E-2},{"$f":"$C$87*'Emissions per kg'!Q69","v":1.37},{"$f":"$C$87*'Emissions per kg'!R69","v":1.2699999999999999E-6}]
[null,"retail",0,{"$f":"Calculation_original!D88","v":0.04},{"$f":"$C$88*'Emissions per kg'!C70","v":0},{"$f":"$C$88*'Emissions per kg'!D70","v":0},{"$f":"$C$88*'Emissions per kg'!E70","v":0},{"$f":"$C$88*'Emissions per kg'!F70","v":0},{"$f":"$C$88*'Emissions per kg'!G70","v":0},{"$f":"$C$88*'Emissions per kg'!H70","v":0},{"$f":"$C$88*'Emissions per kg'!I70","v":0},{"$f":"$C$88*'Emissions per kg'!J70","v":0},{"$f":"$C$88*'Emissions per kg'!K70","v":0},{"$f":"$C$88*'Emissions per kg'!L70","v":0},{"$f":"$C$88*'Emissions per kg'!M70","v":0},{"$f":"$C$88*'Emissions per kg'!N70","v":0},{"$f":"$C$88*'Emissions per kg'!O70","v":0},{"$f":"$C$88*'Emissions per kg'!P70","v":0},{"$f":"$C$88*'Emissions per kg'!Q70","v":0},{"$f":"$C$88*'Emissions per kg'!R70","v":0}]
[null,"use ",0,{"$f":"Calculation_original!D89","v":6.5000000000000002E-2},{"$f":"$C$89*'Emissions per kg'!C71","v":0},{"$f":"$C$89*'Emissions per kg'!D71","v":0},{"$f":"$C$89*'Emissions per kg'!E71","v":0},{"$f":"$C$89*'Emissions per kg'!F71","v":0},{"$f":"$C$89*'Emissions per kg'!G71","v":0},{"$f":"$C$89*'Emissions per kg'!H71","v":0},{"$f":"$C$89*'Emissions per kg'!I71","v":0},{"$f":"$C$89*'Emissions per kg'!J71","v":0},{"$f":"$C$89*'Emissions per kg'!K71","v":0},{"$f":"$C$89*'Emissions per kg'!L71","v":0},{"$f":"$C$89*'Emissions per kg'!M71","v":0},{"$f":"$C$89*'Emissions per kg'!N71","v":0},{"$f":"$C$89*'Emissions per kg'!O71","v":0},{"$f":"$C$89*'Emissions per kg'!P71","v":0},{"$f":"$C$89*'Emissions per kg'!Q71","v":0},{"$f":"$C$89*'Emissions per kg'!R71","v":0}]
[null,"end of life P&R",{"$f":"D86*C86+D88*C88+C87*D87+C85*D85","v":1.1122345803842264E-2},null,{"$f":"$C$90*'EoL emissions'!B4","v":3.7633033080837659E-3},{"$f":"$C$90*'EoL emissions'!C4","v":4.5031883819466423E-11},{"$f":"$C$90*'EoL emissions'!D4","v":4.1760347790117469E-9},{"$f":"$C$90*'EoL emissions'!E4","v":1.670371208211274E-10},{"$f":"$C$90*'EoL emissions'!F4","v":8.5145092373741302E-11},{"$f":"$C$90*'EoL emissions'!G4","v":2.8514282114548507E-5},{"$f":"$C$90*'EoL emissions'!H4","v":5.0416753798356235E-6},{"$f":"$C$90*'EoL emissions'!I4","v":1.3358740666935661E-5},{"$f":"$C$90*'EoL emissions'!J4","v":5.4023068939989853E-5},{"$f":"$C$90*'EoL emissions'!K4","v":1.0634190017768089E-6},{"$f":"$C$90*'EoL emissions'!L4","v":6.1039527812394503E-6},{"$f":"$C$90*'EoL emissions'!M4","v":0.29528124489532082},{"$f":"$C$90*'EoL emissions'!N4","v":1.5262149203800861E-2},{"$f":"$C$90*'EoL emissions'!O4","v":1.478038085983144E-4},{"$f":"$C$90*'EoL emissions'!P4","v":-2.7153461152741791E-3},{"$f":"$C$90*'EoL emissions'!Q4","v":-2.0610656606605143E-10}]
[null,"end of life HH",{"$f":"D89*C89","v":0},null,{"$f":"$C$91*'EoL emissions'!B5","v":0},{"$f":"$C$91*'EoL emissions'!C5","v":0},{"$f":"$C$91*'EoL emissions'!D5","v":0},{"$f":"$C$91*'EoL emissions'!E5","v":0},{"$f":"$C$91*'EoL emissions'!F5","v":0},{"$f":"$C$91*'EoL emissions'!G5","v":0},{"$f":"$C$91*'EoL emissions'!H5","v":0},{"$f":"$C$91*'EoL emissions'!I5","v":0},{"$f":"$C$91*'EoL emissions'!J5","v":0},{"$f":"$C$91*'EoL emissions'!K5","v":0},{"$f":"$C$91*'EoL emissions'!L5","v":0},{"$f":"$C$91*'EoL emissions'!M5","v":0},{"$f":"$C$91*'EoL emissions'!N5","v":0},{"$f":"$C$91*'EoL emissions'!O5","v":0},{"$f":"$C$91*'EoL emissions'!P5","v":0},{"$f":"$C$91*'EoL emissions'!Q5","v":0}]
["EGGS",null,null,null,{"$f":"SUM(E85:E91)","v":5.1987754367762324},{"$f":"SUM(F85:F91)","v":1.1526789145936275E-6},7.7831547000975145E-6,7.7020706483814067E-8,1.0566713028274596E-6,0.10270072864005186,7.1757312608196734E-3,0.13827982385694601,0.60780804935812105,7.8419684670652902E-4,3.1767131859757977E-2,18.001458191305836,714.46248156275283,1.2538246491068794,23.429974239324569,1.5387524374177559E-6]
["Legumes","BEANS"]
[null,"agriculture ",{"$f":"C95/(1-D94)","v":1.0526315789473684},{"$f":"Calculation_original!D94","v":0},{"$f":"$C$94*'Emissions per kg'!C74","v":1.2105263157894735},{"$f":"$C$94*'Emissions per kg'!D74","v":1.8105263157894734E-8},{"$f":"$C$94*'Emissions per kg'!E74","v":1.0463157894736842E-6},{"$f":"$C$94*'Emissions per kg'!F74","v":4.0000000000000001E-8},{"$f":"$C$94*'Emissions per kg'!G74","v":4.3578947368421046E-7},{"$f":"$C$94*'Emissions per kg'!H74","v":5.263157894736842E-3},{"$f":"$C$94*'Emissions per kg'!I74","v":9.3789473684210522E-4},{"$f":"$C$94*'Emissions per kg'!J74","v":6.2E-2},{"$f":"$C$94*'Emissions per kg'!K74","v":0.27578947368421053},{"$f":"$C$94*'Emissions per kg'!L74","v":3.3052631578947365E-3},{"$f":"$C$94*'Emissions per kg'!M74","v":3.7578947368421052E-2},{"$f":"$C$94*'Emissions per kg'!N74","v":1.6421052631578947},{"$f":"$C$94*'Emissions per kg'!O74","v":443.15789473684208},{"$f":"$C$94*'Emissions per kg'!P74","v":0.83263157894736839},{"$f":"$C$94*'Emissions per kg'!Q74","v":4.4105263157894736},{"$f":"$C$94*'Emissions per kg'!R74","v":1.1368421052631579E-6}]
[null,"processsing",{"$f":"(C96/(1-D95))/(1-D96)","v":1.0526315789473684},{"$f":"Calculation_original!D95","v":0.05},{"$f":"$C$95*'Emissions per kg'!C75","v":7.9789473684210535E-2},{"$f":"$C$95*'Emissions per kg'!D75","v":1.1473684210526316E-8},{"$f":"$C$95*'Emissions per kg'!E75","v":8.1157894736842088E-9},{"$f":"$C$95*'Emissions per kg'!F75","v":6.5263157894736837E-10},{"$f":"$C$95*'Emissions per kg'!G75","v":4.0105263157894732E-9},{"$f":"$C$95*'Emissions per kg'!H75","v":8.9894736842105263E-3},{"$f":"$C$95*'Emissions per kg'!I75","v":4.1052631578947365E-4},{"$f":"$C$95*'Emissions per kg'!J75","v":6.2736842105263146E-4},{"$f":"$C$95*'Emissions per kg'!K75","v":1.4842105263157895E-3},{"$f":"$C$95*'Emissions per kg'!L75","v":5.3578947368421053E-6},{"$f":"$C$95*'Emissions per kg'!M75","v":1.3473684210526314E-4},{"$f":"$C$95*'Emissions per kg'!N75","v":9.3894736842105253E-2},{"$f":"$C$95*'Emissions per kg'!O75","v":1.0947368421052632},{"$f":"$C$95*'Emissions per kg'!P75","v":1.6947368421052631E-2},{"$f":"$C$95*'Emissions per kg'!Q75","v":1.5368421052631578},{"$f":"$C$95*'Emissions per kg'!R75","v":1.6631578947368422E-7}]
[null,"packaging",1,{"$f":"Calculation_original!D96","v":0},{"$f":"$C$96*'Emissions per kg'!C76","v":8.5599999999999996E-2},{"$f":"$C$96*'Emissions per kg'!D76","v":3.6600000000000002E-9},{"$f":"$C$96*'Emissions per kg'!E76","v":3.9600000000000004E-9},{"$f":"$C$96*'Emissions per kg'!F76","v":5.6300000000000002E-10},{"$f":"$C$96*'Emissions per kg'!G76","v":3.24E-9},{"$f":"$C$96*'Emissions per kg'!H76","v":4.0299999999999997E-3},{"$f":"$C$96*'Emissions per kg'!I76","v":1.8699999999999999E-4},{"$f":"$C$96*'Emissions per kg'!J76","v":3.5799999999999997E-4},{"$f":"$C$96*'Emissions per kg'!K76","v":6.3500000000000004E-4},{"$f":"$C$96*'Emissions per kg'!L76","v":2.6199999999999999E-6},{"$f":"$C$96*'Emissions per kg'!M76","v":5.7899999999999998E-5},{"$f":"$C$96*'Emissions per kg'!N76","v":6.9199999999999998E-2},{"$f":"$C$96*'Emissions per kg'!O76","v":0.98599999999999999},{"$f":"$C$96*'Emissions per kg'!P76","v":4.7899999999999998E-2},{"$f":"$C$96*'Emissions per kg'!Q76","v":0.94199999999999995},{"$f":"$C$96*'Emissions per kg'!R76","v":2.4900000000000002E-7}]
[null,"retail",0,{"$f":"Calculation_original!D97","v":0.01},{"$f":"$C$97*'Emissions per kg'!C77","v":0},{"$f":"$C$97*'Emissions per kg'!D77","v":0},{"$f":"$C$97*'Emissions per kg'!E77","v":0},{"$f":"$C$97*'Emissions per kg'!F77","v":0},{"$f":"$C$97*'Emissions per kg'!G77","v":0},{"$f":"$C$97*'Emissions per kg'!H77","v":0},{"$f":"$C$97*'Emissions per kg'!I77","v":0},{"$f":"$C$97*'Emissions per kg'!J77","v":0},{"$f":"$C$97*'Emissions per kg'!K77","v":0},{"$f":"$C$97*'Emissions per kg'!L77","v":0},{"$f":"$C$97*'Emissions per kg'!M77","v":0},{"$f":"$C$97*'Emissions per kg'!N77","v":0},{"$f":"$C$97*'Emissions per kg'!O77","v":0},{"$f":"$C$97*'Emissions per kg'!P77","v":0},{"$f":"$C$97*'Emissions per kg'!Q77","v":0},{"$f":"$C$97*'Emissions per kg'!R77","v":0}]
[null,"use ",0,{"$f":"Calculation_original!D98","v":0.04},{"$f":"$C$98*'Emissions per kg'!C78","v":0},{"$f":"$C$98*'Emissions per kg'!D78","v":0},{"$f":"$C$98*'Emissions per kg'!E78","v":0},{"$f":"$C$98*'Emissions per kg'!F78","v":0},{"$f":"$C$98*'Emissions per kg'!G78","v":0},{"$f":"$C$98*'Emissions per kg'!H78","v":0},{"$f":"$C$98*'Emissions per kg'!I78","v":0},{"$f":"$C$98*'Emissions per kg'!J78","v":0},{"$f":"$C$98*'Emissions per kg'!K78","v":0},{"$f":"$C$98*'Emissions per kg'!L78","v":0},{"$f":"$C$98*'Emissions per kg'!M78","v":0},{"$f":"$C$98*'Emissions per kg'!N78","v":0},{"$f":"$C$98*'Emissions per kg'!O78","v":0},{"$f":"$C$98*'Emissions per kg'!P78","v":0},{"$f":"$C$98*'Emissions per kg'!Q78","v":0},{"$f":"$C$98*'Emissions per kg'!R78","v":0}]
[null,"end of life P&R",{"$f":"D95*C95+D97*C97+C96*D96+C94*D94","v":5.2631578947368418E-2},null,{"$f":"$C$99*'EoL emissions'!B4","v":1.7808167328683466E-2},{"$f":"$C$99*'EoL emissions'!C4","v":2.1309345979642244E-10},{"$f":"$C$99*'EoL emissions'!D4","v":1.9761236346615394E-8},{"$f":"$C$99*'EoL emissions'!E4","v":7.9042924637366025E-10},{"$f":"$C$99*'EoL emissions'!F4","v":4.0291146582598153E-10},{"$f":"$C$99*'EoL emissions'!G4","v":1.3493122014970562E-4},{"$f":"$C$99*'EoL emissions'!H4","v":2.3857497371566657E-5},{"$f":"$C$99*'EoL emissions'!I4","v":6.3214327844973061E-5},{"$f":"$C$99*'EoL emissions'!J4","v":2.5564026402703332E-4},{"$f":"$C$99*'EoL emissions'!K4","v":5.0321597739582005E-6},{"$f":"$C$99*'EoL emissions'!L4","v":2.8884255027013477E-5},{"$f":"$C$99*'EoL emissions'!M4","v":1.3972878047917334},{"$f":"$C$99*'EoL emissions'!N4","v":7.2221366328033734E-2},{"$f":"$C$99*'EoL emissions'!O4","v":6.9941610863030117E-4},{"$f":"$C$99*'EoL emissions'!P4","v":-1.2849173722517529E-2},{"$f":"$C$99*'EoL emissions'!Q4","v":-9.7530810449437732E-10}]
[null,"end of life HH",{"$f":"D98*C98","v":0},null,{"$f":"$C$100*'EoL emissions'!B5","v":0},{"$f":"$C$100*'EoL emissions'!C5","v":0},{"$f":"$C$100*'EoL emissions'!D5","v":0},{"$f":"$C$100*'EoL emissions'!E5","v":0},{"$f":"$C$100*'EoL emissions'!F5","v":0},{"$f":"$C$100*'EoL emissions'!G5","v":0},{"$f":"$C$100*'EoL emissions'!H5","v":0},{"$f":"$C$100*'EoL emissions'!I5","v":0},{"$f":"$C$100*'EoL emissions'!J5","v":0},{"$f":"$C$100*'EoL emissions'!K5","v":0},{"$f":"$C$100*'EoL emissions'!L5","v":0},{"$f":"$C$100*'EoL emissions'!M5","v":0},{"$f":"$C$100*'EoL emissions'!N5","v":0},{"$f":"$C$100*'EoL emissions'!O5","v":0},{"$f":"$C$100*'EoL emissions'!P5","v":0},{"$f":"$C$100*'EoL emissions'!Q5","v":0}]
["BEANS",null,null,null,{"$f":"SUM(E94:E100)","v":1.3937239568023674},{"$f":"SUM(F94:F100)","v":3.3452040828217467E-8},1.0781528152939839E-6,4.2006060825321029E-8,4.4344291146582596E-7,1.8417562799097072E-2,1.5592785500031453E-3,6.3048582748897603E-2,0.27816432447455336,3.3182732124055368E-3,3.7800468465553329E-2,3.2024878047917333,445.31085294527537,0.89817836347705138,6.8765192473301147,1.5511825866323478E-6]
["Legumes","TOFU"]
[null,"agriculture ",{"$f":"C104/(1-D103)","v":1.0526315789473684},{"$f":"Calculation_original!D103","v":0},{"$f":"$C$103*'Emissions per kg'!C81","v":1.3263157894736841},{"$f":"$C$103*'Emissions per kg'!D81","v":3.1578947368421051E-10},{"$f":"$C$103*'Emissions per kg'!E81","v":1.7368421052631579E-6},{"$f":"$C$103*'Emissions per kg'!F81","v":1.9263157894736839E-8},{"$f":"$C$103*'Emissions per kg'!G81","v":7.6842105263157895E-8},{"$f":"$C$103*'Emissions per kg'!H81","v":5.0000000000000001E-4},{"$f":"$C$103*'Emissions per kg'!I81","v":5.6736842105263151E-4},{"$f":"$C$103*'Emissions per kg'!J81","v":1.0736842105263157E-2},{"$f":"$C$103*'Emissions per kg'!K81","v":4.6842105263157893E-2},{"$f":"$C$103*'Emissions per kg'!L81","v":1.9157894736842104E-4},{"$f":"$C$103*'Emissions per kg'!M81","v":4.6421052631578945E-3},{"$f":"$C$103*'Emissions per kg'!N81","v":3.4421052631578948},{"$f":"$C$103*'Emissions per kg'!O81","v":215.78947368421052},{"$f":"$C$103*'Emissions per kg'!P81","v":0.60631578947368414},{"$f":"$C$103*'Emissions per kg'!Q81","v":1.2315789473684209},{"$f":"$C$103*'Emissions per kg'!R81","v":1.7789473684210523E-8}]
[null,"processsing",{"$f":"(C105/(1-D104))/(1-D105)","v":1.0526315789473684},{"$f":"Calculation_original!D104","v":0.05},{"$f":"$C$104*'Emissions per kg'!C82","v":0.16315789473684209},{"$f":"$C$104*'Emissions per kg'!D82","v":3.652631578947368E-8},{"$f":"$C$104*'Emissions per kg'!E82","v":2.3684210526315786E-8},{"$f":"$C$104*'Emissions per kg'!F82","v":1.1684210526315791E-9},{"$f":"$C$104*'Emissions per kg'!G82","v":1.5894736842105263E-8},{"$f":"$C$104*'Emissions per kg'!H82","v":1.0842105263157894E-2},{"$f":"$C$104*'Emissions per kg'!I82","v":1.4842105263157895E-3},{"$f":"$C$104*'Emissions per kg'!J82","v":1.6947368421052632E-3},{"$f":"$C$104*'Emissions per kg'!K82","v":5.4105263157894733E-3},{"$f":"$C$104*'Emissions per kg'!L82","v":2.4421052631578946E-6},{"$f":"$C$104*'Emissions per kg'!M82","v":4.8947368421052627E-4},{"$f":"$C$104*'Emissions per kg'!N82","v":0.40526315789473683},{"$f":"$C$104*'Emissions per kg'!O82","v":2.5894736842105259},{"$f":"$C$104*'Emissions per kg'!P82","v":2.2315789473684209E-2},{"$f":"$C$104*'Emissions per kg'!Q82","v":2.5157894736842104},{"$f":"$C$104*'Emissions per kg'!R82","v":3.4631578947368419E-7}]
[null,"packaging",1,{"$f":"Calculation_original!D105","v":0},{"$f":"$C$105*'Emissions per kg'!C83","v":0.20699999999999999},{"$f":"$C$105*'Emissions per kg'!D83","v":7.4300000000000002E-9},{"$f":"$C$105*'Emissions per kg'!E83","v":2.6000000000000001E-8},{"$f":"$C$105*'Emissions per kg'!F83","v":1.21E-9},{"$f":"$C$105*'Emissions per kg'!G83","v":-4.3899999999999999E-9},{"$f":"$C$105*'Emissions per kg'!H83","v":8.2400000000000008E-3},{"$f":"$C$105*'Emissions per kg'!I83","v":3.28E-4},{"$f":"$C$105*'Emissions per kg'!J83","v":8.7600000000000004E-4},{"$f":"$C$105*'Emissions per kg'!K83","v":1.1299999999999999E-3},{"$f":"$C$105*'Emissions per kg'!L83","v":8.1100000000000003E-6},{"$f":"$C$105*'Emissions per kg'!M83","v":1.11E-4},{"$f":"$C$105*'Emissions per kg'!N83","v":0.155},{"$f":"$C$105*'Emissions per kg'!O83","v":-19.7},{"$f":"$C$105*'Emissions per kg'!P83","v":-1.72E-2},{"$f":"$C$105*'Emissions per kg'!Q83","v":2.56},{"$f":"$C$105*'Emissions per kg'!R83","v":1.5999999999999999E-6}]
[null,"retail",0,{"$f":"Calculation_original!D106","v":0.01},{"$f":"$C$106*'Emissions per kg'!C84","v":0},{"$f":"$C$106*'Emissions per kg'!D84","v":0},{"$f":"$C$106*'Emissions per kg'!E84","v":0},{"$f":"$C$106*'Emissions per kg'!F84","v":0},{"$f":"$C$106*'Emissions per kg'!G84","v":0},{"$f":"$C$106*'Emissions per kg'!H84","v":0},{"$f":"$C$106*'Emissions per kg'!I84","v":0},{"$f":"$C$106*'Emissions per kg'!J84","v":0},{"$f":"$C$106*'Emissions per kg'!K84","v":0},{"$f":"$C$106*'Emissions per kg'!L84","v":0},{"$f":"$C$106*'Emissions per kg'!M84","v":0},{"$f":"$C$106*'Emissions per kg'!N84","v":0},{"$f":"$C$106*'Emissions per kg'!O84","v":0},{"$f":"$C$106*'Emissions per kg'!P84","v":0},{"$f":"$C$106*'Emissions per kg'!Q84","v":0},{"$f":"$C$106*'Emissions per kg'!R84","v":0}]
[null,"use ",0,{"$f":"Calculation_original!D107","v":0.04},{"$f":"$C$107*'Emissions per kg'!C85","v":0},{"$f":"$C$107*'Emissions per kg'!D85","v":0},{"$f":"$C$107*'Emissions per kg'!E85","v":0},{"$f":"$C$107*'Emissions per kg'!F85","v":0},{"$f":"$C$107*'Emissions per kg'!G85","v":0},{"$f":"$C$107*'Emissions per kg'!H85","v":0},{"$f":"$C$107*'Emissions per kg'!I85","v":0},{"$f":"$C$107*'Emissions per kg'!J85","v":0},{"$f":"$C$107*'Emissions per kg'!K85","v":0},{"$f":"$C$107*'Emissions per kg'!L85","v":0},{"$f":"$C$107*'Emissions per kg'!M85","v":0},{"$f":"$C$107*'Emissions per kg'!N85","v":0},{"$f":"$C$107*'Emissions per kg'!O85","v":0},{"$f":"$C$107*'Emissions per kg'!P85","v":0},{"$f":"$C$107*'Emissions per kg'!Q85","v":0},{"$f":"$C$107*'Emissions per kg'!R85","v":0}]
[null,"end of life P&R",{"$f":"D104*C104+D106*C106+C105*D105+C103*D103","v":5.2631578947368418E-2},null,{"$f":"$C$108*'EoL emissions'!B4","v":1.7808167328683466E-2},{"$f":"$C$108*'EoL emissions'!C4","v":2.1309345979642244E-10},{"$f":"$C$108*'EoL emissions'!D4","v":1.9761236346615394E-8},{"$f":"$C$108*'EoL emissions'!E4","v":7.9042924637366025E-10},{"$f":"$C$108*'EoL emissions'!F4","v":4.0291146582598153E-10},{"$f":"$C$108*'EoL emissions'!G4","v":1.3493122014970562E-4},{"$f":"$C$108*'EoL emissions'!H4","v":2.3857497371566657E-5},{"$f":"$C$108*'EoL emissions'!I4","v":6.3214327844973061E-5},{"$f":"$C$108*'EoL emissions'!J4","v":2.5564026402703332E-4},{"$f":"$C$108*'EoL emissions'!K4","v":5.0321597739582005E-6},{"$f":"$C$108*'EoL emissions'!L4","v":2.8884255027013477E-5},{"$f":"$C$108*'EoL emissions'!M4","v":1.3972878047917334},{"$f":"$C$108*'EoL emissions'!N4","v":7.2221366328033734E-2},{"$f":"$C$108*'EoL emissions'!O4","v":6.9941610863030117E-4},{"$f":"$C$108*'EoL emissions'!P4","v":-1.2849173722517529E-2},{"$f":"$C$108*'EoL emissions'!Q4","v":-9.7530810449437732E-10}]
[null,"end of life HH",{"$f":"D107*C107","v":0},null,{"$f":"$C$109*'EoL emissions'!B5","v":0},{"$f":"$C$109*'EoL emissions'!C5","v":0},{"$f":"$C$109*'EoL emissions'!D5","v":0},{"$f":"$C$109*'EoL emissions'!E5","v":0},{"$f":"$C$109*'EoL emissions'!F5","v":0},{"$f":"$C$109*'EoL emissions'!G5","v":0},{"$f":"$C$109*'EoL emissions'!H5","v":0},{"$f":"$C$109*'EoL emissions'!I5","v":0},{"$f":"$C$109*'EoL emissions'!J5","v":0},{"$f":"$C$109*'EoL emissions'!K5","v":0},{"$f":"$C$109*'EoL emissions'!L5","v":0},{"$f":"$C$109*'EoL emissions'!M5","v":0},{"$f":"$C$109*'EoL emissions'!N5","v":0},{"$f":"$C$109*'EoL emissions'!O5","v":0},{"$f":"$C$109*'EoL emissions'!P5","v":0},{"$f":"$C$109*'EoL emissions'!Q5","v":0}]
["TOFU",null,null,null,{"$f":"SUM(E103:E109)","v":1.7142818515392098},{"$f":"SUM(F103:F109)","v":4.4485198722954315E-8},1.8062875521360891E-6,2.2432008193742079E-8,8.8749753571089136E-8,1.9717036483307599E-2,2.4034364447399876E-3,1.3370793275213393E-2,5.36382718429744E-2,2.0716321240553715E-4,5.2714632023954343E-3,5.3996562258443648,198.75116873474909,0.61213099505599866,6.2945192473301139,1.9631299550534002E-6]
["Cereal products","BREAD"]
[null,"agriculture ",{"$f":"C113/(1-D112)","v":1.0526315789473684},{"$f":"Calculation_original!D112","v":0},{"$f":"$C$112*'Emissions per kg'!C88","v":0.26210526315789473},{"$f":"$C$112*'Emissions per kg'!D88","v":3.8000000000000001E-9},{"$f":"$C$112*'Emissions per kg'!E88","v":1.8842105263157893E-6},{"$f":"$C$112*'Emissions per kg'!F88","v":9.1684210526315783E-9},{"$f":"$C$112*'Emissions per kg'!G88","v":8.0000000000000002E-8},{"$f":"$C$112*'Emissions per kg'!H88","v":2.221052631578947E-3},{"$f":"$C$112*'Emissions per kg'!I88","v":4.9789473684210526E-4},{"$f":"$C$112*'Emissions per kg'!J88","v":1.1157894736842104E-2},{"$f":"$C$112*'Emissions per kg'!K88","v":4.9578947368421056E-2},{"$f":"$C$112*'Emissions per kg'!L88","v":1.094736842105263E-4},{"$f":"$C$112*'Emissions per kg'!M88","v":6.4947368421052632E-3},{"$f":"$C$112*'Emissions per kg'!N88","v":1.7157894736842103},{"$f":"$C$112*'Emissions per kg'!O88","v":105.15789473684211},{"$f":"$C$112*'Emissions per kg'!P88","v":9.347368421052632E-3},{"$f":"$C$112*'Emissions per kg'!Q88","v":1.6210526315789473},{"$f":"$C$112*'Emissions per kg'!R88","v":6.0315789473684208E-8}]
[null,"processsing",{"$f":"(C114/(1-D113))/(1-D114)","v":1.0526315789473684},{"$f":"Calculation_original!D113","v":0.05},{"$f":"$C$113*'Emissions per kg'!C89","v":0.51473684210526316},{"$f":"$C$113*'Emissions per kg'!D89","v":5.0105263157894736E-8},{"$f":"$C$113*'Emissions per kg'!E89","v":4.2947368421052632E-8},{"$f":"$C$113*'Emissions per kg'!F89","v":4.431578947368421E-9},{"$f":"$C$113*'Emissions per kg'!G89","v":1.4E-8},{"$f":"$C$113*'Emissions per kg'!H89","v":6.7684210526315777E-2},{"$f":"$C$113*'Emissions per kg'!I89","v":1.4210526315789475E-3},{"$f":"$C$113*'Emissions per kg'!J89","v":2.9473684210526313E-3},{"$f":"$C$113*'Emissions per kg'!K89","v":5.1999999999999998E-3},{"$f":"$C$113*'Emissions per kg'!L89","v":4.8631578947368415E-5},{"$f":"$C$113*'Emissions per kg'!M89","v":5.042105263157894E-4},{"$f":"$C$113*'Emissions per kg'!N89","v":0.28631578947368419},{"$f":"$C$113*'Emissions per kg'!O89","v":6.9894736842105258},{"$f":"$C$113*'Emissions per kg'!P89","v":0.1463157894736842},{"$f":"$C$113*'Emissions per kg'!Q89","v":10.736842105263156},{"$f":"$C$113*'Emissions per kg'!R89","v":1.0526315789473683E-6}]
[null,"packaging",1,{"$f":"Calculation_original!D114","v":0},{"$f":"$C$114*'Emissions per kg'!C90","v":2.4E-2},{"$f":"$C$114*'Emissions per kg'!D90","v":8.3300000000000002E-10},{"$f":"$C$114*'Emissions per kg'!E90","v":7.5999999999999996E-10},{"$f":"$C$114*'Emissions per kg'!F90","v":1.3200000000000001E-10},{"$f":"$C$114*'Emissions per kg'!G90","v":5.98E-10},{"$f":"$C$114*'Emissions per kg'!H90","v":1.1299999999999999E-3},{"$f":"$C$114*'Emissions per kg'!I90","v":5.77E-5},{"$f":"$C$114*'Emissions per kg'!J90","v":8.6899999999999998E-5},{"$f":"$C$114*'Emissions per kg'!K90","v":1.4799999999999999E-4},{"$f":"$C$114*'Emissions per kg'!L90","v":1.0100000000000001E-6},{"$f":"$C$114*'Emissions per kg'!M90","v":1.38E-5},{"$f":"$C$114*'Emissions per kg'!N90","v":1.23E-2},{"$f":"$C$114*'Emissions per kg'!O90","v":0.107},{"$f":"$C$114*'Emissions per kg'!P90","v":5.28E-3},{"$f":"$C$114*'Emissions per kg'!Q90","v":0.51300000000000001},{"$f":"$C$114*'Emissions per kg'!R90","v":1.6400000000000001E-8}]
[null,"retail",0,{"$f":"Calculation_original!D115","v":0.02},{"$f":"$C$115*'Emissions per kg'!C91","v":0},{"$f":"$C$115*'Emissions per kg'!D91","v":0},{"$f":"$C$115*'Emissions per kg'!E91","v":0},{"$f":"$C$115*'Emissions per kg'!F91","v":0},{"$f":"$C$115*'Emissions per kg'!G91","v":0},{"$f":"$C$115*'Emissions per kg'!H91","v":0},{"$f":"$C$115*'Emissions per kg'!I91","v":0},{"$f":"$C$115*'Emissions per kg'!J91","v":0},{"$f":"$C$115*'Emissions per kg'!K91","v":0},{"$f":"$C$115*'Emissions per kg'!L91","v":0},{"$f":"$C$115*'Emissions per kg'!M91","v":0},{"$f":"$C$115*'Emissions per kg'!N91","v":0},{"$f":"$C$115*'Emissions per kg'!O91","v":0},{"$f":"$C$115*'Emissions per kg'!P91","v":0},{"$f":"$C$115*'Emissions per kg'!Q91","v":0},{"$f":"$C$115*'Emissions per kg'!R91","v":0}]
[null,"use ",0,{"$f":"Calculation_original!D116","v":0.25},{"$f":"$C$116*'Emissions per kg'!C92","v":0},{"$f":"$C$116*'Emissions per kg'!D92","v":0},{"$f":"$C$116*'Emissions per kg'!E92","v":0},{"$f":"$C$116*'Emissions per kg'!F92","v":0},{"$f":"$C$116*'Emissions per kg'!G92","v":0},{"$f":"$C$116*'Emissions per kg'!H92","v":0},{"$f":"$C$116*'Emissions per kg'!I92","v":0},{"$f":"$C$116*'Emissions per kg'!J92","v":0},{"$f":"$C$116*'Emissions per kg'!K92","v":0},{"$f":"$C$116*'Emissions per kg'!L92","v":0},{"$f":"$C$116*'Emissions per kg'!M92","v":0},{"$f":"$C$116*'Emissions per kg'!N92","v":0},{"$f":"$C$116*'Emissions per kg'!O92","v":0},{"$f":"$C$116*'Emissions per kg'!P92","v":0},{"$f":"$C$116*'Emissions per kg'!Q92","v":0},{"$f":"$C$116*'Emissions per kg'!R92","v":0}]
[null,"end of life P&R",{"$f":"D113*C113+D115*C115+C114*D114+C112*D112","v":5.2631578947368418E-2},null,{"$f":"$C$117*'EoL emissions'!B4","v":1.7808167328683466E-2},{"$f":"$C$117*'EoL emissions'!C4","v":2.1309345979642244E-10},{"$f":"$C$117*'EoL emissions'!D4","v":1.9761236346615394E-8},{"$f":"$C$117*'EoL emissions'!E4","v":7.9042924637366025E-10},{"$f":"$C$117*'EoL emissions'!F4","v":4.0291146582598153E-10},{"$f":"$C$117*'EoL emissions'!G4","v":1.3493122014970562E-4},{"$f":"$C$117*'EoL emissions'!H4","v":2.3857497371566657E-5},{"$f":"$C$117*'EoL emissions'!I4","v":6.3214327844973061E-5},{"$f":"$C$117*'EoL emissions'!J4","v":2.5564026402703332E-4},{"$f":"$C$117*'EoL emissions'!K4","v":5.0321597739582005E-6},{"$f":"$C$117*'EoL emissions'!L4","v":2.8884255027013477E-5},{"$f":"$C$117*'EoL emissions'!M4","v":1.3972878047917334},{"$f":"$C$117*'EoL emissions'!N4","v":7.2221366328033734E-2},{"$f":"$C$117*'EoL emissions'!O4","v":6.9941610863030117E-4},{"$f":"$C$117*'EoL emissions'!P4","v":-1.2849173722517529E-2},{"$f":"$C$117*'EoL emissions'!Q4","v":-9.7530810449437732E-10}]
[null,"end of life HH",{"$f":"D116*C116","v":0},null,{"$f":"$C$118*'EoL emissions'!B5","v":0},{"$f":"$C$118*'EoL emissions'!C5","v":0},{"$f":"$C$118*'EoL emissions'!D5","v":0},{"$f":"$C$118*'EoL emissions'!E5","v":0},{"$f":"$C$118*'EoL emissions'!F5","v":0},{"$f":"$C$118*'EoL emissions'!G5","v":0},{"$f":"$C$118*'EoL emissions'!H5","v":0},{"$f":"$C$118*'EoL emissions'!I5","v":0},{"$f":"$C$118*'EoL emissions'!J5","v":0},{"$f":"$C$118*'EoL emissions'!K5","v":0},{"$f":"$C$118*'EoL emissions'!L5","v":0},{"$f":"$C$118*'EoL emissions'!M5","v":0},{"$f":"$C$118*'EoL emissions'!N5","v":0},{"$f":"$C$118*'EoL emissions'!O5","v":0},{"$f":"$C$118*'EoL emissions'!P5","v":0},{"$f":"$C$118*'EoL emissions'!Q5","v":0}]
["BREAD",null,null,null,{"$f":"SUM(E112:E118)","v":0.81865027259184142},{"$f":"SUM(F112:F118)","v":5.4951356617691155E-8},1.9476791310834571E-6,1.452242924637366E-8,9.5000911465825981E-8,7.1170194378044435E-2,2.0005048657926192E-3,1.4255377485739709E-2,5.5182587632448085E-2,1.6414742293185291E-4,7.0416316234480653E-3,3.4116930679496278,112.32658978738067,0.16164257400336715,12.858045563119585,1.1283720603165582E-6]
["Cereal products","PASTA"]
[null,"agriculture ",{"$f":"C122/(1-D121)","v":1.0752688172043012},{"$f":"Calculation_original!D121","v":0},{"$f":"$C$121*'Emissions per kg'!C95","v":0.727956989247312},{"$f":"$C$121*'Emissions per kg'!D95","v":9.4623655913978507E-8},{"$f":"$C$121*'Emissions per kg'!E95","v":2.4838709677419358E-7},{"$f":"$C$121*'Emissions per kg'!F95","v":1.006451612903226E-8},{"$f":"$C$121*'Emissions per kg'!G95","v":1.3870967741935486E-7},{"$f":"$C$121*'Emissions per kg'!H95","v":2.7634408602150544E-2},{"$f":"$C$121*'Emissions per kg'!I95","v":1.8709677419354843E-3},{"$f":"$C$121*'Emissions per kg'!J95","v":1.8494623655913981E-2},{"$f":"$C$121*'Emissions per kg'!K95","v":7.6774193548387118E-2},{"$f":"$C$121*'Emissions per kg'!L95","v":3.0107526881720432E-4},{"$f":"$C$121*'Emissions per kg'!M95","v":1.602150537634409E-2},{"$f":"$C$121*'Emissions per kg'!N95","v":1.0010752688172044},{"$f":"$C$121*'Emissions per kg'!O95","v":580.64516129032268},{"$f":"$C$121*'Emissions per kg'!P95","v":1.5483870967741937},{"$f":"$C$121*'Emissions per kg'!Q95","v":7.1612903225806459},{"$f":"$C$121*'Emissions per kg'!R95","v":3.6451612903225813E-6}]
[null,"processsing",{"$f":"(C123/(1-D122))/(1-D123)","v":1.0752688172043012},{"$f":"Calculation_original!D122","v":7.0000000000000007E-2},{"$f":"$C$122*'Emissions per kg'!C96","v":0.55053763440860226},{"$f":"$C$122*'Emissions per kg'!D96","v":6.6666666666666681E-8},{"$f":"$C$122*'Emissions per kg'!E96","v":2.7741935483870969E-8},{"$f":"$C$122*'Emissions per kg'!F96","v":2.2795698924731186E-9},{"$f":"$C$122*'Emissions per kg'!G96","v":2.7204301075268823E-8},{"$f":"$C$122*'Emissions per kg'!H96","v":5.7204301075268825E-2},{"$f":"$C$122*'Emissions per kg'!I96","v":1.7204301075268822E-3},{"$f":"$C$122*'Emissions per kg'!J96","v":2.666666666666667E-3},{"$f":"$C$122*'Emissions per kg'!K96","v":6.0430107526881728E-3},{"$f":"$C$122*'Emissions per kg'!L96","v":3.1075268817204302E-6},{"$f":"$C$122*'Emissions per kg'!M96","v":5.6236559139784953E-4},{"$f":"$C$122*'Emissions per kg'!N96","v":0.34946236559139793},{"$f":"$C$122*'Emissions per kg'!O96","v":1.4086021505376347},{"$f":"$C$122*'Emissions per kg'!P96","v":5.4946236559139798},{"$f":"$C$122*'Emissions per kg'!Q96","v":8.7634408602150557},{"$f":"$C$122*'Emissions per kg'!R96","v":4.8064516129032269E-7}]
[null,"packaging",1,{"$f":"Calculation_original!D123","v":0},{"$f":"$C$123*'Emissions per kg'!C97","v":3.5099999999999999E-2},{"$f":"$C$123*'Emissions per kg'!D97","v":-6.3600000000000004E-9},{"$f":"$C$123*'Emissions per kg'!E97","v":3.1399999999999999E-9},{"$f":"$C$123*'Emissions per kg'!F97","v":-1.57E-10},{"$f":"$C$123*'Emissions per kg'!G97","v":-2.6499999999999999E-8},{"$f":"$C$123*'Emissions per kg'!H97","v":-9.4799999999999995E-4},{"$f":"$C$123*'Emissions per kg'!I97","v":-2.9599999999999998E-4},{"$f":"$C$123*'Emissions per kg'!J97","v":-3.2600000000000001E-4},{"$f":"$C$123*'Emissions per kg'!K97","v":-1.01E-3},{"$f":"$C$123*'Emissions per kg'!L97","v":-7.0999999999999998E-7},{"$f":"$C$123*'Emissions per kg'!M97","v":-7.6500000000000003E-5},{"$f":"$C$123*'Emissions per kg'!N97","v":3.95E-2},{"$f":"$C$123*'Emissions per kg'!O97","v":-51.3},{"$f":"$C$123*'Emissions per kg'!P97","v":-0.16700000000000001},{"$f":"$C$123*'Emissions per kg'!Q97","v":-3.73E-2},{"$f":"$C$123*'Emissions per kg'!R97","v":1.6700000000000001E-6}]
[null,"retail",0,{"$f":"Calculation_original!D124","v":0.02},{"$f":"$C$124*'Emissions per kg'!C98","v":0},{"$f":"$C$124*'Emissions per kg'!D98","v":0},{"$f":"$C$124*'Emissions per kg'!E98","v":0},{"$f":"$C$124*'Emissions per kg'!F98","v":0},{"$f":"$C$124*'Emissions per kg'!G98","v":0},{"$f":"$C$124*'Emissions per kg'!H98","v":0},{"$f":"$C$124*'Emissions per kg'!I98","v":0},{"$f":"$C$124*'Emissions per kg'!J98","v":0},{"$f":"$C$124*'Emissions per kg'!K98","v":0},{"$f":"$C$124*'Emissions per kg'!L98","v":0},{"$f":"$C$124*'Emissions per kg'!M98","v":0},{"$f":"$C$124*'Emissions per kg'!N98","v":0},{"$f":"$C$124*'Emissions per kg'!O98","v":0},{"$f":"$C$124*'Emissions per kg'!P98","v":0},{"$f":"$C$124*'Emissions per kg'!Q98","v":0},{"$f":"$C$124*'Emissions per kg'!R98","v":0}]
[null,"use ",0,{"$f":"Calculation_original!D125","v":0.25},{"$f":"$C$125*'Emissions per kg'!C99","v":0},{"$f":"$C$125*'Emissions per kg'!D99","v":0},{"$f":"$C$125*'Emissions per kg'!E99","v":0},{"$f":"$C$125*'Emissions per kg'!F99","v":0},{"$f":"$C$125*'Emissions per kg'!G99","v":0},{"$f":"$C$125*'Emissions per kg'!H99","v":0},{"$f":"$C$125*'Emissions per kg'!I99","v":0},{"$f":"$C$125*'Emissions per kg'!J99","v":0},{"$f":"$C$125*'Emissions per kg'!K99","v":0},{"$f":"$C$125*'Emissions per kg'!L99","v":0},{"$f":"$C$125*'Emissions per kg'!M99","v":0},{"$f":"$C$125*'Emissions per kg'!N99","v":0},{"$f":"$C$125*'Emissions per kg'!O99","v":0},{"$f":"$C$125*'Emissions per kg'!P99","v":0},{"$f":"$C$125*'Emissions per kg'!Q99","v":0},{"$f":"$C$125*'Emissions per kg'!R99","v":0}]
[null,"end of life P&R",{"$f":"D122*C122+D124*C124+C123*D123+C121*D121","v":7.5268817204301092E-2},null,{"$f":"$C$126*'EoL emissions'!B4","v":2.5467594136719372E-2},{"$f":"$C$126*'EoL emissions'!C4","v":3.0474656078413112E-10},{"$f":"$C$126*'EoL emissions'!D4","v":2.8260692839783317E-8},{"$f":"$C$126*'EoL emissions'!E4","v":1.1303988147064176E-9},{"$f":"$C$126*'EoL emissions'!F4","v":5.7620671994468342E-10},{"$f":"$C$126*'EoL emissions'!G4","v":1.9296615354742852E-4},{"$f":"$C$126*'EoL emissions'!H4","v":3.4118786563638347E-5},{"$f":"$C$126*'EoL emissions'!I4","v":9.0403286057864714E-5},{"$f":"$C$126*'EoL emissions'!J4","v":3.6559306575909077E-4},{"$f":"$C$126*'EoL emissions'!K4","v":7.1965295692090414E-6},{"$f":"$C$126*'EoL emissions'!L4","v":4.1307590522503153E-5},{"$f":"$C$126*'EoL emissions'!M4","v":1.9982718068526946},{"$f":"$C$126*'EoL emissions'!N4","v":0.10328431958740311},{"$f":"$C$126*'EoL emissions'!O4","v":1.0002402413745168E-3},{"$f":"$C$126*'EoL emissions'!P4","v":-1.8375700054783135E-2},{"$f":"$C$126*'EoL emissions'!Q4","v":-1.394795461266153E-9}]
[null,"end of life HH",{"$f":"D125*C125","v":0},null,{"$f":"$C$127*'EoL emissions'!B5","v":0},{"$f":"$C$127*'EoL emissions'!C5","v":0},{"$f":"$C$127*'EoL emissions'!D5","v":0},{"$f":"$C$127*'EoL emissions'!E5","v":0},{"$f":"$C$127*'EoL emissions'!F5","v":0},{"$f":"$C$127*'EoL emissions'!G5","v":0},{"$f":"$C$127*'EoL emissions'!H5","v":0},{"$f":"$C$127*'EoL emissions'!I5","v":0},{"$f":"$C$127*'EoL emissions'!J5","v":0},{"$f":"$C$127*'EoL emissions'!K5","v":0},{"$f":"$C$127*'EoL emissions'!L5","v":0},{"$f":"$C$127*'EoL emissions'!M5","v":0},{"$f":"$C$127*'EoL emissions'!N5","v":0},{"$f":"$C$127*'EoL emissions'!O5","v":0},{"$f":"$C$127*'EoL emissions'!P5","v":0},{"$f":"$C$127*'EoL emissions'!Q5","v":0}]
["PASTA",null,null,null,{"$f":"SUM(E121:E127)","v":1.3390622177926335},{"$f":"SUM(F121:F127)","v":1.5523506914142932E-7},3.0752972509784788E-7,1.3317484836211797E-8,1.3999018521456836E-7,8.4083675830966792E-2,3.3295166360260051E-3,2.0925693608638513E-2,8.2172797366834388E-2,3.1066932526813373E-4,1.6548678558264442E-2,3.3883094412612973,530.8570477604477,6.8770109929295486,15.869055482740919,5.7944116561516383E-6]
["Cereal products","RICE"]
[null,"agriculture ",{"$f":"C131/(1-D130)","v":1.1111111111111112},{"$f":"Calculation_original!D130","v":0},{"$f":"$C$130*'Emissions per kg'!C102","v":3.7777777777777777},{"$f":"$C$130*'Emissions per kg'!D102","v":9.8000000000000004E-8},{"$f":"$C$130*'Emissions per kg'!E102","v":1.6222222222222223E-8},{"$f":"$C$130*'Emissions per kg'!F102","v":1.2333333333333334E-9},{"$f":"$C$130*'Emissions per kg'!G102","v":1.1555555555555556E-7},{"$f":"$C$130*'Emissions per kg'!H102","v":1.5333333333333334E-2},{"$f":"$C$130*'Emissions per kg'!I102","v":2.4444444444444448E-3},{"$f":"$C$130*'Emissions per kg'!J102","v":1.5666666666666666E-2},{"$f":"$C$130*'Emissions per kg'!K102","v":6.7666666666666667E-2},{"$f":"$C$130*'Emissions per kg'!L102","v":3.4222222222222222E-4},{"$f":"$C$130*'Emissions per kg'!M102","v":3.5555555555555557E-3},{"$f":"$C$130*'Emissions per kg'!N102","v":23.111111111111114},{"$f":"$C$130*'Emissions per kg'!O102","v":358.88888888888891},{"$f":"$C$130*'Emissions per kg'!P102","v":62.333333333333336},{"$f":"$C$130*'Emissions per kg'!Q102","v":6.4},{"$f":"$C$130*'Emissions per kg'!R102","v":7.3666666666666667E-6}]
[null,"processsing",{"$f":"(C132/(1-D131))/(1-D132)","v":1.1111111111111112},{"$f":"Calculation_original!D131","v":0.1},{"$f":"$C$131*'Emissions per kg'!C103","v":0.21444444444444447},{"$f":"$C$131*'Emissions per kg'!D103","v":3.8444444444444447E-8},{"$f":"$C$131*'Emissions per kg'!E103","v":2.3666666666666667E-8},{"$f":"$C$131*'Emissions per kg'!F103","v":1.6000000000000001E-9},{"$f":"$C$131*'Emissions per kg'!G103","v":1.4111111111111111E-8},{"$f":"$C$131*'Emissions per kg'!H103","v":1.9333333333333334E-2},{"$f":"$C$131*'Emissions per kg'!I103","v":1.6333333333333334E-3},{"$f":"$C$131*'Emissions per kg'!J103","v":2.2888888888888894E-3},{"$f":"$C$131*'Emissions per kg'!K103","v":6.000000000000001E-3},{"$f":"$C$131*'Emissions per kg'!L103","v":9.0666666666666674E-6},{"$f":"$C$131*'Emissions per kg'!M103","v":5.4222222222222226E-4},{"$f":"$C$131*'Emissions per kg'!N103","v":0.33333333333333331},{"$f":"$C$131*'Emissions per kg'!O103","v":2.8444444444444446},{"$f":"$C$131*'Emissions per kg'!P103","v":3.6333333333333336E-2},{"$f":"$C$131*'Emissions per kg'!Q103","v":3.7222222222222223},{"$f":"$C$131*'Emissions per kg'!R103","v":4.0888888888888892E-7}]
[null,"packaging",1,{"$f":"Calculation_original!D132","v":0},{"$f":"$C$132*'Emissions per kg'!C104","v":8.7900000000000006E-2},{"$f":"$C$132*'Emissions per kg'!D104","v":2.9899999999999998E-9},{"$f":"$C$132*'Emissions per kg'!E104","v":1.29E-8},{"$f":"$C$132*'Emissions per kg'!F104","v":4.9700000000000004E-10},{"$f":"$C$132*'Emissions per kg'!G104","v":-3.24E-9},{"$f":"$C$132*'Emissions per kg'!H104","v":3.32E-3},{"$f":"$C$132*'Emissions per kg'!I104","v":1.25E-4},{"$f":"$C$132*'Emissions per kg'!J104","v":3.7199999999999999E-4},{"$f":"$C$132*'Emissions per kg'!K104","v":4.2999999999999999E-4},{"$f":"$C$132*'Emissions per kg'!L104","v":3.6399999999999999E-6},{"$f":"$C$132*'Emissions per kg'!M104","v":4.3999999999999999E-5},{"$f":"$C$132*'Emissions per kg'!N104","v":6.4500000000000002E-2},{"$f":"$C$132*'Emissions per kg'!O104","v":-10.9},{"$f":"$C$132*'Emissions per kg'!P104","v":-2.23E-2},{"$f":"$C$132*'Emissions per kg'!Q104","v":1.1200000000000001},{"$f":"$C$132*'Emissions per kg'!R104","v":7.92E-7}]
[null,"retail",0,{"$f":"Calculation_original!D133","v":0.02},{"$f":"$C$133*'Emissions per kg'!C105","v":0},{"$f":"$C$133*'Emissions per kg'!D105","v":0},{"$f":"$C$133*'Emissions per kg'!E105","v":0},{"$f":"$C$133*'Emissions per kg'!F105","v":0},{"$f":"$C$133*'Emissions per kg'!G105","v":0},{"$f":"$C$133*'Emissions per kg'!H105","v":0},{"$f":"$C$133*'Emissions per kg'!I105","v":0},{"$f":"$C$133*'Emissions per kg'!J105","v":0},{"$f":"$C$133*'Emissions per kg'!K105","v":0},{"$f":"$C$133*'Emissions per kg'!L105","v":0},{"$f":"$C$133*'Emissions per kg'!M105","v":0},{"$f":"$C$133*'Emissions per kg'!N105","v":0},{"$f":"$C$133*'Emissions per kg'!O105","v":0},{"$f":"$C$133*'Emissions per kg'!P105","v":0},{"$f":"$C$133*'Emissions per kg'!Q105","v":0},{"$f":"$C$133*'Emissions per kg'!R105","v":0}]
[null,"use ",0,{"$f":"Calculation_original!D134","v":0.25},{"$f":"$C$134*'Emissions per kg'!C106","v":0},{"$f":"$C$134*'Emissions per kg'!D106","v":0},{"$f":"$C$134*'Emissions per kg'!E106","v":0},{"$f":"$C$134*'Emissions per kg'!F106","v":0},{"$f":"$C$134*'Emissions per kg'!G106","v":0},{"$f":"$C$134*'Emissions per kg'!H106","v":0},{"$f":"$C$134*'Emissions per kg'!I106","v":0},{"$f":"$C$134*'Emissions per kg'!J106","v":0},{"$f":"$C$134*'Emissions per kg'!K106","v":0},{"$f":"$C$134*'Emissions per kg'!L106","v":0},{"$f":"$C$134*'Emissions per kg'!M106","v":0},{"$f":"$C$134*'Emissions per kg'!N106","v":0},{"$f":"$C$134*'Emissions per kg'!O106","v":0},{"$f":"$C$134*'Emissions per kg'!P106","v":0},{"$f":"$C$134*'Emissions per kg'!Q106","v":0},{"$f":"$C$134*'Emissions per kg'!R106","v":0}]
[null,"end of life P&R",{"$f":"D131*C131+D133*C133+C132*D132+C130*D130","v":0.11111111111111112},null,{"$f":"$C$135*'EoL emissions'!B4","v":3.7595019916109543E-2},{"$f":"$C$135*'EoL emissions'!C4","v":4.4986397068133636E-10},{"$f":"$C$135*'EoL emissions'!D4","v":4.1718165620632508E-8},{"$f":"$C$135*'EoL emissions'!E4","v":1.6686839645666164E-9},{"$f":"$C$135*'EoL emissions'!F4","v":8.5059087229929451E-10},{"$f":"$C$135*'EoL emissions'!G4","v":2.8485479809382298E-4},{"$f":"$C$135*'EoL emissions'!H4","v":5.0365827784418509E-5},{"$f":"$C$135*'EoL emissions'!I4","v":1.3345246989494313E-4},{"$f":"$C$135*'EoL emissions'!J4","v":5.3968500183484817E-4},{"$f":"$C$135*'EoL emissions'!K4","v":1.0623448411689536E-5},{"$f":"$C$135*'EoL emissions'!L4","v":6.0977871723695123E-5},{"$f":"$C$135*'EoL emissions'!M4","v":2.9498298101158822},{"$f":"$C$135*'EoL emissions'!N4","v":0.15246732891473791},{"$f":"$C$135*'EoL emissions'!O4","v":1.4765451182195248E-3},{"$f":"$C$135*'EoL emissions'!P4","v":-2.7126033414203672E-2},{"$f":"$C$135*'EoL emissions'!Q4","v":-2.0589837761547969E-9}]
[null,"end of life HH",{"$f":"D134*C134","v":0},null,{"$f":"$C$136*'EoL emissions'!B5","v":0},{"$f":"$C$136*'EoL emissions'!C5","v":0},{"$f":"$C$136*'EoL emissions'!D5","v":0},{"$f":"$C$136*'EoL emissions'!E5","v":0},{"$f":"$C$136*'EoL emissions'!F5","v":0},{"$f":"$C$136*'EoL emissions'!G5","v":0},{"$f":"$C$136*'EoL emissions'!H5","v":0},{"$f":"$C$136*'EoL emissions'!I5","v":0},{"$f":"$C$136*'EoL emissions'!J5","v":0},{"$f":"$C$136*'EoL emissions'!K5","v":0},{"$f":"$C$136*'EoL emissions'!L5","v":0},{"$f":"$C$136*'EoL emissions'!M5","v":0},{"$f":"$C$136*'EoL emissions'!N5","v":0},{"$f":"$C$136*'EoL emissions'!O5","v":0},{"$f":"$C$136*'EoL emissions'!P5","v":0},{"$f":"$C$136*'EoL emissions'!Q5","v":0}]
["RICE",null,null,null,{"$f":"SUM(E130:E136)","v":4.1177172421383315},{"$f":"SUM(F130:F136)","v":1.3988430841512581E-7},9.4507054509521404E-8,4.9990172978999501E-9,1.2727725753896597E-7,3.827152146476049E-2,4.2531436055621968E-3,1.8461008025450497E-2,7.4636351668501522E-2,3.6555233730057842E-4,4.2027556495014733E-3,26.458774254560328,350.9858006622481,62.348843211784889,11.215096188808021,8.5654965717793998E-6]
["Vegetables","TOMATOES"]
[null,"agriculture ",{"$f":"C140/(1-D139)","v":1.0526315789473684},{"$f":"Calculation_original!D139","v":0},{"$f":"$C$139*'Emissions per kg'!C109","v":0.13894736842105262},{"$f":"$C$139*'Emissions per kg'!D109","v":4.2315789473684209E-9},{"$f":"$C$139*'Emissions per kg'!E109","v":9.0526315789473668E-9},{"$f":"$C$139*'Emissions per kg'!F109","v":5.9684210526315784E-10},{"$f":"$C$139*'Emissions per kg'!G109","v":1.8315789473684209E-8},{"$f":"$C$139*'Emissions per kg'!H109","v":4.5684210526315784E-3},{"$f":"$C$139*'Emissions per kg'!I109","v":2.7473684210526316E-4},{"$f":"$C$139*'Emissions per kg'!J109","v":2.6421052631578948E-3},{"$f":"$C$139*'Emissions per kg'!K109","v":1.0736842105263157E-2},{"$f":"$C$139*'Emissions per kg'!L109","v":1.6315789473684211E-4},{"$f":"$C$139*'Emissions per kg'!M109","v":4.8210526315789471E-4},{"$f":"$C$139*'Emissions per kg'!N109","v":3.0105263157894733},{"$f":"$C$139*'Emissions per kg'!O109","v":8.8947368421052619},{"$f":"$C$139*'Emissions per kg'!P109","v":1.3789473684210527},{"$f":"$C$139*'Emissions per kg'!Q109","v":1.9578947368421054},{"$f":"$C$139*'Emissions per kg'!R109","v":3.4421052631578943E-7}]
[null,"processsing",{"$f":"(C141/(1-D140))/(1-D141)","v":1.0526315789473684},{"$f":"Calculation_original!D140","v":0.05},{"$f":"$C$140*'Emissions per kg'!C110","v":8.6631578947368421E-2},{"$f":"$C$140*'Emissions per kg'!D110","v":1.6947368421052632E-6},{"$f":"$C$140*'Emissions per kg'!E110","v":2.5473684210526312E-9},{"$f":"$C$140*'Emissions per kg'!F110","v":1.757894736842105E-10},{"$f":"$C$140*'Emissions per kg'!G110","v":1.4421052631578946E-9},{"$f":"$C$140*'Emissions per kg'!H110","v":2.0631578947368418E-3},{"$f":"$C$140*'Emissions per kg'!I110","v":1.2631578947368421E-4},{"$f":"$C$140*'Emissions per kg'!J110","v":1.7052631578947367E-4},{"$f":"$C$140*'Emissions per kg'!K110","v":4.526315789473684E-4},{"$f":"$C$140*'Emissions per kg'!L110","v":1.126315789473684E-6},{"$f":"$C$140*'Emissions per kg'!M110","v":4.1157894736842104E-5},{"$f":"$C$140*'Emissions per kg'!N110","v":3.3578947368421048E-2},{"$f":"$C$140*'Emissions per kg'!O110","v":0.31473684210526315},{"$f":"$C$140*'Emissions per kg'!P110","v":4.6210526315789468E-3},{"$f":"$C$140*'Emissions per kg'!Q110","v":0.38736842105263153},{"$f":"$C$140*'Emissions per kg'!R110","v":5.6421052631578943E-8}]
[null,"packaging",1,{"$f":"Calculation_original!D141","v":0},{"$f":"$C$141*'Emissions per kg'!C111","v":7.6799999999999993E-2},{"$f":"$C$141*'Emissions per kg'!D111","v":2.4E-9},{"$f":"$C$141*'Emissions per kg'!E111","v":1.63E-8},{"$f":"$C$141*'Emissions per kg'!F111","v":7.79E-10},{"$f":"$C$141*'Emissions per kg'!G111","v":-1.16E-8},{"$f":"$C$141*'Emissions per kg'!H111","v":1.6199999999999999E-3},{"$f":"$C$141*'Emissions per kg'!I111","v":2.19E-5},{"$f":"$C$141*'Emissions per kg'!J111","v":1.3899999999999999E-4},{"$f":"$C$141*'Emissions per kg'!K111","v":1.6000000000000001E-4},{"$f":"$C$141*'Emissions per kg'!L111","v":3.4999999999999999E-6},{"$f":"$C$141*'Emissions per kg'!M111","v":5.91E-5},{"$f":"$C$141*'Emissions per kg'!N111","v":0.10299999999999999},{"$f":"$C$141*'Emissions per kg'!O111","v":-23.4},{"$f":"$C$141*'Emissions per kg'!P111","v":-8.3699999999999997E-2},{"$f":"$C$141*'Emissions per kg'!Q111","v":1.03},{"$f":"$C$141*'Emissions per kg'!R111","v":1.5999999999999999E-6}]
[null,"retail",0,{"$f":"Calculation_original!D142","v":0.1},{"$f":"$C$142*'Emissions per kg'!C112","v":0},{"$f":"$C$142*'Emissions per kg'!D112","v":0},{"$f":"$C$142*'Emissions per kg'!E112","v":0},{"$f":"$C$142*'Emissions per kg'!F112","v":0},{"$f":"$C$142*'Emissions per kg'!G112","v":0},{"$f":"$C$142*'Emissions per kg'!H112","v":0},{"$f":"$C$142*'Emissions per kg'!I112","v":0},{"$f":"$C$142*'Emissions per kg'!J112","v":0},{"$f":"$C$142*'Emissions per kg'!K112","v":0},{"$f":"$C$142*'Emissions per kg'!L112","v":0},{"$f":"$C$142*'Emissions per kg'!M112","v":0},{"$f":"$C$142*'Emissions per kg'!N112","v":0},{"$f":"$C$142*'Emissions per kg'!O112","v":0},{"$f":"$C$142*'Emissions per kg'!P112","v":0},{"$f":"$C$142*'Emissions per kg'!Q112","v":0},{"$f":"$C$142*'Emissions per kg'!R112","v":0}]
[null,"use ",0,{"$f":"Calculation_original!D143","v":0.19},{"$f":"$C$143*'Emissions per kg'!C113","v":0},{"$f":"$C$143*'Emissions per kg'!D113","v":0},{"$f":"$C$143*'Emissions per kg'!E113","v":0},{"$f":"$C$143*'Emissions per kg'!F113","v":0},{"$f":"$C$143*'Emissions per kg'!G113","v":0},{"$f":"$C$143*'Emissions per kg'!H113","v":0},{"$f":"$C$143*'Emissions per kg'!I113","v":0},{"$f":"$C$143*'Emissions per kg'!J113","v":0},{"$f":"$C$143*'Emissions per kg'!K113","v":0},{"$f":"$C$143*'Emissions per kg'!L113","v":0},{"$f":"$C$143*'Emissions per kg'!M113","v":0},{"$f":"$C$143*'Emissions per kg'!N113","v":0},{"$f":"$C$143*'Emissions per kg'!O113","v":0},{"$f":"$C$143*'Emissions per kg'!P113","v":0},{"$f":"$C$143*'Emissions per kg'!Q113","v":0},{"$f":"$C$143*'Emissions per kg'!R113","v":0}]
[null,"end of life P&R",{"$f":"D140*C140+D142*C142+C141*D141+C139*D139","v":5.2631578947368418E-2},null,{"$f":"$C$144*'EoL emissions'!B4","v":1.7808167328683466E-2},{"$f":"$C$144*'EoL emissions'!C4","v":2.1309345979642244E-10},{"$f":"$C$144*'EoL emissions'!D4","v":1.9761236346615394E-8},{"$f":"$C$144*'EoL emissions'!E4","v":7.9042924637366025E-10},{"$f":"$C$144*'EoL emissions'!F4","v":4.0291146582598153E-10},{"$f":"$C$144*'EoL emissions'!G4","v":1.3493122014970562E-4},{"$f":"$C$144*'EoL emissions'!H4","v":2.3857497371566657E-5},{"$f":"$C$144*'EoL emissions'!I4","v":6.3214327844973061E-5},{"$f":"$C$144*'EoL emissions'!J4","v":2.5564026402703332E-4},{"$f":"$C$144*'EoL emissions'!K4","v":5.0321597739582005E-6},{"$f":"$C$144*'EoL emissions'!L4","v":2.8884255027013477E-5},{"$f":"$C$144*'EoL emissions'!M4","v":1.3972878047917334},{"$f":"$C$144*'EoL emissions'!N4","v":7.2221366328033734E-2},{"$f":"$C$144*'EoL emissions'!O4","v":6.9941610863030117E-4},{"$f":"$C$144*'EoL emissions'!P4","v":-1.2849173722517529E-2},{"$f":"$C$144*'EoL emissions'!Q4","v":-9.7530810449437732E-10}]
[null,"end of life HH",{"$f":"D143*C143","v":0},null,{"$f":"$C$145*'EoL emissions'!B5","v":0},{"$f":"$C$145*'EoL emissions'!C5","v":0},{"$f":"$C$145*'EoL emissions'!D5","v":0},{"$f":"$C$145*'EoL emissions'!E5","v":0},{"$f":"$C$145*'EoL emissions'!F5","v":0},{"$f":"$C$145*'EoL emissions'!G5","v":0},{"$f":"$C$145*'EoL emissions'!H5","v":0},{"$f":"$C$145*'EoL emissions'!I5","v":0},{"$f":"$C$145*'EoL emissions'!J5","v":0},{"$f":"$C$145*'EoL emissions'!K5","v":0},{"$f":"$C$145*'EoL emissions'!L5","v":0},{"$f":"$C$145*'EoL emissions'!M5","v":0},{"$f":"$C$145*'EoL emissions'!N5","v":0},{"$f":"$C$145*'EoL emissions'!O5","v":0},{"$f":"$C$145*'EoL emissions'!P5","v":0},{"$f":"$C$145*'EoL emissions'!Q5","v":0}]
["TOMATOES",null,null,null,{"$f":"SUM(E139:E145)","v":0.32018711469710448},{"$f":"SUM(F139:F145)","v":1.7015815145124278E-6},4.7661236346615393E-8,2.3420608253210287E-9,8.5608062026680851E-9,8.3865101675181259E-3,4.4681012895051402E-4,3.0148459067923417E-3,1.1605113948237558E-2,1.7281637030027399E-4,6.1124741292175027E-4,4.5443930679496276,-14.118304949461439,1.3005678371612617,3.3624139841722194,1.9996562708428737E-6]
["Tubers","POTATOES"]
[null,"agriculture ",{"$f":"C149/(1-D148)","v":1},{"$f":"Calculation_original!D148","v":0},{"$f":"$C$148*'Emissions per kg'!C116","v":9.5600000000000004E-2},{"$f":"$C$148*'Emissions per kg'!D116","v":3.8199999999999996E-9},{"$f":"$C$148*'Emissions per kg'!E116","v":7.8299999999999996E-7},{"$f":"$C$148*'Emissions per kg'!F116","v":7.0100000000000004E-9},{"$f":"$C$148*'Emissions per kg'!G116","v":2.6000000000000001E-8},{"$f":"$C$148*'Emissions per kg'!H116","v":3.13E-3},{"$f":"$C$148*'Emissions per kg'!I116","v":2.9300000000000002E-4},{"$f":"$C$148*'Emissions per kg'!J116","v":3.5699999999999998E-3},{"$f":"$C$148*'Emissions per kg'!K116","v":1.55E-2},{"$f":"$C$148*'Emissions per kg'!L116","v":8.7000000000000001E-5},{"$f":"$C$148*'Emissions per kg'!M116","v":1.8500000000000001E-3},{"$f":"$C$148*'Emissions per kg'!N116","v":0.97399999999999998},{"$f":"$C$148*'Emissions per kg'!O116","v":31.7},{"$f":"$C$148*'Emissions per kg'!P116","v":1.9800000000000002E-2},{"$f":"$C$148*'Emissions per kg'!Q116","v":0.997},{"$f":"$C$148*'Emissions per kg'!R116","v":2.6100000000000002E-7}]
[null,"processsing",{"$f":"(C150/(1-D149))/(1-D150)","v":1},{"$f":"Calculation_original!D149","v":0},{"$f":"$C$149*'Emissions per kg'!C117","v":0.14499999999999999},{"$f":"$C$149*'Emissions per kg'!D117","v":1.53E-6},{"$f":"$C$149*'Emissions per kg'!E117","v":5.0600000000000003E-9},{"$f":"$C$149*'Emissions per kg'!F117","v":5.8900000000000003E-10},{"$f":"$C$149*'Emissions per kg'!G117","v":1.9399999999999999E-9},{"$f":"$C$149*'Emissions per kg'!H117","v":7.8799999999999999E-3},{"$f":"$C$149*'Emissions per kg'!I117","v":1.65E-4},{"$f":"$C$149*'Emissions per kg'!J117","v":4.3800000000000002E-4},{"$f":"$C$149*'Emissions per kg'!K117","v":7.2599999999999997E-4},{"$f":"$C$149*'Emissions per kg'!L117","v":7.3799999999999996E-6},{"$f":"$C$149*'Emissions per kg'!M117","v":6.1400000000000002E-5},{"$f":"$C$149*'Emissions per kg'!N117","v":5.9700000000000003E-2},{"$f":"$C$149*'Emissions per kg'!O117","v":0.71599999999999997},{"$f":"$C$149*'Emissions per kg'!P117","v":1.67E-2},{"$f":"$C$149*'Emissions per kg'!Q117","v":1.52},{"$f":"$C$149*'Emissions per kg'!R117","v":1.4500000000000001E-6}]
[null,"packaging",1,{"$f":"Calculation_original!D150","v":0},{"$f":"$C$150*'Emissions per kg'!C118","v":5.1999999999999998E-2},{"$f":"$C$150*'Emissions per kg'!D118","v":1.4699999999999999E-8},{"$f":"$C$150*'Emissions per kg'!E118","v":4.25E-9},{"$f":"$C$150*'Emissions per kg'!F118","v":8.2900000000000003E-10},{"$f":"$C$150*'Emissions per kg'!G118","v":3.7900000000000004E-9},{"$f":"$C$150*'Emissions per kg'!H118","v":1.7600000000000001E-3},{"$f":"$C$150*'Emissions per kg'!I118","v":1.36E-4},{"$f":"$C$150*'Emissions per kg'!J118","v":3.0699999999999998E-4},{"$f":"$C$150*'Emissions per kg'!K118","v":5.2599999999999999E-4},{"$f":"$C$150*'Emissions per kg'!L118","v":2.7599999999999998E-6},{"$f":"$C$150*'Emissions per kg'!M118","v":4.9599999999999999E-5},{"$f":"$C$150*'Emissions per kg'!N118","v":3.6900000000000002E-2},{"$f":"$C$150*'Emissions per kg'!O118","v":1.2},{"$f":"$C$150*'Emissions per kg'!P118","v":3.7499999999999999E-2},{"$f":"$C$150*'Emissions per kg'!Q118","v":0.67},{"$f":"$C$150*'Emissions per kg'!R118","v":8.6099999999999999E-7}]
[null,"retail",0,{"$f":"Calculation_original!D151","v":7.0000000000000007E-2},{"$f":"$C$151*'Emissions per kg'!C119","v":0},{"$f":"$C$151*'Emissions per kg'!D119","v":0},{"$f":"$C$151*'Emissions per kg'!E119","v":0},{"$f":"$C$151*'Emissions per kg'!F119","v":0},{"$f":"$C$151*'Emissions per kg'!G119","v":0},{"$f":"$C$151*'Emissions per kg'!H119","v":0},{"$f":"$C$151*'Emissions per kg'!I119","v":0},{"$f":"$C$151*'Emissions per kg'!J119","v":0},{"$f":"$C$151*'Emissions per kg'!K119","v":0},{"$f":"$C$151*'Emissions per kg'!L119","v":0},{"$f":"$C$151*'Emissions per kg'!M119","v":0},{"$f":"$C$151*'Emissions per kg'!N119","v":0},{"$f":"$C$151*'Emissions per kg'!O119","v":0},{"$f":"$C$151*'Emissions per kg'!P119","v":0},{"$f":"$C$151*'Emissions per kg'!Q119","v":0},{"$f":"$C$151*'Emissions per kg'!R119","v":0}]
[null,"use ",0,{"$f":"Calculation_original!D152","v":0.17},{"$f":"$C$152*'Emissions per kg'!C120","v":0},{"$f":"$C$152*'Emissions per kg'!D120","v":0},{"$f":"$C$152*'Emissions per kg'!E120","v":0},{"$f":"$C$152*'Emissions per kg'!F120","v":0},{"$f":"$C$152*'Emissions per kg'!G120","v":0},{"$f":"$C$152*'Emissions per kg'!H120","v":0},{"$f":"$C$152*'Emissions per kg'!I120","v":0},{"$f":"$C$152*'Emissions per kg'!J120","v":0},{"$f":"$C$152*'Emissions per kg'!K120","v":0},{"$f":"$C$152*'Emissions per kg'!L120","v":0},{"$f":"$C$152*'Emissions per kg'!M120","v":0},{"$f":"$C$152*'Emissions per kg'!N120","v":0},{"$f":"$C$152*'Emissions per kg'!O120","v":0},{"$f":"$C$152*'Emissions per kg'!P120","v":0},{"$f":"$C$152*'Emissions per kg'!Q120","v":0},{"$f":"$C$152*'Emissions per kg'!R120","v":0}]
[null,"end of life P&R",{"$f":"D149*C149+D151*C151+C150*D150+C148*D148","v":0},null,{"$f":"$C$153*'EoL emissions'!B4","v":0},{"$f":"$C$153*'EoL emissions'!C4","v":0},{"$f":"$C$153*'EoL emissions'!D4","v":0},{"$f":"$C$153*'EoL emissions'!E4","v":0},{"$f":"$C$153*'EoL emissions'!F4","v":0},{"$f":"$C$153*'EoL emissions'!G4","v":0},{"$f":"$C$153*'EoL emissions'!H4","v":0},{"$f":"$C$153*'EoL emissions'!I4","v":0},{"$f":"$C$153*'EoL emissions'!J4","v":0},{"$f":"$C$153*'EoL emissions'!K4","v":0},{"$f":"$C$153*'EoL emissions'!L4","v":0},{"$f":"$C$153*'EoL emissions'!M4","v":0},{"$f":"$C$153*'EoL emissions'!N4","v":0},{"$f":"$C$153*'EoL emissions'!O4","v":0},{"$f":"$C$153*'EoL emissions'!P4","v":0},{"$f":"$C$153*'EoL emissions'!Q4","v":0}]
[null,"end of life HH",{"$f":"D152*C152","v":0},null,{"$f":"$C$154*'EoL emissions'!B5","v":0},{"$f":"$C$154*'EoL emissions'!C5","v":0},{"$f":"$C$154*'EoL emissions'!D5","v":0},{"$f":"$C$154*'EoL emissions'!E5","v":0},{"$f":"$C$154*'EoL emissions'!F5","v":0},{"$f":"$C$154*'EoL emissions'!G5","v":0},{"$f":"$C$154*'EoL emissions'!H5","v":0},{"$f":"$C$154*'EoL emissions'!I5","v":0},{"$f":"$C$154*'EoL emissions'!J5","v":0},{"$f":"$C$154*'EoL emissions'!K5","v":0},{"$f":"$C$154*'EoL emissions'!L5","v":0},{"$f":"$C$154*'EoL emissions'!M5","v":0},{"$f":"$C$154*'EoL emissions'!N5","v":0},{"$f":"$C$154*'EoL emissions'!O5","v":0},{"$f":"$C$154*'EoL emissions'!P5","v":0},{"$f":"$C$154*'EoL emissions'!Q5","v":0}]
["POTATOES",null,null,null,{"$f":"SUM(E148:E154)","v":0.29259999999999997},{"$f":"SUM(F148:F154)","v":1.54852E-6},7.9230999999999998E-7,8.4280000000000011E-9,3.173E-8,1.2769999999999998E-2,5.9400000000000002E-4,4.3149999999999994E-3,1.6752E-2,9.7139999999999995E-5,1.9610000000000001E-3,1.0706,33.616,7.400000000000001E-2,3.1869999999999998,2.5720000000000001E-6]
["Oils","SUNFLOWER OIL"]
[null,"agriculture ",{"$f":"C158/(1-D157)","v":1.1820330969267139},{"$f":"Calculation_original!D157","v":0.1},{"$f":"$C$157*'Emissions per kg'!C123","v":6.1465721040189125},{"$f":"$C$157*'Emissions per kg'!D123","v":2.7777777777777776E-7},{"$f":"$C$157*'Emissions per kg'!E123","v":1.7139479905437353E-5},{"$f":"$C$157*'Emissions per kg'!F123","v":4.3853427895981084E-7},{"$f":"$C$157*'Emissions per kg'!G123","v":3.2033096926713945E-7},{"$f":"$C$157*'Emissions per kg'!H123","v":9.5981087470449158E-2},{"$f":"$C$157*'Emissions per kg'!I123","v":1.3002364066193851E-2},{"$f":"$C$157*'Emissions per kg'!J123","v":3.7115839243498816E-2},{"$f":"$C$157*'Emissions per kg'!K123","v":0.15484633569739953},{"$f":"$C$157*'Emissions per kg'!L123","v":3.6643026004728129E-3},{"$f":"$C$157*'Emissions per kg'!M123","v":7.9432624113475167E-2},{"$f":"$C$157*'Emissions per kg'!N123","v":53.07328605200945},{"$f":"$C$157*'Emissions per kg'!O123","v":3806.1465721040186},{"$f":"$C$157*'Emissions per kg'!P123","v":2.8250591016548463},{"$f":"$C$157*'Emissions per kg'!Q123","v":41.134751773049636},{"$f":"$C$157*'Emissions per kg'!R123","v":2.151300236406619E-5}]
[null,"processsing",{"$f":"(C159/(1-D158))/(1-D159)","v":1.0638297872340425},{"$f":"Calculation_original!D158","v":0.06},{"$f":"$C$158*'Emissions per kg'!C124","v":1.1702127659574468},{"$f":"$C$158*'Emissions per kg'!D124","v":8.648936170212766E-9},{"$f":"$C$158*'Emissions per kg'!E124","v":7.1914893617021276E-9},{"$f":"$C$158*'Emissions per kg'!F124","v":1.0638297872340426E-9},{"$f":"$C$158*'Emissions per kg'!G124","v":1.3510638297872339E-8},{"$f":"$C$158*'Emissions per kg'!H124","v":1.2127659574468085E-2},{"$f":"$C$158*'Emissions per kg'!I124","v":4.7021276595744683E-3},{"$f":"$C$158*'Emissions per kg'!J124","v":2.372340425531915E-3},{"$f":"$C$158*'Emissions per kg'!K124","v":7.8297872340425539E-3},{"$f":"$C$158*'Emissions per kg'!L124","v":2.9255319148936172E-4},{"$f":"$C$158*'Emissions per kg'!M124","v":1.1808510638297873E-3},{"$f":"$C$158*'Emissions per kg'!N124","v":8.6702127659574468E-2},{"$f":"$C$158*'Emissions per kg'!O124","v":0.45744680851063829},{"$f":"$C$158*'Emissions per kg'!P124","v":3.5957446808510637E-2},{"$f":"$C$158*'Emissions per kg'!Q124","v":7.7234042553191484},{"$f":"$C$158*'Emissions per kg'!R124","v":1.074468085106383E-7}]
[null,"packaging",1,{"$f":"Calculation_original!D159","v":0},{"$f":"$C$159*'Emissions per kg'!C125","v":0.152},{"$f":"$C$159*'Emissions per kg'!D125","v":1.28E-8},{"$f":"$C$159*'Emissions per kg'!E125","v":1.7500000000000001E-8},{"$f":"$C$159*'Emissions per kg'!F125","v":2.0599999999999999E-9},{"$f":"$C$159*'Emissions per kg'!G125","v":1.19E-9},{"$f":"$C$159*'Emissions per kg'!H125","v":1.2E-2},{"$f":"$C$159*'Emissions per kg'!I125","v":1.63E-4},{"$f":"$C$159*'Emissions per kg'!J125","v":6.5700000000000003E-4},{"$f":"$C$159*'Emissions per kg'!K125","v":9.7499999999999996E-4},{"$f":"$C$159*'Emissions per kg'!L125","v":1.26E-5},{"$f":"$C$159*'Emissions per kg'!M125","v":1.02E-4},{"$f":"$C$159*'Emissions per kg'!N125","v":0.126},{"$f":"$C$159*'Emissions per kg'!O125","v":-2.92},{"$f":"$C$159*'Emissions per kg'!P125","v":0.127},{"$f":"$C$159*'Emissions per kg'!Q125","v":1.63},{"$f":"$C$159*'Emissions per kg'!R125","v":1.0699999999999999E-6}]
[null,"retail",0,{"$f":"Calculation_original!D160","v":0.01},{"$f":"$C$160*'Emissions per kg'!C126","v":0},{"$f":"$C$160*'Emissions per kg'!D126","v":0},{"$f":"$C$160*'Emissions per kg'!E126","v":0},{"$f":"$C$160*'Emissions per kg'!F126","v":0},{"$f":"$C$160*'Emissions per kg'!G126","v":0},{"$f":"$C$160*'Emissions per kg'!H126","v":0},{"$f":"$C$160*'Emissions per kg'!I126","v":0},{"$f":"$C$160*'Emissions per kg'!J126","v":0},{"$f":"$C$160*'Emissions per kg'!K126","v":0},{"$f":"$C$160*'Emissions per kg'!L126","v":0},{"$f":"$C$160*'Emissions per kg'!M126","v":0},{"$f":"$C$160*'Emissions per kg'!N126","v":0},{"$f":"$C$160*'Emissions per kg'!O126","v":0},{"$f":"$C$160*'Emissions per kg'!P126","v":0},{"$f":"$C$160*'Emissions per kg'!Q126","v":0},{"$f":"$C$160*'Emissions per kg'!R126","v":0}]
[null,"use ",0,{"$f":"Calculation_original!D161","v":0.04},{"$f":"$C$161*'Emissions per kg'!C127","v":0},{"$f":"$C$161*'Emissions per kg'!D127","v":0},{"$f":"$C$161*'Emissions per kg'!E127","v":0},{"$f":"$C$161*'Emissions per kg'!F127","v":0},{"$f":"$C$161*'Emissions per kg'!G127","v":0},{"$f":"$C$161*'Emissions per kg'!H127","v":0},{"$f":"$C$161*'Emissions per kg'!I127","v":0},{"$f":"$C$161*'Emissions per kg'!J127","v":0},{"$f":"$C$161*'Emissions per kg'!K127","v":0},{"$f":"$C$161*'Emissions per kg'!L127","v":0},{"$f":"$C$161*'Emissions per kg'!M127","v":0},{"$f":"$C$161*'Emissions per kg'!N127","v":0},{"$f":"$C$161*'Emissions per kg'!O127","v":0},{"$f":"$C$161*'Emissions per kg'!P127","v":0},{"$f":"$C$161*'Emissions per kg'!Q127","v":0},{"$f":"$C$161*'Emissions per kg'!R127","v":0}]
[null,"end of life P&R",{"$f":"D158*C158+D160*C160+C159*D159+C157*D157","v":0.18203309692671393},null,{"$f":"$C$162*'EoL emissions'!B4","v":6.1591841139158179E-2},{"$f":"$C$162*'EoL emissions'!C4","v":7.370111860098488E-10},{"$f":"$C$162*'EoL emissions'!D4","v":6.8346781974227712E-8},{"$f":"$C$162*'EoL emissions'!E4","v":2.7338013887580731E-9},{"$f":"$C$162*'EoL emissions'!F4","v":1.3935212163201206E-9},{"$f":"$C$162*'EoL emissions'!G4","v":4.6667700964307164E-4},{"$f":"$C$162*'EoL emissions'!H4","v":8.2514228497877117E-5},{"$f":"$C$162*'EoL emissions'!I4","v":2.1863489748746E-4},{"$f":"$C$162*'EoL emissions'!J4","v":8.8416479024007032E-4},{"$f":"$C$162*'EoL emissions'!K4","v":1.7404372929789237E-5},{"$f":"$C$162*'EoL emissions'!L4","v":9.989991750477711E-5},{"$f":"$C$162*'EoL emissions'!M4","v":4.8326999016792103},{"$f":"$C$162*'EoL emissions'!N4","v":0.2497869005624429},{"$f":"$C$162*'EoL emissions'!O4","v":2.4190207255936893E-3},{"$f":"$C$162*'EoL emissions'!P4","v":-4.4440522827525163E-2},{"$f":"$C$162*'EoL emissions'!Q4","v":-3.3732287396578584E-9}]
[null,"end of life HH",{"$f":"D161*C161","v":0},null,{"$f":"$C$163*'EoL emissions'!B5","v":0},{"$f":"$C$163*'EoL emissions'!C5","v":0},{"$f":"$C$163*'EoL emissions'!D5","v":0},{"$f":"$C$163*'EoL emissions'!E5","v":0},{"$f":"$C$163*'EoL emissions'!F5","v":0},{"$f":"$C$163*'EoL emissions'!G5","v":0},{"$f":"$C$163*'EoL emissions'!H5","v":0},{"$f":"$C$163*'EoL emissions'!I5","v":0},{"$f":"$C$163*'EoL emissions'!J5","v":0},{"$f":"$C$163*'EoL emissions'!K5","v":0},{"$f":"$C$163*'EoL emissions'!L5","v":0},{"$f":"$C$163*'EoL emissions'!M5","v":0},{"$f":"$C$163*'EoL emissions'!N5","v":0},{"$f":"$C$163*'EoL emissions'!O5","v":0},{"$f":"$C$163*'EoL emissions'!P5","v":0},{"$f":"$C$163*'EoL emissions'!Q5","v":0}]
["SUNFLOWER OIL",null,null,null,{"$f":"SUM(E157:E163)","v":7.530376711115518},{"$f":"SUM(F157:F163)","v":2.9996372513400041E-7},1.7232518176773283E-5,4.4439191013580296E-7,3.3642512878133195E-7,0.12057542405456032,1.7950005954266195E-2,4.0363814566518191E-2,0.16453528772168213,3.986860164891963E-3,8.0815375094809738E-2,58.118688081348239,3803.9338058130916,2.9904355691889504,50.443715505541256,2.2687075943837168E-5]
["Oils","OLIVE OIL"]
[null,"agriculture ",{"$f":"C167/(1-D166)","v":1},{"$f":"Calculation_original!D166","v":0},{"$f":"$C$166*'Emissions per kg'!C130","v":1.1200000000000001},{"$f":"$C$166*'Emissions per kg'!D130","v":8.7999999999999994E-8},{"$f":"$C$166*'Emissions per kg'!E130","v":2.23E-7},{"$f":"$C$166*'Emissions per kg'!F130","v":7.8000000000000004E-9},{"$f":"$C$166*'Emissions per kg'!G130","v":1.2700000000000001E-7},{"$f":"$C$166*'Emissions per kg'!H130","v":6.2399999999999997E-2},{"$f":"$C$166*'Emissions per kg'!I130","v":5.4999999999999997E-3},{"$f":"$C$166*'Emissions per kg'!J130","v":1.7299999999999999E-2},{"$f":"$C$166*'Emissions per kg'!K130","v":6.4799999999999996E-2},{"$f":"$C$166*'Emissions per kg'!L130","v":2.42E-4},{"$f":"$C$166*'Emissions per kg'!M130","v":1.01E-2},{"$f":"$C$166*'Emissions per kg'!N130","v":4.16},{"$f":"$C$166*'Emissions per kg'!O130","v":1160},{"$f":"$C$166*'Emissions per kg'!P130","v":26.3},{"$f":"$C$166*'Emissions per kg'!Q130","v":15.8},{"$f":"$C$166*'Emissions per kg'!R130","v":6.8800000000000002E-6}]
[null,"processsing",{"$f":"(C168/(1-D167))/(1-D168)","v":1},{"$f":"Calculation_original!D167","v":0},{"$f":"$C$167*'Emissions per kg'!C131","v":0.16300000000000001},{"$f":"$C$167*'Emissions per kg'!D131","v":1.7199999999999999E-8},{"$f":"$C$167*'Emissions per kg'!E131","v":1.11E-8},{"$f":"$C$167*'Emissions per kg'!F131","v":1.2199999999999999E-9},{"$f":"$C$167*'Emissions per kg'!G131","v":4.6500000000000003E-9},{"$f":"$C$167*'Emissions per kg'!H131","v":1.49E-2},{"$f":"$C$167*'Emissions per kg'!I131","v":4.6299999999999998E-4},{"$f":"$C$167*'Emissions per kg'!J131","v":8.5899999999999995E-4},{"$f":"$C$167*'Emissions per kg'!K131","v":1.57E-3},{"$f":"$C$167*'Emissions per kg'!L131","v":1.0200000000000001E-5},{"$f":"$C$167*'Emissions per kg'!M131","v":1.4300000000000001E-4},{"$f":"$C$167*'Emissions per kg'!N131","v":9.74E-2},{"$f":"$C$167*'Emissions per kg'!O131","v":1.64},{"$f":"$C$167*'Emissions per kg'!P131","v":0.223},{"$f":"$C$167*'Emissions per kg'!Q131","v":3.23},{"$f":"$C$167*'Emissions per kg'!R131","v":2.6100000000000002E-7}]
[null,"packaging",1,{"$f":"Calculation_original!D168","v":0},{"$f":"$C$168*'Emissions per kg'!C132","v":0.74},{"$f":"$C$168*'Emissions per kg'!D132","v":1.2200000000000001E-7},{"$f":"$C$168*'Emissions per kg'!E132","v":3.6799999999999999E-8},{"$f":"$C$168*'Emissions per kg'!F132","v":2.4E-9},{"$f":"$C$168*'Emissions per kg'!G132","v":2.1999999999999998E-9},{"$f":"$C$168*'Emissions per kg'!H132","v":5.6399999999999999E-2},{"$f":"$C$168*'Emissions per kg'!I132","v":9.9500000000000001E-4},{"$f":"$C$168*'Emissions per kg'!J132","v":1.48E-3},{"$f":"$C$168*'Emissions per kg'!K132","v":1.9E-3},{"$f":"$C$168*'Emissions per kg'!L132","v":1.1199999999999999E-5},{"$f":"$C$168*'Emissions per kg'!M132","v":2.9100000000000003E-4},{"$f":"$C$168*'Emissions per kg'!N132","v":0.30299999999999999},{"$f":"$C$168*'Emissions per kg'!O132","v":-11.7},{"$f":"$C$168*'Emissions per kg'!P132","v":-2.1499999999999998E-2},{"$f":"$C$168*'Emissions per kg'!Q132","v":11.5},{"$f":"$C$168*'Emissions per kg'!R132","v":6.7499999999999997E-6}]
[null,"retail",0,{"$f":"Calculation_original!D169","v":0},{"$f":"$C$169*'Emissions per kg'!C133","v":0},{"$f":"$C$169*'Emissions per kg'!D133","v":0},{"$f":"$C$169*'Emissions per kg'!E133","v":0},{"$f":"$C$169*'Emissions per kg'!F133","v":0},{"$f":"$C$169*'Emissions per kg'!G133","v":0},{"$f":"$C$169*'Emissions per kg'!H133","v":0},{"$f":"$C$169*'Emissions per kg'!I133","v":0},{"$f":"$C$169*'Emissions per kg'!J133","v":0},{"$f":"$C$169*'Emissions per kg'!K133","v":0},{"$f":"$C$169*'Emissions per kg'!L133","v":0},{"$f":"$C$169*'Emissions per kg'!M133","v":0},{"$f":"$C$169*'Emissions per kg'!N133","v":0},{"$f":"$C$169*'Emissions per kg'!O133","v":0},{"$f":"$C$169*'Emissions per kg'!P133","v":0},{"$f":"$C$169*'Emissions per kg'!Q133","v":0},{"$f":"$C$169*'Emissions per kg'!R133","v":0}]
[null,"use ",0,{"$f":"Calculation_original!D170","v":0.13600000000000001},{"$f":"$C$170*'Emissions per kg'!C134","v":0},{"$f":"$C$170*'Emissions per kg'!D134","v":0},{"$f":"$C$170*'Emissions per kg'!E134","v":0},{"$f":"$C$170*'Emissions per kg'!F134","v":0},{"$f":"$C$170*'Emissions per kg'!G134","v":0},{"$f":"$C$170*'Emissions per kg'!H134","v":0},{"$f":"$C$170*'Emissions per kg'!I134","v":0},{"$f":"$C$170*'Emissions per kg'!J134","v":0},{"$f":"$C$170*'Emissions per kg'!K134","v":0},{"$f":"$C$170*'Emissions per kg'!L134","v":0},{"$f":"$C$170*'Emissions per kg'!M134","v":0},{"$f":"$C$170*'Emissions per kg'!N134","v":0},{"$f":"$C$170*'Emissions per kg'!O134","v":0},{"$f":"$C$170*'Emissions per kg'!P134","v":0},{"$f":"$C$170*'Emissions per kg'!Q134","v":0},{"$f":"$C$170*'Emissions per kg'!R134","v":0}]
[null,"end of life P&R",{"$f":"D167*C167+D169*C169+C168*D168+C166*D166","v":0},null,{"$f":"$C$171*'EoL emissions'!B4","v":0},{"$f":"$C$171*'EoL emissions'!C4","v":0},{"$f":"$C$171*'EoL emissions'!D4","v":0},{"$f":"$C$171*'EoL emissions'!E4","v":0},{"$f":"$C$171*'EoL emissions'!F4","v":0},{"$f":"$C$171*'EoL emissions'!G4","v":0},{"$f":"$C$171*'EoL emissions'!H4","v":0},{"$f":"$C$171*'EoL emissions'!I4","v":0},{"$f":"$C$171*'EoL emissions'!J4","v":0},{"$f":"$C$171*'EoL emissions'!K4","v":0},{"$f":"$C$171*'EoL emissions'!L4","v":0},{"$f":"$C$171*'EoL emissions'!M4","v":0},{"$f":"$C$171*'EoL emissions'!N4","v":0},{"$f":"$C$171*'EoL emissions'!O4","v":0},{"$f":"$C$171*'EoL emissions'!P4","v":0},{"$f":"$C$171*'EoL emissions'!Q4","v":0}]
[null,"end of life HH",{"$f":"D170*C170","v":0},null,{"$f":"$C$172*'EoL emissions'!B5","v":0},{"$f":"$C$172*'EoL emissions'!C5","v":0},{"$f":"$C$172*'EoL emissions'!D5","v":0},{"$f":"$C$172*'EoL emissions'!E5","v":0},{"$f":"$C$172*'EoL emissions'!F5","v":0},{"$f":"$C$172*'EoL emissions'!G5","v":0},{"$f":"$C$172*'EoL emissions'!H5","v":0},{"$f":"$C$172*'EoL emissions'!I5","v":0},{"$f":"$C$172*'EoL emissions'!J5","v":0},{"$f":"$C$172*'EoL emissions'!K5","v":0},{"$f":"$C$172*'EoL emissions'!L5","v":0},{"$f":"$C$172*'EoL emissions'!M5","v":0},{"$f":"$C$172*'EoL emissions'!N5","v":0},{"$f":"$C$172*'EoL emissions'!O5","v":0},{"$f":"$C$172*'EoL emissions'!P5","v":0},{"$f":"$C$172*'EoL emissions'!Q5","v":0}]
["OLIVE OIL",null,null,null,{"$f":"SUM(E166:E172)","v":2.0230000000000001},{"$f":"SUM(F166:F172)","v":2.272E-7},2.7090000000000002E-7,1.1420000000000001E-8,1.3385000000000002E-7,0.13369999999999999,6.9579999999999998E-3,1.9638999999999997E-2,6.8269999999999997E-2,2.6340000000000001E-4,1.0534E-2,4.5604000000000005,1149.94,26.5015,30.53,1.3891E-5]
["Fruits","APPLES"]
[null,"agriculture ",{"$f":"C176/(1-D175)","v":1.1764705882352942},{"$f":"Calculation_original!D175","v":0},{"$f":"$C$175*'Emissions per kg'!C137","v":7.9529411764705876E-2},{"$f":"$C$175*'Emissions per kg'!D137","v":2.3294117647058827E-9},{"$f":"$C$175*'Emissions per kg'!E137","v":4.8705882352941181E-9},{"$f":"$C$175*'Emissions per kg'!F137","v":2.2352941176470589E-10},{"$f":"$C$175*'Emissions per kg'!G137","v":1.0800000000000001E-8},{"$f":"$C$175*'Emissions per kg'!H137","v":3.0470588235294118E-3},{"$f":"$C$175*'Emissions per kg'!I137","v":3.6352941176470585E-4},{"$f":"$C$175*'Emissions per kg'!J137","v":1.3176470588235293E-3},{"$f":"$C$175*'Emissions per kg'!K137","v":5.5529411764705886E-3},{"$f":"$C$175*'Emissions per kg'!L137","v":5.9647058823529415E-6},{"$f":"$C$175*'Emissions per kg'!M137","v":8.5176470588235297E-4},{"$f":"$C$175*'Emissions per kg'!N137","v":3.3764705882352946},{"$f":"$C$175*'Emissions per kg'!O137","v":49.294117647058826},{"$f":"$C$175*'Emissions per kg'!P137","v":5.0470588235294116},{"$f":"$C$175*'Emissions per kg'!Q137","v":1.0447058823529412},{"$f":"$C$175*'Emissions per kg'!R137","v":1.4588235294117647E-7}]
[null,"processsing",{"$f":"(C177/(1-D176))/(1-D177)","v":1.1764705882352942},{"$f":"Calculation_original!D176","v":0.15},{"$f":"$C$176*'Emissions per kg'!C138","v":0.78588235294117659},{"$f":"$C$176*'Emissions per kg'!D138","v":1.4941176470588237E-5},{"$f":"$C$176*'Emissions per kg'!E138","v":1.4823529411764707E-8},{"$f":"$C$176*'Emissions per kg'!F138","v":1.5882352941176472E-9},{"$f":"$C$176*'Emissions per kg'!G138","v":5.5411764705882349E-9},{"$f":"$C$176*'Emissions per kg'!H138","v":2.3176470588235295E-2},{"$f":"$C$176*'Emissions per kg'!I138","v":6.2E-4},{"$f":"$C$176*'Emissions per kg'!J138","v":1.2823529411764706E-3},{"$f":"$C$176*'Emissions per kg'!K138","v":2.2117647058823527E-3},{"$f":"$C$176*'Emissions per kg'!L138","v":1.6117647058823529E-5},{"$f":"$C$176*'Emissions per kg'!M138","v":2.011764705882353E-4},{"$f":"$C$176*'Emissions per kg'!N138","v":9.5176470588235293E-2},{"$f":"$C$176*'Emissions per kg'!O138","v":2.1529411764705886},{"$f":"$C$176*'Emissions per kg'!P138","v":4.9176470588235294E-2},{"$f":"$C$176*'Emissions per kg'!Q138","v":3.7294117647058824},{"$f":"$C$176*'Emissions per kg'!R138","v":4.5529411764705885E-7}]
[null,"packaging",1,{"$f":"Calculation_original!D177","v":0},{"$f":"$C$177*'Emissions per kg'!C139","v":4.4799999999999996E-3},{"$f":"$C$177*'Emissions per kg'!D139","v":1.41E-10},{"$f":"$C$177*'Emissions per kg'!E139","v":1.4600000000000001E-10},{"$f":"$C$177*'Emissions per kg'!F139","v":1.33E-11},{"$f":"$C$177*'Emissions per kg'!G139","v":1.09E-10},{"$f":"$C$177*'Emissions per kg'!H139","v":1.07E-4},{"$f":"$C$177*'Emissions per kg'!I139","v":6.2899999999999999E-6},{"$f":"$C$177*'Emissions per kg'!J139","v":1.1600000000000001E-5},{"$f":"$C$177*'Emissions per kg'!K139","v":2.2399999999999999E-5},{"$f":"$C$177*'Emissions per kg'!L139","v":9.5700000000000003E-8},{"$f":"$C$177*'Emissions per kg'!M139","v":2.08E-6},{"$f":"$C$177*'Emissions per kg'!N139","v":2.5000000000000001E-3},{"$f":"$C$177*'Emissions per kg'!O139","v":1.3899999999999999E-2},{"$f":"$C$177*'Emissions per kg'!P139","v":3.77E-4},{"$f":"$C$177*'Emissions per kg'!Q139","v":2.8799999999999999E-2},{"$f":"$C$177*'Emissions per kg'!R139","v":1.21E-9}]
[null,"retail",0,{"$f":"Calculation_original!D178","v":0.1},{"$f":"$C$178*'Emissions per kg'!C140","v":0},{"$f":"$C$178*'Emissions per kg'!D140","v":0},{"$f":"$C$178*'Emissions per kg'!E140","v":0},{"$f":"$C$178*'Emissions per kg'!F140","v":0},{"$f":"$C$178*'Emissions per kg'!G140","v":0},{"$f":"$C$178*'Emissions per kg'!H140","v":0},{"$f":"$C$178*'Emissions per kg'!I140","v":0},{"$f":"$C$178*'Emissions per kg'!J140","v":0},{"$f":"$C$178*'Emissions per kg'!K140","v":0},{"$f":"$C$178*'Emissions per kg'!L140","v":0},{"$f":"$C$178*'Emissions per kg'!M140","v":0},{"$f":"$C$178*'Emissions per kg'!N140","v":0},{"$f":"$C$178*'Emissions per kg'!O140","v":0},{"$f":"$C$178*'Emissions per kg'!P140","v":0},{"$f":"$C$178*'Emissions per kg'!Q140","v":0},{"$f":"$C$178*'Emissions per kg'!R140","v":0}]
[null,"use ",0,{"$f":"Calculation_original!D179","v":0.19},{"$f":"$C$179*'Emissions per kg'!C141","v":0},{"$f":"$C$179*'Emissions per kg'!D141","v":0},{"$f":"$C$179*'Emissions per kg'!E141","v":0},{"$f":"$C$179*'Emissions per kg'!F141","v":0},{"$f":"$C$179*'Emissions per kg'!G141","v":0},{"$f":"$C$179*'Emissions per kg'!H141","v":0},{"$f":"$C$179*'Emissions per kg'!I141","v":0},{"$f":"$C$179*'Emissions per kg'!J141","v":0},{"$f":"$C$179*'Emissions per kg'!K141","v":0},{"$f":"$C$179*'Emissions per kg'!L141","v":0},{"$f":"$C$179*'Emissions per kg'!M141","v":0},{"$f":"$C$179*'Emissions per kg'!N141","v":0},{"$f":"$C$179*'Emissions per kg'!O141","v":0},{"$f":"$C$179*'Emissions per kg'!P141","v":0},{"$f":"$C$179*'Emissions per kg'!Q141","v":0},{"$f":"$C$179*'Emissions per kg'!R141","v":0}]
[null,"end of life P&R",{"$f":"D176*C176+D178*C178+C177*D177+C175*D175","v":0.17647058823529413},null,{"$f":"$C$180*'EoL emissions'!B4","v":5.970973751382104E-2},{"$f":"$C$180*'EoL emissions'!C4","v":7.1448983578800479E-10},{"$f":"$C$180*'EoL emissions'!D4","v":6.6258263044533986E-8},{"$f":"$C$180*'EoL emissions'!E4","v":2.6502627672528613E-9},{"$f":"$C$180*'EoL emissions'!F4","v":1.350938444240056E-9},{"$f":"$C$180*'EoL emissions'!G4","v":4.5241644403136596E-4},{"$f":"$C$180*'EoL emissions'!H4","v":7.9992785304664683E-5},{"$f":"$C$180*'EoL emissions'!I4","v":2.1195392277432144E-4},{"$f":"$C$180*'EoL emissions'!J4","v":8.5714676762005306E-4},{"$f":"$C$180*'EoL emissions'!K4","v":1.6872535712683382E-5},{"$f":"$C$180*'EoL emissions'!L4","v":9.6847208031751076E-5},{"$f":"$C$180*'EoL emissions'!M4","v":4.6850238160664013},{"$f":"$C$180*'EoL emissions'!N4","v":0.24215399298223078},{"$f":"$C$180*'EoL emissions'!O4","v":2.3451010701133626E-3},{"$f":"$C$180*'EoL emissions'!P4","v":-4.3082523657852895E-2},{"$f":"$C$180*'EoL emissions'!Q4","v":-3.2701507033046773E-9}]
[null,"end of life HH",{"$f":"D179*C179","v":0},null,{"$f":"$C$181*'EoL emissions'!B5","v":0},{"$f":"$C$181*'EoL emissions'!C5","v":0},{"$f":"$C$181*'EoL emissions'!D5","v":0},{"$f":"$C$181*'EoL emissions'!E5","v":0},{"$f":"$C$181*'EoL emissions'!F5","v":0},{"$f":"$C$181*'EoL emissions'!G5","v":0},{"$f":"$C$181*'EoL emissions'!H5","v":0},{"$f":"$C$181*'EoL emissions'!I5","v":0},{"$f":"$C$181*'EoL emissions'!J5","v":0},{"$f":"$C$181*'EoL emissions'!K5","v":0},{"$f":"$C$181*'EoL emissions'!L5","v":0},{"$f":"$C$181*'EoL emissions'!M5","v":0},{"$f":"$C$181*'EoL emissions'!N5","v":0},{"$f":"$C$181*'EoL emissions'!O5","v":0},{"$f":"$C$181*'EoL emissions'!P5","v":0},{"$f":"$C$181*'EoL emissions'!Q5","v":0}]
["APPLES",null,null,null,{"$f":"SUM(E175:E181)","v":0.9296015022197035},{"$f":"SUM(F175:F181)","v":1.4944361372188732E-5},8.6098380691592803E-8,4.4753274731352141E-9,1.7801114914828291E-8,2.6782945855796072E-2,1.0698121970693704E-3,2.8235539227743213E-3,8.6442526499729937E-3,3.9050588653859856E-5,1.1518683845023394E-3,8.1591708748899308,51.703112816511648,5.0989573951877603,4.759835123400971,5.9911631988493071E-7]
["Fruits","ORANGES"]
[null,"agriculture ",{"$f":"C185/(1-D184)","v":1.25},{"$f":"Calculation_original!D184","v":0},{"$f":"$C$184*'Emissions per kg'!C144","v":0.26374999999999998},{"$f":"$C$184*'Emissions per kg'!D144","v":1.00375E-8},{"$f":"$C$184*'Emissions per kg'!E144","v":1.0237499999999998E-8},{"$f":"$C$184*'Emissions per kg'!F144","v":9.5374999999999994E-10},{"$f":"$C$184*'Emissions per kg'!G144","v":4.0125000000000004E-8},{"$f":"$C$184*'Emissions per kg'!H144","v":1.3375E-2},{"$f":"$C$184*'Emissions per kg'!I144","v":7.2999999999999996E-4},{"$f":"$C$184*'Emissions per kg'!J144","v":5.5624999999999997E-3},{"$f":"$C$184*'Emissions per kg'!K144","v":2.325E-2},{"$f":"$C$184*'Emissions per kg'!L144","v":8.6625000000000005E-5},{"$f":"$C$184*'Emissions per kg'!M144","v":3.9874999999999997E-3},{"$f":"$C$184*'Emissions per kg'!N144","v":6.4875000000000007},{"$f":"$C$184*'Emissions per kg'!O144","v":66.625},{"$f":"$C$184*'Emissions per kg'!P144","v":9.0124999999999993},{"$f":"$C$184*'Emissions per kg'!Q144","v":3.5125000000000002},{"$f":"$C$184*'Emissions per kg'!R144","v":2.65E-7}]
[null,"processsing",{"$f":"(C186/(1-D185))/(1-D186)","v":1.25},{"$f":"Calculation_original!D185","v":0.2},{"$f":"$C$185*'Emissions per kg'!C145","v":0.42500000000000004},{"$f":"$C$185*'Emissions per kg'!D145","v":7.4250000000000001E-6},{"$f":"$C$185*'Emissions per kg'!E145","v":9.7874999999999991E-9},{"$f":"$C$185*'Emissions per kg'!F145","v":8.7499999999999998E-10},{"$f":"$C$185*'Emissions per kg'!G145","v":4.7000000000000007E-9},{"$f":"$C$185*'Emissions per kg'!H145","v":1.1800000000000001E-2},{"$f":"$C$185*'Emissions per kg'!I145","v":5.3124999999999993E-4},{"$f":"$C$185*'Emissions per kg'!J145","v":8.9375000000000001E-4},{"$f":"$C$185*'Emissions per kg'!K145","v":1.9124999999999999E-3},{"$f":"$C$185*'Emissions per kg'!L145","v":7.3875E-6},{"$f":"$C$185*'Emissions per kg'!M145","v":1.7374999999999999E-4},{"$f":"$C$185*'Emissions per kg'!N145","v":9.5999999999999988E-2},{"$f":"$C$185*'Emissions per kg'!O145","v":1.2875000000000001},{"$f":"$C$185*'Emissions per kg'!P145","v":2.4875000000000001E-2},{"$f":"$C$185*'Emissions per kg'!Q145","v":2.0250000000000004},{"$f":"$C$185*'Emissions per kg'!R145","v":2.5125000000000003E-7}]
[null,"packaging",1,{"$f":"Calculation_original!D186","v":0},{"$f":"$C$186*'Emissions per kg'!C146","v":7.2300000000000003E-2},{"$f":"$C$186*'Emissions per kg'!D146","v":2.2600000000000001E-9},{"$f":"$C$186*'Emissions per kg'!E146","v":1.5399999999999999E-8},{"$f":"$C$186*'Emissions per kg'!F146","v":7.3299999999999995E-10},{"$f":"$C$186*'Emissions per kg'!G146","v":-1.0999999999999999E-8},{"$f":"$C$186*'Emissions per kg'!H146","v":1.5299999999999999E-3},{"$f":"$C$186*'Emissions per kg'!I146","v":2.0599999999999999E-5},{"$f":"$C$186*'Emissions per kg'!J146","v":1.3100000000000001E-4},{"$f":"$C$186*'Emissions per kg'!K146","v":1.4999999999999999E-4},{"$f":"$C$186*'Emissions per kg'!L146","v":3.2899999999999998E-6},{"$f":"$C$186*'Emissions per kg'!M146","v":5.5600000000000003E-5},{"$f":"$C$186*'Emissions per kg'!N146","v":9.7100000000000006E-2},{"$f":"$C$186*'Emissions per kg'!O146","v":-22.1},{"$f":"$C$186*'Emissions per kg'!P146","v":-7.8799999999999995E-2},{"$f":"$C$186*'Emissions per kg'!Q146","v":0.97299999999999998},{"$f":"$C$186*'Emissions per kg'!R146","v":1.5099999999999999E-6}]
[null,"retail",0,{"$f":"Calculation_original!D187","v":0.1},{"$f":"$C$187*'Emissions per kg'!C147","v":0},{"$f":"$C$187*'Emissions per kg'!D147","v":0},{"$f":"$C$187*'Emissions per kg'!E147","v":0},{"$f":"$C$187*'Emissions per kg'!F147","v":0},{"$f":"$C$187*'Emissions per kg'!G147","v":0},{"$f":"$C$187*'Emissions per kg'!H147","v":0},{"$f":"$C$187*'Emissions per kg'!I147","v":0},{"$f":"$C$187*'Emissions per kg'!J147","v":0},{"$f":"$C$187*'Emissions per kg'!K147","v":0},{"$f":"$C$187*'Emissions per kg'!L147","v":0},{"$f":"$C$187*'Emissions per kg'!M147","v":0},{"$f":"$C$187*'Emissions per kg'!N147","v":0},{"$f":"$C$187*'Emissions per kg'!O147","v":0},{"$f":"$C$187*'Emissions per kg'!P147","v":0},{"$f":"$C$187*'Emissions per kg'!Q147","v":0},{"$f":"$C$187*'Emissions per kg'!R147","v":0}]
[null,"use ",0,{"$f":"Calculation_original!D188","v":0.19},{"$f":"$C$188*'Emissions per kg'!C148","v":0},{"$f":"$C$188*'Emissions per kg'!D148","v":0},{"$f":"$C$188*'Emissions per kg'!E148","v":0},{"$f":"$C$188*'Emissions per kg'!F148","v":0},{"$f":"$C$188*'Emissions per kg'!G148","v":0},{"$f":"$C$188*'Emissions per kg'!H148","v":0},{"$f":"$C$188*'Emissions per kg'!I148","v":0},{"$f":"$C$188*'Emissions per kg'!J148","v":0},{"$f":"$C$188*'Emissions per kg'!K148","v":0},{"$f":"$C$188*'Emissions per kg'!L148","v":0},{"$f":"$C$188*'Emissions per kg'!M148","v":0},{"$f":"$C$188*'Emissions per kg'!N148","v":0},{"$f":"$C$188*'Emissions per kg'!O148","v":0},{"$f":"$C$188*'Emissions per kg'!P148","v":0},{"$f":"$C$188*'Emissions per kg'!Q148","v":0},{"$f":"$C$188*'Emissions per kg'!R148","v":0}]
[null,"end of life P&R",{"$f":"D185*C185+D187*C187+C186*D186+C184*D184","v":0.25},null,{"$f":"$C$189*'EoL emissions'!B4","v":8.4588794811246468E-2},{"$f":"$C$189*'EoL emissions'!C4","v":1.0121939340330067E-9},{"$f":"$C$189*'EoL emissions'!D4","v":9.3865872646423134E-8},{"$f":"$C$189*'EoL emissions'!E4","v":3.7545389202748865E-9},{"$f":"$C$189*'EoL emissions'!F4","v":1.9138294626734125E-9},{"$f":"$C$189*'EoL emissions'!G4","v":6.4092329571110171E-4},{"$f":"$C$189*'EoL emissions'!H4","v":1.1332311251494163E-4},{"$f":"$C$189*'EoL emissions'!I4","v":3.0026805726362203E-4},{"$f":"$C$189*'EoL emissions'!J4","v":1.2142912541284084E-3},{"$f":"$C$189*'EoL emissions'!K4","v":2.3902758926301454E-5},{"$f":"$C$189*'EoL emissions'!L4","v":1.3720021137831402E-4},{"$f":"$C$189*'EoL emissions'!M4","v":6.6371170727607343},{"$f":"$C$189*'EoL emissions'!N4","v":0.34305149005816027},{"$f":"$C$189*'EoL emissions'!O4","v":3.3222265159939305E-3},{"$f":"$C$189*'EoL emissions'!P4","v":-6.1033575181958261E-2},{"$f":"$C$189*'EoL emissions'!Q4","v":-4.6327134963482926E-9}]
[null,"end of life HH",{"$f":"D188*C188","v":0},null,{"$f":"$C$190*'EoL emissions'!B5","v":0},{"$f":"$C$190*'EoL emissions'!C5","v":0},{"$f":"$C$190*'EoL emissions'!D5","v":0},{"$f":"$C$190*'EoL emissions'!E5","v":0},{"$f":"$C$190*'EoL emissions'!F5","v":0},{"$f":"$C$190*'EoL emissions'!G5","v":0},{"$f":"$C$190*'EoL emissions'!H5","v":0},{"$f":"$C$190*'EoL emissions'!I5","v":0},{"$f":"$C$190*'EoL emissions'!J5","v":0},{"$f":"$C$190*'EoL emissions'!K5","v":0},{"$f":"$C$190*'EoL emissions'!L5","v":0},{"$f":"$C$190*'EoL emissions'!M5","v":0},{"$f":"$C$190*'EoL emissions'!N5","v":0},{"$f":"$C$190*'EoL emissions'!O5","v":0},{"$f":"$C$190*'EoL emissions'!P5","v":0},{"$f":"$C$190*'EoL emissions'!Q5","v":0}]
["ORANGES",null,null,null,{"$f":"SUM(E184:E190)","v":0.84563879481124649},{"$f":"SUM(F184:F190)","v":7.4383096939340325E-6},1.2929087264642312E-7,6.3162889202748862E-9,3.5738829462673419E-8,2.7345923295711106E-2,1.3951731125149414E-3,6.8875180572636223E-3,2.652679125412841E-2,1.2120525892630146E-4,4.3540502113783141E-3,13.317717072760736,46.155551490058151,8.961897226515994,6.4494664248180422,2.0216172865036514E-6]
["Fruits","BANANAS"]
[null,"agriculture ",{"$f":"C194/(1-D193)","v":1.0526315789473684},{"$f":"Calculation_original!D193","v":0},{"$f":"$C$193*'Emissions per kg'!C151","v":0.1463157894736842},{"$f":"$C$193*'Emissions per kg'!D151","v":2.031578947368421E-9},{"$f":"$C$193*'Emissions per kg'!E151","v":6.5684210526315782E-9},{"$f":"$C$193*'Emissions per kg'!F151","v":1.7263157894736843E-10},{"$f":"$C$193*'Emissions per kg'!G151","v":3.1052631578947369E-8},{"$f":"$C$193*'Emissions per kg'!H151","v":9.6105263157894724E-4},{"$f":"$C$193*'Emissions per kg'!I151","v":2.1263157894736842E-4},{"$f":"$C$193*'Emissions per kg'!J151","v":4.3052631578947365E-3},{"$f":"$C$193*'Emissions per kg'!K151","v":1.8947368421052629E-2},{"$f":"$C$193*'Emissions per kg'!L151","v":6.3999999999999997E-5},{"$f":"$C$193*'Emissions per kg'!M151","v":8.3368421052631568E-4},{"$f":"$C$193*'Emissions per kg'!N151","v":0.49894736842105258},{"$f":"$C$193*'Emissions per kg'!O151","v":42.105263157894733},{"$f":"$C$193*'Emissions per kg'!P151","v":4.2631578947368416},{"$f":"$C$193*'Emissions per kg'!Q151","v":1.0294736842105263},{"$f":"$C$193*'Emissions per kg'!R151","v":2.831578947368421E-7}]
[null,"processsing",{"$f":"(C195/(1-D194))/(1-D195)","v":1.0526315789473684},{"$f":"Calculation_original!D194","v":0.05},{"$f":"$C$194*'Emissions per kg'!C152","v":0.50315789473684203},{"$f":"$C$194*'Emissions per kg'!D152","v":4.052631578947369E-6},{"$f":"$C$194*'Emissions per kg'!E152","v":2.7894736842105261E-8},{"$f":"$C$194*'Emissions per kg'!F152","v":2.1052631578947367E-9},{"$f":"$C$194*'Emissions per kg'!G152","v":1.9789473684210525E-8},{"$f":"$C$194*'Emissions per kg'!H152","v":2.1999999999999999E-2},{"$f":"$C$194*'Emissions per kg'!I152","v":2.6842105263157894E-3},{"$f":"$C$194*'Emissions per kg'!J152","v":3.7999999999999996E-3},{"$f":"$C$194*'Emissions per kg'!K152","v":9.5894736842105262E-3},{"$f":"$C$194*'Emissions per kg'!L152","v":8.7894736842105251E-6},{"$f":"$C$194*'Emissions per kg'!M152","v":8.6526315789473679E-4},{"$f":"$C$194*'Emissions per kg'!N152","v":0.40842105263157896},{"$f":"$C$194*'Emissions per kg'!O152","v":3.3368421052631576},{"$f":"$C$194*'Emissions per kg'!P152","v":0.43684210526315786},{"$f":"$C$194*'Emissions per kg'!Q152","v":7.0315789473684207},{"$f":"$C$194*'Emissions per kg'!R152","v":4.5684210526315786E-7}]
[null,"packaging",1,{"$f":"Calculation_original!D195","v":0},{"$f":"$C$195*'Emissions per kg'!C153","v":0.104},{"$f":"$C$195*'Emissions per kg'!D153","v":3.3499999999999998E-9},{"$f":"$C$195*'Emissions per kg'!E153","v":2.0899999999999999E-8},{"$f":"$C$195*'Emissions per kg'!F153","v":1.03E-9},{"$f":"$C$195*'Emissions per kg'!G153","v":-1.44E-8},{"$f":"$C$195*'Emissions per kg'!H153","v":2.3999999999999998E-3},{"$f":"$C$195*'Emissions per kg'!I153","v":4.3699999999999998E-5},{"$f":"$C$195*'Emissions per kg'!J153","v":2.0699999999999999E-4},{"$f":"$C$195*'Emissions per kg'!K153","v":2.5599999999999999E-4},{"$f":"$C$195*'Emissions per kg'!L153","v":4.6399999999999996E-6},{"$f":"$C$195*'Emissions per kg'!M153","v":7.9300000000000003E-5},{"$f":"$C$195*'Emissions per kg'!N153","v":0.13600000000000001},{"$f":"$C$195*'Emissions per kg'!O153","v":-29.4},{"$f":"$C$195*'Emissions per kg'!P153","v":-0.10100000000000001},{"$f":"$C$195*'Emissions per kg'!Q153","v":1.38},{"$f":"$C$195*'Emissions per kg'!R153","v":2.03E-6}]
[null,"retail",0,{"$f":"Calculation_original!D196","v":0.1},{"$f":"$C$196*'Emissions per kg'!C154","v":0},{"$f":"$C$196*'Emissions per kg'!D154","v":0},{"$f":"$C$196*'Emissions per kg'!E154","v":0},{"$f":"$C$196*'Emissions per kg'!F154","v":0},{"$f":"$C$196*'Emissions per kg'!G154","v":0},{"$f":"$C$196*'Emissions per kg'!H154","v":0},{"$f":"$C$196*'Emissions per kg'!I154","v":0},{"$f":"$C$196*'Emissions per kg'!J154","v":0},{"$f":"$C$196*'Emissions per kg'!K154","v":0},{"$f":"$C$196*'Emissions per kg'!L154","v":0},{"$f":"$C$196*'Emissions per kg'!M154","v":0},{"$f":"$C$196*'Emissions per kg'!N154","v":0},{"$f":"$C$196*'Emissions per kg'!O154","v":0},{"$f":"$C$196*'Emissions per kg'!P154","v":0},{"$f":"$C$196*'Emissions per kg'!Q154","v":0},{"$f":"$C$196*'Emissions per kg'!R154","v":0}]
[null,"use ",0,{"$f":"Calculation_original!D197","v":0.19},{"$f":"$C$197*'Emissions per kg'!C155","v":0},{"$f":"$C$197*'Emissions per kg'!D155","v":0},{"$f":"$C$197*'Emissions per kg'!E155","v":0},{"$f":"$C$197*'Emissions per kg'!F155","v":0},{"$f":"$C$197*'Emissions per kg'!G155","v":0},{"$f":"$C$197*'Emissions per kg'!H155","v":0},{"$f":"$C$197*'Emissions per kg'!I155","v":0},{"$f":"$C$197*'Emissions per kg'!J155","v":0},{"$f":"$C$197*'Emissions per kg'!K155","v":0},{"$f":"$C$197*'Emissions per kg'!L155","v":0},{"$f":"$C$197*'Emissions per kg'!M155","v":0},{"$f":"$C$197*'Emissions per kg'!N155","v":0},{"$f":"$C$197*'Emissions per kg'!O155","v":0},{"$f":"$C$197*'Emissions per kg'!P155","v":0},{"$f":"$C$197*'Emissions per kg'!Q155","v":0},{"$f":"$C$197*'Emissions per kg'!R155","v":0}]
[null,"end of life P&R",{"$f":"D194*C194+D196*C196+C195*D195+C193*D193","v":5.2631578947368418E-2},null,{"$f":"$C$198*'EoL emissions'!B4","v":1.7808167328683466E-2},{"$f":"$C$198*'EoL emissions'!C4","v":2.1309345979642244E-10},{"$f":"$C$198*'EoL emissions'!D4","v":1.9761236346615394E-8},{"$f":"$C$198*'EoL emissions'!E4","v":7.9042924637366025E-10},{"$f":"$C$198*'EoL emissions'!F4","v":4.0291146582598153E-10},{"$f":"$C$198*'EoL emissions'!G4","v":1.3493122014970562E-4},{"$f":"$C$198*'EoL emissions'!H4","v":2.3857497371566657E-5},{"$f":"$C$198*'EoL emissions'!I4","v":6.3214327844973061E-5},{"$f":"$C$198*'EoL emissions'!J4","v":2.5564026402703332E-4},{"$f":"$C$198*'EoL emissions'!K4","v":5.0321597739582005E-6},{"$f":"$C$198*'EoL emissions'!L4","v":2.8884255027013477E-5},{"$f":"$C$198*'EoL emissions'!M4","v":1.3972878047917334},{"$f":"$C$198*'EoL emissions'!N4","v":7.2221366328033734E-2},{"$f":"$C$198*'EoL emissions'!O4","v":6.9941610863030117E-4},{"$f":"$C$198*'EoL emissions'!P4","v":-1.2849173722517529E-2},{"$f":"$C$198*'EoL emissions'!Q4","v":-9.7530810449437732E-10}]
[null,"end of life HH",{"$f":"D197*C197","v":0},null,{"$f":"$C$199*'EoL emissions'!B5","v":0},{"$f":"$C$199*'EoL emissions'!C5","v":0},{"$f":"$C$199*'EoL emissions'!D5","v":0},{"$f":"$C$199*'EoL emissions'!E5","v":0},{"$f":"$C$199*'EoL emissions'!F5","v":0},{"$f":"$C$199*'EoL emissions'!G5","v":0},{"$f":"$C$199*'EoL emissions'!H5","v":0},{"$f":"$C$199*'EoL emissions'!I5","v":0},{"$f":"$C$199*'EoL emissions'!J5","v":0},{"$f":"$C$199*'EoL emissions'!K5","v":0},{"$f":"$C$199*'EoL emissions'!L5","v":0},{"$f":"$C$199*'EoL emissions'!M5","v":0},{"$f":"$C$199*'EoL emissions'!N5","v":0},{"$f":"$C$199*'EoL emissions'!O5","v":0},{"$f":"$C$199*'EoL emissions'!P5","v":0},{"$f":"$C$199*'EoL emissions'!Q5","v":0}]
["BANANAS",null,null,null,{"$f":"SUM(E193:E199)","v":0.7712818515392097},{"$f":"SUM(F193:F199)","v":4.0582262513545333E-6},7.5124394241352236E-8,4.0983239832157655E-9,3.6845016728983873E-8,2.5495983851728649E-2,2.9643996026347242E-3,8.3754774857397098E-3,2.9048482369290189E-2,8.2461633458168714E-5,1.807131623448066E-3,2.4406562258443651,16.114326629485927,4.5996994161086295,9.42820345785643,2.7690246918955052E-6]
["Sugar1","SUGAR"]
[null,"agriculture ",{"$f":"C203/(1-D202)","v":1},{"$f":"Calculation_original!D202","v":0},{"$f":"$C$202*'Emissions per kg'!C158","v":0.44900000000000001},{"$f":"$C$202*'Emissions per kg'!D158","v":1.89E-8},{"$f":"$C$202*'Emissions per kg'!E158","v":2.4600000000000002E-6},{"$f":"$C$202*'Emissions per kg'!F158","v":1.88E-8},{"$f":"$C$202*'Emissions per kg'!G158","v":2.22E-7},{"$f":"$C$202*'Emissions per kg'!H158","v":2E-3},{"$f":"$C$202*'Emissions per kg'!I158","v":7.2199999999999999E-4},{"$f":"$C$202*'Emissions per kg'!J158","v":3.1300000000000001E-2},{"$f":"$C$202*'Emissions per kg'!K158","v":0.14000000000000001},{"$f":"$C$202*'Emissions per kg'!L158","v":2.0900000000000001E-4},{"$f":"$C$202*'Emissions per kg'!M158","v":1.5699999999999999E-2},{"$f":"$C$202*'Emissions per kg'!N158","v":2.34},{"$f":"$C$202*'Emissions per kg'!O158","v":122},{"$f":"$C$202*'Emissions per kg'!P158","v":3.1800000000000002E-2},{"$f":"$C$202*'Emissions per kg'!Q158","v":2.0699999999999998},{"$f":"$C$202*'Emissions per kg'!R158","v":1.5099999999999999E-6}]
[null,"processsing",{"$f":"(C204/(1-D203))/(1-D204)","v":1},{"$f":"Calculation_original!D203","v":0},{"$f":"$C$203*'Emissions per kg'!C159","v":0.30099999999999999},{"$f":"$C$203*'Emissions per kg'!D159","v":1.62E-9},{"$f":"$C$203*'Emissions per kg'!E159","v":1.39E-9},{"$f":"$C$203*'Emissions per kg'!F159","v":1.8400000000000001E-10},{"$f":"$C$203*'Emissions per kg'!G159","v":5.0300000000000002E-9},{"$f":"$C$203*'Emissions per kg'!H159","v":2.3600000000000001E-3},{"$f":"$C$203*'Emissions per kg'!I159","v":8.7699999999999996E-4},{"$f":"$C$203*'Emissions per kg'!J159","v":8.3199999999999995E-4},{"$f":"$C$203*'Emissions per kg'!K159","v":3.4299999999999999E-3},{"$f":"$C$203*'Emissions per kg'!L159","v":8.6199999999999996E-7},{"$f":"$C$203*'Emissions per kg'!M159","v":3.1300000000000002E-4},{"$f":"$C$203*'Emissions per kg'!N159","v":2.8400000000000002E-2},{"$f":"$C$203*'Emissions per kg'!O159","v":1.21E-2},{"$f":"$C$203*'Emissions per kg'!P159","v":6.5199999999999994E-2},{"$f":"$C$203*'Emissions per kg'!Q159","v":4.75},{"$f":"$C$203*'Emissions per kg'!R159","v":3.1499999999999998E-8}]
[null,"packaging",1,{"$f":"Calculation_original!D204","v":0},{"$f":"$C$204*'Emissions per kg'!C160","v":0.02},{"$f":"$C$204*'Emissions per kg'!D160","v":1.39E-9},{"$f":"$C$204*'Emissions per kg'!E160","v":2.0500000000000002E-9},{"$f":"$C$204*'Emissions per kg'!F160","v":1.9100000000000001E-10},{"$f":"$C$204*'Emissions per kg'!G160","v":8.5199999999999995E-10},{"$f":"$C$204*'Emissions per kg'!H160","v":9.6000000000000002E-4},{"$f":"$C$204*'Emissions per kg'!I160","v":4.5899999999999998E-5},{"$f":"$C$204*'Emissions per kg'!J160","v":9.8099999999999999E-5},{"$f":"$C$204*'Emissions per kg'!K160","v":1.6000000000000001E-4},{"$f":"$C$204*'Emissions per kg'!L160","v":1.0499999999999999E-6},{"$f":"$C$204*'Emissions per kg'!M160","v":1.77E-5},{"$f":"$C$204*'Emissions per kg'!N160","v":1.18E-2},{"$f":"$C$204*'Emissions per kg'!O160","v":0.26800000000000002},{"$f":"$C$204*'Emissions per kg'!P160","v":6.0099999999999997E-3},{"$f":"$C$204*'Emissions per kg'!Q160","v":0.29399999999999998},{"$f":"$C$204*'Emissions per kg'!R160","v":1.5800000000000001E-7}]
[null,"retail",0,{"$f":"Calculation_original!D205","v":0},{"$f":"$C$205*'Emissions per kg'!C161","v":0},{"$f":"$C$205*'Emissions per kg'!D161","v":0},{"$f":"$C$205*'Emissions per kg'!E161","v":0},{"$f":"$C$205*'Emissions per kg'!F161","v":0},{"$f":"$C$205*'Emissions per kg'!G161","v":0},{"$f":"$C$205*'Emissions per kg'!H161","v":0},{"$f":"$C$205*'Emissions per kg'!I161","v":0},{"$f":"$C$205*'Emissions per kg'!J161","v":0},{"$f":"$C$205*'Emissions per kg'!K161","v":0},{"$f":"$C$205*'Emissions per kg'!L161","v":0},{"$f":"$C$205*'Emissions per kg'!M161","v":0},{"$f":"$C$205*'Emissions per kg'!N161","v":0},{"$f":"$C$205*'Emissions per kg'!O161","v":0},{"$f":"$C$205*'Emissions per kg'!P161","v":0},{"$f":"$C$205*'Emissions per kg'!Q161","v":0},{"$f":"$C$205*'Emissions per kg'!R161","v":0}]
[null,"use ",0,{"$f":"Calculation_original!D206","v":0.17199999999999999},{"$f":"$C$206*'Emissions per kg'!C162","v":0},{"$f":"$C$206*'Emissions per kg'!D162","v":0},{"$f":"$C$206*'Emissions per kg'!E162","v":0},{"$f":"$C$206*'Emissions per kg'!F162","v":0},{"$f":"$C$206*'Emissions per kg'!G162","v":0},{"$f":"$C$206*'Emissions per kg'!H162","v":0},{"$f":"$C$206*'Emissions per kg'!I162","v":0},{"$f":"$C$206*'Emissions per kg'!J162","v":0},{"$f":"$C$206*'Emissions per kg'!K162","v":0},{"$f":"$C$206*'Emissions per kg'!L162","v":0},{"$f":"$C$206*'Emissions per kg'!M162","v":0},{"$f":"$C$206*'Emissions per kg'!N162","v":0},{"$f":"$C$206*'Emissions per kg'!O162","v":0},{"$f":"$C$206*'Emissions per kg'!P162","v":0},{"$f":"$C$206*'Emissions per kg'!Q162","v":0},{"$f":"$C$206*'Emissions per kg'!R162","v":0}]
[null,"end of life P&R",{"$f":"D203*C203+D205*C205+C204*D204+C202*D202","v":0},null,{"$f":"$C$207*'EoL emissions'!B4","v":0},{"$f":"$C$207*'EoL emissions'!C4","v":0},{"$f":"$C$207*'EoL emissions'!D4","v":0},{"$f":"$C$207*'EoL emissions'!E4","v":0},{"$f":"$C$207*'EoL emissions'!F4","v":0},{"$f":"$C$207*'EoL emissions'!G4","v":0},{"$f":"$C$207*'EoL emissions'!H4","v":0},{"$f":"$C$207*'EoL emissions'!I4","v":0},{"$f":"$C$207*'EoL emissions'!J4","v":0},{"$f":"$C$207*'EoL emissions'!K4","v":0},{"$f":"$C$207*'EoL emissions'!L4","v":0},{"$f":"$C$207*'EoL emissions'!M4","v":0},{"$f":"$C$207*'EoL emissions'!N4","v":0},{"$f":"$C$207*'EoL emissions'!O4","v":0},{"$f":"$C$207*'EoL emissions'!P4","v":0},{"$f":"$C$207*'EoL emissions'!Q4","v":0}]
[null,"end of life HH",{"$f":"D206*C206","v":0},null,{"$f":"$C$208*'EoL emissions'!B5","v":0},{"$f":"$C$208*'EoL emissions'!C5","v":0},{"$f":"$C$208*'EoL emissions'!D5","v":0},{"$f":"$C$208*'EoL emissions'!E5","v":0},{"$f":"$C$208*'EoL emissions'!F5","v":0},{"$f":"$C$208*'EoL emissions'!G5","v":0},{"$f":"$C$208*'EoL emissions'!H5","v":0},{"$f":"$C$208*'EoL emissions'!I5","v":0},{"$f":"$C$208*'EoL emissions'!J5","v":0},{"$f":"$C$208*'EoL emissions'!K5","v":0},{"$f":"$C$208*'EoL emissions'!L5","v":0},{"$f":"$C$208*'EoL emissions'!M5","v":0},{"$f":"$C$208*'EoL emissions'!N5","v":0},{"$f":"$C$208*'EoL emissions'!O5","v":0},{"$f":"$C$208*'EoL emissions'!P5","v":0},{"$f":"$C$208*'EoL emissions'!Q5","v":0}]
["SUGAR",null,null,null,{"$f":"SUM(E202:E208)","v":0.77},{"$f":"SUM(F202:F208)","v":2.1910000000000002E-8},2.4634399999999998E-6,1.9175000000000001E-8,2.27882E-7,5.3200000000000001E-3,1.6448999999999999E-3,3.2230099999999998E-2,0.14359,2.10912E-4,1.6030699999999998E-2,2.3801999999999999,122.2801,0.10301,7.1139999999999999,1.6995E-6]
["Confectionery","BISCUITS"]
[null,"agriculture ",{"$f":"C212/(1-D211)","v":1.0235414534288638},{"$f":"Calculation_original!D211","v":0},{"$f":"$C$211*'Emissions per kg'!C165","v":1.4329580348004092},{"$f":"$C$211*'Emissions per kg'!D165","v":9.7338792221084955E-9},{"$f":"$C$211*'Emissions per kg'!E165","v":2.7123848515864893E-6},{"$f":"$C$211*'Emissions per kg'!F165","v":2.4667349027635618E-8},{"$f":"$C$211*'Emissions per kg'!G165","v":2.3746161719549642E-7},{"$f":"$C$211*'Emissions per kg'!H165","v":7.0931422722620265E-3},{"$f":"$C$211*'Emissions per kg'!I165","v":1.2384851586489251E-3},{"$f":"$C$211*'Emissions per kg'!J165","v":3.2650972364380755E-2},{"$f":"$C$211*'Emissions per kg'!K165","v":0.14534288638689866},{"$f":"$C$211*'Emissions per kg'!L165","v":2.5486182190378705E-4},{"$f":"$C$211*'Emissions per kg'!M165","v":1.5557830092118729E-2},{"$f":"$C$211*'Emissions per kg'!N165","v":7.3694984646878199},{"$f":"$C$211*'Emissions per kg'!O165","v":235.41453428863869},{"$f":"$C$211*'Emissions per kg'!P165","v":0.57625383828045029},{"$f":"$C$211*'Emissions per kg'!Q165","v":3.7052200614124873},{"$f":"$C$211*'Emissions per kg'!R165","v":4.3398157625383822E-7}]
[null,"processsing",{"$f":"(C213/(1-D212))/(1-D213)","v":1.0235414534288638},{"$f":"Calculation_original!D212","v":2.3E-2},{"$f":"$C$212*'Emissions per kg'!C166","v":1.0542476970317298},{"$f":"$C$212*'Emissions per kg'!D166","v":1.0849539406345956E-7},{"$f":"$C$212*'Emissions per kg'!E166","v":4.1965199590583419E-8},{"$f":"$C$212*'Emissions per kg'!F166","v":4.7082906857727738E-9},{"$f":"$C$212*'Emissions per kg'!G166","v":2.1084953940634593E-8},{"$f":"$C$212*'Emissions per kg'!H166","v":6.9907881269191396E-2},{"$f":"$C$212*'Emissions per kg'!I166","v":2.2517911975435006E-3},{"$f":"$C$212*'Emissions per kg'!J166","v":3.8894575230296823E-3},{"$f":"$C$212*'Emissions per kg'!K166","v":7.4923234390992834E-3},{"$f":"$C$212*'Emissions per kg'!L166","v":8.9252814738996936E-5},{"$f":"$C$212*'Emissions per kg'!M166","v":7.7277379733879225E-4},{"$f":"$C$212*'Emissions per kg'!N166","v":0.3336745138178096},{"$f":"$C$212*'Emissions per kg'!O166","v":5.7215967246673483},{"$f":"$C$212*'Emissions per kg'!P166","v":0.81166837256908908},{"$f":"$C$212*'Emissions per kg'!Q166","v":16.479017400204707},{"$f":"$C$212*'Emissions per kg'!R166","v":1.007164790174002E-6}]
[null,"packaging",1,{"$f":"Calculation_original!D213","v":0},{"$f":"$C$213*'Emissions per kg'!C167","v":0.30399999999999999},{"$f":"$C$213*'Emissions per kg'!D167","v":1.35E-8},{"$f":"$C$213*'Emissions per kg'!E167","v":4.5900000000000001E-8},{"$f":"$C$213*'Emissions per kg'!F167","v":1.9000000000000001E-9},{"$f":"$C$213*'Emissions per kg'!G167","v":-1.2299999999999999E-8},{"$f":"$C$213*'Emissions per kg'!H167","v":1.8700000000000001E-2},{"$f":"$C$213*'Emissions per kg'!I167","v":4.2900000000000002E-4},{"$f":"$C$213*'Emissions per kg'!J167","v":1.39E-3},{"$f":"$C$213*'Emissions per kg'!K167","v":1.49E-3},{"$f":"$C$213*'Emissions per kg'!L167","v":1.7900000000000001E-5},{"$f":"$C$213*'Emissions per kg'!M167","v":1.5200000000000001E-4},{"$f":"$C$213*'Emissions per kg'!N167","v":0.185},{"$f":"$C$213*'Emissions per kg'!O167","v":-36.799999999999997},{"$f":"$C$213*'Emissions per kg'!P167","v":-9.3399999999999997E-2},{"$f":"$C$213*'Emissions per kg'!Q167","v":4.6500000000000004},{"$f":"$C$213*'Emissions per kg'!R167","v":2.65E-6}]
[null,"retail",0,{"$f":"Calculation_original!D214","v":0.02},{"$f":"$C$214*'Emissions per kg'!C168","v":0},{"$f":"$C$214*'Emissions per kg'!D168","v":0},{"$f":"$C$214*'Emissions per kg'!E168","v":0},{"$f":"$C$214*'Emissions per kg'!F168","v":0},{"$f":"$C$214*'Emissions per kg'!G168","v":0},{"$f":"$C$214*'Emissions per kg'!H168","v":0},{"$f":"$C$214*'Emissions per kg'!I168","v":0},{"$f":"$C$214*'Emissions per kg'!J168","v":0},{"$f":"$C$214*'Emissions per kg'!K168","v":0},{"$f":"$C$214*'Emissions per kg'!L168","v":0},{"$f":"$C$214*'Emissions per kg'!M168","v":0},{"$f":"$C$214*'Emissions per kg'!N168","v":0},{"$f":"$C$214*'Emissions per kg'!O168","v":0},{"$f":"$C$214*'Emissions per kg'!P168","v":0},{"$f":"$C$214*'Emissions per kg'!Q168","v":0},{"$f":"$C$214*'Emissions per kg'!R168","v":0}]
[null,"use ",0,{"$f":"Calculation_original!D215","v":4.2999999999999997E-2},{"$f":"$C$215*'Emissions per kg'!C169","v":0},{"$f":"$C$215*'Emissions per kg'!D169","v":0},{"$f":"$C$215*'Emissions per kg'!E169","v":0},{"$f":"$C$215*'Emissions per kg'!F169","v":0},{"$f":"$C$215*'Emissions per kg'!G169","v":0},{"$f":"$C$215*'Emissions per kg'!H169","v":0},{"$f":"$C$215*'Emissions per kg'!I169","v":0},{"$f":"$C$215*'Emissions per kg'!J169","v":0},{"$f":"$C$215*'Emissions per kg'!K169","v":0},{"$f":"$C$215*'Emissions per kg'!L169","v":0},{"$f":"$C$215*'Emissions per kg'!M169","v":0},{"$f":"$C$215*'Emissions per kg'!N169","v":0},{"$f":"$C$215*'Emissions per kg'!O169","v":0},{"$f":"$C$215*'Emissions per kg'!P169","v":0},{"$f":"$C$215*'Emissions per kg'!Q169","v":0},{"$f":"$C$215*'Emissions per kg'!R169","v":0}]
[null,"end of life P&R",{"$f":"D212*C212+D214*C214+C213*D213+C211*D211","v":2.3541453428863868E-2},null,{"$f":"$C$216*'EoL emissions'!B4","v":7.9653726946107214E-3},{"$f":"$C$216*'EoL emissions'!C4","v":9.5314065436066127E-11},{"$f":"$C$216*'EoL emissions'!D4","v":8.8389562778617483E-9},{"$f":"$C$216*'EoL emissions'!E4","v":3.5354921255403231E-10},{"$f":"$C$216*'EoL emissions'!F4","v":1.8021730866525481E-10},{"$f":"$C$216*'EoL emissions'!G4","v":6.0353063669827389E-5},{"$f":"$C$216*'EoL emissions'!H4","v":1.0671163102737594E-5},{"$f":"$C$216*'EoL emissions'!I4","v":2.8274985944987949E-5},{"$f":"$C$216*'EoL emissions'!J4","v":1.143447240325625E-4},{"$f":"$C$216*'EoL emissions'!K4","v":2.2508227443395434E-6},{"$f":"$C$216*'EoL emissions'!L4","v":1.2919569546371433E-5},{"$f":"$C$216*'EoL emissions'!M4","v":0.62498952988125644},{"$f":"$C$216*'EoL emissions'!N4","v":3.2303722707626145E-2},{"$f":"$C$216*'EoL emissions'!O4","v":3.1284016322563114E-4},{"$f":"$C$216*'EoL emissions'!P4","v":-5.7472762709725282E-3},{"$f":"$C$216*'EoL emissions'!Q4","v":-4.3624323609420974E-10}]
[null,"end of life HH",{"$f":"D215*C215","v":0},null,{"$f":"$C$217*'EoL emissions'!B5","v":0},{"$f":"$C$217*'EoL emissions'!C5","v":0},{"$f":"$C$217*'EoL emissions'!D5","v":0},{"$f":"$C$217*'EoL emissions'!E5","v":0},{"$f":"$C$217*'EoL emissions'!F5","v":0},{"$f":"$C$217*'EoL emissions'!G5","v":0},{"$f":"$C$217*'EoL emissions'!H5","v":0},{"$f":"$C$217*'EoL emissions'!I5","v":0},{"$f":"$C$217*'EoL emissions'!J5","v":0},{"$f":"$C$217*'EoL emissions'!K5","v":0},{"$f":"$C$217*'EoL emissions'!L5","v":0},{"$f":"$C$217*'EoL emissions'!M5","v":0},{"$f":"$C$217*'EoL emissions'!N5","v":0},{"$f":"$C$217*'EoL emissions'!O5","v":0},{"$f":"$C$217*'EoL emissions'!P5","v":0},{"$f":"$C$217*'EoL emissions'!Q5","v":0}]
["BISCUITS",null,null,null,{"$f":"SUM(E211:E217)","v":2.7991711045267498},{"$f":"SUM(F211:F217)","v":1.3182458735100414E-7},2.8090890074549342E-6,3.1629188925962427E-8,2.4642678844479623E-7,9.5761376605123266E-2,3.9299475192951629E-3,3.7958704873355426E-2,0.1544395545500305,3.6426545938712351E-4,1.6495523459003892E-2,8.5131625083868858,204.36843473601368,1.2948350510127649,24.828490185346219,4.0907101231917463E-6]
["Confectionery","CHOCOLATE"]
[null,"agriculture ",{"$f":"C221/(1-D220)","v":1.0526315789473684},{"$f":"Calculation_original!D220","v":0},{"$f":"$C$220*'Emissions per kg'!C172","v":0.17263157894736841},{"$f":"$C$220*'Emissions per kg'!D172","v":1.8210526315789471E-8},{"$f":"$C$220*'Emissions per kg'!E172","v":5.2947368421052624E-7},{"$f":"$C$220*'Emissions per kg'!F172","v":3.6105263157894733E-9},{"$f":"$C$220*'Emissions per kg'!G172","v":4.5473684210526319E-8},{"$f":"$C$220*'Emissions per kg'!H172","v":5.4315789473684201E-3},{"$f":"$C$220*'Emissions per kg'!I172","v":6.2E-4},{"$f":"$C$220*'Emissions per kg'!J172","v":6.3789473684210526E-3},{"$f":"$C$220*'Emissions per kg'!K172","v":2.1789473684210525E-2},{"$f":"$C$220*'Emissions per kg'!L172","v":5.3578947368421044E-5},{"$f":"$C$220*'Emissions per kg'!M172","v":2.4421052631578948E-3},{"$f":"$C$220*'Emissions per kg'!N172","v":52.105263157894733},{"$f":"$C$220*'Emissions per kg'!O172","v":70.315789473684205},{"$f":"$C$220*'Emissions per kg'!P172","v":0.32315789473684209},{"$f":"$C$220*'Emissions per kg'!Q172","v":2.5263157894736841},{"$f":"$C$220*'Emissions per kg'!R172","v":7.4210526315789476E-6}]
[null,"processsing",{"$f":"(C222/(1-D221))/(1-D222)","v":1.0526315789473684},{"$f":"Calculation_original!D221","v":0.05},{"$f":"$C$221*'Emissions per kg'!C173","v":1.0136842105263157},{"$f":"$C$221*'Emissions per kg'!D173","v":1.1157894736842105E-7},{"$f":"$C$221*'Emissions per kg'!E173","v":5.5052631578947365E-8},{"$f":"$C$221*'Emissions per kg'!F173","v":5.273684210526315E-9},{"$f":"$C$221*'Emissions per kg'!G173","v":5.2421052631578947E-8},{"$f":"$C$221*'Emissions per kg'!H173","v":6.3684210526315788E-2},{"$f":"$C$221*'Emissions per kg'!I173","v":5.3789473684210526E-3},{"$f":"$C$221*'Emissions per kg'!J173","v":6.7263157894736835E-3},{"$f":"$C$221*'Emissions per kg'!K173","v":1.957894736842105E-2},{"$f":"$C$221*'Emissions per kg'!L173","v":4.0526315789473684E-5},{"$f":"$C$221*'Emissions per kg'!M173","v":1.7789473684210527E-3},{"$f":"$C$221*'Emissions per kg'!N173","v":0.56210526315789477},{"$f":"$C$221*'Emissions per kg'!O173","v":6.9894736842105258},{"$f":"$C$221*'Emissions per kg'!P173","v":0.55052631578947364},{"$f":"$C$221*'Emissions per kg'!Q173","v":18.315789473684209},{"$f":"$C$221*'Emissions per kg'!R173","v":1.2736842105263159E-6}]
[null,"packaging",1,{"$f":"Calculation_original!D222","v":0},{"$f":"$C$222*'Emissions per kg'!C174","v":0.39800000000000002},{"$f":"$C$222*'Emissions per kg'!D174","v":8.3700000000000002E-8},{"$f":"$C$222*'Emissions per kg'!E174","v":4.8300000000000002E-8},{"$f":"$C$222*'Emissions per kg'!F174","v":5.0099999999999999E-9},{"$f":"$C$222*'Emissions per kg'!G174","v":1.0600000000000001E-8},{"$f":"$C$222*'Emissions per kg'!H174","v":1.26E-2},{"$f":"$C$222*'Emissions per kg'!I174","v":9.4700000000000003E-4},{"$f":"$C$222*'Emissions per kg'!J174","v":2.2399999999999998E-3},{"$f":"$C$222*'Emissions per kg'!K174","v":3.3500000000000001E-3},{"$f":"$C$222*'Emissions per kg'!L174","v":1.91E-5},{"$f":"$C$222*'Emissions per kg'!M174","v":3.2600000000000001E-4},{"$f":"$C$222*'Emissions per kg'!N174","v":0.26900000000000002},{"$f":"$C$222*'Emissions per kg'!O174","v":-20},{"$f":"$C$222*'Emissions per kg'!P174","v":6.5600000000000006E-2},{"$f":"$C$222*'Emissions per kg'!Q174","v":5.74},{"$f":"$C$222*'Emissions per kg'!R174","v":6.3099999999999997E-6}]
[null,"retail",0,{"$f":"Calculation_original!D223","v":0.01},{"$f":"$C$223*'Emissions per kg'!C175","v":0},{"$f":"$C$223*'Emissions per kg'!D175","v":0},{"$f":"$C$223*'Emissions per kg'!E175","v":0},{"$f":"$C$223*'Emissions per kg'!F175","v":0},{"$f":"$C$223*'Emissions per kg'!G175","v":0},{"$f":"$C$223*'Emissions per kg'!H175","v":0},{"$f":"$C$223*'Emissions per kg'!I175","v":0},{"$f":"$C$223*'Emissions per kg'!J175","v":0},{"$f":"$C$223*'Emissions per kg'!K175","v":0},{"$f":"$C$223*'Emissions per kg'!L175","v":0},{"$f":"$C$223*'Emissions per kg'!M175","v":0},{"$f":"$C$223*'Emissions per kg'!N175","v":0},{"$f":"$C$223*'Emissions per kg'!O175","v":0},{"$f":"$C$223*'Emissions per kg'!P175","v":0},{"$f":"$C$223*'Emissions per kg'!Q175","v":0},{"$f":"$C$223*'Emissions per kg'!R175","v":0}]
[null,"use ",0,{"$f":"Calculation_original!D224","v":4.3999999999999997E-2},{"$f":"$C$224*'Emissions per kg'!C176","v":0},{"$f":"$C$224*'Emissions per kg'!D176","v":0},{"$f":"$C$224*'Emissions per kg'!E176","v":0},{"$f":"$C$224*'Emissions per kg'!F176","v":0},{"$f":"$C$224*'Emissions per kg'!G176","v":0},{"$f":"$C$224*'Emissions per kg'!H176","v":0},{"$f":"$C$224*'Emissions per kg'!I176","v":0},{"$f":"$C$224*'Emissions per kg'!J176","v":0},{"$f":"$C$224*'Emissions per kg'!K176","v":0},{"$f":"$C$224*'Emissions per kg'!L176","v":0},{"$f":"$C$224*'Emissions per kg'!M176","v":0},{"$f":"$C$224*'Emissions per kg'!N176","v":0},{"$f":"$C$224*'Emissions per kg'!O176","v":0},{"$f":"$C$224*'Emissions per kg'!P176","v":0},{"$f":"$C$224*'Emissions per kg'!Q176","v":0},{"$f":"$C$224*'Emissions per kg'!R176","v":0}]
[null,"end of life P&R",{"$f":"D221*C221+D223*C223+C222*D222+C220*D220","v":5.2631578947368418E-2},null,{"$f":"$C$225*'EoL emissions'!B4","v":1.7808167328683466E-2},{"$f":"$C$225*'EoL emissions'!C4","v":2.1309345979642244E-10},{"$f":"$C$225*'EoL emissions'!D4","v":1.9761236346615394E-8},{"$f":"$C$225*'EoL emissions'!E4","v":7.9042924637366025E-10},{"$f":"$C$225*'EoL emissions'!F4","v":4.0291146582598153E-10},{"$f":"$C$225*'EoL emissions'!G4","v":1.3493122014970562E-4},{"$f":"$C$225*'EoL emissions'!H4","v":2.3857497371566657E-5},{"$f":"$C$225*'EoL emissions'!I4","v":6.3214327844973061E-5},{"$f":"$C$225*'EoL emissions'!J4","v":2.5564026402703332E-4},{"$f":"$C$225*'EoL emissions'!K4","v":5.0321597739582005E-6},{"$f":"$C$225*'EoL emissions'!L4","v":2.8884255027013477E-5},{"$f":"$C$225*'EoL emissions'!M4","v":1.3972878047917334},{"$f":"$C$225*'EoL emissions'!N4","v":7.2221366328033734E-2},{"$f":"$C$225*'EoL emissions'!O4","v":6.9941610863030117E-4},{"$f":"$C$225*'EoL emissions'!P4","v":-1.2849173722517529E-2},{"$f":"$C$225*'EoL emissions'!Q4","v":-9.7530810449437732E-10}]
[null,"end of life HH",{"$f":"D224*C224","v":0},null,{"$f":"$C$226*'EoL emissions'!B5","v":0},{"$f":"$C$226*'EoL emissions'!C5","v":0},{"$f":"$C$226*'EoL emissions'!D5","v":0},{"$f":"$C$226*'EoL emissions'!E5","v":0},{"$f":"$C$226*'EoL emissions'!F5","v":0},{"$f":"$C$226*'EoL emissions'!G5","v":0},{"$f":"$C$226*'EoL emissions'!H5","v":0},{"$f":"$C$226*'EoL emissions'!I5","v":0},{"$f":"$C$226*'EoL emissions'!J5","v":0},{"$f":"$C$226*'EoL emissions'!K5","v":0},{"$f":"$C$226*'EoL emissions'!L5","v":0},{"$f":"$C$226*'EoL emissions'!M5","v":0},{"$f":"$C$226*'EoL emissions'!N5","v":0},{"$f":"$C$226*'EoL emissions'!O5","v":0},{"$f":"$C$226*'EoL emissions'!P5","v":0},{"$f":"$C$226*'EoL emissions'!Q5","v":0}]
["CHOCOLATE",null,null,null,{"$f":"SUM(E220:E226)","v":1.6021239568023677},{"$f":"SUM(F220:F226)","v":2.1370256714400697E-7},6.5258755213608903E-7,1.4684639772689447E-8,1.0889764830793125E-7,8.1850720693833923E-2,6.9698048657926195E-3,1.5408477485739709E-2,4.4974061316658605E-2,1.1823742293185294E-4,4.5759368866059606E-3,54.333656225844358,57.377484524222766,0.93998362663494606,26.569256089435374,1.5003761534000768E-5]
["Nuts","ALMONDS"]
[null,"agriculture ",{"$f":"C230/(1-D229)","v":1.0810810810810809},{"$f":"Calculation_original!D229","v":0},{"$f":"$C$229*'Emissions per kg'!C179","v":4.6054054054054046},{"$f":"$C$229*'Emissions per kg'!D179","v":2.0648648648648647E-7},{"$f":"$C$229*'Emissions per kg'!E179","v":6.6594594594594581E-8},{"$f":"$C$229*'Emissions per kg'!F179","v":6.8756756756756753E-9},{"$f":"$C$229*'Emissions per kg'!G179","v":7.4270270270270262E-7},{"$f":"$C$229*'Emissions per kg'!H179","v":8.1945945945945939E-2},{"$f":"$C$229*'Emissions per kg'!I179","v":2.0108108108108102E-2},{"$f":"$C$229*'Emissions per kg'!J179","v":9.0270270270270264E-2},{"$f":"$C$229*'Emissions per kg'!K179","v":0.40108108108108104},{"$f":"$C$229*'Emissions per kg'!L179","v":4.7891891891891887E-3},{"$f":"$C$229*'Emissions per kg'!M179","v":2.0756756756756752E-2},{"$f":"$C$229*'Emissions per kg'!N179","v":39.567567567567565},{"$f":"$C$229*'Emissions per kg'!O179","v":1243.2432432432431},{"$f":"$C$229*'Emissions per kg'!P179","v":352.43243243243239},{"$f":"$C$229*'Emissions per kg'!Q179","v":47.567567567567558},{"$f":"$C$229*'Emissions per kg'!R179","v":1.5459459459459457E-5}]
[null,"processsing",{"$f":"(C231/(1-D230))/(1-D231)","v":1.0810810810810809},{"$f":"Calculation_original!D230","v":7.4999999999999997E-2},{"$f":"$C$230*'Emissions per kg'!C180","v":0.28972972972972971},{"$f":"$C$230*'Emissions per kg'!D180","v":5.232432432432432E-8},{"$f":"$C$230*'Emissions per kg'!E180","v":3.0054054054054052E-8},{"$f":"$C$230*'Emissions per kg'!F180","v":2.1189189189189185E-9},{"$f":"$C$230*'Emissions per kg'!G180","v":1.8810810810810809E-8},{"$f":"$C$230*'Emissions per kg'!H180","v":2.5621621621621616E-2},{"$f":"$C$230*'Emissions per kg'!I180","v":2.3459459459459456E-3},{"$f":"$C$230*'Emissions per kg'!J180","v":3.3621621621621614E-3},{"$f":"$C$230*'Emissions per kg'!K180","v":8.6162162162162145E-3},{"$f":"$C$230*'Emissions per kg'!L180","v":1.1675675675675674E-5},{"$f":"$C$230*'Emissions per kg'!M180","v":7.7837837837837836E-4},{"$f":"$C$230*'Emissions per kg'!N180","v":0.41621621621621618},{"$f":"$C$230*'Emissions per kg'!O180","v":3.5783783783783778},{"$f":"$C$230*'Emissions per kg'!P180","v":4.7891891891891886E-2},{"$f":"$C$230*'Emissions per kg'!Q180","v":4.9729729729729719},{"$f":"$C$230*'Emissions per kg'!R180","v":5.1351351351351344E-7}]
[null,"packaging",1,{"$f":"Calculation_original!D231","v":0},{"$f":"$C$231*'Emissions per kg'!C181","v":8.5599999999999996E-2},{"$f":"$C$231*'Emissions per kg'!D181","v":3.6600000000000002E-9},{"$f":"$C$231*'Emissions per kg'!E181","v":3.9600000000000004E-9},{"$f":"$C$231*'Emissions per kg'!F181","v":5.6300000000000002E-10},{"$f":"$C$231*'Emissions per kg'!G181","v":3.24E-9},{"$f":"$C$231*'Emissions per kg'!H181","v":4.0299999999999997E-3},{"$f":"$C$231*'Emissions per kg'!I181","v":1.8699999999999999E-4},{"$f":"$C$231*'Emissions per kg'!J181","v":3.5799999999999997E-4},{"$f":"$C$231*'Emissions per kg'!K181","v":6.3500000000000004E-4},{"$f":"$C$231*'Emissions per kg'!L181","v":2.6199999999999999E-6},{"$f":"$C$231*'Emissions per kg'!M181","v":5.7899999999999998E-5},{"$f":"$C$231*'Emissions per kg'!N181","v":6.9199999999999998E-2},{"$f":"$C$231*'Emissions per kg'!O181","v":0.98599999999999999},{"$f":"$C$231*'Emissions per kg'!P181","v":4.7899999999999998E-2},{"$f":"$C$231*'Emissions per kg'!Q181","v":0.94199999999999995},{"$f":"$C$231*'Emissions per kg'!R181","v":2.4900000000000002E-7}]
[null,"retail",0,{"$f":"Calculation_original!D232","v":0.02},{"$f":"$C$232*'Emissions per kg'!C182","v":0},{"$f":"$C$232*'Emissions per kg'!D182","v":0},{"$f":"$C$232*'Emissions per kg'!E182","v":0},{"$f":"$C$232*'Emissions per kg'!F182","v":0},{"$f":"$C$232*'Emissions per kg'!G182","v":0},{"$f":"$C$232*'Emissions per kg'!H182","v":0},{"$f":"$C$232*'Emissions per kg'!I182","v":0},{"$f":"$C$232*'Emissions per kg'!J182","v":0},{"$f":"$C$232*'Emissions per kg'!K182","v":0},{"$f":"$C$232*'Emissions per kg'!L182","v":0},{"$f":"$C$232*'Emissions per kg'!M182","v":0},{"$f":"$C$232*'Emissions per kg'!N182","v":0},{"$f":"$C$232*'Emissions per kg'!O182","v":0},{"$f":"$C$232*'Emissions per kg'!P182","v":0},{"$f":"$C$232*'Emissions per kg'!Q182","v":0},{"$f":"$C$232*'Emissions per kg'!R182","v":0}]
[null,"use ",0,{"$f":"Calculation_original!D233","v":0.04},{"$f":"$C$233*'Emissions per kg'!C183","v":0},{"$f":"$C$233*'Emissions per kg'!D183","v":0},{"$f":"$C$233*'Emissions per kg'!E183","v":0},{"$f":"$C$233*'Emissions per kg'!F183","v":0},{"$f":"$C$233*'Emissions per kg'!G183","v":0},{"$f":"$C$233*'Emissions per kg'!H183","v":0},{"$f":"$C$233*'Emissions per kg'!I183","v":0},{"$f":"$C$233*'Emissions per kg'!J183","v":0},{"$f":"$C$233*'Emissions per kg'!K183","v":0},{"$f":"$C$233*'Emissions per kg'!L183","v":0},{"$f":"$C$233*'Emissions per kg'!M183","v":0},{"$f":"$C$233*'Emissions per kg'!N183","v":0},{"$f":"$C$233*'Emissions per kg'!O183","v":0},{"$f":"$C$233*'Emissions per kg'!P183","v":0},{"$f":"$C$233*'Emissions per kg'!Q183","v":0},{"$f":"$C$233*'Emissions per kg'!R183","v":0}]
[null,"end of life P&R",{"$f":"D230*C230+D232*C232+C231*D231+C229*D229","v":8.1081081081081072E-2},null,{"$f":"$C$234*'EoL emissions'!B4","v":2.7434203722566417E-2},{"$f":"$C$234*'EoL emissions'!C4","v":3.2827911374043457E-10},{"$f":"$C$234*'EoL emissions'!D4","v":3.0442985723164254E-8},{"$f":"$C$234*'EoL emissions'!E4","v":1.2176882984675307E-9},{"$f":"$C$234*'EoL emissions'!F4","v":6.2070144735353911E-10},{"$f":"$C$234*'EoL emissions'!G4","v":2.0786701482522217E-4},{"$f":"$C$234*'EoL emissions'!H4","v":3.6753441896737821E-5},{"$f":"$C$234*'EoL emissions'!I4","v":9.7384234788201727E-5},{"$f":"$C$234*'EoL emissions'!J4","v":3.9382419052813242E-4},{"$f":"$C$234*'EoL emissions'!K4","v":7.7522461382599302E-6},{"$f":"$C$234*'EoL emissions'!L4","v":4.4497365852426165E-5},{"$f":"$C$234*'EoL emissions'!M4","v":2.1525785100845622},{"$f":"$C$234*'EoL emissions'!N4","v":0.11125994272156547},{"$f":"$C$234*'EoL emissions'!O4","v":1.0774788700520855E-3},{"$f":"$C$234*'EoL emissions'!P4","v":-1.9794673031986461E-2},{"$f":"$C$234*'EoL emissions'!Q4","v":-1.5025016744913379E-9}]
[null,"end of life HH",{"$f":"D233*C233","v":0},null,{"$f":"$C$235*'EoL emissions'!B5","v":0},{"$f":"$C$235*'EoL emissions'!C5","v":0},{"$f":"$C$235*'EoL emissions'!D5","v":0},{"$f":"$C$235*'EoL emissions'!E5","v":0},{"$f":"$C$235*'EoL emissions'!F5","v":0},{"$f":"$C$235*'EoL emissions'!G5","v":0},{"$f":"$C$235*'EoL emissions'!H5","v":0},{"$f":"$C$235*'EoL emissions'!I5","v":0},{"$f":"$C$235*'EoL emissions'!J5","v":0},{"$f":"$C$235*'EoL emissions'!K5","v":0},{"$f":"$C$235*'EoL emissions'!L5","v":0},{"$f":"$C$235*'EoL emissions'!M5","v":0},{"$f":"$C$235*'EoL emissions'!N5","v":0},{"$f":"$C$235*'EoL emissions'!O5","v":0},{"$f":"$C$235*'EoL emissions'!P5","v":0},{"$f":"$C$235*'EoL emissions'!Q5","v":0}]
["ALMONDS",null,null,null,{"$f":"SUM(E229:E235)","v":5.0081693388577007},{"$f":"SUM(F229:F235)","v":2.6279908992455126E-7},1.3105163437181289E-7,1.0775282893062123E-8,7.6537421496086694E-7,0.11180543458239278,2.2677807495950785E-2,9.4087816667220617E-2,0.41072612148782539,4.8112371110031246E-3,2.1637532500987555E-2,42.20556229386834,1247.9188815643431,352.52930180319436,53.462745867508545,1.6220470471298479E-5]
["Drinks","COFFEE"]
[null,"agriculture ",{"$f":"C239/(1-D238)","v":1},{"$f":"Calculation_original!D238","v":0},{"$f":"$C$238*'Emissions per kg'!C186","v":2.68},{"$f":"$C$238*'Emissions per kg'!D186","v":4.2699999999999999E-8},{"$f":"$C$238*'Emissions per kg'!E186","v":6.9899999999999997E-8},{"$f":"$C$238*'Emissions per kg'!F186","v":3.77E-9},{"$f":"$C$238*'Emissions per kg'!G186","v":5.44E-7},{"$f":"$C$238*'Emissions per kg'!H186","v":2.18E-2},{"$f":"$C$238*'Emissions per kg'!I186","v":6.2100000000000002E-3},{"$f":"$C$238*'Emissions per kg'!J186","v":7.3200000000000001E-2},{"$f":"$C$238*'Emissions per kg'!K186","v":0.32400000000000001},{"$f":"$C$238*'Emissions per kg'!L186","v":3.77E-4},{"$f":"$C$238*'Emissions per kg'!M186","v":5.7799999999999997E-2},{"$f":"$C$238*'Emissions per kg'!N186","v":111},{"$f":"$C$238*'Emissions per kg'!O186","v":984},{"$f":"$C$238*'Emissions per kg'!P186","v":0.126},{"$f":"$C$238*'Emissions per kg'!Q186","v":20.7},{"$f":"$C$238*'Emissions per kg'!R186","v":5.2800000000000003E-6}]
[null,"processsing",{"$f":"(C240/(1-D239))/(1-D240)","v":1},{"$f":"Calculation_original!D239","v":0},{"$f":"$C$239*'Emissions per kg'!C187","v":6.63},{"$f":"$C$239*'Emissions per kg'!D187","v":6.2600000000000002E-7},{"$f":"$C$239*'Emissions per kg'!E187","v":4.8100000000000003E-7},{"$f":"$C$239*'Emissions per kg'!F187","v":5.6099999999999999E-8},{"$f":"$C$239*'Emissions per kg'!G187","v":1.4499999999999999E-7},{"$f":"$C$239*'Emissions per kg'!H187","v":0.876},{"$f":"$C$239*'Emissions per kg'!I187","v":1.66E-2},{"$f":"$C$239*'Emissions per kg'!J187","v":3.8899999999999997E-2},{"$f":"$C$239*'Emissions per kg'!K187","v":5.8700000000000002E-2},{"$f":"$C$239*'Emissions per kg'!L187","v":6.1799999999999995E-4},{"$f":"$C$239*'Emissions per kg'!M187","v":5.3200000000000001E-3},{"$f":"$C$239*'Emissions per kg'!N187","v":2.6},{"$f":"$C$239*'Emissions per kg'!O187","v":77.7},{"$f":"$C$239*'Emissions per kg'!P187","v":1.84},{"$f":"$C$239*'Emissions per kg'!Q187","v":141},{"$f":"$C$239*'Emissions per kg'!R187","v":1.2999999999999999E-5}]
[null,"packaging",1,{"$f":"Calculation_original!D240","v":0},{"$f":"$C$240*'Emissions per kg'!C188","v":0.47299999999999998},{"$f":"$C$240*'Emissions per kg'!D188","v":1.08E-7},{"$f":"$C$240*'Emissions per kg'!E188","v":2.5600000000000001E-8},{"$f":"$C$240*'Emissions per kg'!F188","v":4.01E-9},{"$f":"$C$240*'Emissions per kg'!G188","v":1.6099999999999999E-8},{"$f":"$C$240*'Emissions per kg'!H188","v":2.0299999999999999E-2},{"$f":"$C$240*'Emissions per kg'!I188","v":9.6100000000000005E-4},{"$f":"$C$240*'Emissions per kg'!J188","v":1.75E-3},{"$f":"$C$240*'Emissions per kg'!K188","v":2.7599999999999999E-3},{"$f":"$C$240*'Emissions per kg'!L188","v":1.31E-5},{"$f":"$C$240*'Emissions per kg'!M188","v":3.0600000000000001E-4},{"$f":"$C$240*'Emissions per kg'!N188","v":0.23100000000000001},{"$f":"$C$240*'Emissions per kg'!O188","v":0.77100000000000002},{"$f":"$C$240*'Emissions per kg'!P188","v":8.7300000000000003E-2},{"$f":"$C$240*'Emissions per kg'!Q188","v":7.18},{"$f":"$C$240*'Emissions per kg'!R188","v":4.6399999999999996E-6}]
[null,"retail",0,{"$f":"Calculation_original!D241","v":0},{"$f":"$C$241*'Emissions per kg'!C189","v":0},{"$f":"$C$241*'Emissions per kg'!D189","v":0},{"$f":"$C$241*'Emissions per kg'!E189","v":0},{"$f":"$C$241*'Emissions per kg'!F189","v":0},{"$f":"$C$241*'Emissions per kg'!G189","v":0},{"$f":"$C$241*'Emissions per kg'!H189","v":0},{"$f":"$C$241*'Emissions per kg'!I189","v":0},{"$f":"$C$241*'Emissions per kg'!J189","v":0},{"$f":"$C$241*'Emissions per kg'!K189","v":0},{"$f":"$C$241*'Emissions per kg'!L189","v":0},{"$f":"$C$241*'Emissions per kg'!M189","v":0},{"$f":"$C$241*'Emissions per kg'!N189","v":0},{"$f":"$C$241*'Emissions per kg'!O189","v":0},{"$f":"$C$241*'Emissions per kg'!P189","v":0},{"$f":"$C$241*'Emissions per kg'!Q189","v":0},{"$f":"$C$241*'Emissions per kg'!R189","v":0}]
[null,"use ",0,{"$f":"Calculation_original!D242","v":0.32},{"$f":"$C$242*'Emissions per kg'!C190","v":0},{"$f":"$C$242*'Emissions per kg'!D190","v":0},{"$f":"$C$242*'Emissions per kg'!E190","v":0},{"$f":"$C$242*'Emissions per kg'!F190","v":0},{"$f":"$C$242*'Emissions per kg'!G190","v":0},{"$f":"$C$242*'Emissions per kg'!H190","v":0},{"$f":"$C$242*'Emissions per kg'!I190","v":0},{"$f":"$C$242*'Emissions per kg'!J190","v":0},{"$f":"$C$242*'Emissions per kg'!K190","v":0},{"$f":"$C$242*'Emissions per kg'!L190","v":0},{"$f":"$C$242*'Emissions per kg'!M190","v":0},{"$f":"$C$242*'Emissions per kg'!N190","v":0},{"$f":"$C$242*'Emissions per kg'!O190","v":0},{"$f":"$C$242*'Emissions per kg'!P190","v":0},{"$f":"$C$242*'Emissions per kg'!Q190","v":0},{"$f":"$C$242*'Emissions per kg'!R190","v":0}]
[null,"end of life P&R",{"$f":"D239*C239+D241*C241+C240*D240+C238*D238","v":0},null,{"$f":"$C$243*'EoL emissions'!B4","v":0},{"$f":"$C$243*'EoL emissions'!C4","v":0},{"$f":"$C$243*'EoL emissions'!D4","v":0},{"$f":"$C$243*'EoL emissions'!E4","v":0},{"$f":"$C$243*'EoL emissions'!F4","v":0},{"$f":"$C$243*'EoL emissions'!G4","v":0},{"$f":"$C$243*'EoL emissions'!H4","v":0},{"$f":"$C$243*'EoL emissions'!I4","v":0},{"$f":"$C$243*'EoL emissions'!J4","v":0},{"$f":"$C$243*'EoL emissions'!K4","v":0},{"$f":"$C$243*'EoL emissions'!L4","v":0},{"$f":"$C$243*'EoL emissions'!M4","v":0},{"$f":"$C$243*'EoL emissions'!N4","v":0},{"$f":"$C$243*'EoL emissions'!O4","v":0},{"$f":"$C$243*'EoL emissions'!P4","v":0},{"$f":"$C$243*'EoL emissions'!Q4","v":0}]
[null,"end of life HH",{"$f":"D242*C242*5.14","v":0},null,{"$f":"$C$244*'EoL emissions'!B6","v":0},{"$f":"$C$244*'EoL emissions'!C6","v":0},{"$f":"$C$244*'EoL emissions'!D6","v":0},{"$f":"$C$244*'EoL emissions'!E6","v":0},{"$f":"$C$244*'EoL emissions'!F6","v":0},{"$f":"$C$244*'EoL emissions'!G6","v":0},{"$f":"$C$244*'EoL emissions'!H6","v":0},{"$f":"$C$244*'EoL emissions'!I6","v":0},{"$f":"$C$244*'EoL emissions'!J6","v":0},{"$f":"$C$244*'EoL emissions'!K6","v":0},{"$f":"$C$244*'EoL emissions'!L6","v":0},{"$f":"$C$244*'EoL emissions'!M6","v":0},{"$f":"$C$244*'EoL emissions'!N6","v":0},{"$f":"$C$244*'EoL emissions'!O6","v":0},{"$f":"$C$244*'EoL emissions'!P6","v":0},{"$f":"$C$244*'EoL emissions'!Q6","v":0}]
["COFFEE",null,null,null,{"$f":"SUM(E238:E244)","v":9.7830000000000013},{"$f":"SUM(F238:F244)","v":7.7670000000000001E-7},5.7650000000000001E-7,6.3879999999999987E-8,7.0510000000000003E-7,0.91810000000000003,2.3771E-2,0.11385000000000001,0.38546000000000002,1.0081000000000001E-3,6.3425999999999996E-2,113.83099999999999,1062.471,2.0533000000000001,168.88,2.2920000000000001E-5]
["Drinks","TEA"]
[null,"agriculture ",{"$f":"C248/(1-D247)","v":1.1173184357541899},{"$f":"Calculation_original!D247","v":0},{"$f":"$C$247*'Emissions per kg'!C193","v":2},{"$f":"$C$247*'Emissions per kg'!D193","v":4.4692737430167595E-8},{"$f":"$C$247*'Emissions per kg'!E193","v":3.3072625698324022E-8},{"$f":"$C$247*'Emissions per kg'!F193","v":2.2011173184357539E-9},{"$f":"$C$247*'Emissions per kg'!G193","v":5.4413407821229045E-7},{"$f":"$C$247*'Emissions per kg'!H193","v":1.8882681564245808E-2},{"$f":"$C$247*'Emissions per kg'!I193","v":3.4301675977653628E-3},{"$f":"$C$247*'Emissions per kg'!J193","v":7.5307262569832403E-2},{"$f":"$C$247*'Emissions per kg'!K193","v":0.33407821229050277},{"$f":"$C$247*'Emissions per kg'!L193","v":2.3351955307262567E-2},{"$f":"$C$247*'Emissions per kg'!M193","v":1.6648044692737431E-2},{"$f":"$C$247*'Emissions per kg'!N193","v":0.57318435754189945},{"$f":"$C$247*'Emissions per kg'!O193","v":841.34078212290501},{"$f":"$C$247*'Emissions per kg'!P193","v":1.7318435754189943},{"$f":"$C$247*'Emissions per kg'!Q193","v":18.324022346368711},{"$f":"$C$247*'Emissions per kg'!R193","v":1.6536312849162009E-6}]
[null,"processsing",{"$f":"(C249/(1-D248))/(1-D249)","v":1.1173184357541899},{"$f":"Calculation_original!D248","v":0.105},{"$f":"$C$248*'Emissions per kg'!C194","v":3.7988826815642454},{"$f":"$C$248*'Emissions per kg'!D194","v":5.0391061452513959E-7},{"$f":"$C$248*'Emissions per kg'!E194","v":3.0502793296089385E-6},{"$f":"$C$248*'Emissions per kg'!F194","v":5.3631284916201112E-8},{"$f":"$C$248*'Emissions per kg'!G194","v":1.5195530726256982E-6},{"$f":"$C$248*'Emissions per kg'!H194","v":0.37430167597765363},{"$f":"$C$248*'Emissions per kg'!I194","v":3.1508379888268156E-2},{"$f":"$C$248*'Emissions per kg'!J194","v":3.2178770949720666E-2},{"$f":"$C$248*'Emissions per kg'!K194","v":0.10022346368715083},{"$f":"$C$248*'Emissions per kg'!L194","v":2.4916201117318432E-4},{"$f":"$C$248*'Emissions per kg'!M194","v":8.9050279329608937E-3},{"$f":"$C$248*'Emissions per kg'!N194","v":4.3798882681564244},{"$f":"$C$248*'Emissions per kg'!O194","v":1530.7262569832401},{"$f":"$C$248*'Emissions per kg'!P194","v":0.7877094972067038},{"$f":"$C$248*'Emissions per kg'!Q194","v":67.039106145251395},{"$f":"$C$248*'Emissions per kg'!R194","v":7.1955307262569829E-6}]
[null,"packaging",1,{"$f":"Calculation_original!D249","v":0},{"$f":"$C$249*'Emissions per kg'!C195","v":1.0900000000000001},{"$f":"$C$249*'Emissions per kg'!D195","v":5.0099999999999999E-8},{"$f":"$C$249*'Emissions per kg'!E195","v":5.7199999999999999E-7},{"$f":"$C$249*'Emissions per kg'!F195","v":9.4400000000000005E-9},{"$f":"$C$249*'Emissions per kg'!G195","v":-6.6399999999999999E-8},{"$f":"$C$249*'Emissions per kg'!H195","v":9.4799999999999995E-2},{"$f":"$C$249*'Emissions per kg'!I195","v":1.72E-3},{"$f":"$C$249*'Emissions per kg'!J195","v":4.4400000000000004E-3},{"$f":"$C$249*'Emissions per kg'!K195","v":6.43E-3},{"$f":"$C$249*'Emissions per kg'!L195","v":5.6400000000000002E-5},{"$f":"$C$249*'Emissions per kg'!M195","v":8.3500000000000002E-4},{"$f":"$C$249*'Emissions per kg'!N195","v":1.28},{"$f":"$C$249*'Emissions per kg'!O195","v":-44},{"$f":"$C$249*'Emissions per kg'!P195","v":9.3399999999999997E-2},{"$f":"$C$249*'Emissions per kg'!Q195","v":15.1},{"$f":"$C$249*'Emissions per kg'!R195","v":2.1500000000000001E-5}]
[null,"retail",0,{"$f":"Calculation_original!D250","v":0.02},{"$f":"$C$250*'Emissions per kg'!C196","v":0},{"$f":"$C$250*'Emissions per kg'!D196","v":0},{"$f":"$C$250*'Emissions per kg'!E196","v":0},{"$f":"$C$250*'Emissions per kg'!F196","v":0},{"$f":"$C$250*'Emissions per kg'!G196","v":0},{"$f":"$C$250*'Emissions per kg'!H196","v":0},{"$f":"$C$250*'Emissions per kg'!I196","v":0},{"$f":"$C$250*'Emissions per kg'!J196","v":0},{"$f":"$C$250*'Emissions per kg'!K196","v":0},{"$f":"$C$250*'Emissions per kg'!L196","v":0},{"$f":"$C$250*'Emissions per kg'!M196","v":0},{"$f":"$C$250*'Emissions per kg'!N196","v":0},{"$f":"$C$250*'Emissions per kg'!O196","v":0},{"$f":"$C$250*'Emissions per kg'!P196","v":0},{"$f":"$C$250*'Emissions per kg'!Q196","v":0},{"$f":"$C$250*'Emissions per kg'!R196","v":0}]
[null,"use ",0,{"$f":"Calculation_original!D251","v":0.33300000000000002},{"$f":"$C$251*'Emissions per kg'!C197","v":0},{"$f":"$C$251*'Emissions per kg'!D197","v":0},{"$f":"$C$251*'Emissions per kg'!E197","v":0},{"$f":"$C$251*'Emissions per kg'!F197","v":0},{"$f":"$C$251*'Emissions per kg'!G197","v":0},{"$f":"$C$251*'Emissions per kg'!H197","v":0},{"$f":"$C$251*'Emissions per kg'!I197","v":0},{"$f":"$C$251*'Emissions per kg'!J197","v":0},{"$f":"$C$251*'Emissions per kg'!K197","v":0},{"$f":"$C$251*'Emissions per kg'!L197","v":0},{"$f":"$C$251*'Emissions per kg'!M197","v":0},{"$f":"$C$251*'Emissions per kg'!N197","v":0},{"$f":"$C$251*'Emissions per kg'!O197","v":0},{"$f":"$C$251*'Emissions per kg'!P197","v":0},{"$f":"$C$251*'Emissions per kg'!Q197","v":0},{"$f":"$C$251*'Emissions per kg'!R197","v":0}]
[null,"end of life P&R",{"$f":"D248*C248+D250*C250+C249*D249+C247*D247","v":0.11731843575418993},null,{"$f":"$C$252*'EoL emissions'!B4","v":3.9695300358350297E-2},{"$f":"$C$252*'EoL emissions'!C4","v":4.749960360825282E-10},{"$f":"$C$252*'EoL emissions'!D4","v":4.4048789398321467E-8},{"$f":"$C$252*'EoL emissions'!E4","v":1.7619065324194996E-9},{"$f":"$C$252*'EoL emissions'!F4","v":8.9810991544450633E-10},{"$f":"$C$252*'EoL emissions'!G4","v":3.0076847396498627E-4},{"$f":"$C$252*'EoL emissions'!H4","v":5.317956118019607E-5},{"$f":"$C$252*'EoL emissions'!I4","v":1.4090791514047066E-4},{"$f":"$C$252*'EoL emissions'!J4","v":5.6983500193735358E-4},{"$f":"$C$252*'EoL emissions'!K4","v":1.1216937149772749E-5},{"$f":"$C$252*'EoL emissions'!L4","v":6.4384456736192052E-5},{"$f":"$C$252*'EoL emissions'!M4","v":3.1146247715748694},{"$f":"$C$252*'EoL emissions'!N4","v":0.16098505678706962},{"$f":"$C$252*'EoL emissions'!O4","v":1.5590336723100007E-3},{"$f":"$C$252*'EoL emissions'!P4","v":-2.8641454275332365E-2},{"$f":"$C$252*'EoL emissions'!Q4","v":-2.174010802755623E-9}]
[null,"end of life HH",{"$f":"D251*C251*125","v":0},null,{"$f":"$C$253*'EoL emissions'!B6","v":0},{"$f":"$C$253*'EoL emissions'!C6","v":0},{"$f":"$C$253*'EoL emissions'!D6","v":0},{"$f":"$C$253*'EoL emissions'!E6","v":0},{"$f":"$C$253*'EoL emissions'!F6","v":0},{"$f":"$C$253*'EoL emissions'!G6","v":0},{"$f":"$C$253*'EoL emissions'!H6","v":0},{"$f":"$C$253*'EoL emissions'!I6","v":0},{"$f":"$C$253*'EoL emissions'!J6","v":0},{"$f":"$C$253*'EoL emissions'!K6","v":0},{"$f":"$C$253*'EoL emissions'!L6","v":0},{"$f":"$C$253*'EoL emissions'!M6","v":0},{"$f":"$C$253*'EoL emissions'!N6","v":0},{"$f":"$C$253*'EoL emissions'!O6","v":0},{"$f":"$C$253*'EoL emissions'!P6","v":0},{"$f":"$C$253*'EoL emissions'!Q6","v":0}]
["TEA",null,null,null,{"$f":"SUM(E247:E253)","v":6.9285779819225963},{"$f":"SUM(F247:F253)","v":5.9917834799138963E-7},3.6994007447055838E-6,6.703430876705637E-8,1.9981852607534334E-6,0.48828512601586443,3.6711727047213712E-2,0.11206694143469355,0.44130151097959097,2.3668734255585525E-2,2.6452457082434513E-2,9.347697397273194,2328.2280241629319,2.6145121062980081,100.43448703734477,3.0346988000370428E-5]
["Drinks","BEER"]
[null,"agriculture ",{"$f":"C257/(1-D256)","v":1},{"$f":"Calculation_original!D256","v":0},{"$f":"$C$256*'Emissions per kg'!C200","v":0.107},{"$f":"$C$256*'Emissions per kg'!D200","v":3.6E-9},{"$f":"$C$256*'Emissions per kg'!E200","v":8.7599999999999996E-7},{"$f":"$C$256*'Emissions per kg'!F200","v":4.2199999999999999E-9},{"$f":"$C$256*'Emissions per kg'!G200","v":3.6300000000000001E-8},{"$f":"$C$256*'Emissions per kg'!H200","v":8.6899999999999998E-4},{"$f":"$C$256*'Emissions per kg'!I200","v":2.0799999999999999E-4},{"$f":"$C$256*'Emissions per kg'!J200","v":5.0499999999999998E-3},{"$f":"$C$256*'Emissions per kg'!K200","v":2.2499999999999999E-2},{"$f":"$C$256*'Emissions per kg'!L200","v":4.7700000000000001E-5},{"$f":"$C$256*'Emissions per kg'!M200","v":2.9099999999999998E-3},{"$f":"$C$256*'Emissions per kg'!N200","v":0.79700000000000004},{"$f":"$C$256*'Emissions per kg'!O200","v":46.4},{"$f":"$C$256*'Emissions per kg'!P200","v":2.7799999999999999E-3},{"$f":"$C$256*'Emissions per kg'!Q200","v":0.64800000000000002},{"$f":"$C$256*'Emissions per kg'!R200","v":2.7700000000000001E-7}]
[null,"processsing",{"$f":"(C258/(1-D257))/(1-D258)","v":1},{"$f":"Calculation_original!D257","v":0},{"$f":"$C$257*'Emissions per kg'!C201","v":0.29399999999999998},{"$f":"$C$257*'Emissions per kg'!D201","v":4.3299999999999997E-8},{"$f":"$C$257*'Emissions per kg'!E201","v":1.3000000000000001E-8},{"$f":"$C$257*'Emissions per kg'!F201","v":1.8E-9},{"$f":"$C$257*'Emissions per kg'!G201","v":4.8399999999999998E-9},{"$f":"$C$257*'Emissions per kg'!H201","v":1.83E-2},{"$f":"$C$257*'Emissions per kg'!I201","v":6.1300000000000005E-4},{"$f":"$C$257*'Emissions per kg'!J201","v":1.1199999999999999E-3},{"$f":"$C$257*'Emissions per kg'!K201","v":1.7899999999999999E-3},{"$f":"$C$257*'Emissions per kg'!L201","v":1.08E-4},{"$f":"$C$257*'Emissions per kg'!M201","v":3.2200000000000002E-4},{"$f":"$C$257*'Emissions per kg'!N201","v":8.5699999999999998E-2},{"$f":"$C$257*'Emissions per kg'!O201","v":1.97},{"$f":"$C$257*'Emissions per kg'!P201","v":0.80900000000000005},{"$f":"$C$257*'Emissions per kg'!Q201","v":6.04},{"$f":"$C$257*'Emissions per kg'!R201","v":3.27E-7}]
[null,"packaging",1,{"$f":"Calculation_original!D258","v":0},{"$f":"$C$258*'Emissions per kg'!C202","v":0.47099999999999997},{"$f":"$C$258*'Emissions per kg'!D202","v":7.7299999999999997E-8},{"$f":"$C$258*'Emissions per kg'!E202","v":1.48E-8},{"$f":"$C$258*'Emissions per kg'!F202","v":1.25E-9},{"$f":"$C$258*'Emissions per kg'!G202","v":6.5400000000000002E-10},{"$f":"$C$258*'Emissions per kg'!H202","v":2.1600000000000001E-2},{"$f":"$C$258*'Emissions per kg'!I202","v":6.0300000000000002E-4},{"$f":"$C$258*'Emissions per kg'!J202","v":8.4800000000000001E-4},{"$f":"$C$258*'Emissions per kg'!K202","v":3.1199999999999999E-3},{"$f":"$C$258*'Emissions per kg'!L202","v":5.8799999999999996E-6},{"$f":"$C$258*'Emissions per kg'!M202","v":1.75E-4},{"$f":"$C$258*'Emissions per kg'!N202","v":0.17599999999999999},{"$f":"$C$258*'Emissions per kg'!O202","v":-6.62},{"$f":"$C$258*'Emissions per kg'!P202","v":-5.1799999999999999E-2},{"$f":"$C$258*'Emissions per kg'!Q202","v":7.13},{"$f":"$C$258*'Emissions per kg'!R202","v":1.24E-6}]
[null,"retail",0,{"$f":"Calculation_original!D259","v":0},{"$f":"$C$259*'Emissions per kg'!C203","v":0},{"$f":"$C$259*'Emissions per kg'!D203","v":0},{"$f":"$C$259*'Emissions per kg'!E203","v":0},{"$f":"$C$259*'Emissions per kg'!F203","v":0},{"$f":"$C$259*'Emissions per kg'!G203","v":0},{"$f":"$C$259*'Emissions per kg'!H203","v":0},{"$f":"$C$259*'Emissions per kg'!I203","v":0},{"$f":"$C$259*'Emissions per kg'!J203","v":0},{"$f":"$C$259*'Emissions per kg'!K203","v":0},{"$f":"$C$259*'Emissions per kg'!L203","v":0},{"$f":"$C$259*'Emissions per kg'!M203","v":0},{"$f":"$C$259*'Emissions per kg'!N203","v":0},{"$f":"$C$259*'Emissions per kg'!O203","v":0},{"$f":"$C$259*'Emissions per kg'!P203","v":0},{"$f":"$C$259*'Emissions per kg'!Q203","v":0},{"$f":"$C$259*'Emissions per kg'!R203","v":0}]
[null,"use ",0,{"$f":"Calculation_original!D260","v":0.1},{"$f":"$C$260*'Emissions per kg'!C204","v":0},{"$f":"$C$260*'Emissions per kg'!D204","v":0},{"$f":"$C$260*'Emissions per kg'!E204","v":0},{"$f":"$C$260*'Emissions per kg'!F204","v":0},{"$f":"$C$260*'Emissions per kg'!G204","v":0},{"$f":"$C$260*'Emissions per kg'!H204","v":0},{"$f":"$C$260*'Emissions per kg'!I204","v":0},{"$f":"$C$260*'Emissions per kg'!J204","v":0},{"$f":"$C$260*'Emissions per kg'!K204","v":0},{"$f":"$C$260*'Emissions per kg'!L204","v":0},{"$f":"$C$260*'Emissions per kg'!M204","v":0},{"$f":"$C$260*'Emissions per kg'!N204","v":0},{"$f":"$C$260*'Emissions per kg'!O204","v":0},{"$f":"$C$260*'Emissions per kg'!P204","v":0},{"$f":"$C$260*'Emissions per kg'!Q204","v":0},{"$f":"$C$260*'Emissions per kg'!R204","v":0}]
[null,"end of life A&P",{"$f":"D257*C257+C256*D256","v":0},null,{"$f":"$C$261*'EoL emissions'!B4","v":0},{"$f":"$C$261*'EoL emissions'!C4","v":0},{"$f":"$C$261*'EoL emissions'!D4","v":0},{"$f":"$C$261*'EoL emissions'!E4","v":0},{"$f":"$C$261*'EoL emissions'!F4","v":0},{"$f":"$C$261*'EoL emissions'!G4","v":0},{"$f":"$C$261*'EoL emissions'!H4","v":0},{"$f":"$C$261*'EoL emissions'!I4","v":0},{"$f":"$C$261*'EoL emissions'!J4","v":0},{"$f":"$C$261*'EoL emissions'!K4","v":0},{"$f":"$C$261*'EoL emissions'!L4","v":0},{"$f":"$C$261*'EoL emissions'!M4","v":0},{"$f":"$C$261*'EoL emissions'!N4","v":0},{"$f":"$C$261*'EoL emissions'!O4","v":0},{"$f":"$C$261*'EoL emissions'!P4","v":0},{"$f":"$C$261*'EoL emissions'!Q4","v":0}]
[null,"end of life beer",{"$f":"D260*C260+C259*D259+C258*D258","v":0},null,{"$f":"$C$262*'EoL emissions'!B6","v":0},{"$f":"$C$262*'EoL emissions'!C6","v":0},{"$f":"$C$262*'EoL emissions'!D6","v":0},{"$f":"$C$262*'EoL emissions'!E6","v":0},{"$f":"$C$262*'EoL emissions'!F6","v":0},{"$f":"$C$262*'EoL emissions'!G6","v":0},{"$f":"$C$262*'EoL emissions'!H6","v":0},{"$f":"$C$262*'EoL emissions'!I6","v":0},{"$f":"$C$262*'EoL emissions'!J6","v":0},{"$f":"$C$262*'EoL emissions'!K6","v":0},{"$f":"$C$262*'EoL emissions'!L6","v":0},{"$f":"$C$262*'EoL emissions'!M6","v":0},{"$f":"$C$262*'EoL emissions'!N6","v":0},{"$f":"$C$262*'EoL emissions'!O6","v":0},{"$f":"$C$262*'EoL emissions'!P6","v":0},{"$f":"$C$262*'EoL emissions'!Q6","v":0}]
["BEER",null,null,null,{"$f":"SUM(E256:E262)","v":0.87199999999999989},{"$f":"SUM(F256:F262)","v":1.2419999999999999E-7},9.0379999999999993E-7,7.2699999999999999E-9,4.1794000000000004E-8,4.0769E-2,1.4239999999999999E-3,7.0179999999999999E-3,2.741E-2,1.6157999999999998E-4,3.4069999999999994E-3,1.0587,41.75,0.7599800000000001,13.818,1.844E-6]
["Drinks","WINE"]
[null,"agriculture ",{"$f":"C266/(1-D265)","v":1.0030090270812437},{"$f":"Calculation_original!D265","v":0},{"$f":"$C$265*'Emissions per kg'!C207","v":0.48545636910732193},{"$f":"$C$265*'Emissions per kg'!D207","v":4.5035105315947845E-8},{"$f":"$C$265*'Emissions per kg'!E207","v":1.9458375125376129E-6},{"$f":"$C$265*'Emissions per kg'!F207","v":5.7271815446339018E-8},{"$f":"$C$265*'Emissions per kg'!G207","v":4.0020060180541628E-8},{"$f":"$C$265*'Emissions per kg'!H207","v":1.7552657973921765E-2},{"$f":"$C$265*'Emissions per kg'!I207","v":2.708124373119358E-3},{"$f":"$C$265*'Emissions per kg'!J207","v":5.9177532597793382E-3},{"$f":"$C$265*'Emissions per kg'!K207","v":2.316950852557673E-2},{"$f":"$C$265*'Emissions per kg'!L207","v":9.5887662988966907E-5},{"$f":"$C$265*'Emissions per kg'!M207","v":5.5065195586760278E-3},{"$f":"$C$265*'Emissions per kg'!N207","v":39.017051153460379},{"$f":"$C$265*'Emissions per kg'!O207","v":219.65897693079236},{"$f":"$C$265*'Emissions per kg'!P207","v":68.806419257773314},{"$f":"$C$265*'Emissions per kg'!Q207","v":6.0381143430290871},{"$f":"$C$265*'Emissions per kg'!R207","v":6.3791374122367104E-6}]
[null,"processsing",{"$f":"(C267/(1-D266))/(1-D267)","v":1.0030090270812437},{"$f":"Calculation_original!D266","v":0},{"$f":"$C$266*'Emissions per kg'!C208","v":0.57372116349047142},{"$f":"$C$266*'Emissions per kg'!D208","v":4.623871614844534E-8},{"$f":"$C$266*'Emissions per kg'!E208","v":3.3400200601805413E-8},{"$f":"$C$266*'Emissions per kg'!F208","v":4.2226680040120361E-9},{"$f":"$C$266*'Emissions per kg'!G208","v":1.3640922768304914E-8},{"$f":"$C$266*'Emissions per kg'!H208","v":6.3590772316950844E-2},{"$f":"$C$266*'Emissions per kg'!I208","v":1.8054162487462387E-3},{"$f":"$C$266*'Emissions per kg'!J208","v":3.1695085255767303E-3},{"$f":"$C$266*'Emissions per kg'!K208","v":5.63691073219659E-3},{"$f":"$C$266*'Emissions per kg'!L208","v":3.6710130391173525E-5},{"$f":"$C$266*'Emissions per kg'!M208","v":5.6068204613841531E-4},{"$f":"$C$266*'Emissions per kg'!N208","v":0.18956870611835508},{"$f":"$C$266*'Emissions per kg'!O208","v":5.5667001003009027},{"$f":"$C$266*'Emissions per kg'!P208","v":0.20160481444333},{"$f":"$C$266*'Emissions per kg'!Q208","v":9.3881644934804402},{"$f":"$C$266*'Emissions per kg'!R208","v":1.1334002006018054E-6}]
[null,"packaging",1,{"$f":"Calculation_original!D267","v":3.0000000000000001E-3},{"$f":"$C$267*'Emissions per kg'!C209","v":0.48199999999999998},{"$f":"$C$267*'Emissions per kg'!D209","v":7.2899999999999998E-8},{"$f":"$C$267*'Emissions per kg'!E209","v":2.0999999999999999E-8},{"$f":"$C$267*'Emissions per kg'!F209","v":8.8800000000000004E-10},{"$f":"$C$267*'Emissions per kg'!G209","v":-5.3700000000000001E-10},{"$f":"$C$267*'Emissions per kg'!H209","v":2.3199999999999998E-2},{"$f":"$C$267*'Emissions per kg'!I209","v":6.6299999999999996E-4},{"$f":"$C$267*'Emissions per kg'!J209","v":8.1400000000000005E-4},{"$f":"$C$267*'Emissions per kg'!K209","v":1.2700000000000001E-3},{"$f":"$C$267*'Emissions per kg'!L209","v":5.2299999999999999E-6},{"$f":"$C$267*'Emissions per kg'!M209","v":1.9799999999999999E-4},{"$f":"$C$267*'Emissions per kg'!N209","v":0.29699999999999999},{"$f":"$C$267*'Emissions per kg'!O209","v":-9.4},{"$f":"$C$267*'Emissions per kg'!P209","v":-7.7399999999999997E-2},{"$f":"$C$267*'Emissions per kg'!Q209","v":7.23},{"$f":"$C$267*'Emissions per kg'!R209","v":7.6499999999999998E-7}]
[null,"retail",0,{"$f":"Calculation_original!D268","v":0.01},{"$f":"$C$268*'Emissions per kg'!C210","v":0},{"$f":"$C$268*'Emissions per kg'!D210","v":0},{"$f":"$C$268*'Emissions per kg'!E210","v":0},{"$f":"$C$268*'Emissions per kg'!F210","v":0},{"$f":"$C$268*'Emissions per kg'!G210","v":0},{"$f":"$C$268*'Emissions per kg'!H210","v":0},{"$f":"$C$268*'Emissions per kg'!I210","v":0},{"$f":"$C$268*'Emissions per kg'!J210","v":0},{"$f":"$C$268*'Emissions per kg'!K210","v":0},{"$f":"$C$268*'Emissions per kg'!L210","v":0},{"$f":"$C$268*'Emissions per kg'!M210","v":0},{"$f":"$C$268*'Emissions per kg'!N210","v":0},{"$f":"$C$268*'Emissions per kg'!O210","v":0},{"$f":"$C$268*'Emissions per kg'!P210","v":0},{"$f":"$C$268*'Emissions per kg'!Q210","v":0},{"$f":"$C$268*'Emissions per kg'!R210","v":0}]
[null,"use ",0,{"$f":"Calculation_original!D269","v":0.1},{"$f":"$C$269*'Emissions per kg'!C211","v":0},{"$f":"$C$269*'Emissions per kg'!D211","v":0},{"$f":"$C$269*'Emissions per kg'!E211","v":0},{"$f":"$C$269*'Emissions per kg'!F211","v":0},{"$f":"$C$269*'Emissions per kg'!G211","v":0},{"$f":"$C$269*'Emissions per kg'!H211","v":0},{"$f":"$C$269*'Emissions per kg'!I211","v":0},{"$f":"$C$269*'Emissions per kg'!J211","v":0},{"$f":"$C$269*'Emissions per kg'!K211","v":0},{"$f":"$C$269*'Emissions per kg'!L211","v":0},{"$f":"$C$269*'Emissions per kg'!M211","v":0},{"$f":"$C$269*'Emissions per kg'!N211","v":0},{"$f":"$C$269*'Emissions per kg'!O211","v":0},{"$f":"$C$269*'Emissions per kg'!P211","v":0},{"$f":"$C$269*'Emissions per kg'!Q211","v":0},{"$f":"$C$269*'Emissions per kg'!R211","v":0}]
[null,"end of life A&P",{"$f":"D266*C266+C265*D265","v":0},null,{"$f":"$C$270*'EoL emissions'!B4","v":0},{"$f":"$C$270*'EoL emissions'!C4","v":0},{"$f":"$C$270*'EoL emissions'!D4","v":0},{"$f":"$C$270*'EoL emissions'!E4","v":0},{"$f":"$C$270*'EoL emissions'!F4","v":0},{"$f":"$C$270*'EoL emissions'!G4","v":0},{"$f":"$C$270*'EoL emissions'!H4","v":0},{"$f":"$C$270*'EoL emissions'!I4","v":0},{"$f":"$C$270*'EoL emissions'!J4","v":0},{"$f":"$C$270*'EoL emissions'!K4","v":0},{"$f":"$C$270*'EoL emissions'!L4","v":0},{"$f":"$C$270*'EoL emissions'!M4","v":0},{"$f":"$C$270*'EoL emissions'!N4","v":0},{"$f":"$C$270*'EoL emissions'!O4","v":0},{"$f":"$C$270*'EoL emissions'!P4","v":0},{"$f":"$C$270*'EoL emissions'!Q4","v":0}]
[null,"end of life wine",{"$f":"D269*C269+C268*D268+C267*D267","v":3.0000000000000001E-3},null,{"$f":"$C$271*'EoL emissions'!B6","v":9.6899999999999996E-7},{"$f":"$C$271*'EoL emissions'!C6","v":6.3600000000000002E-14},{"$f":"$C$271*'EoL emissions'!D6","v":1.5750000000000001E-13},{"$f":"$C$271*'EoL emissions'!E6","v":6.27E-14},{"$f":"$C$271*'EoL emissions'!F6","v":7.2899999999999997E-14},{"$f":"$C$271*'EoL emissions'!G6","v":2.6759999999999999E-8},{"$f":"$C$271*'EoL emissions'!H6","v":3.4499999999999999E-9},{"$f":"$C$271*'EoL emissions'!I6","v":4.5299999999999999E-9},{"$f":"$C$271*'EoL emissions'!J6","v":1.0560000000000002E-8},{"$f":"$C$271*'EoL emissions'!K6","v":5.01E-11},{"$f":"$C$271*'EoL emissions'!L6","v":9.3899999999999996E-10},{"$f":"$C$271*'EoL emissions'!M6","v":1.0949999999999999E-6},{"$f":"$C$271*'EoL emissions'!N6","v":7.680000000000001E-6},{"$f":"$C$271*'EoL emissions'!O6","v":-1.1519999999999999E-4},{"$f":"$C$271*'EoL emissions'!P6","v":1.2269999999999999E-5},{"$f":"$C$271*'EoL emissions'!Q6","v":4.6800000000000003E-12}]
["WINE",null,null,null,{"$f":"SUM(E265:E271)","v":1.5411785015977935},{"$f":"SUM(F265:F271)","v":1.6417388506439317E-7},2.0002378706394183E-6,6.2382546150351066E-8,5.3124055848846538E-8,0.1043434570508726,5.1765440718655976E-3,9.9012663153560682E-3,3.007642981777332E-2,1.3782784348014042E-4,6.2652025438144432E-3,39.503620954578736,215.82568471109326,68.930508872216649,22.656291106509528,8.2775422928385157E-6]
["Drinks","MINERAL WATER"]
[null,"agriculture ",{"$f":"C275/(1-D274)","v":1},{"$f":"Calculation_original!D274","v":0},{"$f":"$C$274*'Emissions per kg'!C214","v":0},{"$f":"$C$274*'Emissions per kg'!D214","v":0},{"$f":"$C$274*'Emissions per kg'!E214","v":0},{"$f":"$C$274*'Emissions per kg'!F214","v":0},{"$f":"$C$274*'Emissions per kg'!G214","v":0},{"$f":"$C$274*'Emissions per kg'!H214","v":0},{"$f":"$C$274*'Emissions per kg'!I214","v":0},{"$f":"$C$274*'Emissions per kg'!J214","v":0},{"$f":"$C$274*'Emissions per kg'!K214","v":0},{"$f":"$C$274*'Emissions per kg'!L214","v":0},{"$f":"$C$274*'Emissions per kg'!M214","v":0},{"$f":"$C$274*'Emissions per kg'!N214","v":0},{"$f":"$C$274*'Emissions per kg'!O214","v":0},{"$f":"$C$274*'Emissions per kg'!P214","v":0},{"$f":"$C$274*'Emissions per kg'!Q214","v":0},{"$f":"$C$274*'Emissions per kg'!R214","v":0}]
[null,"processsing",{"$f":"(C276/(1-D275))/(1-D276)","v":1},{"$f":"Calculation_original!D275","v":0},{"$f":"$C$275*'Emissions per kg'!C215","v":3.9399999999999998E-2},{"$f":"$C$275*'Emissions per kg'!D215","v":1.62E-9},{"$f":"$C$275*'Emissions per kg'!E215","v":2.0299999999999998E-9},{"$f":"$C$275*'Emissions per kg'!F215","v":3.6499999999999998E-10},{"$f":"$C$275*'Emissions per kg'!G215","v":1.5799999999999999E-9},{"$f":"$C$275*'Emissions per kg'!H215","v":1.9499999999999999E-3},{"$f":"$C$275*'Emissions per kg'!I215","v":1.3899999999999999E-4},{"$f":"$C$275*'Emissions per kg'!J215","v":1.92E-4},{"$f":"$C$275*'Emissions per kg'!K215","v":3.3300000000000002E-4},{"$f":"$C$275*'Emissions per kg'!L215","v":1.37E-6},{"$f":"$C$275*'Emissions per kg'!M215","v":3.1900000000000003E-5},{"$f":"$C$275*'Emissions per kg'!N215","v":2.3400000000000001E-2},{"$f":"$C$275*'Emissions per kg'!O215","v":0.57699999999999996},{"$f":"$C$275*'Emissions per kg'!P215","v":6.5199999999999994E-2},{"$f":"$C$275*'Emissions per kg'!Q215","v":1.1000000000000001},{"$f":"$C$275*'Emissions per kg'!R215","v":1.03E-7}]
[null,"packaging",1,{"$f":"Calculation_original!D276","v":0},{"$f":"$C$276*'Emissions per kg'!C216","v":3.8199999999999998E-2},{"$f":"$C$276*'Emissions per kg'!D216","v":3.6399999999999998E-9},{"$f":"$C$276*'Emissions per kg'!E216","v":3.72E-9},{"$f":"$C$276*'Emissions per kg'!F216","v":2.6700000000000001E-10},{"$f":"$C$276*'Emissions per kg'!G216","v":1.2199999999999999E-10},{"$f":"$C$276*'Emissions per kg'!H216","v":4.5199999999999997E-3},{"$f":"$C$276*'Emissions per kg'!I216","v":2.3499999999999999E-5},{"$f":"$C$276*'Emissions per kg'!J216","v":1.3999999999999999E-4},{"$f":"$C$276*'Emissions per kg'!K216","v":2.2699999999999999E-4},{"$f":"$C$276*'Emissions per kg'!L216","v":3.3400000000000002E-6},{"$f":"$C$276*'Emissions per kg'!M216","v":2.1699999999999999E-5},{"$f":"$C$276*'Emissions per kg'!N216","v":6.0600000000000001E-2},{"$f":"$C$276*'Emissions per kg'!O216","v":0.58199999999999996},{"$f":"$C$276*'Emissions per kg'!P216","v":5.8599999999999998E-3},{"$f":"$C$276*'Emissions per kg'!Q216","v":7.7299999999999994E-2},{"$f":"$C$276*'Emissions per kg'!R216","v":1.05E-7}]
[null,"retail",0,{"$f":"Calculation_original!D277","v":0},{"$f":"$C$277*'Emissions per kg'!C217","v":0},{"$f":"$C$277*'Emissions per kg'!D217","v":0},{"$f":"$C$277*'Emissions per kg'!E217","v":0},{"$f":"$C$277*'Emissions per kg'!F217","v":0},{"$f":"$C$277*'Emissions per kg'!G217","v":0},{"$f":"$C$277*'Emissions per kg'!H217","v":0},{"$f":"$C$277*'Emissions per kg'!I217","v":0},{"$f":"$C$277*'Emissions per kg'!J217","v":0},{"$f":"$C$277*'Emissions per kg'!K217","v":0},{"$f":"$C$277*'Emissions per kg'!L217","v":0},{"$f":"$C$277*'Emissions per kg'!M217","v":0},{"$f":"$C$277*'Emissions per kg'!N217","v":0},{"$f":"$C$277*'Emissions per kg'!O217","v":0},{"$f":"$C$277*'Emissions per kg'!P217","v":0},{"$f":"$C$277*'Emissions per kg'!Q217","v":0},{"$f":"$C$277*'Emissions per kg'!R217","v":0}]
[null,"use ",0,{"$f":"Calculation_original!D278","v":0.1},{"$f":"$C$278*'Emissions per kg'!C218","v":0},{"$f":"$C$278*'Emissions per kg'!D218","v":0},{"$f":"$C$278*'Emissions per kg'!E218","v":0},{"$f":"$C$278*'Emissions per kg'!F218","v":0},{"$f":"$C$278*'Emissions per kg'!G218","v":0},{"$f":"$C$278*'Emissions per kg'!H218","v":0},{"$f":"$C$278*'Emissions per kg'!I218","v":0},{"$f":"$C$278*'Emissions per kg'!J218","v":0},{"$f":"$C$278*'Emissions per kg'!K218","v":0},{"$f":"$C$278*'Emissions per kg'!L218","v":0},{"$f":"$C$278*'Emissions per kg'!M218","v":0},{"$f":"$C$278*'Emissions per kg'!N218","v":0},{"$f":"$C$278*'Emissions per kg'!O218","v":0},{"$f":"$C$278*'Emissions per kg'!P218","v":0},{"$f":"$C$278*'Emissions per kg'!Q218","v":0},{"$f":"$C$278*'Emissions per kg'!R218","v":0}]
[null,"end of life",{"$f":"D275*C275+D277*C277+C276*D276+C274*D274+C278*D278","v":0},null,{"$f":"$C$279*'EoL emissions'!B6","v":0},{"$f":"$C$279*'EoL emissions'!C6","v":0},{"$f":"$C$279*'EoL emissions'!D6","v":0},{"$f":"$C$279*'EoL emissions'!E6","v":0},{"$f":"$C$279*'EoL emissions'!F6","v":0},{"$f":"$C$279*'EoL emissions'!G6","v":0},{"$f":"$C$279*'EoL emissions'!H6","v":0},{"$f":"$C$279*'EoL emissions'!I6","v":0},{"$f":"$C$279*'EoL emissions'!J6","v":0},{"$f":"$C$279*'EoL emissions'!K6","v":0},{"$f":"$C$279*'EoL emissions'!L6","v":0},{"$f":"$C$279*'EoL emissions'!M6","v":0},{"$f":"$C$279*'EoL emissions'!N6","v":0},{"$f":"$C$279*'EoL emissions'!O6","v":0},{"$f":"$C$279*'EoL emissions'!P6","v":0},{"$f":"$C$279*'EoL emissions'!Q6","v":0}]
["MINERAL WATER",null,null,null,{"$f":"SUM(E274:E279)","v":7.7600000000000002E-2},{"$f":"SUM(F274:F279)","v":5.2599999999999996E-9},5.7500000000000002E-9,6.3199999999999999E-10,1.7019999999999999E-9,6.4700000000000001E-3,1.6249999999999999E-4,3.3199999999999999E-4,5.5999999999999995E-4,4.7100000000000006E-6,5.3600000000000002E-5,8.4000000000000005E-2,1.1589999999999998,7.1059999999999998E-2,1.1773,2.0800000000000001E-7]
["Pre-prepared","MEAT BASED DISHES"]
[null,"agriculture ",{"$f":"C283/(1-D282)","v":1.0319917440660475},{"$f":"Calculation_original!D282","v":0},{"$f":"$C$282*'Emissions per kg'!C221","v":3.6842105263157894},{"$f":"$C$282*'Emissions per kg'!D221","v":1.3931888544891644E-7},{"$f":"$C$282*'Emissions per kg'!E221","v":1.4551083591331271E-6},{"$f":"$C$282*'Emissions per kg'!F221","v":4.0041279669762643E-8},{"$f":"$C$282*'Emissions per kg'!G221","v":3.7358101135190921E-7},{"$f":"$C$282*'Emissions per kg'!H221","v":0.10423116615067081},{"$f":"$C$282*'Emissions per kg'!I221","v":9.195046439628483E-3},{"$f":"$C$282*'Emissions per kg'!J221","v":4.5201238390092879E-2},{"$f":"$C$282*'Emissions per kg'!K221","v":0.1713106295149639},{"$f":"$C$282*'Emissions per kg'!L221","v":7.2136222910216717E-4},{"$f":"$C$282*'Emissions per kg'!M221","v":1.3415892672858618E-2},{"$f":"$C$282*'Emissions per kg'!N221","v":14.860681114551085},{"$f":"$C$282*'Emissions per kg'!O221","v":375.64499484004131},{"$f":"$C$282*'Emissions per kg'!P221","v":0.71620227038183693},{"$f":"$C$282*'Emissions per kg'!Q221","v":27.863777089783284},{"$f":"$C$282*'Emissions per kg'!R221","v":4.7162022703818372E-6}]
[null,"processsing",{"$f":"(C284/(1-D283))/(1-D284)","v":1.0319917440660475},{"$f":"Calculation_original!D283","v":3.1E-2},{"$f":"$C$283*'Emissions per kg'!C222","v":1.1867905056759547},{"$f":"$C$283*'Emissions per kg'!D222","v":1.6305469556243552E-7},{"$f":"$C$283*'Emissions per kg'!E222","v":5.9442724458204335E-8},{"$f":"$C$283*'Emissions per kg'!F222","v":8.297213622291022E-9},{"$f":"$C$283*'Emissions per kg'!G222","v":2.4148606811145515E-8},{"$f":"$C$283*'Emissions per kg'!H222","v":0.10835913312693499},{"$f":"$C$283*'Emissions per kg'!I222","v":2.3116615067079464E-3},{"$f":"$C$283*'Emissions per kg'!J222","v":4.9226006191950469E-3},{"$f":"$C$283*'Emissions per kg'!K222","v":8.297213622291022E-3},{"$f":"$C$283*'Emissions per kg'!L222","v":6.6976264189886497E-5},{"$f":"$C$283*'Emissions per kg'!M222","v":6.9762641898864805E-4},{"$f":"$C$283*'Emissions per kg'!N222","v":0.32817337461300311},{"$f":"$C$283*'Emissions per kg'!O222","v":9.4220846233230144},{"$f":"$C$283*'Emissions per kg'!P222","v":2.9308565531475748},{"$f":"$C$283*'Emissions per kg'!Q222","v":20.639834881320951},{"$f":"$C$283*'Emissions per kg'!R222","v":1.4447884416924664E-6}]
[null,"packaging",1,{"$f":"Calculation_original!D284","v":0},{"$f":"$C$284*'Emissions per kg'!C223","v":0.22},{"$f":"$C$284*'Emissions per kg'!D223","v":1.5399999999999999E-8},{"$f":"$C$284*'Emissions per kg'!E223","v":2.2300000000000001E-8},{"$f":"$C$284*'Emissions per kg'!F223","v":2.7400000000000001E-9},{"$f":"$C$284*'Emissions per kg'!G223","v":2.03E-10},{"$f":"$C$284*'Emissions per kg'!H223","v":1.09E-2},{"$f":"$C$284*'Emissions per kg'!I223","v":1.5300000000000001E-4},{"$f":"$C$284*'Emissions per kg'!J223","v":7.8899999999999999E-4},{"$f":"$C$284*'Emissions per kg'!K223","v":1.2199999999999999E-3},{"$f":"$C$284*'Emissions per kg'!L223","v":1.42E-5},{"$f":"$C$284*'Emissions per kg'!M223","v":1.3200000000000001E-4},{"$f":"$C$284*'Emissions per kg'!N223","v":0.219},{"$f":"$C$284*'Emissions per kg'!O223","v":-9.2899999999999991},{"$f":"$C$284*'Emissions per kg'!P223","v":0.17699999999999999},{"$f":"$C$284*'Emissions per kg'!Q223","v":1.35},{"$f":"$C$284*'Emissions per kg'!R223","v":1.61E-6}]
[null,"retail",0,{"$f":"Calculation_original!D285","v":0.01},{"$f":"$C$285*'Emissions per kg'!C224","v":0},{"$f":"$C$285*'Emissions per kg'!D224","v":0},{"$f":"$C$285*'Emissions per kg'!E224","v":0},{"$f":"$C$285*'Emissions per kg'!F224","v":0},{"$f":"$C$285*'Emissions per kg'!G224","v":0},{"$f":"$C$285*'Emissions per kg'!H224","v":0},{"$f":"$C$285*'Emissions per kg'!I224","v":0},{"$f":"$C$285*'Emissions per kg'!J224","v":0},{"$f":"$C$285*'Emissions per kg'!K224","v":0},{"$f":"$C$285*'Emissions per kg'!L224","v":0},{"$f":"$C$285*'Emissions per kg'!M224","v":0},{"$f":"$C$285*'Emissions per kg'!N224","v":0},{"$f":"$C$285*'Emissions per kg'!O224","v":0},{"$f":"$C$285*'Emissions per kg'!P224","v":0},{"$f":"$C$285*'Emissions per kg'!Q224","v":0},{"$f":"$C$285*'Emissions per kg'!R224","v":0}]
[null,"use ",0,{"$f":"Calculation_original!D286","v":0.24},{"$f":"$C$286*'Emissions per kg'!C225","v":0},{"$f":"$C$286*'Emissions per kg'!D225","v":0},{"$f":"$C$286*'Emissions per kg'!E225","v":0},{"$f":"$C$286*'Emissions per kg'!F225","v":0},{"$f":"$C$286*'Emissions per kg'!G225","v":0},{"$f":"$C$286*'Emissions per kg'!H225","v":0},{"$f":"$C$286*'Emissions per kg'!I225","v":0},{"$f":"$C$286*'Emissions per kg'!J225","v":0},{"$f":"$C$286*'Emissions per kg'!K225","v":0},{"$f":"$C$286*'Emissions per kg'!L225","v":0},{"$f":"$C$286*'Emissions per kg'!M225","v":0},{"$f":"$C$286*'Emissions per kg'!N225","v":0},{"$f":"$C$286*'Emissions per kg'!O225","v":0},{"$f":"$C$286*'Emissions per kg'!P225","v":0},{"$f":"$C$286*'Emissions per kg'!Q225","v":0},{"$f":"$C$286*'Emissions per kg'!R225","v":0}]
[null,"end of life P&R",{"$f":"D283*C283+D285*C285+C284*D284+C282*D282","v":3.1991744066047476E-2},null,{"$f":"$C$287*'EoL emissions'!B4","v":1.0824572297827207E-2},{"$f":"$C$287*'EoL emissions'!C4","v":1.2952739713115877E-10},{"$f":"$C$287*'EoL emissions'!D4","v":1.2011731896962301E-8},{"$f":"$C$287*'EoL emissions'!E4","v":4.8045699289379361E-10},{"$f":"$C$287*'EoL emissions'!F4","v":2.4490696942363588E-10},{"$f":"$C$287*'EoL emissions'!G4","v":8.2017016169428925E-5},{"$f":"$C$287*'EoL emissions'!H4","v":1.4501616049383658E-5},{"$f":"$C$287*'EoL emissions'!I4","v":3.8424395356748333E-5},{"$f":"$C$287*'EoL emissions'!J4","v":1.5538918009486342E-4},{"$f":"$C$287*'EoL emissions'!K4","v":3.0587637841706714E-6},{"$f":"$C$287*'EoL emissions'!L4","v":1.7557096192890548E-5},{"$f":"$C$287*'EoL emissions'!M4","v":0.84933180291262245},{"$f":"$C$287*'EoL emissions'!N4","v":4.3899261885667576E-2},{"$f":"$C$287*'EoL emissions'!O4","v":4.251352817164576E-4},{"$f":"$C$287*'EoL emissions'!P4","v":-7.8102820666283027E-3},{"$f":"$C$287*'EoL emissions'!Q4","v":-5.9283433802599417E-10}]
[null,"end of life HH",{"$f":"D286*C286","v":0},null,{"$f":"$C$288*'EoL emissions'!B5","v":0},{"$f":"$C$288*'EoL emissions'!C5","v":0},{"$f":"$C$288*'EoL emissions'!D5","v":0},{"$f":"$C$288*'EoL emissions'!E5","v":0},{"$f":"$C$288*'EoL emissions'!F5","v":0},{"$f":"$C$288*'EoL emissions'!G5","v":0},{"$f":"$C$288*'EoL emissions'!H5","v":0},{"$f":"$C$288*'EoL emissions'!I5","v":0},{"$f":"$C$288*'EoL emissions'!J5","v":0},{"$f":"$C$288*'EoL emissions'!K5","v":0},{"$f":"$C$288*'EoL emissions'!L5","v":0},{"$f":"$C$288*'EoL emissions'!M5","v":0},{"$f":"$C$288*'EoL emissions'!N5","v":0},{"$f":"$C$288*'EoL emissions'!O5","v":0},{"$f":"$C$288*'EoL emissions'!P5","v":0},{"$f":"$C$288*'EoL emissions'!Q5","v":0}]
["MEAT BASED DISHES",null,null,null,{"$f":"SUM(E282:E288)","v":5.1018256042895711},{"$f":"SUM(F282:F288)","v":3.1790310840848313E-7},1.5488628154882937E-6,5.1558950284947465E-8,3.9817752513247834E-7,0.22357231629377522,1.1674209562385813E-2,5.0951263404644676E-2,0.18098323231734978,8.0559725707622437E-4,1.4263076188040156E-2,16.25718629207671,375.82097872524997,3.8244839588111281,49.845801689037607,7.7703978777362766E-6]
[null,"AVERAGE BASKET"]
[null,"agriculture ",{"$f":"C292/(1-D291)","v":1.0356535649758949},6.1000000000000004E-3,{"$f":"$C$291*'Emissions per kg'!C230","v":2.380297926887756},{"$f":"$C$291*'Emissions per kg'!D230","v":2.9672298472636832E-8},{"$f":"$C$291*'Emissions per kg'!E230","v":2.5299987280614264E-6},{"$f":"$C$291*'Emissions per kg'!F230","v":3.2705611727406994E-8},{"$f":"$C$291*'Emissions per kg'!G230","v":3.2270366311984632E-7},{"$f":"$C$291*'Emissions per kg'!H230","v":1.6853762773721363E-2},{"$f":"$C$291*'Emissions per kg'!I230","v":3.4819282808152426E-3},{"$f":"$C$291*'Emissions per kg'!J230","v":4.4031909455762443E-2},{"$f":"$C$291*'Emissions per kg'!K230","v":0.19448655828437847},{"$f":"$C$291*'Emissions per kg'!L230","v":5.4990659356584422E-4},{"$f":"$C$291*'Emissions per kg'!M230","v":1.6906053605669383E-2},{"$f":"$C$291*'Emissions per kg'!N230","v":8.8302174892689074},{"$f":"$C$291*'Emissions per kg'!O230","v":324.61161725122395},{"$f":"$C$291*'Emissions per kg'!P230","v":5.139768247844775},{"$f":"$C$291*'Emissions per kg'!Q230","v":8.1493251170820979},{"$f":"$C$291*'Emissions per kg'!R230","v":9.748208713582587E-7}]
[null,"processsing",{"$f":"(C293/(1-D292))/(1-D293)","v":1.029336078229542},2.8500000000000001E-2,{"$f":"$C$292*'Emissions per kg'!C231","v":0.37166627514446104},{"$f":"$C$292*'Emissions per kg'!D231","v":1.0312900060090734E-6},{"$f":"$C$292*'Emissions per kg'!E231","v":2.4431033563680934E-8},{"$f":"$C$292*'Emissions per kg'!F231","v":1.9083598154344827E-9},{"$f":"$C$292*'Emissions per kg'!G231","v":1.0476966934815347E-8},{"$f":"$C$292*'Emissions per kg'!H231","v":2.6871881186044354E-2},{"$f":"$C$292*'Emissions per kg'!I231","v":9.7496222829082408E-4},{"$f":"$C$292*'Emissions per kg'!J231","v":1.6460250998394073E-3},{"$f":"$C$292*'Emissions per kg'!K231","v":3.5536520138623354E-3},{"$f":"$C$292*'Emissions per kg'!L231","v":2.8048216245073175E-5},{"$f":"$C$292*'Emissions per kg'!M231","v":3.3026950242519618E-4},{"$f":"$C$292*'Emissions per kg'!N231","v":0.16159562310396067},{"$f":"$C$292*'Emissions per kg'!O231","v":3.8142897535758538},{"$f":"$C$292*'Emissions per kg'!P231","v":0.33609553030342432},{"$f":"$C$292*'Emissions per kg'!Q231","v":5.6754329208960632},{"$f":"$C$292*'Emissions per kg'!R231","v":5.5664989540742977E-7}]
[null,"packaging",1,0,{"$f":"$C$293*'Emissions per kg'!C232","v":0.1797022568333608},{"$f":"$C$293*'Emissions per kg'!D232","v":1.7661934985067989E-8},{"$f":"$C$293*'Emissions per kg'!E232","v":9.9738872333957555E-9},{"$f":"$C$293*'Emissions per kg'!F232","v":7.989363157215768E-10},{"$f":"$C$293*'Emissions per kg'!G232","v":-5.4785689118311634E-10},{"$f":"$C$293*'Emissions per kg'!H232","v":6.7932243202884325E-3},{"$f":"$C$293*'Emissions per kg'!I232","v":1.7818452620594813E-4},{"$f":"$C$293*'Emissions per kg'!J232","v":3.7219591330860742E-4},{"$f":"$C$293*'Emissions per kg'!K232","v":7.4611779667744539E-4},{"$f":"$C$293*'Emissions per kg'!L232","v":4.5896368561532638E-6},{"$f":"$C$293*'Emissions per kg'!M232","v":6.7714199750118067E-5},{"$f":"$C$293*'Emissions per kg'!N232","v":8.6949183887218368E-2},{"$f":"$C$293*'Emissions per kg'!O232","v":-5.0765278810736056},{"$f":"$C$293*'Emissions per kg'!P232","v":2.7271796017758556E-4},{"$f":"$C$293*'Emissions per kg'!Q232","v":1.7586155323594921},{"$f":"$C$293*'Emissions per kg'!R232","v":7.7768746405359901E-7}]
[null,"retail",0,2.9000000000000001E-2,{"$f":"$C$294*'Emissions per kg'!C233","v":0},{"$f":"$C$294*'Emissions per kg'!D233","v":0},{"$f":"$C$294*'Emissions per kg'!E233","v":0},{"$f":"$C$294*'Emissions per kg'!F233","v":0},{"$f":"$C$294*'Emissions per kg'!G233","v":0},{"$f":"$C$294*'Emissions per kg'!H233","v":0},{"$f":"$C$294*'Emissions per kg'!I233","v":0},{"$f":"$C$294*'Emissions per kg'!J233","v":0},{"$f":"$C$294*'Emissions per kg'!K233","v":0},{"$f":"$C$294*'Emissions per kg'!L233","v":0},{"$f":"$C$294*'Emissions per kg'!M233","v":0},{"$f":"$C$294*'Emissions per kg'!N233","v":0},{"$f":"$C$294*'Emissions per kg'!O233","v":0},{"$f":"$C$294*'Emissions per kg'!P233","v":0},{"$f":"$C$294*'Emissions per kg'!Q233","v":0},{"$f":"$C$294*'Emissions per kg'!R233","v":0}]
[null,"use ",0,0.124,{"$f":"$C$295*'Emissions per kg'!C234","v":0},{"$f":"$C$295*'Emissions per kg'!D234","v":0},{"$f":"$C$295*'Emissions per kg'!E234","v":0},{"$f":"$C$295*'Emissions per kg'!F234","v":0},{"$f":"$C$295*'Emissions per kg'!G234","v":0},{"$f":"$C$295*'Emissions per kg'!H234","v":0},{"$f":"$C$295*'Emissions per kg'!I234","v":0},{"$f":"$C$295*'Emissions per kg'!J234","v":0},{"$f":"$C$295*'Emissions per kg'!K234","v":0},{"$f":"$C$295*'Emissions per kg'!L234","v":0},{"$f":"$C$295*'Emissions per kg'!M234","v":0},{"$f":"$C$295*'Emissions per kg'!N234","v":0},{"$f":"$C$295*'Emissions per kg'!O234","v":0},{"$f":"$C$295*'Emissions per kg'!P234","v":0},{"$f":"$C$295*'Emissions per kg'!Q234","v":0},{"$f":"$C$295*'Emissions per kg'!R234","v":0}]
[null,"end of life P&R",{"$f":"D292*C292+D294*C294+C293*D293+C291*D291","v":3.5653564975894905E-2},null,{"$f":"$C$296*'EoL emissions'!B4","v":1.2063568368141672E-2},{"$f":"$C$296*'EoL emissions'!C4","v":1.4435328878100993E-10},{"$f":"$C$296*'EoL emissions'!D4","v":1.3386611957673294E-8},{"$f":"$C$296*'EoL emissions'!E4","v":5.3545078939418786E-10},{"$f":"$C$296*'EoL emissions'!F4","v":2.7293937240083416E-10},{"$f":"$C$296*'EoL emissions'!G4","v":9.1404801472801884E-5},{"$f":"$C$296*'EoL emissions'!H4","v":1.6161491821288482E-5},{"$f":"$C$296*'EoL emissions'!I4","v":4.2822506759337121E-5},{"$f":"$C$296*'EoL emissions'!J4","v":1.7317524851491247E-4},{"$f":"$C$296*'EoL emissions'!K4","v":3.4088742739281633E-6},{"$f":"$C$296*'EoL emissions'!L4","v":1.9566706604332939E-5},{"$f":"$C$296*'EoL emissions'!M4","v":0.94654753922518498},{"$f":"$C$296*'EoL emissions'!N4","v":4.8924034363464729E-2},{"$f":"$C$296*'EoL emissions'!O4","v":4.7379687581052221E-4},{"$f":"$C$296*'EoL emissions'!P4","v":-8.7042581538444627E-3},{"$f":"$C$296*'EoL emissions'!Q4","v":-6.606910066270365E-10}]
[null,"end of life HH",{"$f":"D295*C295","v":0},null,{"$f":"$C$297*'EoL emissions'!B5","v":0},{"$f":"$C$297*'EoL emissions'!C5","v":0},{"$f":"$C$297*'EoL emissions'!D5","v":0},{"$f":"$C$297*'EoL emissions'!E5","v":0},{"$f":"$C$297*'EoL emissions'!F5","v":0},{"$f":"$C$297*'EoL emissions'!G5","v":0},{"$f":"$C$297*'EoL emissions'!H5","v":0},{"$f":"$C$297*'EoL emissions'!I5","v":0},{"$f":"$C$297*'EoL emissions'!J5","v":0},{"$f":"$C$297*'EoL emissions'!K5","v":0},{"$f":"$C$297*'EoL emissions'!L5","v":0},{"$f":"$C$297*'EoL emissions'!M5","v":0},{"$f":"$C$297*'EoL emissions'!N5","v":0},{"$f":"$C$297*'EoL emissions'!O5","v":0},{"$f":"$C$297*'EoL emissions'!P5","v":0},{"$f":"$C$297*'EoL emissions'!Q5","v":0}]
["UNSPECIFIED/UNKOWN",null,null,null,{"$f":"SUM(E291:E297)","v":2.9437300272337192},{"$f":"SUM(F291:F297)","v":1.078768592755559E-6},2.5777902608161763E-6,3.5948358647957242E-8,3.3290571253587941E-7,5.0610273081526956E-2,4.6512365271333036E-3,4.6092952975669794E-2,0.19895950334343315,5.8595332094099888E-4,1.7323604014449032E-2,10.025309835485272,323.39830315808962,5.4766102929841871,15.574669312183808,2.3084975398126609E-6]
[]
["FOOD WASTE PREVENTION"]
[null,"agriculture ",{"$f":"C282+C274+C265+C256+C247+C238+C229+C220+C211+C202+C193+C184+C175+C166+C157+C148+C139+C130+C121+C112+C103+C94+C85+C76+C67+C58+C49+C40+C31+C22+C13+C4","v":33.854850804491512},null,{"$f":"E282+E274+E265+E256+E247+E238+E229+E220+E211+E202+E193+E184+E175+E166+E157+E148+E139+E130+E121+E112+E103+E94+E85+E76+E67+E58+E49+E40+E31+E22+E13+E4","v":136.65414713830214},{"$f":"F282+F274+F265+F256+F247+F238+F229+F220+F211+F202+F193+F184+F175+F166+F157+F148+F139+F130+F121+F112+F103+F94+F85+F76+F67+F58+F49+F40+F31+F22+F13+F4","v":2.389435865226203E-6},1.4290534163689228E-4,1.8267115372582373E-6,1.7255877874547338E-5,1.1424651236556869,0.24496628777155405,2.3228800434587322,10.153059394816987,7.5478655884373858E-2,1.0805117133330717,582.95407048932714,21089.830017272961,575.3110709373326,596.28977389637566,9.3098867595171319E-5]
[null,"processsing",null,null,{"$f":"E283+E275+E266+E257+E248+E239+E230+E221+E212+E203+E194+E185+E176+E167+E158+E149+E140+E131+E122+E113+E104+E95+E86+E77+E68+E59+E50+E41+E32+E23+E14+E5","v":26.215347420921042},{"$f":"F283+F275+F266+F257+F248+F239+F230+F221+F212+F203+F194+F185+F176+F167+F158+F149+F140+F131+F122+F113+F104+F95+F86+F77+F68+F59+F50+F41+F32+F23+F14+F5","v":4.4916214631843848E-5},4.4809318644754338E-6,1.7959818771535446E-7,2.1584822195621823E-6,2.206777500945059,9.7618783018845384E-2,0.14516681679352073,0.33349467862282789,1.7819569434046037E-3,3.029447272574972E-2,14.929300816649352,1700.7533277210691,18.432763359079168,424.2743101778828,3.6901579781617997E-5]
[null,"packaging",null,null,{"$f":"E284+E276+E267+E258+E249+E240+E231+E222+E213+E204+E195+E186+E177+E168+E159+E150+E141+E132+E123+E114+E105+E96+E87+E78+E69+E60+E51+E42+E33+E24+E15+E6","v":7.4811800000000002},{"$f":"F284+F276+F267+F258+F249+F240+F231+F222+F213+F204+F195+F186+F177+F168+F159+F150+F141+F132+F123+F114+F105+F96+F87+F78+F69+F60+F51+F42+F33+F24+F15+F6","v":6.9690399999999995E-7},1.048246E-6,4.6094300000000005E-8,-1.2675899999999998E-7,0.34357899999999997,9.1228900000000016E-3,2.1389600000000005E-2,3.2096399999999983E-2,2.4346570000000005E-4,3.7096799999999999E-3,4.773600000000001,-389.08509999999995,-9.6502999999999936E-2,84.958799999999982,6.7525310000000023E-5]
[null,"retail",null,null,{"$f":"E285+E277+E268+E259+E250+E241+E232+E223+E214+E205+E196+E187+E178+E169+E160+E151+E142+E133+E124+E115+E106+E97+E88+E79+E70+E61+E52+E43+E34+E25+E16+E7","v":0},{"$f":"F285+F277+F268+F259+F250+F241+F232+F223+F214+F205+F196+F187+F178+F169+F160+F151+F142+F133+F124+F115+F106+F97+F88+F79+F70+F61+F52+F43+F34+F25+F16+F7","v":0},0,0,0,0,0,0,0,0,0,0,0,0,0,0]
[null,"use ",null,null,{"$f":"E286+E278+E269+E260+E251+E242+E233+E224+E215+E206+E197+E188+E179+E170+E161+E152+E143+E134+E125+E116+E107+E98+E89+E80+E71+E62+E53+E44+E35+E26+E17+E8","v":0},{"$f":"F286+F278+F269+F260+F251+F242+F233+F224+F215+F206+F197+F188+F179+F170+F161+F152+F143+F134+F125+F116+F107+F98+F89+F80+F71+F62+F53+F44+F35+F26+F17+F8","v":0},0,0,0,0,0,0,0,0,0,0,0,0,0,0]
[null,"end of life food waste",null,null,{"$f":"E288+E287+E279+E271+E270+E262+E261+E253+E252+E244+E243+E235+E234+E226+E225+E217+E216+E208+E207+E199+E198+E190+E189+E181+E180+E172+E171+E163+E162+E154+E153+E145+E144+E136+E135+E127+E126+E118+E117+E109+E108+E100+E99+E91+E90+E82+E81+E73+E72+E64+E63+E55+E54+E46+E45+E37+E36+E28+E27+E19+E18+E10+E9","v":0.62658122552900308},{"$f":"F288+F287+F279+F271+F270+F262+F261+F253+F252+F244+F243+F235+F234+F226+F225+F217+F216+F208+F207+F199+F198+F190+F189+F181+F180+F172+F171+F163+F162+F154+F153+F145+F144+F136+F135+F127+F126+F118+F117+F109+F108+F100+F99+F91+F90+F82+F81+F73+F72+F64+F63+F55+F54+F46+F45+F37+F36+F28+F27+F19+F18+F10+F9","v":7.4977556555342811E-9},6.9529913525887092E-7,2.7811310809911427E-8,1.4176510315269041E-8,4.7475809004531612E-3,8.39429346405331E-4,2.2242002614503704E-3,8.9947116573555561E-3,1.7705656040036444E-4,1.0162932721995237E-3,49.163563802604941,2.5411160043701706,2.4493751425350829E-2,-0.4520858273866421,-3.4311529581240548E-8]
[null,"TOTAL",null,null,{"$f":"SUM(E301:E306)","v":170.97725578475217},{"$f":"SUM(F301:F306)","v":4.8010052252725587E-5},1.4912981863662657E-4,2.0802153357835032E-6,1.9301777604424787E-5,3.6975692055011988,0.35254739013680481,2.4916606605137033,10.527645185097169,7.7681135088178824E-2,1.115532159331021,651.82053510858145,22404.039360998398,593.67182504783716,1105.0707982468718,1.9749144584720813E-4]
[]
[]
["TOTAL BASKET WITH WASTE AMOUNTS IN SIMAPRO"]
[null,"agriculture ",708.5979720451387,null,1631.5969417471056,2.0418228148237946E-5,1.7311128187481363E-3,2.2382432742444079E-5,2.2266275613243454E-4,11.577299044466747,2.3880046534401647,30.391477429015602,134.24348308658077,0.38630180670328906,11.624496427172886,6025.7460848144528,222111.13320087802,5308.5969099121567,5610.4844881554636,6.6911056240210839E-4]
[null,"processsing",null,null,254.31281984122398,7.0566066130240042E-4,1.6716945961266835E-5,1.3057960821066813E-6,7.168869447572379E-6,18.387097070362532,0.66711835347167303,1.1262934322111589,2.4315880261896381,1.9192004875956233E-2,0.22598705905361816,110.57187948945477,2609.9295195571071,1082.3135002418903,3883.4175884583278,3.8088794715195073E-4]
[null,"packaging",null,null,122.94787510708115,1.208386257890557E-5,6.8238889344655241E-6,5.4661262521001646E-7,-3.7483024320722329E-7,4.6477574072968206,0.12190948104952425,0.25464731201048235,0.51047549038927398,3.1401169296413154E-3,4.6328394092310078E-2,59.488498306070092,-3473.2358229570273,0.18658693718278907,1203.2015993789571,5.3207468224213258E-4]
[null,"retail",null,null,144.75712300479,2.5426825257367407E-3,1.0700079348519428E-5,5.3529873905248149E-7,6.8834126248327614E-6,4.8228682540975853,0.49934153260150455,0.49524512005516214,1.6463804210167543,1.5164619422950499E-3,0.16290243415247055,177.69675053188905,1220.6120970887489,93.585149633685916,1092.4328657026217,2.0978649722289911E-4]
[null,"use ",null,null,179.75526699999995,1.1969046640000002E-5,1.8892666799999999E-5,1.8380119899999999E-6,6.9320137900000001E-6,8.9976042400000011,0.38182367200000011,0.94928086600000006,2.1911555499999995,0.22006650502999997,3.4424493619999996,208.65540300000001,5155.6372660000006,992.66854630000023,2201.3038649999999,5.2626590459999988E-4]
[null,"end of life food waste",null,null,34.726127411719176,2.8772729542925372E-7,7.1237954396470717E-7,1.4563119009689656E-7,4.9186053809221436E-7,0.10488003141648113,3.2208071064044629E-2,8.4745406064160034E-2,0.3693040304076407,1.9442490594397466E-4,4.964763059232339E-2,4.0066020571636187,61.536298298470108,-0.4908253495520466,18.020222240316375,-3.7805340232260273E-6]
[null,"TOTAL",null,null,2368.09615411192,3.2931020517017141E-3,1.7849587793363527E-3,2.6753783368910155E-5,2.4376408228972464E-4,48.537506047640164,4.0904057636269107,33.301689565356568,141.39238660458406,0.63041132038712566,15.551811307063609,6586.1652181990303,227685.61255886531,7476.8598676753645,14008.860628935687,2.3143450595958645E-3]
[]
[]
["DIFFERENCE",null,{"$f":"C301-C311","v":-674.74312124064716},null,{"$f":"E307-E317","v":-2197.1188983271677},{"$f":"F307-F317","v":-3.2450919994489887E-3},-1.6358289606997261E-3,-2.4673568033126652E-5,-2.2446230468529986E-4,-44.839936842138968,-3.7378583734901056,-30.810028904842866,-130.8647414194869,-0.5527301852989468,-14.436279147732588,-5934.3446830904486,-205281.57319786691,-6883.1880426275275,-12903.789830688815,-2.1168536137486562E-3]
[null,null,{"$f":"C320/C311","v":-0.95222276644853998},null,{"$f":"E320/E317","v":-0.92779969872090273},{"$f":"F320/F317","v":-0.98542102507029317},-0.91645195375768118,-0.92224593781375741,-0.92081779471725556,-0.92382037095453595,-0.91381114478378644,-0.92517915177775989,-0.92554305477183418,-0.87677706193398286,-0.92826995278522006,-0.90103185791521634,-0.90160098783050635,-0.92059877601632567,-0.92111629721232879,-0.91466637827909092]
[]
["Food waste amount, kg",null,{"$f":"C311-C301","v":674.74312124064716}]
[]
["FOOD WASTE PREVENTION"]
["DEFAULT FOOD WASTE AMOUNTS"]

{"sheet":"Calculation_primary","index":10,"n_rows":369,"n_cols":20,"rows_kept":369,"cut":false,"hidden":true,"merged":[[279,0,279,1],[288,0,288,1],[226,0,226,1],[235,0,235,1],[244,0,244,1],[253,0,253,1],[262,0,262,1],[271,0,271,1],[217,0,217,1],[118,0,118,1],[127,0,127,1],[136,0,136,1],[145,0,145,1],[154,0,154,1],[163,0,163,1],[172,0,172,1],[181,0,181,1],[190,0,190,1],[199,0,199,1],[208,0,208,1],[109,0,109,1],[10,0,10,1],[19,0,19,1],[28,0,28,1],[37,0,37,1],[46,0,46,1],[55,0,55,1],[64,0,64,1],[73,0,73,1],[82,0,82,1],[91,0,91,1],[100,0,100,1]]}
[null,null,"Amount","Foodwaste","IPCC GWP 100a","Ozone depletion","Human toxicity, non-cancer effects","Human toxicity, cancer effects","Particulate matter","Ionizing radiation HH","Photochemical ozone formation","Acidification","Terrestrial eutrophication","Freshwater eutrophication","Marine eutrophication","Freshwater ecotoxicity","Land use","Water scarcity","ADP Fossil","ADP (ultimate)"]
[null,null,"kg","%","kg CO2 eq","kg CFC11 eq","CTUh","CTUh","Death","kBq U235 eq","kg NMVOC eq","molc H+ eq","molc N eq","kg P eq","kg N eq","CTUe","Pt","m3 water eq","MJ","kg Sb eq"]
["Meat","PORK"]
[null,"agriculture ",1,{"$f":"Calculation_original!D4","v":0},{"$f":"$C$4*'Emissions per kg'!C4","v":6.11},{"$f":"$C$4*'Emissions per kg'!D4","v":3.4200000000000002E-8},{"$f":"$C$4*'Emissions per kg'!E4","v":2.21E-6},{"$f":"$C$4*'Emissions per kg'!F4","v":6.9899999999999997E-8},{"$f":"$C$4*'Emissions per kg'!G4","v":9.0699999999999996E-7},{"$f":"$C$4*'Emissions per kg'!H4","v":5.5399999999999998E-2},{"$f":"$C$4*'Emissions per kg'!I4","v":7.5500000000000003E-3},{"$f":"$C$4*'Emissions per kg'!J4","v":0.126},{"$f":"$C$4*'Emissions per kg'!K4","v":0.55900000000000005},{"$f":"$C$4*'Emissions per kg'!L4","v":1.33E-3},{"$f":"$C$4*'Emissions per kg'!M4","v":3.9199999999999999E-2},{"$f":"$C$4*'Emissions per kg'!N4","v":16.8},{"$f":"$C$4*'Emissions per kg'!O4","v":786},{"$f":"$C$4*'Emissions per kg'!P4","v":1.21},{"$f":"$C$4*'Emissions per kg'!Q4","v":20.9},{"$f":"$C$4*'Emissions per kg'!R4","v":1.8099999999999999E-7}]
[null,"processsing",null,{"$f":"Calculation_original!D5","v":0.05},{"$f":"$C$5*'Emissions per kg'!C5","v":0},{"$f":"$C$5*'Emissions per kg'!D5","v":0},{"$f":"$C$5*'Emissions per kg'!E5","v":0},{"$f":"$C$5*'Emissions per kg'!F5","v":0},{"$f":"$C$5*'Emissions per kg'!G5","v":0},{"$f":"$C$5*'Emissions per kg'!H5","v":0},{"$f":"$C$5*'Emissions per kg'!I5","v":0},{"$f":"$C$5*'Emissions per kg'!J5","v":0},{"$f":"$C$5*'Emissions per kg'!K5","v":0},{"$f":"$C$5*'Emissions per kg'!L5","v":0},{"$f":"$C$5*'Emissions per kg'!M5","v":0},{"$f":"$C$5*'Emissions per kg'!N5","v":0},{"$f":"$C$5*'Emissions per kg'!O5","v":0},{"$f":"$C$5*'Emissions per kg'!P5","v":0},{"$f":"$C$5*'Emissions per kg'!Q5","v":0},{"$f":"$C$5*'Emissions per kg'!R5","v":0}]
[null,"packaging",null,{"$f":"Calculation_original!D6","v":0},{"$f":"$C$6*'Emissions per kg'!C6","v":0},{"$f":"$C$6*'Emissions per kg'!D6","v":0},{"$f":"$C$6*'Emissions per kg'!E6","v":0},{"$f":"$C$6*'Emissions per kg'!F6","v":0},{"$f":"$C$6*'Emissions per kg'!G6","v":0},{"$f":"$C$6*'Emissions per kg'!H6","v":0},{"$f":"$C$6*'Emissions per kg'!I6","v":0},{"$f":"$C$6*'Emissions per kg'!J6","v":0},{"$f":"$C$6*'Emissions per kg'!K6","v":0},{"$f":"$C$6*'Emissions per kg'!L6","v":0},{"$f":"$C$6*'Emissions per kg'!M6","v":0},{"$f":"$C$6*'Emissions per kg'!N6","v":0},{"$f":"$C$6*'Emissions per kg'!O6","v":0},{"$f":"$C$6*'Emissions per kg'!P6","v":0},{"$f":"$C$6*'Emissions per kg'!Q6","v":0},{"$f":"$C$6*'Emissions per kg'!R6","v":0}]
[null,"retail",null,{"$f":"Calculation_original!D7","v":0.04},{"$f":"$C$7*'Emissions per kg'!C7","v":0},{"$f":"$C$7*'Emissions per kg'!D7","v":0},{"$f":"$C$7*'Emissions per kg'!E7","v":0},{"$f":"$C$7*'Emissions per kg'!F7","v":0},{"$f":"$C$7*'Emissions per kg'!G7","v":0},{"$f":"$C$7*'Emissions per kg'!H7","v":0},{"$f":"$C$7*'Emissions per kg'!I7","v":0},{"$f":"$C$7*'Emissions per kg'!J7","v":0},{"$f":"$C$7*'Emissions per kg'!K7","v":0},{"$f":"$C$7*'Emissions per kg'!L7","v":0},{"$f":"$C$7*'Emissions per kg'!M7","v":0},{"$f":"$C$7*'Emissions per kg'!N7","v":0},{"$f":"$C$7*'Emissions per kg'!O7","v":0},{"$f":"$C$7*'Emissions per kg'!P7","v":0},{"$f":"$C$7*'Emissions per kg'!Q7","v":0},{"$f":"$C$7*'Emissions per kg'!R7","v":0}]
[null,"use ",null,{"$f":"Calculation_original!D8","v":0.11},{"$f":"$C$8*'Emissions per kg'!C8","v":0},{"$f":"$C$8*'Emissions per kg'!D8","v":0},{"$f":"$C$8*'Emissions per kg'!E8","v":0},{"$f":"$C$8*'Emissions per kg'!F8","v":0},{"$f":"$C$8*'Emissions per kg'!G8","v":0},{"$f":"$C$8*'Emissions per kg'!H8","v":0},{"$f":"$C$8*'Emissions per kg'!I8","v":0},{"$f":"$C$8*'Emissions per kg'!J8","v":0},{"$f":"$C$8*'Emissions per kg'!K8","v":0},{"$f":"$C$8*'Emissions per kg'!L8","v":0},{"$f":"$C$8*'Emissions per kg'!M8","v":0},{"$f":"$C$8*'Emissions per kg'!N8","v":0},{"$f":"$C$8*'Emissions per kg'!O8","v":0},{"$f":"$C$8*'Emissions per kg'!P8","v":0},{"$f":"$C$8*'Emissions per kg'!Q8","v":0},{"$f":"$C$8*'Emissions per kg'!R8","v":0}]
[null,"end of life P&R",{"$f":"D5*C5+D7*C7+C6*D6+C4*D4","v":0},null,{"$f":"$C$9*'EoL emissions'!B4","v":0},{"$f":"$C$9*'EoL emissions'!C4","v":0},{"$f":"$C$9*'EoL emissions'!D4","v":0},{"$f":"$C$9*'EoL emissions'!E4","v":0},{"$f":"$C$9*'EoL emissions'!F4","v":0},{"$f":"$C$9*'EoL emissions'!G4","v":0},{"$f":"$C$9*'EoL emissions'!H4","v":0},{"$f":"$C$9*'EoL emissions'!I4","v":0},{"$f":"$C$9*'EoL emissions'!J4","v":0},{"$f":"$C$9*'EoL emissions'!K4","v":0},{"$f":"$C$9*'EoL emissions'!L4","v":0},{"$f":"$C$9*'EoL emissions'!M4","v":0},{"$f":"$C$9*'EoL emissions'!N4","v":0},{"$f":"$C$9*'EoL emissions'!O4","v":0},{"$f":"$C$9*'EoL emissions'!P4","v":0},{"$f":"$C$9*'EoL emissions'!Q4","v":0}]
[null,"end of life HH",{"$f":"D8*C8","v":0},null,{"$f":"$C$10*'EoL emissions'!B5","v":0},{"$f":"$C$10*'EoL emissions'!C5","v":0},{"$f":"$C$10*'EoL emissions'!D5","v":0},{"$f":"$C$10*'EoL emissions'!E5","v":0},{"$f":"$C$10*'EoL emissions'!F5","v":0},{"$f":"$C$10*'EoL emissions'!G5","v":0},{"$f":"$C$10*'EoL emissions'!H5","v":0},{"$f":"$C$10*'EoL emissions'!I5","v":0},{"$f":"$C$10*'EoL emissions'!J5","v":0},{"$f":"$C$10*'EoL emissions'!K5","v":0},{"$f":"$C$10*'EoL emissions'!L5","v":0},{"$f":"$C$10*'EoL emissions'!M5","v":0},{"$f":"$C$10*'EoL emissions'!N5","v":0},{"$f":"$C$10*'EoL emissions'!O5","v":0},{"$f":"$C$10*'EoL emissions'!P5","v":0},{"$f":"$C$10*'EoL emissions'!Q5","v":0}]
["PORK",null,null,null,{"$f":"SUM(E4:E10)","v":6.11},{"$f":"SUM(F4:F10)","v":3.4200000000000002E-8},2.21E-6,6.9899999999999997E-8,9.0699999999999996E-7,5.5399999999999998E-2,7.5500000000000003E-3,0.126,0.55900000000000005,1.33E-3,3.9199999999999999E-2,16.8,786,1.21,20.9,1.8099999999999999E-7]
["Meat","BEEF"]
[null,"agriculture ",1,{"$f":"Calculation_original!D13","v":0},{"$f":"$C$13*'Emissions per kg'!C11","v":28.3},{"$f":"$C$13*'Emissions per kg'!D11","v":1.24E-8},{"$f":"$C$13*'Emissions per kg'!E11","v":2.0100000000000001E-5},{"$f":"$C$13*'Emissions per kg'!F11","v":3.2399999999999999E-7},{"$f":"$C$13*'Emissions per kg'!G11","v":3.5899999999999999E-6},{"$f":"$C$13*'Emissions per kg'!H11","v":1.9900000000000001E-2},{"$f":"$C$13*'Emissions per kg'!I11","v":3.09E-2},{"$f":"$C$13*'Emissions per kg'!J11","v":0.48299999999999998},{"$f":"$C$13*'Emissions per kg'!K11","v":2.14},{"$f":"$C$13*'Emissions per kg'!L11","v":4.2599999999999999E-3},{"$f":"$C$13*'Emissions per kg'!M11","v":0.189},{"$f":"$C$13*'Emissions per kg'!N11","v":37},{"$f":"$C$13*'Emissions per kg'!O11","v":3320},{"$f":"$C$13*'Emissions per kg'!P11","v":8.83},{"$f":"$C$13*'Emissions per kg'!Q11","v":61.3},{"$f":"$C$13*'Emissions per kg'!R11","v":3.4799999999999999E-7}]
[null,"processsing",null,{"$f":"Calculation_original!D14","v":0.05},{"$f":"$C$14*'Emissions per kg'!C12","v":0},{"$f":"$C$14*'Emissions per kg'!D12","v":0},{"$f":"$C$14*'Emissions per kg'!E12","v":0},{"$f":"$C$14*'Emissions per kg'!F12","v":0},{"$f":"$C$14*'Emissions per kg'!G12","v":0},{"$f":"$C$14*'Emissions per kg'!H12","v":0},{"$f":"$C$14*'Emissions per kg'!I12","v":0},{"$f":"$C$14*'Emissions per kg'!J12","v":0},{"$f":"$C$14*'Emissions per kg'!K12","v":0},{"$f":"$C$14*'Emissions per kg'!L12","v":0},{"$f":"$C$14*'Emissions per kg'!M12","v":0},{"$f":"$C$14*'Emissions per kg'!N12","v":0},{"$f":"$C$14*'Emissions per kg'!O12","v":0},{"$f":"$C$14*'Emissions per kg'!P12","v":0},{"$f":"$C$14*'Emissions per kg'!Q12","v":0},{"$f":"$C$14*'Emissions per kg'!R12","v":0}]
[null,"packaging",null,{"$f":"Calculation_original!D15","v":0},{"$f":"$C$15*'Emissions per kg'!C13","v":0},{"$f":"$C$15*'Emissions per kg'!D13","v":0},{"$f":"$C$15*'Emissions per kg'!E13","v":0},{"$f":"$C$15*'Emissions per kg'!F13","v":0},{"$f":"$C$15*'Emissions per kg'!G13","v":0},{"$f":"$C$15*'Emissions per kg'!H13","v":0},{"$f":"$C$15*'Emissions per kg'!I13","v":0},{"$f":"$C$15*'Emissions per kg'!J13","v":0},{"$f":"$C$15*'Emissions per kg'!K13","v":0},{"$f":"$C$15*'Emissions per kg'!L13","v":0},{"$f":"$C$15*'Emissions per kg'!M13","v":0},{"$f":"$C$15*'Emissions per kg'!N13","v":0},{"$f":"$C$15*'Emissions per kg'!O13","v":0},{"$f":"$C$15*'Emissions per kg'!P13","v":0},{"$f":"$C$15*'Emissions per kg'!Q13","v":0},{"$f":"$C$15*'Emissions per kg'!R13","v":0}]
[null,"retail",null,{"$f":"Calculation_original!D16","v":0.04},{"$f":"$C$16*'Emissions per kg'!C14","v":0},{"$f":"$C$16*'Emissions per kg'!D14","v":0},{"$f":"$C$16*'Emissions per kg'!E14","v":0},{"$f":"$C$16*'Emissions per kg'!F14","v":0},{"$f":"$C$16*'Emissions per kg'!G14","v":0},{"$f":"$C$16*'Emissions per kg'!H14","v":0},{"$f":"$C$16*'Emissions per kg'!I14","v":0},{"$f":"$C$16*'Emissions per kg'!J14","v":0},{"$f":"$C$16*'Emissions per kg'!K14","v":0},{"$f":"$C$16*'Emissions per kg'!L14","v":0},{"$f":"$C$16*'Emissions per kg'!M14","v":0},{"$f":"$C$16*'Emissions per kg'!N14","v":0},{"$f":"$C$16*'Emissions per kg'!O14","v":0},{"$f":"$C$16*'Emissions per kg'!P14","v":0},{"$f":"$C$16*'Emissions per kg'!Q14","v":0},{"$f":"$C$16*'Emissions per kg'!R14","v":0}]
[null,"use ",null,{"$f":"Calculation_original!D17","v":0.11},{"$f":"$C$17*'Emissions per kg'!C15","v":0},{"$f":"$C$17*'Emissions per kg'!D15","v":0},{"$f":"$C$17*'Emissions per kg'!E15","v":0},{"$f":"$C$17*'Emissions per kg'!F15","v":0},{"$f":"$C$17*'Emissions per kg'!G15","v":0},{"$f":"$C$17*'Emissions per kg'!H15","v":0},{"$f":"$C$17*'Emissions per kg'!I15","v":0},{"$f":"$C$17*'Emissions per kg'!J15","v":0},{"$f":"$C$17*'Emissions per kg'!K15","v":0},{"$f":"$C$17*'Emissions per kg'!L15","v":0},{"$f":"$C$17*'Emissions per kg'!M15","v":0},{"$f":"$C$17*'Emissions per kg'!N15","v":0},{"$f":"$C$17*'Emissions per kg'!O15","v":0},{"$f":"$C$17*'Emissions per kg'!P15","v":0},{"$f":"$C$17*'Emissions per kg'!Q15","v":0},{"$f":"$C$17*'Emissions per kg'!R15","v":0}]
[null,"end of life P&R",{"$f":"D14*C14+D16*C16+C15*D15+C13*D13","v":0},null,{"$f":"$C$18*'EoL emissions'!B4","v":0},{"$f":"$C$18*'EoL emissions'!C4","v":0},{"$f":"$C$18*'EoL emissions'!D4","v":0},{"$f":"$C$18*'EoL emissions'!E4","v":0},{"$f":"$C$18*'EoL emissions'!F4","v":0},{"$f":"$C$18*'EoL emissions'!G4","v":0},{"$f":"$C$18*'EoL emissions'!H4","v":0},{"$f":"$C$18*'EoL emissions'!I4","v":0},{"$f":"$C$18*'EoL emissions'!J4","v":0},{"$f":"$C$18*'EoL emissions'!K4","v":0},{"$f":"$C$18*'EoL emissions'!L4","v":0},{"$f":"$C$18*'EoL emissions'!M4","v":0},{"$f":"$C$18*'EoL emissions'!N4","v":0},{"$f":"$C$18*'EoL emissions'!O4","v":0},{"$f":"$C$18*'EoL emissions'!P4","v":0},{"$f":"$C$18*'EoL emissions'!Q4","v":0}]
[null,"end of life HH",{"$f":"D17*C17","v":0},null,{"$f":"$C$19*'EoL emissions'!B5","v":0},{"$f":"$C$19*'EoL emissions'!C5","v":0},{"$f":"$C$19*'EoL emissions'!D5","v":0},{"$f":"$C$19*'EoL emissions'!E5","v":0},{"$f":"$C$19*'EoL emissions'!F5","v":0},{"$f":"$C$19*'EoL emissions'!G5","v":0},{"$f":"$C$19*'EoL emissions'!H5","v":0},{"$f":"$C$19*'EoL emissions'!I5","v":0},{"$f":"$C$19*'EoL emissions'!J5","v":0},{"$f":"$C$19*'EoL emissions'!K5","v":0},{"$f":"$C$19*'EoL emissions'!L5","v":0},{"$f":"$C$19*'EoL emissions'!M5","v":0},{"$f":"$C$19*'EoL emissions'!N5","v":0},{"$f":"$C$19*'EoL emissions'!O5","v":0},{"$f":"$C$19*'EoL emissions'!P5","v":0},{"$f":"$C$19*'EoL emissions'!Q5","v":0}]
["BEEF",null,null,null,{"$f":"SUM(E13:E19)","v":28.3},{"$f":"SUM(F13:F19)","v":1.24E-8},2.0100000000000001E-5,3.2399999999999999E-7,3.5899999999999999E-6,1.9900000000000001E-2,3.09E-2,0.48299999999999998,2.14,4.2599999999999999E-3,0.189,37,3320,8.83,61.3,3.4799999999999999E-7]
["Meat","POULTRY"]
[null,"agriculture ",1,{"$f":"Calculation_original!D22","v":0},{"$f":"$C$22*'Emissions per kg'!C18","v":5.58},{"$f":"$C$22*'Emissions per kg'!D18","v":3.25E-8},{"$f":"$C$22*'Emissions per kg'!E18","v":1.4500000000000001E-6},{"$f":"$C$22*'Emissions per kg'!F18","v":4.9999999999999998E-8},{"$f":"$C$22*'Emissions per kg'!G18","v":7.3200000000000004E-7},{"$f":"$C$22*'Emissions per kg'!H18","v":5.2299999999999999E-2},{"$f":"$C$22*'Emissions per kg'!I18","v":6.0899999999999999E-3},{"$f":"$C$22*'Emissions per kg'!J18","v":9.0200000000000002E-2},{"$f":"$C$22*'Emissions per kg'!K18","v":0.39900000000000002},{"$f":"$C$22*'Emissions per kg'!L18","v":1.1800000000000001E-3},{"$f":"$C$22*'Emissions per kg'!M18","v":2.35E-2},{"$f":"$C$22*'Emissions per kg'!N18","v":12.1},{"$f":"$C$22*'Emissions per kg'!O18","v":603},{"$f":"$C$22*'Emissions per kg'!P18","v":0.67700000000000005},{"$f":"$C$22*'Emissions per kg'!Q18","v":18.600000000000001},{"$f":"$C$22*'Emissions per kg'!R18","v":1.9500000000000001E-7}]
[null,"processsing",null,{"$f":"Calculation_original!D23","v":0.05},{"$f":"$C$23*'Emissions per kg'!C19","v":0},{"$f":"$C$23*'Emissions per kg'!D19","v":0},{"$f":"$C$23*'Emissions per kg'!E19","v":0},{"$f":"$C$23*'Emissions per kg'!F19","v":0},{"$f":"$C$23*'Emissions per kg'!G19","v":0},{"$f":"$C$23*'Emissions per kg'!H19","v":0},{"$f":"$C$23*'Emissions per kg'!I19","v":0},{"$f":"$C$23*'Emissions per kg'!J19","v":0},{"$f":"$C$23*'Emissions per kg'!K19","v":0},{"$f":"$C$23*'Emissions per kg'!L19","v":0},{"$f":"$C$23*'Emissions per kg'!M19","v":0},{"$f":"$C$23*'Emissions per kg'!N19","v":0},{"$f":"$C$23*'Emissions per kg'!O19","v":0},{"$f":"$C$23*'Emissions per kg'!P19","v":0},{"$f":"$C$23*'Emissions per kg'!Q19","v":0},{"$f":"$C$23*'Emissions per kg'!R19","v":0}]
[null,"packaging",null,{"$f":"Calculation_original!D24","v":0},{"$f":"$C$24*'Emissions per kg'!C20","v":0},{"$f":"$C$24*'Emissions per kg'!D20","v":0},{"$f":"$C$24*'Emissions per kg'!E20","v":0},{"$f":"$C$24*'Emissions per kg'!F20","v":0},{"$f":"$C$24*'Emissions per kg'!G20","v":0},{"$f":"$C$24*'Emissions per kg'!H20","v":0},{"$f":"$C$24*'Emissions per kg'!I20","v":0},{"$f":"$C$24*'Emissions per kg'!J20","v":0},{"$f":"$C$24*'Emissions per kg'!K20","v":0},{"$f":"$C$24*'Emissions per kg'!L20","v":0},{"$f":"$C$24*'Emissions per kg'!M20","v":0},{"$f":"$C$24*'Emissions per kg'!N20","v":0},{"$f":"$C$24*'Emissions per kg'!O20","v":0},{"$f":"$C$24*'Emissions per kg'!P20","v":0},{"$f":"$C$24*'Emissions per kg'!Q20","v":0},{"$f":"$C$24*'Emissions per kg'!R20","v":0}]
[null,"retail",null,{"$f":"Calculation_original!D25","v":0.04},{"$f":"$C$25*'Emissions per kg'!C21","v":0},{"$f":"$C$25*'Emissions per kg'!D21","v":0},{"$f":"$C$25*'Emissions per kg'!E21","v":0},{"$f":"$C$25*'Emissions per kg'!F21","v":0},{"$f":"$C$25*'Emissions per kg'!G21","v":0},{"$f":"$C$25*'Emissions per kg'!H21","v":0},{"$f":"$C$25*'Emissions per kg'!I21","v":0},{"$f":"$C$25*'Emissions per kg'!J21","v":0},{"$f":"$C$25*'Emissions per kg'!K21","v":0},{"$f":"$C$25*'Emissions per kg'!L21","v":0},{"$f":"$C$25*'Emissions per kg'!M21","v":0},{"$f":"$C$25*'Emissions per kg'!N21","v":0},{"$f":"$C$25*'Emissions per kg'!O21","v":0},{"$f":"$C$25*'Emissions per kg'!P21","v":0},{"$f":"$C$25*'Emissions per kg'!Q21","v":0},{"$f":"$C$25*'Emissions per kg'!R21","v":0}]
[null,"use ",null,{"$f":"Calculation_original!D26","v":0.11},{"$f":"$C$26*'Emissions per kg'!C22","v":0},{"$f":"$C$26*'Emissions per kg'!D22","v":0},{"$f":"$C$26*'Emissions per kg'!E22","v":0},{"$f":"$C$26*'Emissions per kg'!F22","v":0},{"$f":"$C$26*'Emissions per kg'!G22","v":0},{"$f":"$C$26*'Emissions per kg'!H22","v":0},{"$f":"$C$26*'Emissions per kg'!I22","v":0},{"$f":"$C$26*'Emissions per kg'!J22","v":0},{"$f":"$C$26*'Emissions per kg'!K22","v":0},{"$f":"$C$26*'Emissions per kg'!L22","v":0},{"$f":"$C$26*'Emissions per kg'!M22","v":0},{"$f":"$C$26*'Emissions per kg'!N22","v":0},{"$f":"$C$26*'Emissions per kg'!O22","v":0},{"$f":"$C$26*'Emissions per kg'!P22","v":0},{"$f":"$C$26*'Emissions per kg'!Q22","v":0},{"$f":"$C$26*'Emissions per kg'!R22","v":0}]
[null,"end of life P&R",{"$f":"D23*C23+D25*C25+C24*D24+C22*D22","v":0},null,{"$f":"$C$27*'EoL emissions'!B4","v":0},{"$f":"$C$27*'EoL emissions'!C4","v":0},{"$f":"$C$27*'EoL emissions'!D4","v":0},{"$f":"$C$27*'EoL emissions'!E4","v":0},{"$f":"$C$27*'EoL emissions'!F4","v":0},{"$f":"$C$27*'EoL emissions'!G4","v":0},{"$f":"$C$27*'EoL emissions'!H4","v":0},{"$f":"$C$27*'EoL emissions'!I4","v":0},{"$f":"$C$27*'EoL emissions'!J4","v":0},{"$f":"$C$27*'EoL emissions'!K4","v":0},{"$f":"$C$27*'EoL emissions'!L4","v":0},{"$f":"$C$27*'EoL emissions'!M4","v":0},{"$f":"$C$27*'EoL emissions'!N4","v":0},{"$f":"$C$27*'EoL emissions'!O4","v":0},{"$f":"$C$27*'EoL emissions'!P4","v":0},{"$f":"$C$27*'EoL emissions'!Q4","v":0}]
[null,"end of life HH",{"$f":"D26*C26","v":0},null,{"$f":"$C$28*'EoL emissions'!B5","v":0},{"$f":"$C$28*'EoL emissions'!C5","v":0},{"$f":"$C$28*'EoL emissions'!D5","v":0},{"$f":"$C$28*'EoL emissions'!E5","v":0},{"$f":"$C$28*'EoL emissions'!F5","v":0},{"$f":"$C$28*'EoL emissions'!G5","v":0},{"$f":"$C$28*'EoL emissions'!H5","v":0},{"$f":"$C$28*'EoL emissions'!I5","v":0},{"$f":"$C$28*'EoL emissions'!J5","v":0},{"$f":"$C$28*'EoL emissions'!K5","v":0},{"$f":"$C$28*'EoL emissions'!L5","v":0},{"$f":"$C$28*'EoL emissions'!M5","v":0},{"$f":"$C$28*'EoL emissions'!N5","v":0},{"$f":"$C$28*'EoL emissions'!O5","v":0},{"$f":"$C$28*'EoL emissions'!P5","v":0},{"$f":"$C$28*'EoL emissions'!Q5","v":0}]
["POULTRY",null,null,null,{"$f":"SUM(E22:E28)","v":5.58},{"$f":"SUM(F22:F28)","v":3.25E-8},1.4500000000000001E-6,4.9999999999999998E-8,7.3200000000000004E-7,5.2299999999999999E-2,6.0899999999999999E-3,9.0200000000000002E-2,0.39900000000000002,1.1800000000000001E-3,2.35E-2,12.1,603,0.67700000000000005,18.600000000000001,1.9500000000000001E-7]
["Fish","COD"]
[null,"agriculture ",1,{"$f":"Calculation_original!D31","v":0},{"$f":"'Emissions per kg'!C25*$C$31","v":2.25},{"$f":"'Emissions per kg'!D25*$C$31","v":6.6199999999999997E-7},{"$f":"'Emissions per kg'!E25*$C$31","v":3.33E-8},{"$f":"'Emissions per kg'!F25*$C$31","v":5.4199999999999999E-9},{"$f":"'Emissions per kg'!G25*$C$31","v":8.5599999999999999E-8},{"$f":"'Emissions per kg'!H25*$C$31","v":1.4999999999999999E-2},{"$f":"'Emissions per kg'!I25*$C$31","v":3.7100000000000001E-2},{"$f":"'Emissions per kg'!J25*$C$31","v":3.1099999999999999E-2},{"$f":"'Emissions per kg'!K25*$C$31","v":0.14599999999999999},{"$f":"'Emissions per kg'!L25*$C$31","v":1.03E-5},{"$f":"'Emissions per kg'!M25*$C$31","v":1.3299999999999999E-2},{"$f":"'Emissions per kg'!N25*$C$31","v":3.61},{"$f":"'Emissions per kg'!O25*$C$31","v":1.85},{"$f":"'Emissions per kg'!P25*$C$31","v":17.600000000000001},{"$f":"'Emissions per kg'!Q25*$C$31","v":30.6},{"$f":"'Emissions per kg'!R25*$C$31","v":2.9999999999999999E-7}]
[null,"processsing",null,{"$f":"Calculation_original!D32","v":0.06},{"$f":"'Emissions per kg'!C26*$C$32","v":0},{"$f":"'Emissions per kg'!D26*$C$32","v":0},{"$f":"'Emissions per kg'!E26*$C$32","v":0},{"$f":"'Emissions per kg'!F26*$C$32","v":0},{"$f":"'Emissions per kg'!G26*$C$32","v":0},{"$f":"'Emissions per kg'!H26*$C$32","v":0},{"$f":"'Emissions per kg'!I26*$C$32","v":0},{"$f":"'Emissions per kg'!J26*$C$32","v":0},{"$f":"'Emissions per kg'!K26*$C$32","v":0},{"$f":"'Emissions per kg'!L26*$C$32","v":0},{"$f":"'Emissions per kg'!M26*$C$32","v":0},{"$f":"'Emissions per kg'!N26*$C$32","v":0},{"$f":"'Emissions per kg'!O26*$C$32","v":0},{"$f":"'Emissions per kg'!P26*$C$32","v":0},{"$f":"'Emissions per kg'!Q26*$C$32","v":0},{"$f":"'Emissions per kg'!R26*$C$32","v":0}]
[null,"packaging",null,{"$f":"Calculation_original!D33","v":0},{"$f":"'Emissions per kg'!C27*$C$33","v":0},{"$f":"'Emissions per kg'!D27*$C$33","v":0},{"$f":"'Emissions per kg'!E27*$C$33","v":0},{"$f":"'Emissions per kg'!F27*$C$33","v":0},{"$f":"'Emissions per kg'!G27*$C$33","v":0},{"$f":"'Emissions per kg'!H27*$C$33","v":0},{"$f":"'Emissions per kg'!I27*$C$33","v":0},{"$f":"'Emissions per kg'!J27*$C$33","v":0},{"$f":"'Emissions per kg'!K27*$C$33","v":0},{"$f":"'Emissions per kg'!L27*$C$33","v":0},{"$f":"'Emissions per kg'!M27*$C$33","v":0},{"$f":"'Emissions per kg'!N27*$C$33","v":0},{"$f":"'Emissions per kg'!O27*$C$33","v":0},{"$f":"'Emissions per kg'!P27*$C$33","v":0},{"$f":"'Emissions per kg'!Q27*$C$33","v":0},{"$f":"'Emissions per kg'!R27*$C$33","v":0}]
[null,"retail",null,{"$f":"Calculation_original!D34","v":0.09},{"$f":"'Emissions per kg'!C28*$C$34","v":0},{"$f":"'Emissions per kg'!D28*$C$34","v":0},{"$f":"'Emissions per kg'!E28*$C$34","v":0},{"$f":"'Emissions per kg'!F28*$C$34","v":0},{"$f":"'Emissions per kg'!G28*$C$34","v":0},{"$f":"'Emissions per kg'!H28*$C$34","v":0},{"$f":"'Emissions per kg'!I28*$C$34","v":0},{"$f":"'Emissions per kg'!J28*$C$34","v":0},{"$f":"'Emissions per kg'!K28*$C$34","v":0},{"$f":"'Emissions per kg'!L28*$C$34","v":0},{"$f":"'Emissions per kg'!M28*$C$34","v":0},{"$f":"'Emissions per kg'!N28*$C$34","v":0},{"$f":"'Emissions per kg'!O28*$C$34","v":0},{"$f":"'Emissions per kg'!P28*$C$34","v":0},{"$f":"'Emissions per kg'!Q28*$C$34","v":0},{"$f":"'Emissions per kg'!R28*$C$34","v":0}]
[null,"use ",null,{"$f":"Calculation_original!D35","v":0.11},{"$f":"'Emissions per kg'!C29*$C$35","v":0},{"$f":"'Emissions per kg'!D29*$C$35","v":0},{"$f":"'Emissions per kg'!E29*$C$35","v":0},{"$f":"'Emissions per kg'!F29*$C$35","v":0},{"$f":"'Emissions per kg'!G29*$C$35","v":0},{"$f":"'Emissions per kg'!H29*$C$35","v":0},{"$f":"'Emissions per kg'!I29*$C$35","v":0},{"$f":"'Emissions per kg'!J29*$C$35","v":0},{"$f":"'Emissions per kg'!K29*$C$35","v":0},{"$f":"'Emissions per kg'!L29*$C$35","v":0},{"$f":"'Emissions per kg'!M29*$C$35","v":0},{"$f":"'Emissions per kg'!N29*$C$35","v":0},{"$f":"'Emissions per kg'!O29*$C$35","v":0},{"$f":"'Emissions per kg'!P29*$C$35","v":0},{"$f":"'Emissions per kg'!Q29*$C$35","v":0},{"$f":"'Emissions per kg'!R29*$C$35","v":0}]
[null,"end of life P&R",{"$f":"D32*C32+D34*C34+C33*D33+C31*D31","v":0},null,{"$f":"'EoL emissions'!B4*$C$36","v":0},{"$f":"'EoL emissions'!C4*$C$36","v":0},{"$f":"'EoL emissions'!D4*$C$36","v":0},{"$f":"'EoL emissions'!E4*$C$36","v":0},{"$f":"'EoL emissions'!F4*$C$36","v":0},{"$f":"'EoL emissions'!G4*$C$36","v":0},{"$f":"'EoL emissions'!H4*$C$36","v":0},{"$f":"'EoL emissions'!I4*$C$36","v":0},{"$f":"'EoL emissions'!J4*$C$36","v":0},{"$f":"'EoL emissions'!K4*$C$36","v":0},{"$f":"'EoL emissions'!L4*$C$36","v":0},{"$f":"'EoL emissions'!M4*$C$36","v":0},{"$f":"'EoL emissions'!N4*$C$36","v":0},{"$f":"'EoL emissions'!O4*$C$36","v":0},{"$f":"'EoL emissions'!P4*$C$36","v":0},{"$f":"'EoL emissions'!Q4*$C$36","v":0}]
[null,"end of life HH",{"$f":"D35*C35","v":0},null,{"$f":"'EoL emissions'!B5*$C$37","v":0},{"$f":"'EoL emissions'!C5*$C$37","v":0},{"$f":"'EoL emissions'!D5*$C$37","v":0},{"$f":"'EoL emissions'!E5*$C$37","v":0},{"$f":"'EoL emissions'!F5*$C$37","v":0},{"$f":"'EoL emissions'!G5*$C$37","v":0},{"$f":"'EoL emissions'!H5*$C$37","v":0},{"$f":"'EoL emissions'!I5*$C$37","v":0},{"$f":"'EoL emissions'!J5*$C$37","v":0},{"$f":"'EoL emissions'!K5*$C$37","v":0},{"$f":"'EoL emissions'!L5*$C$37","v":0},{"$f":"'EoL emissions'!M5*$C$37","v":0},{"$f":"'EoL emissions'!N5*$C$37","v":0},{"$f":"'EoL emissions'!O5*$C$37","v":0},{"$f":"'EoL emissions'!P5*$C$37","v":0},{"$f":"'EoL emissions'!Q5*$C$37","v":0}]
["COD",null,null,null,{"$f":"SUM(E31:E37)","v":2.25},{"$f":"SUM(F31:F37)","v":6.6199999999999997E-7},3.33E-8,5.4199999999999999E-9,8.5599999999999999E-8,1.4999999999999999E-2,3.7100000000000001E-2,3.1099999999999999E-2,0.14599999999999999,1.03E-5,1.3299999999999999E-2,3.61,1.85,17.600000000000001,30.6,2.9999999999999999E-7]
["Fish","SALMON"]
[null,"agriculture ",1,{"$f":"Calculation_original!D40","v":0},{"$f":"$C$40*'Emissions per kg'!C32","v":6.47},{"$f":"$C$40*'Emissions per kg'!D32","v":9.9299999999999996E-8},{"$f":"$C$40*'Emissions per kg'!E32","v":4.9300000000000002E-6},{"$f":"$C$40*'Emissions per kg'!F32","v":5.6400000000000002E-8},{"$f":"$C$40*'Emissions per kg'!G32","v":3.7500000000000001E-7},{"$f":"$C$40*'Emissions per kg'!H32","v":9.1300000000000006E-2},{"$f":"$C$40*'Emissions per kg'!I32","v":1.6799999999999999E-2},{"$f":"$C$40*'Emissions per kg'!J32","v":4.1799999999999997E-2},{"$f":"$C$40*'Emissions per kg'!K32","v":0.17699999999999999},{"$f":"$C$40*'Emissions per kg'!L32","v":1.0999999999999999E-2},{"$f":"$C$40*'Emissions per kg'!M32","v":0.1},{"$f":"$C$40*'Emissions per kg'!N32","v":11},{"$f":"$C$40*'Emissions per kg'!O32","v":482},{"$f":"$C$40*'Emissions per kg'!P32","v":0.28899999999999998},{"$f":"$C$40*'Emissions per kg'!Q32","v":36.5},{"$f":"$C$40*'Emissions per kg'!R32","v":1.37E-6}]
[null,"processsing",null,{"$f":"Calculation_original!D41","v":0.06},{"$f":"$C$41*'Emissions per kg'!C33","v":0},{"$f":"$C$41*'Emissions per kg'!D33","v":0},{"$f":"$C$41*'Emissions per kg'!E33","v":0},{"$f":"$C$41*'Emissions per kg'!F33","v":0},{"$f":"$C$41*'Emissions per kg'!G33","v":0},{"$f":"$C$41*'Emissions per kg'!H33","v":0},{"$f":"$C$41*'Emissions per kg'!I33","v":0},{"$f":"$C$41*'Emissions per kg'!J33","v":0},{"$f":"$C$41*'Emissions per kg'!K33","v":0},{"$f":"$C$41*'Emissions per kg'!L33","v":0},{"$f":"$C$41*'Emissions per kg'!M33","v":0},{"$f":"$C$41*'Emissions per kg'!N33","v":0},{"$f":"$C$41*'Emissions per kg'!O33","v":0},{"$f":"$C$41*'Emissions per kg'!P33","v":0},{"$f":"$C$41*'Emissions per kg'!Q33","v":0},{"$f":"$C$41*'Emissions per kg'!R33","v":0}]
[null,"packaging",null,{"$f":"Calculation_original!D42","v":0},{"$f":"$C$42*'Emissions per kg'!C34","v":0},{"$f":"$C$42*'Emissions per kg'!D34","v":0},{"$f":"$C$42*'Emissions per kg'!E34","v":0},{"$f":"$C$42*'Emissions per kg'!F34","v":0},{"$f":"$C$42*'Emissions per kg'!G34","v":0},{"$f":"$C$42*'Emissions per kg'!H34","v":0},{"$f":"$C$42*'Emissions per kg'!I34","v":0},{"$f":"$C$42*'Emissions per kg'!J34","v":0},{"$f":"$C$42*'Emissions per kg'!K34","v":0},{"$f":"$C$42*'Emissions per kg'!L34","v":0},{"$f":"$C$42*'Emissions per kg'!M34","v":0},{"$f":"$C$42*'Emissions per kg'!N34","v":0},{"$f":"$C$42*'Emissions per kg'!O34","v":0},{"$f":"$C$42*'Emissions per kg'!P34","v":0},{"$f":"$C$42*'Emissions per kg'!Q34","v":0},{"$f":"$C$42*'Emissions per kg'!R34","v":0}]
[null,"retail",null,{"$f":"Calculation_original!D43","v":0.09},{"$f":"$C$43*'Emissions per kg'!C35","v":0},{"$f":"$C$43*'Emissions per kg'!D35","v":0},{"$f":"$C$43*'Emissions per kg'!E35","v":0},{"$f":"$C$43*'Emissions per kg'!F35","v":0},{"$f":"$C$43*'Emissions per kg'!G35","v":0},{"$f":"$C$43*'Emissions per kg'!H35","v":0},{"$f":"$C$43*'Emissions per kg'!I35","v":0},{"$f":"$C$43*'Emissions per kg'!J35","v":0},{"$f":"$C$43*'Emissions per kg'!K35","v":0},{"$f":"$C$43*'Emissions per kg'!L35","v":0},{"$f":"$C$43*'Emissions per kg'!M35","v":0},{"$f":"$C$43*'Emissions per kg'!N35","v":0},{"$f":"$C$43*'Emissions per kg'!O35","v":0},{"$f":"$C$43*'Emissions per kg'!P35","v":0},{"$f":"$C$43*'Emissions per kg'!Q35","v":0},{"$f":"$C$43*'Emissions per kg'!R35","v":0}]
[null,"use ",null,{"$f":"Calculation_original!D44","v":0.11},{"$f":"$C$44*'Emissions per kg'!C36","v":0},{"$f":"$C$44*'Emissions per kg'!D36","v":0},{"$f":"$C$44*'Emissions per kg'!E36","v":0},{"$f":"$C$44*'Emissions per kg'!F36","v":0},{"$f":"$C$44*'Emissions per kg'!G36","v":0},{"$f":"$C$44*'Emissions per kg'!H36","v":0},{"$f":"$C$44*'Emissions per kg'!I36","v":0},{"$f":"$C$44*'Emissions per kg'!J36","v":0},{"$f":"$C$44*'Emissions per kg'!K36","v":0},{"$f":"$C$44*'Emissions per kg'!L36","v":0},{"$f":"$C$44*'Emissions per kg'!M36","v":0},{"$f":"$C$44*'Emissions per kg'!N36","v":0},{"$f":"$C$44*'Emissions per kg'!O36","v":0},{"$f":"$C$44*'Emissions per kg'!P36","v":0},{"$f":"$C$44*'Emissions per kg'!Q36","v":0},{"$f":"$C$44*'Emissions per kg'!R36","v":0}]
[null,"end of life P&R",{"$f":"D41*C41+D43*C43+C42*D42+C40*D40","v":0},null,{"$f":"$C$45*'EoL emissions'!B4","v":0},{"$f":"$C$45*'EoL emissions'!C4","v":0},{"$f":"$C$45*'EoL emissions'!D4","v":0},{"$f":"$C$45*'EoL emissions'!E4","v":0},{"$f":"$C$45*'EoL emissions'!F4","v":0},{"$f":"$C$45*'EoL emissions'!G4","v":0},{"$f":"$C$45*'EoL emissions'!H4","v":0},{"$f":"$C$45*'EoL emissions'!I4","v":0},{"$f":"$C$45*'EoL emissions'!J4","v":0},{"$f":"$C$45*'EoL emissions'!K4","v":0},{"$f":"$C$45*'EoL emissions'!L4","v":0},{"$f":"$C$45*'EoL emissions'!M4","v":0},{"$f":"$C$45*'EoL emissions'!N4","v":0},{"$f":"$C$45*'EoL emissions'!O4","v":0},{"$f":"$C$45*'EoL emissions'!P4","v":0},{"$f":"$C$45*'EoL emissions'!Q4","v":0}]
[null,"end of life HH",{"$f":"D44*C44","v":0},null,{"$f":"$C$46*'EoL emissions'!B5","v":0},{"$f":"$C$46*'EoL emissions'!C5","v":0},{"$f":"$C$46*'EoL emissions'!D5","v":0},{"$f":"$C$46*'EoL emissions'!E5","v":0},{"$f":"$C$46*'EoL emissions'!F5","v":0},{"$f":"$C$46*'EoL emissions'!G5","v":0},{"$f":"$C$46*'EoL emissions'!H5","v":0},{"$f":"$C$46*'EoL emissions'!I5","v":0},{"$f":"$C$46*'EoL emissions'!J5","v":0},{"$f":"$C$46*'EoL emissions'!K5","v":0},{"$f":"$C$46*'EoL emissions'!L5","v":0},{"$f":"$C$46*'EoL emissions'!M5","v":0},{"$f":"$C$46*'EoL emissions'!N5","v":0},{"$f":"$C$46*'EoL emissions'!O5","v":0},{"$f":"$C$46*'EoL emissions'!P5","v":0},{"$f":"$C$46*'EoL emissions'!Q5","v":0}]
["SALMON",null,null,null,{"$f":"SUM(E40:E46)","v":6.47},{"$f":"SUM(F40:F46)","v":9.9299999999999996E-8},4.9300000000000002E-6,5.6400000000000002E-8,3.7500000000000001E-7,9.1300000000000006E-2,1.6799999999999999E-2,4.1799999999999997E-2,0.17699999999999999,1.0999999999999999E-2,0.1,11,482,0.28899999999999998,36.5,1.37E-6]
["Seafood","SHRIMP"]
[null,"agriculture ",1,{"$f":"Calculation_original!D49","v":0},{"$f":"$C$49*'Emissions per kg'!C39","v":6.61},{"$f":"$C$49*'Emissions per kg'!D39","v":1.5900000000000001E-7},{"$f":"$C$49*'Emissions per kg'!E39","v":1.17E-6},{"$f":"$C$49*'Emissions per kg'!F39","v":3.2800000000000003E-8},{"$f":"$C$49*'Emissions per kg'!G39","v":4.9800000000000004E-7},{"$f":"$C$49*'Emissions per kg'!H39","v":7.8700000000000006E-2},{"$f":"$C$49*'Emissions per kg'!I39","v":2.47E-2},{"$f":"$C$49*'Emissions per kg'!J39","v":4.4900000000000002E-2},{"$f":"$C$49*'Emissions per kg'!K39","v":0.122},{"$f":"$C$49*'Emissions per kg'!L39","v":1.0999999999999999E-2},{"$f":"$C$49*'Emissions per kg'!M39","v":9.4100000000000003E-2},{"$f":"$C$49*'Emissions per kg'!N39","v":6.1},{"$f":"$C$49*'Emissions per kg'!O39","v":347},{"$f":"$C$49*'Emissions per kg'!P39","v":0.59399999999999997},{"$f":"$C$49*'Emissions per kg'!Q39","v":76.3},{"$f":"$C$49*'Emissions per kg'!R39","v":4.4000000000000002E-6}]
[null,"processsing",null,{"$f":"Calculation_original!D50","v":0.06},{"$f":"$C$50*'Emissions per kg'!C40","v":0},{"$f":"$C$50*'Emissions per kg'!D40","v":0},{"$f":"$C$50*'Emissions per kg'!E40","v":0},{"$f":"$C$50*'Emissions per kg'!F40","v":0},{"$f":"$C$50*'Emissions per kg'!G40","v":0},{"$f":"$C$50*'Emissions per kg'!H40","v":0},{"$f":"$C$50*'Emissions per kg'!I40","v":0},{"$f":"$C$50*'Emissions per kg'!J40","v":0},{"$f":"$C$50*'Emissions per kg'!K40","v":0},{"$f":"$C$50*'Emissions per kg'!L40","v":0},{"$f":"$C$50*'Emissions per kg'!M40","v":0},{"$f":"$C$50*'Emissions per kg'!N40","v":0},{"$f":"$C$50*'Emissions per kg'!O40","v":0},{"$f":"$C$50*'Emissions per kg'!P40","v":0},{"$f":"$C$50*'Emissions per kg'!Q40","v":0},{"$f":"$C$50*'Emissions per kg'!R40","v":0}]
[null,"packaging",null,{"$f":"Calculation_original!D51","v":0},{"$f":"$C$51*'Emissions per kg'!C41","v":0},{"$f":"$C$51*'Emissions per kg'!D41","v":0},{"$f":"$C$51*'Emissions per kg'!E41","v":0},{"$f":"$C$51*'Emissions per kg'!F41","v":0},{"$f":"$C$51*'Emissions per kg'!G41","v":0},{"$f":"$C$51*'Emissions per kg'!H41","v":0},{"$f":"$C$51*'Emissions per kg'!I41","v":0},{"$f":"$C$51*'Emissions per kg'!J41","v":0},{"$f":"$C$51*'Emissions per kg'!K41","v":0},{"$f":"$C$51*'Emissions per kg'!L41","v":0},{"$f":"$C$51*'Emissions per kg'!M41","v":0},{"$f":"$C$51*'Emissions per kg'!N41","v":0},{"$f":"$C$51*'Emissions per kg'!O41","v":0},{"$f":"$C$51*'Emissions per kg'!P41","v":0},{"$f":"$C$51*'Emissions per kg'!Q41","v":0},{"$f":"$C$51*'Emissions per kg'!R41","v":0}]
[null,"retail",null,{"$f":"Calculation_original!D52","v":0.09},{"$f":"$C$52*'Emissions per kg'!C42","v":0},{"$f":"$C$52*'Emissions per kg'!D42","v":0},{"$f":"$C$52*'Emissions per kg'!E42","v":0},{"$f":"$C$52*'Emissions per kg'!F42","v":0},{"$f":"$C$52*'Emissions per kg'!G42","v":0},{"$f":"$C$52*'Emissions per kg'!H42","v":0},{"$f":"$C$52*'Emissions per kg'!I42","v":0},{"$f":"$C$52*'Emissions per kg'!J42","v":0},{"$f":"$C$52*'Emissions per kg'!K42","v":0},{"$f":"$C$52*'Emissions per kg'!L42","v":0},{"$f":"$C$52*'Emissions per kg'!M42","v":0},{"$f":"$C$52*'Emissions per kg'!N42","v":0},{"$f":"$C$52*'Emissions per kg'!O42","v":0},{"$f":"$C$52*'Emissions per kg'!P42","v":0},{"$f":"$C$52*'Emissions per kg'!Q42","v":0},{"$f":"$C$52*'Emissions per kg'!R42","v":0}]
[null,"use ",null,{"$f":"Calculation_original!D53","v":0.11},{"$f":"$C$53*'Emissions per kg'!C43","v":0},{"$f":"$C$53*'Emissions per kg'!D43","v":0},{"$f":"$C$53*'Emissions per kg'!E43","v":0},{"$f":"$C$53*'Emissions per kg'!F43","v":0},{"$f":"$C$53*'Emissions per kg'!G43","v":0},{"$f":"$C$53*'Emissions per kg'!H43","v":0},{"$f":"$C$53*'Emissions per kg'!I43","v":0},{"$f":"$C$53*'Emissions per kg'!J43","v":0},{"$f":"$C$53*'Emissions per kg'!K43","v":0},{"$f":"$C$53*'Emissions per kg'!L43","v":0},{"$f":"$C$53*'Emissions per kg'!M43","v":0},{"$f":"$C$53*'Emissions per kg'!N43","v":0},{"$f":"$C$53*'Emissions per kg'!O43","v":0},{"$f":"$C$53*'Emissions per kg'!P43","v":0},{"$f":"$C$53*'Emissions per kg'!Q43","v":0},{"$f":"$C$53*'Emissions per kg'!R43","v":0}]
[null,"end of life P&R",{"$f":"D50*C50+D52*C52+C51*D51+C49*D49","v":0},null,{"$f":"$C$54*'EoL emissions'!B4","v":0},{"$f":"$C$54*'EoL emissions'!C4","v":0},{"$f":"$C$54*'EoL emissions'!D4","v":0},{"$f":"$C$54*'EoL emissions'!E4","v":0},{"$f":"$C$54*'EoL emissions'!F4","v":0},{"$f":"$C$54*'EoL emissions'!G4","v":0},{"$f":"$C$54*'EoL emissions'!H4","v":0},{"$f":"$C$54*'EoL emissions'!I4","v":0},{"$f":"$C$54*'EoL emissions'!J4","v":0},{"$f":"$C$54*'EoL emissions'!K4","v":0},{"$f":"$C$54*'EoL emissions'!L4","v":0},{"$f":"$C$54*'EoL emissions'!M4","v":0},{"$f":"$C$54*'EoL emissions'!N4","v":0},{"$f":"$C$54*'EoL emissions'!O4","v":0},{"$f":"$C$54*'EoL emissions'!P4","v":0},{"$f":"$C$54*'EoL emissions'!Q4","v":0}]
[null,"end of life HH",{"$f":"D53*C53","v":0},null,{"$f":"$C$55*'EoL emissions'!B5","v":0},{"$f":"$C$55*'EoL emissions'!C5","v":0},{"$f":"$C$55*'EoL emissions'!D5","v":0},{"$f":"$C$55*'EoL emissions'!E5","v":0},{"$f":"$C$55*'EoL emissions'!F5","v":0},{"$f":"$C$55*'EoL emissions'!G5","v":0},{"$f":"$C$55*'EoL emissions'!H5","v":0},{"$f":"$C$55*'EoL emissions'!I5","v":0},{"$f":"$C$55*'EoL emissions'!J5","v":0},{"$f":"$C$55*'EoL emissions'!K5","v":0},{"$f":"$C$55*'EoL emissions'!L5","v":0},{"$f":"$C$55*'EoL emissions'!M5","v":0},{"$f":"$C$55*'EoL emissions'!N5","v":0},{"$f":"$C$55*'EoL emissions'!O5","v":0},{"$f":"$C$55*'EoL emissions'!P5","v":0},{"$f":"$C$55*'EoL emissions'!Q5","v":0}]
["SHRIMP",null,null,null,{"$f":"SUM(E49:E55)","v":6.61},{"$f":"SUM(F49:F55)","v":1.5900000000000001E-7},1.17E-6,3.2800000000000003E-8,4.9800000000000004E-7,7.8700000000000006E-2,2.47E-2,4.4900000000000002E-2,0.122,1.0999999999999999E-2,9.4100000000000003E-2,6.1,347,0.59399999999999997,76.3,4.4000000000000002E-6]
["Dairy","MILK"]
[null,"agriculture ",1,{"$f":"Calculation_original!D58","v":3.5000000000000003E-2},{"$f":"$C$58*'Emissions per kg'!C46","v":1.25},{"$f":"$C$58*'Emissions per kg'!D46","v":4.0499999999999999E-9},{"$f":"$C$58*'Emissions per kg'!E46","v":2.0600000000000002E-6},{"$f":"$C$58*'Emissions per kg'!F46","v":1.4300000000000001E-8},{"$f":"$C$58*'Emissions per kg'!G46","v":1.6E-7},{"$f":"$C$58*'Emissions per kg'!H46","v":6.6100000000000004E-3},{"$f":"$C$58*'Emissions per kg'!I46","v":1.07E-3},{"$f":"$C$58*'Emissions per kg'!J46","v":2.2599999999999999E-2},{"$f":"$C$58*'Emissions per kg'!K46","v":0.1},{"$f":"$C$58*'Emissions per kg'!L46","v":1.6799999999999999E-4},{"$f":"$C$58*'Emissions per kg'!M46","v":7.2500000000000004E-3},{"$f":"$C$58*'Emissions per kg'!N46","v":3.05},{"$f":"$C$58*'Emissions per kg'!O46","v":103},{"$f":"$C$58*'Emissions per kg'!P46","v":0.122},{"$f":"$C$58*'Emissions per kg'!Q46","v":2.97},{"$f":"$C$58*'Emissions per kg'!R46","v":2E-8}]
[null,"processsing",null,{"$f":"Calculation_original!D59","v":1.7000000000000001E-2},{"$f":"$C$59*'Emissions per kg'!C47","v":0},{"$f":"$C$59*'Emissions per kg'!D47","v":0},{"$f":"$C$59*'Emissions per kg'!E47","v":0},{"$f":"$C$59*'Emissions per kg'!F47","v":0},{"$f":"$C$59*'Emissions per kg'!G47","v":0},{"$f":"$C$59*'Emissions per kg'!H47","v":0},{"$f":"$C$59*'Emissions per kg'!I47","v":0},{"$f":"$C$59*'Emissions per kg'!J47","v":0},{"$f":"$C$59*'Emissions per kg'!K47","v":0},{"$f":"$C$59*'Emissions per kg'!L47","v":0},{"$f":"$C$59*'Emissions per kg'!M47","v":0},{"$f":"$C$59*'Emissions per kg'!N47","v":0},{"$f":"$C$59*'Emissions per kg'!O47","v":0},{"$f":"$C$59*'Emissions per kg'!P47","v":0},{"$f":"$C$59*'Emissions per kg'!Q47","v":0},{"$f":"$C$59*'Emissions per kg'!R47","v":0}]
[null,"packaging",null,{"$f":"Calculation_original!D60","v":0},{"$f":"$C$60*'Emissions per kg'!C48","v":0},{"$f":"$C$60*'Emissions per kg'!D48","v":0},{"$f":"$C$60*'Emissions per kg'!E48","v":0},{"$f":"$C$60*'Emissions per kg'!F48","v":0},{"$f":"$C$60*'Emissions per kg'!G48","v":0},{"$f":"$C$60*'Emissions per kg'!H48","v":0},{"$f":"$C$60*'Emissions per kg'!I48","v":0},{"$f":"$C$60*'Emissions per kg'!J48","v":0},{"$f":"$C$60*'Emissions per kg'!K48","v":0},{"$f":"$C$60*'Emissions per kg'!L48","v":0},{"$f":"$C$60*'Emissions per kg'!M48","v":0},{"$f":"$C$60*'Emissions per kg'!N48","v":0},{"$f":"$C$60*'Emissions per kg'!O48","v":0},{"$f":"$C$60*'Emissions per kg'!P48","v":0},{"$f":"$C$60*'Emissions per kg'!Q48","v":0},{"$f":"$C$60*'Emissions per kg'!R48","v":0}]
[null,"retail",null,{"$f":"Calculation_original!D61","v":5.0000000000000001E-3},{"$f":"$C$61*'Emissions per kg'!C49","v":0},{"$f":"$C$61*'Emissions per kg'!D49","v":0},{"$f":"$C$61*'Emissions per kg'!E49","v":0},{"$f":"$C$61*'Emissions per kg'!F49","v":0},{"$f":"$C$61*'Emissions per kg'!G49","v":0},{"$f":"$C$61*'Emissions per kg'!H49","v":0},{"$f":"$C$61*'Emissions per kg'!I49","v":0},{"$f":"$C$61*'Emissions per kg'!J49","v":0},{"$f":"$C$61*'Emissions per kg'!K49","v":0},{"$f":"$C$61*'Emissions per kg'!L49","v":0},{"$f":"$C$61*'Emissions per kg'!M49","v":0},{"$f":"$C$61*'Emissions per kg'!N49","v":0},{"$f":"$C$61*'Emissions per kg'!O49","v":0},{"$f":"$C$61*'Emissions per kg'!P49","v":0},{"$f":"$C$61*'Emissions per kg'!Q49","v":0},{"$f":"$C$61*'Emissions per kg'!R49","v":0}]
[null,"use ",null,{"$f":"Calculation_original!D62","v":7.0000000000000007E-2},{"$f":"$C$62*'Emissions per kg'!C50","v":0},{"$f":"$C$62*'Emissions per kg'!D50","v":0},{"$f":"$C$62*'Emissions per kg'!E50","v":0},{"$f":"$C$62*'Emissions per kg'!F50","v":0},{"$f":"$C$62*'Emissions per kg'!G50","v":0},{"$f":"$C$62*'Emissions per kg'!H50","v":0},{"$f":"$C$62*'Emissions per kg'!I50","v":0},{"$f":"$C$62*'Emissions per kg'!J50","v":0},{"$f":"$C$62*'Emissions per kg'!K50","v":0},{"$f":"$C$62*'Emissions per kg'!L50","v":0},{"$f":"$C$62*'Emissions per kg'!M50","v":0},{"$f":"$C$62*'Emissions per kg'!N50","v":0},{"$f":"$C$62*'Emissions per kg'!O50","v":0},{"$f":"$C$62*'Emissions per kg'!P50","v":0},{"$f":"$C$62*'Emissions per kg'!Q50","v":0},{"$f":"$C$62*'Emissions per kg'!R50","v":0}]
[null,"end of life P&R",{"$f":"D59*C59+D61*C61+C60*D60+C58*D58","v":3.5000000000000003E-2},null,{"$f":"$C$63*'EoL emissions'!B4","v":1.1842431273574507E-2},{"$f":"$C$63*'EoL emissions'!C4","v":1.4170715076462096E-10},{"$f":"$C$63*'EoL emissions'!D4","v":1.314122217049924E-8},{"$f":"$C$63*'EoL emissions'!E4","v":5.2563544883848421E-10},{"$f":"$C$63*'EoL emissions'!F4","v":2.6793612477427778E-10},{"$f":"$C$63*'EoL emissions'!G4","v":8.9729261399554245E-5},{"$f":"$C$63*'EoL emissions'!H4","v":1.586523575209183E-5},{"$f":"$C$63*'EoL emissions'!I4","v":4.2037528016907091E-5},{"$f":"$C$63*'EoL emissions'!J4","v":1.7000077557797718E-4},{"$f":"$C$63*'EoL emissions'!K4","v":3.346386249682204E-6},{"$f":"$C$63*'EoL emissions'!L4","v":1.9208029592963964E-5},{"$f":"$C$63*'EoL emissions'!M4","v":0.92919639018650291},{"$f":"$C$63*'EoL emissions'!N4","v":4.8027208608142441E-2},{"$f":"$C$63*'EoL emissions'!O4","v":4.6511171223915029E-4},{"$f":"$C$63*'EoL emissions'!P4","v":-8.5447005254741578E-3},{"$f":"$C$63*'EoL emissions'!Q4","v":-6.48579889488761E-10}]
[null,"end of life HH",{"$f":"D62*C62","v":0},null,{"$f":"$C$64*'EoL emissions'!B5","v":0},{"$f":"$C$64*'EoL emissions'!C5","v":0},{"$f":"$C$64*'EoL emissions'!D5","v":0},{"$f":"$C$64*'EoL emissions'!E5","v":0},{"$f":"$C$64*'EoL emissions'!F5","v":0},{"$f":"$C$64*'EoL emissions'!G5","v":0},{"$f":"$C$64*'EoL emissions'!H5","v":0},{"$f":"$C$64*'EoL emissions'!I5","v":0},{"$f":"$C$64*'EoL emissions'!J5","v":0},{"$f":"$C$64*'EoL emissions'!K5","v":0},{"$f":"$C$64*'EoL emissions'!L5","v":0},{"$f":"$C$64*'EoL emissions'!M5","v":0},{"$f":"$C$64*'EoL emissions'!N5","v":0},{"$f":"$C$64*'EoL emissions'!O5","v":0},{"$f":"$C$64*'EoL emissions'!P5","v":0},{"$f":"$C$64*'EoL emissions'!Q5","v":0}]
["MILK",null,null,null,{"$f":"SUM(E58:E64)","v":1.2618424312735745},{"$f":"SUM(F58:F64)","v":4.1917071507646206E-9},2.0731412221704996E-6,1.4825635448838485E-8,1.6026793612477428E-7,6.6997292613995545E-3,1.0858652357520918E-3,2.2642037528016905E-2,0.10017000077557799,1.713463862496822E-4,7.2692080295929645E-3,3.9791963901865026,103.04802720860815,0.12246511171223914,2.961455299474526,1.9351420110511238E-8]
["Dairy","CHEESE"]
[null,"agriculture ",1,{"$f":"Calculation_original!D67","v":3.5000000000000003E-2},{"$f":"$C$67*'Emissions per kg'!C53","v":11.6},{"$f":"$C$67*'Emissions per kg'!D53","v":3.7800000000000001E-8},{"$f":"$C$67*'Emissions per kg'!E53","v":1.9300000000000002E-5},{"$f":"$C$67*'Emissions per kg'!F53","v":1.3300000000000001E-7},{"$f":"$C$67*'Emissions per kg'!G53","v":1.5E-6},{"$f":"$C$67*'Emissions per kg'!H53","v":6.1699999999999998E-2},{"$f":"$C$67*'Emissions per kg'!I53","v":0.01},{"$f":"$C$67*'Emissions per kg'!J53","v":0.21099999999999999},{"$f":"$C$67*'Emissions per kg'!K53","v":0.93700000000000006},{"$f":"$C$67*'Emissions per kg'!L53","v":1.56E-3},{"$f":"$C$67*'Emissions per kg'!M53","v":6.7699999999999996E-2},{"$f":"$C$67*'Emissions per kg'!N53","v":28.5},{"$f":"$C$67*'Emissions per kg'!O53","v":962},{"$f":"$C$67*'Emissions per kg'!P53","v":1.1399999999999999},{"$f":"$C$67*'Emissions per kg'!Q53","v":27.7},{"$f":"$C$67*'Emissions per kg'!R53","v":1.8699999999999999E-7}]
[null,"processsing",null,{"$f":"Calculation_original!D68","v":0},{"$f":"$C$68*'Emissions per kg'!C54","v":0},{"$f":"$C$68*'Emissions per kg'!D54","v":0},{"$f":"$C$68*'Emissions per kg'!E54","v":0},{"$f":"$C$68*'Emissions per kg'!F54","v":0},{"$f":"$C$68*'Emissions per kg'!G54","v":0},{"$f":"$C$68*'Emissions per kg'!H54","v":0},{"$f":"$C$68*'Emissions per kg'!I54","v":0},{"$f":"$C$68*'Emissions per kg'!J54","v":0},{"$f":"$C$68*'Emissions per kg'!K54","v":0},{"$f":"$C$68*'Emissions per kg'!L54","v":0},{"$f":"$C$68*'Emissions per kg'!M54","v":0},{"$f":"$C$68*'Emissions per kg'!N54","v":0},{"$f":"$C$68*'Emissions per kg'!O54","v":0},{"$f":"$C$68*'Emissions per kg'!P54","v":0},{"$f":"$C$68*'Emissions per kg'!Q54","v":0},{"$f":"$C$68*'Emissions per kg'!R54","v":0}]
[null,"packaging",null,{"$f":"Calculation_original!D69","v":0},{"$f":"$C$69*'Emissions per kg'!C55","v":0},{"$f":"$C$69*'Emissions per kg'!D55","v":0},{"$f":"$C$69*'Emissions per kg'!E55","v":0},{"$f":"$C$69*'Emissions per kg'!F55","v":0},{"$f":"$C$69*'Emissions per kg'!G55","v":0},{"$f":"$C$69*'Emissions per kg'!H55","v":0},{"$f":"$C$69*'Emissions per kg'!I55","v":0},{"$f":"$C$69*'Emissions per kg'!J55","v":0},{"$f":"$C$69*'Emissions per kg'!K55","v":0},{"$f":"$C$69*'Emissions per kg'!L55","v":0},{"$f":"$C$69*'Emissions per kg'!M55","v":0},{"$f":"$C$69*'Emissions per kg'!N55","v":0},{"$f":"$C$69*'Emissions per kg'!O55","v":0},{"$f":"$C$69*'Emissions per kg'!P55","v":0},{"$f":"$C$69*'Emissions per kg'!Q55","v":0},{"$f":"$C$69*'Emissions per kg'!R55","v":0}]
[null,"retail",null,{"$f":"Calculation_original!D70","v":3.4000000000000002E-2},{"$f":"$C$70*'Emissions per kg'!C56","v":0},{"$f":"$C$70*'Emissions per kg'!D56","v":0},{"$f":"$C$70*'Emissions per kg'!E56","v":0},{"$f":"$C$70*'Emissions per kg'!F56","v":0},{"$f":"$C$70*'Emissions per kg'!G56","v":0},{"$f":"$C$70*'Emissions per kg'!H56","v":0},{"$f":"$C$70*'Emissions per kg'!I56","v":0},{"$f":"$C$70*'Emissions per kg'!J56","v":0},{"$f":"$C$70*'Emissions per kg'!K56","v":0},{"$f":"$C$70*'Emissions per kg'!L56","v":0},{"$f":"$C$70*'Emissions per kg'!M56","v":0},{"$f":"$C$70*'Emissions per kg'!N56","v":0},{"$f":"$C$70*'Emissions per kg'!O56","v":0},{"$f":"$C$70*'Emissions per kg'!P56","v":0},{"$f":"$C$70*'Emissions per kg'!Q56","v":0},{"$f":"$C$70*'Emissions per kg'!R56","v":0}]
[null,"use ",null,{"$f":"Calculation_original!D71","v":3.4000000000000002E-2},{"$f":"$C$71*'Emissions per kg'!C57","v":0},{"$f":"$C$71*'Emissions per kg'!D57","v":0},{"$f":"$C$71*'Emissions per kg'!E57","v":0},{"$f":"$C$71*'Emissions per kg'!F57","v":0},{"$f":"$C$71*'Emissions per kg'!G57","v":0},{"$f":"$C$71*'Emissions per kg'!H57","v":0},{"$f":"$C$71*'Emissions per kg'!I57","v":0},{"$f":"$C$71*'Emissions per kg'!J57","v":0},{"$f":"$C$71*'Emissions per kg'!K57","v":0},{"$f":"$C$71*'Emissions per kg'!L57","v":0},{"$f":"$C$71*'Emissions per kg'!M57","v":0},{"$f":"$C$71*'Emissions per kg'!N57","v":0},{"$f":"$C$71*'Emissions per kg'!O57","v":0},{"$f":"$C$71*'Emissions per kg'!P57","v":0},{"$f":"$C$71*'Emissions per kg'!Q57","v":0},{"$f":"$C$71*'Emissions per kg'!R57","v":0}]
[null,"end of life P&R",{"$f":"D68*C68+D70*C70+C69*D69+C67*D67","v":3.5000000000000003E-2},null,{"$f":"$C$72*'EoL emissions'!B4","v":1.1842431273574507E-2},{"$f":"$C$72*'EoL emissions'!C4","v":1.4170715076462096E-10},{"$f":"$C$72*'EoL emissions'!D4","v":1.314122217049924E-8},{"$f":"$C$72*'EoL emissions'!E4","v":5.2563544883848421E-10},{"$f":"$C$72*'EoL emissions'!F4","v":2.6793612477427778E-10},{"$f":"$C$72*'EoL emissions'!G4","v":8.9729261399554245E-5},{"$f":"$C$72*'EoL emissions'!H4","v":1.586523575209183E-5},{"$f":"$C$72*'EoL emissions'!I4","v":4.2037528016907091E-5},{"$f":"$C$72*'EoL emissions'!J4","v":1.7000077557797718E-4},{"$f":"$C$72*'EoL emissions'!K4","v":3.346386249682204E-6},{"$f":"$C$72*'EoL emissions'!L4","v":1.9208029592963964E-5},{"$f":"$C$72*'EoL emissions'!M4","v":0.92919639018650291},{"$f":"$C$72*'EoL emissions'!N4","v":4.8027208608142441E-2},{"$f":"$C$72*'EoL emissions'!O4","v":4.6511171223915029E-4},{"$f":"$C$72*'EoL emissions'!P4","v":-8.5447005254741578E-3},{"$f":"$C$72*'EoL emissions'!Q4","v":-6.48579889488761E-10}]
[null,"end of life HH",{"$f":"D71*C71","v":0},null,{"$f":"$C$73*'EoL emissions'!B5","v":0},{"$f":"$C$73*'EoL emissions'!C5","v":0},{"$f":"$C$73*'EoL emissions'!D5","v":0},{"$f":"$C$73*'EoL emissions'!E5","v":0},{"$f":"$C$73*'EoL emissions'!F5","v":0},{"$f":"$C$73*'EoL emissions'!G5","v":0},{"$f":"$C$73*'EoL emissions'!H5","v":0},{"$f":"$C$73*'EoL emissions'!I5","v":0},{"$f":"$C$73*'EoL emissions'!J5","v":0},{"$f":"$C$73*'EoL emissions'!K5","v":0},{"$f":"$C$73*'EoL emissions'!L5","v":0},{"$f":"$C$73*'EoL emissions'!M5","v":0},{"$f":"$C$73*'EoL emissions'!N5","v":0},{"$f":"$C$73*'EoL emissions'!O5","v":0},{"$f":"$C$73*'EoL emissions'!P5","v":0},{"$f":"$C$73*'EoL emissions'!Q5","v":0}]
["CHEESE",null,null,null,{"$f":"SUM(E67:E73)","v":11.611842431273574},{"$f":"SUM(F67:F73)","v":3.7941707150764624E-8},1.93131412221705E-5,1.335256354488385E-7,1.5002679361247743E-6,6.1789729261399549E-2,1.0015865235752092E-2,0.2110420375280169,0.93717000077557799,1.5633463862496822E-3,6.7719208029592956E-2,29.429196390186505,962.04802720860812,1.1404651117122391,27.691455299474526,1.8635142011051124E-7]
["Dairy","BUTTER"]
[null,"agriculture ",1,{"$f":"Calculation_original!D76","v":3.5000000000000003E-2},{"$f":"$C$76*'Emissions per kg'!C60","v":28},{"$f":"$C$76*'Emissions per kg'!D60","v":9.1199999999999996E-8},{"$f":"$C$76*'Emissions per kg'!E60","v":4.6499999999999999E-5},{"$f":"$C$76*'Emissions per kg'!F60","v":3.22E-7},{"$f":"$C$76*'Emissions per kg'!G60","v":3.6100000000000002E-6},{"$f":"$C$76*'Emissions per kg'!H60","v":0.14899999999999999},{"$f":"$C$76*'Emissions per kg'!I60","v":2.41E-2},{"$f":"$C$76*'Emissions per kg'!J60","v":0.50800000000000001},{"$f":"$C$76*'Emissions per kg'!K60","v":2.2599999999999998},{"$f":"$C$76*'Emissions per kg'!L60","v":3.7699999999999999E-3},{"$f":"$C$76*'Emissions per kg'!M60","v":0.16300000000000001},{"$f":"$C$76*'Emissions per kg'!N60","v":68.599999999999994},{"$f":"$C$76*'Emissions per kg'!O60","v":2320},{"$f":"$C$76*'Emissions per kg'!P60","v":2.75},{"$f":"$C$76*'Emissions per kg'!Q60","v":66.8},{"$f":"$C$76*'Emissions per kg'!R60","v":4.4999999999999998E-7}]
[null,"processsing",null,{"$f":"Calculation_original!D77","v":0},{"$f":"$C$77*'Emissions per kg'!C61","v":0},{"$f":"$C$77*'Emissions per kg'!D61","v":0},{"$f":"$C$77*'Emissions per kg'!E61","v":0},{"$f":"$C$77*'Emissions per kg'!F61","v":0},{"$f":"$C$77*'Emissions per kg'!G61","v":0},{"$f":"$C$77*'Emissions per kg'!H61","v":0},{"$f":"$C$77*'Emissions per kg'!I61","v":0},{"$f":"$C$77*'Emissions per kg'!J61","v":0},{"$f":"$C$77*'Emissions per kg'!K61","v":0},{"$f":"$C$77*'Emissions per kg'!L61","v":0},{"$f":"$C$77*'Emissions per kg'!M61","v":0},{"$f":"$C$77*'Emissions per kg'!N61","v":0},{"$f":"$C$77*'Emissions per kg'!O61","v":0},{"$f":"$C$77*'Emissions per kg'!P61","v":0},{"$f":"$C$77*'Emissions per kg'!Q61","v":0},{"$f":"$C$77*'Emissions per kg'!R61","v":0}]
[null,"packaging",null,{"$f":"Calculation_original!D78","v":0},{"$f":"$C$78*'Emissions per kg'!C62","v":0},{"$f":"$C$78*'Emissions per kg'!D62","v":0},{"$f":"$C$78*'Emissions per kg'!E62","v":0},{"$f":"$C$78*'Emissions per kg'!F62","v":0},{"$f":"$C$78*'Emissions per kg'!G62","v":0},{"$f":"$C$78*'Emissions per kg'!H62","v":0},{"$f":"$C$78*'Emissions per kg'!I62","v":0},{"$f":"$C$78*'Emissions per kg'!J62","v":0},{"$f":"$C$78*'Emissions per kg'!K62","v":0},{"$f":"$C$78*'Emissions per kg'!L62","v":0},{"$f":"$C$78*'Emissions per kg'!M62","v":0},{"$f":"$C$78*'Emissions per kg'!N62","v":0},{"$f":"$C$78*'Emissions per kg'!O62","v":0},{"$f":"$C$78*'Emissions per kg'!P62","v":0},{"$f":"$C$78*'Emissions per kg'!Q62","v":0},{"$f":"$C$78*'Emissions per kg'!R62","v":0}]
[null,"retail",null,{"$f":"Calculation_original!D79","v":3.4000000000000002E-2},{"$f":"$C$79*'Emissions per kg'!C63","v":0},{"$f":"$C$79*'Emissions per kg'!D63","v":0},{"$f":"$C$79*'Emissions per kg'!E63","v":0},{"$f":"$C$79*'Emissions per kg'!F63","v":0},{"$f":"$C$79*'Emissions per kg'!G63","v":0},{"$f":"$C$79*'Emissions per kg'!H63","v":0},{"$f":"$C$79*'Emissions per kg'!I63","v":0},{"$f":"$C$79*'Emissions per kg'!J63","v":0},{"$f":"$C$79*'Emissions per kg'!K63","v":0},{"$f":"$C$79*'Emissions per kg'!L63","v":0},{"$f":"$C$79*'Emissions per kg'!M63","v":0},{"$f":"$C$79*'Emissions per kg'!N63","v":0},{"$f":"$C$79*'Emissions per kg'!O63","v":0},{"$f":"$C$79*'Emissions per kg'!P63","v":0},{"$f":"$C$79*'Emissions per kg'!Q63","v":0},{"$f":"$C$79*'Emissions per kg'!R63","v":0}]
[null,"use ",null,{"$f":"Calculation_original!D80","v":3.4000000000000002E-2},{"$f":"$C$80*'Emissions per kg'!C64","v":0},{"$f":"$C$80*'Emissions per kg'!D64","v":0},{"$f":"$C$80*'Emissions per kg'!E64","v":0},{"$f":"$C$80*'Emissions per kg'!F64","v":0},{"$f":"$C$80*'Emissions per kg'!G64","v":0},{"$f":"$C$80*'Emissions per kg'!H64","v":0},{"$f":"$C$80*'Emissions per kg'!I64","v":0},{"$f":"$C$80*'Emissions per kg'!J64","v":0},{"$f":"$C$80*'Emissions per kg'!K64","v":0},{"$f":"$C$80*'Emissions per kg'!L64","v":0},{"$f":"$C$80*'Emissions per kg'!M64","v":0},{"$f":"$C$80*'Emissions per kg'!N64","v":0},{"$f":"$C$80*'Emissions per kg'!O64","v":0},{"$f":"$C$80*'Emissions per kg'!P64","v":0},{"$f":"$C$80*'Emissions per kg'!Q64","v":0},{"$f":"$C$80*'Emissions per kg'!R64","v":0}]
[null,"end of life P&R",{"$f":"D77*C77+D79*C79+C78*D78+C76*D76","v":3.5000000000000003E-2},null,{"$f":"$C$81*'EoL emissions'!B4","v":1.1842431273574507E-2},{"$f":"$C$81*'EoL emissions'!C4","v":1.4170715076462096E-10},{"$f":"$C$81*'EoL emissions'!D4","v":1.314122217049924E-8},{"$f":"$C$81*'EoL emissions'!E4","v":5.2563544883848421E-10},{"$f":"$C$81*'EoL emissions'!F4","v":2.6793612477427778E-10},{"$f":"$C$81*'EoL emissions'!G4","v":8.9729261399554245E-5},{"$f":"$C$81*'EoL emissions'!H4","v":1.586523575209183E-5},{"$f":"$C$81*'EoL emissions'!I4","v":4.2037528016907091E-5},{"$f":"$C$81*'EoL emissions'!J4","v":1.7000077557797718E-4},{"$f":"$C$81*'EoL emissions'!K4","v":3.346386249682204E-6},{"$f":"$C$81*'EoL emissions'!L4","v":1.9208029592963964E-5},{"$f":"$C$81*'EoL emissions'!M4","v":0.92919639018650291},{"$f":"$C$81*'EoL emissions'!N4","v":4.8027208608142441E-2},{"$f":"$C$81*'EoL emissions'!O4","v":4.6511171223915029E-4},{"$f":"$C$81*'EoL emissions'!P4","v":-8.5447005254741578E-3},{"$f":"$C$81*'EoL emissions'!Q4","v":-6.48579889488761E-10}]
[null,"end of life HH",{"$f":"D80*C80","v":0},null,{"$f":"$C$82*'EoL emissions'!B5","v":0},{"$f":"$C$82*'EoL emissions'!C5","v":0},{"$f":"$C$82*'EoL emissions'!D5","v":0},{"$f":"$C$82*'EoL emissions'!E5","v":0},{"$f":"$C$82*'EoL emissions'!F5","v":0},{"$f":"$C$82*'EoL emissions'!G5","v":0},{"$f":"$C$82*'EoL emissions'!H5","v":0},{"$f":"$C$82*'EoL emissions'!I5","v":0},{"$f":"$C$82*'EoL emissions'!J5","v":0},{"$f":"$C$82*'EoL emissions'!K5","v":0},{"$f":"$C$82*'EoL emissions'!L5","v":0},{"$f":"$C$82*'EoL emissions'!M5","v":0},{"$f":"$C$82*'EoL emissions'!N5","v":0},{"$f":"$C$82*'EoL emissions'!O5","v":0},{"$f":"$C$82*'EoL emissions'!P5","v":0},{"$f":"$C$82*'EoL emissions'!Q5","v":0}]
["BUTTER",null,null,null,{"$f":"SUM(E76:E82)","v":28.011842431273575},{"$f":"SUM(F76:F82)","v":9.1341707150764619E-8},4.65131412221705E-5,3.2252563544883848E-7,3.6102679361247744E-6,0.14908972926139955,2.4115865235752092E-2,0.50804203752801691,2.2601700007755778,3.7733463862496823E-3,0.16301920802959297,69.529196390186499,2320.0480272086083,2.7504651117122392,66.791455299474521,4.4935142011051122E-7]
["Eggs1","EGGS"]
[null,"agriculture ",1,{"$f":"Calculation_original!D85","v":0},{"$f":"$C$85*'Emissions per kg'!C67","v":4.93},{"$f":"$C$85*'Emissions per kg'!D67","v":5.6799999999999999E-8},{"$f":"$C$85*'Emissions per kg'!E67","v":7.6699999999999994E-6},{"$f":"$C$85*'Emissions per kg'!F67","v":7.4900000000000002E-8},{"$f":"$C$85*'Emissions per kg'!G67","v":1.0499999999999999E-6},{"$f":"$C$85*'Emissions per kg'!H67","v":9.0800000000000006E-2},{"$f":"$C$85*'Emissions per kg'!I67","v":6.79E-3},{"$f":"$C$85*'Emissions per kg'!J67","v":0.13600000000000001},{"$f":"$C$85*'Emissions per kg'!K67","v":0.6},{"$f":"$C$85*'Emissions per kg'!L67","v":7.6499999999999995E-4},{"$f":"$C$85*'Emissions per kg'!M67","v":3.1300000000000001E-2},{"$f":"$C$85*'Emissions per kg'!N67","v":17.399999999999999},{"$f":"$C$85*'Emissions per kg'!O67","v":725},{"$f":"$C$85*'Emissions per kg'!P67","v":1.27},{"$f":"$C$85*'Emissions per kg'!Q67","v":20.6},{"$f":"$C$85*'Emissions per kg'!R67","v":1.4700000000000001E-7}]
[null,"processsing",null,{"$f":"Calculation_original!D86","v":1.0999999999999999E-2},{"$f":"$C$86*'Emissions per kg'!C68","v":0},{"$f":"$C$86*'Emissions per kg'!D68","v":0},{"$f":"$C$86*'Emissions per kg'!E68","v":0},{"$f":"$C$86*'Emissions per kg'!F68","v":0},{"$f":"$C$86*'Emissions per kg'!G68","v":0},{"$f":"$C$86*'Emissions per kg'!H68","v":0},{"$f":"$C$86*'Emissions per kg'!I68","v":0},{"$f":"$C$86*'Emissions per kg'!J68","v":0},{"$f":"$C$86*'Emissions per kg'!K68","v":0},{"$f":"$C$86*'Emissions per kg'!L68","v":0},{"$f":"$C$86*'Emissions per kg'!M68","v":0},{"$f":"$C$86*'Emissions per kg'!N68","v":0},{"$f":"$C$86*'Emissions per kg'!O68","v":0},{"$f":"$C$86*'Emissions per kg'!P68","v":0},{"$f":"$C$86*'Emissions per kg'!Q68","v":0},{"$f":"$C$86*'Emissions per kg'!R68","v":0}]
[null,"packaging",null,{"$f":"Calculation_original!D87","v":0},{"$f":"$C$87*'Emissions per kg'!C69","v":0},{"$f":"$C$87*'Emissions per kg'!D69","v":0},{"$f":"$C$87*'Emissions per kg'!E69","v":0},{"$f":"$C$87*'Emissions per kg'!F69","v":0},{"$f":"$C$87*'Emissions per kg'!G69","v":0},{"$f":"$C$87*'Emissions per kg'!H69","v":0},{"$f":"$C$87*'Emissions per kg'!I69","v":0},{"$f":"$C$87*'Emissions per kg'!J69","v":0},{"$f":"$C$87*'Emissions per kg'!K69","v":0},{"$f":"$C$87*'Emissions per kg'!L69","v":0},{"$f":"$C$87*'Emissions per kg'!M69","v":0},{"$f":"$C$87*'Emissions per kg'!N69","v":0},{"$f":"$C$87*'Emissions per kg'!O69","v":0},{"$f":"$C$87*'Emissions per kg'!P69","v":0},{"$f":"$C$87*'Emissions per kg'!Q69","v":0},{"$f":"$C$87*'Emissions per kg'!R69","v":0}]
[null,"retail",null,{"$f":"Calculation_original!D88","v":0.04},{"$f":"$C$88*'Emissions per kg'!C70","v":0},{"$f":"$C$88*'Emissions per kg'!D70","v":0},{"$f":"$C$88*'Emissions per kg'!E70","v":0},{"$f":"$C$88*'Emissions per kg'!F70","v":0},{"$f":"$C$88*'Emissions per kg'!G70","v":0},{"$f":"$C$88*'Emissions per kg'!H70","v":0},{"$f":"$C$88*'Emissions per kg'!I70","v":0},{"$f":"$C$88*'Emissions per kg'!J70","v":0},{"$f":"$C$88*'Emissions per kg'!K70","v":0},{"$f":"$C$88*'Emissions per kg'!L70","v":0},{"$f":"$C$88*'Emissions per kg'!M70","v":0},{"$f":"$C$88*'Emissions per kg'!N70","v":0},{"$f":"$C$88*'Emissions per kg'!O70","v":0},{"$f":"$C$88*'Emissions per kg'!P70","v":0},{"$f":"$C$88*'Emissions per kg'!Q70","v":0},{"$f":"$C$88*'Emissions per kg'!R70","v":0}]
[null,"use ",null,{"$f":"Calculation_original!D89","v":6.5000000000000002E-2},{"$f":"$C$89*'Emissions per kg'!C71","v":0},{"$f":"$C$89*'Emissions per kg'!D71","v":0},{"$f":"$C$89*'Emissions per kg'!E71","v":0},{"$f":"$C$89*'Emissions per kg'!F71","v":0},{"$f":"$C$89*'Emissions per kg'!G71","v":0},{"$f":"$C$89*'Emissions per kg'!H71","v":0},{"$f":"$C$89*'Emissions per kg'!I71","v":0},{"$f":"$C$89*'Emissions per kg'!J71","v":0},{"$f":"$C$89*'Emissions per kg'!K71","v":0},{"$f":"$C$89*'Emissions per kg'!L71","v":0},{"$f":"$C$89*'Emissions per kg'!M71","v":0},{"$f":"$C$89*'Emissions per kg'!N71","v":0},{"$f":"$C$89*'Emissions per kg'!O71","v":0},{"$f":"$C$89*'Emissions per kg'!P71","v":0},{"$f":"$C$89*'Emissions per kg'!Q71","v":0},{"$f":"$C$89*'Emissions per kg'!R71","v":0}]
[null,"end of life P&R",{"$f":"D86*C86+D88*C88+C87*D87+C85*D85","v":0},null,{"$f":"$C$90*'EoL emissions'!B4","v":0},{"$f":"$C$90*'EoL emissions'!C4","v":0},{"$f":"$C$90*'EoL emissions'!D4","v":0},{"$f":"$C$90*'EoL emissions'!E4","v":0},{"$f":"$C$90*'EoL emissions'!F4","v":0},{"$f":"$C$90*'EoL emissions'!G4","v":0},{"$f":"$C$90*'EoL emissions'!H4","v":0},{"$f":"$C$90*'EoL emissions'!I4","v":0},{"$f":"$C$90*'EoL emissions'!J4","v":0},{"$f":"$C$90*'EoL emissions'!K4","v":0},{"$f":"$C$90*'EoL emissions'!L4","v":0},{"$f":"$C$90*'EoL emissions'!M4","v":0},{"$f":"$C$90*'EoL emissions'!N4","v":0},{"$f":"$C$90*'EoL emissions'!O4","v":0},{"$f":"$C$90*'EoL emissions'!P4","v":0},{"$f":"$C$90*'EoL emissions'!Q4","v":0}]
[null,"end of life HH",{"$f":"D89*C89","v":0},null,{"$f":"$C$91*'EoL emissions'!B5","v":0},{"$f":"$C$91*'EoL emissions'!C5","v":0},{"$f":"$C$91*'EoL emissions'!D5","v":0},{"$f":"$C$91*'EoL emissions'!E5","v":0},{"$f":"$C$91*'EoL emissions'!F5","v":0},{"$f":"$C$91*'EoL emissions'!G5","v":0},{"$f":"$C$91*'EoL emissions'!H5","v":0},{"$f":"$C$91*'EoL emissions'!I5","v":0},{"$f":"$C$91*'EoL emissions'!J5","v":0},{"$f":"$C$91*'EoL emissions'!K5","v":0},{"$f":"$C$91*'EoL emissions'!L5","v":0},{"$f":"$C$91*'EoL emissions'!M5","v":0},{"$f":"$C$91*'EoL emissions'!N5","v":0},{"$f":"$C$91*'EoL emissions'!O5","v":0},{"$f":"$C$91*'EoL emissions'!P5","v":0},{"$f":"$C$91*'EoL emissions'!Q5","v":0}]
["EGGS",null,null,null,{"$f":"SUM(E85:E91)","v":4.93},{"$f":"SUM(F85:F91)","v":5.6799999999999999E-8},7.6699999999999994E-6,7.4900000000000002E-8,1.0499999999999999E-6,9.0800000000000006E-2,6.79E-3,0.13600000000000001,0.6,7.6499999999999995E-4,3.1300000000000001E-2,17.399999999999999,725,1.27,20.6,1.4700000000000001E-7]
["Legumes","BEANS"]
[null,"agriculture ",1,{"$f":"Calculation_original!D94","v":0},{"$f":"$C$94*'Emissions per kg'!C74","v":1.1499999999999999},{"$f":"$C$94*'Emissions per kg'!D74","v":1.7199999999999999E-8},{"$f":"$C$94*'Emissions per kg'!E74","v":9.9399999999999993E-7},{"$f":"$C$94*'Emissions per kg'!F74","v":3.8000000000000003E-8},{"$f":"$C$94*'Emissions per kg'!G74","v":4.1399999999999997E-7},{"$f":"$C$94*'Emissions per kg'!H74","v":5.0000000000000001E-3},{"$f":"$C$94*'Emissions per kg'!I74","v":8.9099999999999997E-4},{"$f":"$C$94*'Emissions per kg'!J74","v":5.8900000000000001E-2},{"$f":"$C$94*'Emissions per kg'!K74","v":0.26200000000000001},{"$f":"$C$94*'Emissions per kg'!L74","v":3.14E-3},{"$f":"$C$94*'Emissions per kg'!M74","v":3.5700000000000003E-2},{"$f":"$C$94*'Emissions per kg'!N74","v":1.56},{"$f":"$C$94*'Emissions per kg'!O74","v":421},{"$f":"$C$94*'Emissions per kg'!P74","v":0.79100000000000004},{"$f":"$C$94*'Emissions per kg'!Q74","v":4.1900000000000004},{"$f":"$C$94*'Emissions per kg'!R74","v":1.08E-6}]
[null,"processsing",null,{"$f":"Calculation_original!D95","v":0.05},{"$f":"$C$95*'Emissions per kg'!C75","v":0},{"$f":"$C$95*'Emissions per kg'!D75","v":0},{"$f":"$C$95*'Emissions per kg'!E75","v":0},{"$f":"$C$95*'Emissions per kg'!F75","v":0},{"$f":"$C$95*'Emissions per kg'!G75","v":0},{"$f":"$C$95*'Emissions per kg'!H75","v":0},{"$f":"$C$95*'Emissions per kg'!I75","v":0},{"$f":"$C$95*'Emissions per kg'!J75","v":0},{"$f":"$C$95*'Emissions per kg'!K75","v":0},{"$f":"$C$95*'Emissions per kg'!L75","v":0},{"$f":"$C$95*'Emissions per kg'!M75","v":0},{"$f":"$C$95*'Emissions per kg'!N75","v":0},{"$f":"$C$95*'Emissions per kg'!O75","v":0},{"$f":"$C$95*'Emissions per kg'!P75","v":0},{"$f":"$C$95*'Emissions per kg'!Q75","v":0},{"$f":"$C$95*'Emissions per kg'!R75","v":0}]
[null,"packaging",null,{"$f":"Calculation_original!D96","v":0},{"$f":"$C$96*'Emissions per kg'!C76","v":0},{"$f":"$C$96*'Emissions per kg'!D76","v":0},{"$f":"$C$96*'Emissions per kg'!E76","v":0},{"$f":"$C$96*'Emissions per kg'!F76","v":0},{"$f":"$C$96*'Emissions per kg'!G76","v":0},{"$f":"$C$96*'Emissions per kg'!H76","v":0},{"$f":"$C$96*'Emissions per kg'!I76","v":0},{"$f":"$C$96*'Emissions per kg'!J76","v":0},{"$f":"$C$96*'Emissions per kg'!K76","v":0},{"$f":"$C$96*'Emissions per kg'!L76","v":0},{"$f":"$C$96*'Emissions per kg'!M76","v":0},{"$f":"$C$96*'Emissions per kg'!N76","v":0},{"$f":"$C$96*'Emissions per kg'!O76","v":0},{"$f":"$C$96*'Emissions per kg'!P76","v":0},{"$f":"$C$96*'Emissions per kg'!Q76","v":0},{"$f":"$C$96*'Emissions per kg'!R76","v":0}]
[null,"retail",null,{"$f":"Calculation_original!D97","v":0.01},{"$f":"$C$97*'Emissions per kg'!C77","v":0},{"$f":"$C$97*'Emissions per kg'!D77","v":0},{"$f":"$C$97*'Emissions per kg'!E77","v":0},{"$f":"$C$97*'Emissions per kg'!F77","v":0},{"$f":"$C$97*'Emissions per kg'!G77","v":0},{"$f":"$C$97*'Emissions per kg'!H77","v":0},{"$f":"$C$97*'Emissions per kg'!I77","v":0},{"$f":"$C$97*'Emissions per kg'!J77","v":0},{"$f":"$C$97*'Emissions per kg'!K77","v":0},{"$f":"$C$97*'Emissions per kg'!L77","v":0},{"$f":"$C$97*'Emissions per kg'!M77","v":0},{"$f":"$C$97*'Emissions per kg'!N77","v":0},{"$f":"$C$97*'Emissions per kg'!O77","v":0},{"$f":"$C$97*'Emissions per kg'!P77","v":0},{"$f":"$C$97*'Emissions per kg'!Q77","v":0},{"$f":"$C$97*'Emissions per kg'!R77","v":0}]
[null,"use ",null,{"$f":"Calculation_original!D98","v":0.04},{"$f":"$C$98*'Emissions per kg'!C78","v":0},{"$f":"$C$98*'Emissions per kg'!D78","v":0},{"$f":"$C$98*'Emissions per kg'!E78","v":0},{"$f":"$C$98*'Emissions per kg'!F78","v":0},{"$f":"$C$98*'Emissions per kg'!G78","v":0},{"$f":"$C$98*'Emissions per kg'!H78","v":0},{"$f":"$C$98*'Emissions per kg'!I78","v":0},{"$f":"$C$98*'Emissions per kg'!J78","v":0},{"$f":"$C$98*'Emissions per kg'!K78","v":0},{"$f":"$C$98*'Emissions per kg'!L78","v":0},{"$f":"$C$98*'Emissions per kg'!M78","v":0},{"$f":"$C$98*'Emissions per kg'!N78","v":0},{"$f":"$C$98*'Emissions per kg'!O78","v":0},{"$f":"$C$98*'Emissions per kg'!P78","v":0},{"$f":"$C$98*'Emissions per kg'!Q78","v":0},{"$f":"$C$98*'Emissions per kg'!R78","v":0}]
[null,"end of life P&R",{"$f":"D95*C95+D97*C97+C96*D96+C94*D94","v":0},null,{"$f":"$C$99*'EoL emissions'!B4","v":0},{"$f":"$C$99*'EoL emissions'!C4","v":0},{"$f":"$C$99*'EoL emissions'!D4","v":0},{"$f":"$C$99*'EoL emissions'!E4","v":0},{"$f":"$C$99*'EoL emissions'!F4","v":0},{"$f":"$C$99*'EoL emissions'!G4","v":0},{"$f":"$C$99*'EoL emissions'!H4","v":0},{"$f":"$C$99*'EoL emissions'!I4","v":0},{"$f":"$C$99*'EoL emissions'!J4","v":0},{"$f":"$C$99*'EoL emissions'!K4","v":0},{"$f":"$C$99*'EoL emissions'!L4","v":0},{"$f":"$C$99*'EoL emissions'!M4","v":0},{"$f":"$C$99*'EoL emissions'!N4","v":0},{"$f":"$C$99*'EoL emissions'!O4","v":0},{"$f":"$C$99*'EoL emissions'!P4","v":0},{"$f":"$C$99*'EoL emissions'!Q4","v":0}]
[null,"end of life HH",{"$f":"D98*C98","v":0},null,{"$f":"$C$100*'EoL emissions'!B5","v":0},{"$f":"$C$100*'EoL emissions'!C5","v":0},{"$f":"$C$100*'EoL emissions'!D5","v":0},{"$f":"$C$100*'EoL emissions'!E5","v":0},{"$f":"$C$100*'EoL emissions'!F5","v":0},{"$f":"$C$100*'EoL emissions'!G5","v":0},{"$f":"$C$100*'EoL emissions'!H5","v":0},{"$f":"$C$100*'EoL emissions'!I5","v":0},{"$f":"$C$100*'EoL emissions'!J5","v":0},{"$f":"$C$100*'EoL emissions'!K5","v":0},{"$f":"$C$100*'EoL emissions'!L5","v":0},{"$f":"$C$100*'EoL emissions'!M5","v":0},{"$f":"$C$100*'EoL emissions'!N5","v":0},{"$f":"$C$100*'EoL emissions'!O5","v":0},{"$f":"$C$100*'EoL emissions'!P5","v":0},{"$f":"$C$100*'EoL emissions'!Q5","v":0}]
["BEANS",null,null,null,{"$f":"SUM(E94:E100)","v":1.1499999999999999},{"$f":"SUM(F94:F100)","v":1.7199999999999999E-8},9.9399999999999993E-7,3.8000000000000003E-8,4.1399999999999997E-7,5.0000000000000001E-3,8.9099999999999997E-4,5.8900000000000001E-2,0.26200000000000001,3.14E-3,3.5700000000000003E-2,1.56,421,0.79100000000000004,4.1900000000000004,1.08E-6]
["Legumes","TOFU"]
[null,"agriculture ",1,{"$f":"Calculation_original!D103","v":0},{"$f":"$C$103*'Emissions per kg'!C81","v":1.26},{"$f":"$C$103*'Emissions per kg'!D81","v":3E-10},{"$f":"$C$103*'Emissions per kg'!E81","v":1.6500000000000001E-6},{"$f":"$C$103*'Emissions per kg'!F81","v":1.8299999999999998E-8},{"$f":"$C$103*'Emissions per kg'!G81","v":7.3000000000000005E-8},{"$f":"$C$103*'Emissions per kg'!H81","v":4.75E-4},{"$f":"$C$103*'Emissions per kg'!I81","v":5.3899999999999998E-4},{"$f":"$C$103*'Emissions per kg'!J81","v":1.0200000000000001E-2},{"$f":"$C$103*'Emissions per kg'!K81","v":4.4499999999999998E-2},{"$f":"$C$103*'Emissions per kg'!L81","v":1.8200000000000001E-4},{"$f":"$C$103*'Emissions per kg'!M81","v":4.4099999999999999E-3},{"$f":"$C$103*'Emissions per kg'!N81","v":3.27},{"$f":"$C$103*'Emissions per kg'!O81","v":205},{"$f":"$C$103*'Emissions per kg'!P81","v":0.57599999999999996},{"$f":"$C$103*'Emissions per kg'!Q81","v":1.17},{"$f":"$C$103*'Emissions per kg'!R81","v":1.6899999999999999E-8}]
[null,"processsing",null,{"$f":"Calculation_original!D104","v":0.05},{"$f":"$C$104*'Emissions per kg'!C82","v":0},{"$f":"$C$104*'Emissions per kg'!D82","v":0},{"$f":"$C$104*'Emissions per kg'!E82","v":0},{"$f":"$C$104*'Emissions per kg'!F82","v":0},{"$f":"$C$104*'Emissions per kg'!G82","v":0},{"$f":"$C$104*'Emissions per kg'!H82","v":0},{"$f":"$C$104*'Emissions per kg'!I82","v":0},{"$f":"$C$104*'Emissions per kg'!J82","v":0},{"$f":"$C$104*'Emissions per kg'!K82","v":0},{"$f":"$C$104*'Emissions per kg'!L82","v":0},{"$f":"$C$104*'Emissions per kg'!M82","v":0},{"$f":"$C$104*'Emissions per kg'!N82","v":0},{"$f":"$C$104*'Emissions per kg'!O82","v":0},{"$f":"$C$104*'Emissions per kg'!P82","v":0},{"$f":"$C$104*'Emissions per kg'!Q82","v":0},{"$f":"$C$104*'Emissions per kg'!R82","v":0}]
[null,"packaging",null,{"$f":"Calculation_original!D105","v":0},{"$f":"$C$105*'Emissions per kg'!C83","v":0},{"$f":"$C$105*'Emissions per kg'!D83","v":0},{"$f":"$C$105*'Emissions per kg'!E83","v":0},{"$f":"$C$105*'Emissions per kg'!F83","v":0},{"$f":"$C$105*'Emissions per kg'!G83","v":0},{"$f":"$C$105*'Emissions per kg'!H83","v":0},{"$f":"$C$105*'Emissions per kg'!I83","v":0},{"$f":"$C$105*'Emissions per kg'!J83","v":0},{"$f":"$C$105*'Emissions per kg'!K83","v":0},{"$f":"$C$105*'Emissions per kg'!L83","v":0},{"$f":"$C$105*'Emissions per kg'!M83","v":0},{"$f":"$C$105*'Emissions per kg'!N83","v":0},{"$f":"$C$105*'Emissions per kg'!O83","v":0},{"$f":"$C$105*'Emissions per kg'!P83","v":0},{"$f":"$C$105*'Emissions per kg'!Q83","v":0},{"$f":"$C$105*'Emissions per kg'!R83","v":0}]
[null,"retail",null,{"$f":"Calculation_original!D106","v":0.01},{"$f":"$C$106*'Emissions per kg'!C84","v":0},{"$f":"$C$106*'Emissions per kg'!D84","v":0},{"$f":"$C$106*'Emissions per kg'!E84","v":0},{"$f":"$C$106*'Emissions per kg'!F84","v":0},{"$f":"$C$106*'Emissions per kg'!G84","v":0},{"$f":"$C$106*'Emissions per kg'!H84","v":0},{"$f":"$C$106*'Emissions per kg'!I84","v":0},{"$f":"$C$106*'Emissions per kg'!J84","v":0},{"$f":"$C$106*'Emissions per kg'!K84","v":0},{"$f":"$C$106*'Emissions per kg'!L84","v":0},{"$f":"$C$106*'Emissions per kg'!M84","v":0},{"$f":"$C$106*'Emissions per kg'!N84","v":0},{"$f":"$C$106*'Emissions per kg'!O84","v":0},{"$f":"$C$106*'Emissions per kg'!P84","v":0},{"$f":"$C$106*'Emissions per kg'!Q84","v":0},{"$f":"$C$106*'Emissions per kg'!R84","v":0}]
[null,"use ",null,{"$f":"Calculation_original!D107","v":0.04},{"$f":"$C$107*'Emissions per kg'!C85","v":0},{"$f":"$C$107*'Emissions per kg'!D85","v":0},{"$f":"$C$107*'Emissions per kg'!E85","v":0},{"$f":"$C$107*'Emissions per kg'!F85","v":0},{"$f":"$C$107*'Emissions per kg'!G85","v":0},{"$f":"$C$107*'Emissions per kg'!H85","v":0},{"$f":"$C$107*'Emissions per kg'!I85","v":0},{"$f":"$C$107*'Emissions per kg'!J85","v":0},{"$f":"$C$107*'Emissions per kg'!K85","v":0},{"$f":"$C$107*'Emissions per kg'!L85","v":0},{"$f":"$C$107*'Emissions per kg'!M85","v":0},{"$f":"$C$107*'Emissions per kg'!N85","v":0},{"$f":"$C$107*'Emissions per kg'!O85","v":0},{"$f":"$C$107*'Emissions per kg'!P85","v":0},{"$f":"$C$107*'Emissions per kg'!Q85","v":0},{"$f":"$C$107*'Emissions per kg'!R85","v":0}]
[null,"end of life P&R",{"$f":"D104*C104+D106*C106+C105*D105+C103*D103","v":0},null,{"$f":"$C$108*'EoL emissions'!B4","v":0},{"$f":"$C$108*'EoL emissions'!C4","v":0},{"$f":"$C$108*'EoL emissions'!D4","v":0},{"$f":"$C$108*'EoL emissions'!E4","v":0},{"$f":"$C$108*'EoL emissions'!F4","v":0},{"$f":"$C$108*'EoL emissions'!G4","v":0},{"$f":"$C$108*'EoL emissions'!H4","v":0},{"$f":"$C$108*'EoL emissions'!I4","v":0},{"$f":"$C$108*'EoL emissions'!J4","v":0},{"$f":"$C$108*'EoL emissions'!K4","v":0},{"$f":"$C$108*'EoL emissions'!L4","v":0},{"$f":"$C$108*'EoL emissions'!M4","v":0},{"$f":"$C$108*'EoL emissions'!N4","v":0},{"$f":"$C$108*'EoL emissions'!O4","v":0},{"$f":"$C$108*'EoL emissions'!P4","v":0},{"$f":"$C$108*'EoL emissions'!Q4","v":0}]
[null,"end of life HH",{"$f":"D107*C107","v":0},null,{"$f":"$C$109*'EoL emissions'!B5","v":0},{"$f":"$C$109*'EoL emissions'!C5","v":0},{"$f":"$C$109*'EoL emissions'!D5","v":0},{"$f":"$C$109*'EoL emissions'!E5","v":0},{"$f":"$C$109*'EoL emissions'!F5","v":0},{"$f":"$C$109*'EoL emissions'!G5","v":0},{"$f":"$C$109*'EoL emissions'!H5","v":0},{"$f":"$C$109*'EoL emissions'!I5","v":0},{"$f":"$C$109*'EoL emissions'!J5","v":0},{"$f":"$C$109*'EoL emissions'!K5","v":0},{"$f":"$C$109*'EoL emissions'!L5","v":0},{"$f":"$C$109*'EoL emissions'!M5","v":0},{"$f":"$C$109*'EoL emissions'!N5","v":0},{"$f":"$C$109*'EoL emissions'!O5","v":0},{"$f":"$C$109*'EoL emissions'!P5","v":0},{"$f":"$C$109*'EoL emissions'!Q5","v":0}]
["TOFU",null,null,null,{"$f":"SUM(E103:E109)","v":1.26},{"$f":"SUM(F103:F109)","v":3E-10},1.6500000000000001E-6,1.8299999999999998E-8,7.3000000000000005E-8,4.75E-4,5.3899999999999998E-4,1.0200000000000001E-2,4.4499999999999998E-2,1.8200000000000001E-4,4.4099999999999999E-3,3.27,205,0.57599999999999996,1.17,1.6899999999999999E-8]
["Cereal products","BREAD"]
[null,"agriculture ",1,{"$f":"Calculation_original!D112","v":0},{"$f":"$C$112*'Emissions per kg'!C88","v":0.249},{"$f":"$C$112*'Emissions per kg'!D88","v":3.6100000000000001E-9},{"$f":"$C$112*'Emissions per kg'!E88","v":1.79E-6},{"$f":"$C$112*'Emissions per kg'!F88","v":8.7099999999999999E-9},{"$f":"$C$112*'Emissions per kg'!G88","v":7.6000000000000006E-8},{"$f":"$C$112*'Emissions per kg'!H88","v":2.1099999999999999E-3},{"$f":"$C$112*'Emissions per kg'!I88","v":4.73E-4},{"$f":"$C$112*'Emissions per kg'!J88","v":1.06E-2},{"$f":"$C$112*'Emissions per kg'!K88","v":4.7100000000000003E-2},{"$f":"$C$112*'Emissions per kg'!L88","v":1.0399999999999999E-4},{"$f":"$C$112*'Emissions per kg'!M88","v":6.1700000000000001E-3},{"$f":"$C$112*'Emissions per kg'!N88","v":1.63},{"$f":"$C$112*'Emissions per kg'!O88","v":99.9},{"$f":"$C$112*'Emissions per kg'!P88","v":8.8800000000000007E-3},{"$f":"$C$112*'Emissions per kg'!Q88","v":1.54},{"$f":"$C$112*'Emissions per kg'!R88","v":5.7299999999999997E-8}]
[null,"processsing",null,{"$f":"Calculation_original!D113","v":0.05},{"$f":"$C$113*'Emissions per kg'!C89","v":0},{"$f":"$C$113*'Emissions per kg'!D89","v":0},{"$f":"$C$113*'Emissions per kg'!E89","v":0},{"$f":"$C$113*'Emissions per kg'!F89","v":0},{"$f":"$C$113*'Emissions per kg'!G89","v":0},{"$f":"$C$113*'Emissions per kg'!H89","v":0},{"$f":"$C$113*'Emissions per kg'!I89","v":0},{"$f":"$C$113*'Emissions per kg'!J89","v":0},{"$f":"$C$113*'Emissions per kg'!K89","v":0},{"$f":"$C$113*'Emissions per kg'!L89","v":0},{"$f":"$C$113*'Emissions per kg'!M89","v":0},{"$f":"$C$113*'Emissions per kg'!N89","v":0},{"$f":"$C$113*'Emissions per kg'!O89","v":0},{"$f":"$C$113*'Emissions per kg'!P89","v":0},{"$f":"$C$113*'Emissions per kg'!Q89","v":0},{"$f":"$C$113*'Emissions per kg'!R89","v":0}]
[null,"packaging",null,{"$f":"Calculation_original!D114","v":0},{"$f":"$C$114*'Emissions per kg'!C90","v":0},{"$f":"$C$114*'Emissions per kg'!D90","v":0},{"$f":"$C$114*'Emissions per kg'!E90","v":0},{"$f":"$C$114*'Emissions per kg'!F90","v":0},{"$f":"$C$114*'Emissions per kg'!G90","v":0},{"$f":"$C$114*'Emissions per kg'!H90","v":0},{"$f":"$C$114*'Emissions per kg'!I90","v":0},{"$f":"$C$114*'Emissions per kg'!J90","v":0},{"$f":"$C$114*'Emissions per kg'!K90","v":0},{"$f":"$C$114*'Emissions per kg'!L90","v":0},{"$f":"$C$114*'Emissions per kg'!M90","v":0},{"$f":"$C$114*'Emissions per kg'!N90","v":0},{"$f":"$C$114*'Emissions per kg'!O90","v":0},{"$f":"$C$114*'Emissions per kg'!P90","v":0},{"$f":"$C$114*'Emissions per kg'!Q90","v":0},{"$f":"$C$114*'Emissions per kg'!R90","v":0}]
[null,"retail",null,{"$f":"Calculation_original!D115","v":0.02},{"$f":"$C$115*'Emissions per kg'!C91","v":0},{"$f":"$C$115*'Emissions per kg'!D91","v":0},{"$f":"$C$115*'Emissions per kg'!E91","v":0},{"$f":"$C$115*'Emissions per kg'!F91","v":0},{"$f":"$C$115*'Emissions per kg'!G91","v":0},{"$f":"$C$115*'Emissions per kg'!H91","v":0},{"$f":"$C$115*'Emissions per kg'!I91","v":0},{"$f":"$C$115*'Emissions per kg'!J91","v":0},{"$f":"$C$115*'Emissions per kg'!K91","v":0},{"$f":"$C$115*'Emissions per kg'!L91","v":0},{"$f":"$C$115*'Emissions per kg'!M91","v":0},{"$f":"$C$115*'Emissions per kg'!N91","v":0},{"$f":"$C$115*'Emissions per kg'!O91","v":0},{"$f":"$C$115*'Emissions per kg'!P91","v":0},{"$f":"$C$115*'Emissions per kg'!Q91","v":0},{"$f":"$C$115*'Emissions per kg'!R91","v":0}]
[null,"use ",null,{"$f":"Calculation_original!D116","v":0.25},{"$f":"$C$116*'Emissions per kg'!C92","v":0},{"$f":"$C$116*'Emissions per kg'!D92","v":0},{"$f":"$C$116*'Emissions per kg'!E92","v":0},{"$f":"$C$116*'Emissions per kg'!F92","v":0},{"$f":"$C$116*'Emissions per kg'!G92","v":0},{"$f":"$C$116*'Emissions per kg'!H92","v":0},{"$f":"$C$116*'Emissions per kg'!I92","v":0},{"$f":"$C$116*'Emissions per kg'!J92","v":0},{"$f":"$C$116*'Emissions per kg'!K92","v":0},{"$f":"$C$116*'Emissions per kg'!L92","v":0},{"$f":"$C$116*'Emissions per kg'!M92","v":0},{"$f":"$C$116*'Emissions per kg'!N92","v":0},{"$f":"$C$116*'Emissions per kg'!O92","v":0},{"$f":"$C$116*'Emissions per kg'!P92","v":0},{"$f":"$C$116*'Emissions per kg'!Q92","v":0},{"$f":"$C$116*'Emissions per kg'!R92","v":0}]
[null,"end of life P&R",{"$f":"D113*C113+D115*C115+C114*D114+C112*D112","v":0},null,{"$f":"$C$117*'EoL emissions'!B4","v":0},{"$f":"$C$117*'EoL emissions'!C4","v":0},{"$f":"$C$117*'EoL emissions'!D4","v":0},{"$f":"$C$117*'EoL emissions'!E4","v":0},{"$f":"$C$117*'EoL emissions'!F4","v":0},{"$f":"$C$117*'EoL emissions'!G4","v":0},{"$f":"$C$117*'EoL emissions'!H4","v":0},{"$f":"$C$117*'EoL emissions'!I4","v":0},{"$f":"$C$117*'EoL emissions'!J4","v":0},{"$f":"$C$117*'EoL emissions'!K4","v":0},{"$f":"$C$117*'EoL emissions'!L4","v":0},{"$f":"$C$117*'EoL emissions'!M4","v":0},{"$f":"$C$117*'EoL emissions'!N4","v":0},{"$f":"$C$117*'EoL emissions'!O4","v":0},{"$f":"$C$117*'EoL emissions'!P4","v":0},{"$f":"$C$117*'EoL emissions'!Q4","v":0}]
[null,"end of life HH",{"$f":"D116*C116","v":0},null,{"$f":"$C$118*'EoL emissions'!B5","v":0},{"$f":"$C$118*'EoL emissions'!C5","v":0},{"$f":"$C$118*'EoL emissions'!D5","v":0},{"$f":"$C$118*'EoL emissions'!E5","v":0},{"$f":"$C$118*'EoL emissions'!F5","v":0},{"$f":"$C$118*'EoL emissions'!G5","v":0},{"$f":"$C$118*'EoL emissions'!H5","v":0},{"$f":"$C$118*'EoL emissions'!I5","v":0},{"$f":"$C$118*'EoL emissions'!J5","v":0},{"$f":"$C$118*'EoL emissions'!K5","v":0},{"$f":"$C$118*'EoL emissions'!L5","v":0},{"$f":"$C$118*'EoL emissions'!M5","v":0},{"$f":"$C$118*'EoL emissions'!N5","v":0},{"$f":"$C$118*'EoL emissions'!O5","v":0},{"$f":"$C$118*'EoL emissions'!P5","v":0},{"$f":"$C$118*'EoL emissions'!Q5","v":0}]
["BREAD",null,null,null,{"$f":"SUM(E112:E118)","v":0.249},{"$f":"SUM(F112:F118)","v":3.6100000000000001E-9},1.79E-6,8.7099999999999999E-9,7.6000000000000006E-8,2.1099999999999999E-3,4.73E-4,1.06E-2,4.7100000000000003E-2,1.0399999999999999E-4,6.1700000000000001E-3,1.63,99.9,8.8800000000000007E-3,1.54,5.7299999999999997E-8]
["Cereal products","PASTA"]
[null,"agriculture ",1,{"$f":"Calculation_original!D121","v":0},{"$f":"$C$121*'Emissions per kg'!C95","v":0.67700000000000005},{"$f":"$C$121*'Emissions per kg'!D95","v":8.7999999999999994E-8},{"$f":"$C$121*'Emissions per kg'!E95","v":2.3099999999999999E-7},{"$f":"$C$121*'Emissions per kg'!F95","v":9.3600000000000008E-9},{"$f":"$C$121*'Emissions per kg'!G95","v":1.29E-7},{"$f":"$C$121*'Emissions per kg'!H95","v":2.5700000000000001E-2},{"$f":"$C$121*'Emissions per kg'!I95","v":1.74E-3},{"$f":"$C$121*'Emissions per kg'!J95","v":1.72E-2},{"$f":"$C$121*'Emissions per kg'!K95","v":7.1400000000000005E-2},{"$f":"$C$121*'Emissions per kg'!L95","v":2.7999999999999998E-4},{"$f":"$C$121*'Emissions per kg'!M95","v":1.49E-2},{"$f":"$C$121*'Emissions per kg'!N95","v":0.93100000000000005},{"$f":"$C$121*'Emissions per kg'!O95","v":540},{"$f":"$C$121*'Emissions per kg'!P95","v":1.44},{"$f":"$C$121*'Emissions per kg'!Q95","v":6.66},{"$f":"$C$121*'Emissions per kg'!R95","v":3.3900000000000002E-6}]
[null,"processsing",null,{"$f":"Calculation_original!D122","v":7.0000000000000007E-2},{"$f":"$C$122*'Emissions per kg'!C96","v":0},{"$f":"$C$122*'Emissions per kg'!D96","v":0},{"$f":"$C$122*'Emissions per kg'!E96","v":0},{"$f":"$C$122*'Emissions per kg'!F96","v":0},{"$f":"$C$122*'Emissions per kg'!G96","v":0},{"$f":"$C$122*'Emissions per kg'!H96","v":0},{"$f":"$C$122*'Emissions per kg'!I96","v":0},{"$f":"$C$122*'Emissions per kg'!J96","v":0},{"$f":"$C$122*'Emissions per kg'!K96","v":0},{"$f":"$C$122*'Emissions per kg'!L96","v":0},{"$f":"$C$122*'Emissions per kg'!M96","v":0},{"$f":"$C$122*'Emissions per kg'!N96","v":0},{"$f":"$C$122*'Emissions per kg'!O96","v":0},{"$f":"$C$122*'Emissions per kg'!P96","v":0},{"$f":"$C$122*'Emissions per kg'!Q96","v":0},{"$f":"$C$122*'Emissions per kg'!R96","v":0}]
[null,"packaging",null,{"$f":"Calculation_original!D123","v":0},{"$f":"$C$123*'Emissions per kg'!C97","v":0},{"$f":"$C$123*'Emissions per kg'!D97","v":0},{"$f":"$C$123*'Emissions per kg'!E97","v":0},{"$f":"$C$123*'Emissions per kg'!F97","v":0},{"$f":"$C$123*'Emissions per kg'!G97","v":0},{"$f":"$C$123*'Emissions per kg'!H97","v":0},{"$f":"$C$123*'Emissions per kg'!I97","v":0},{"$f":"$C$123*'Emissions per kg'!J97","v":0},{"$f":"$C$123*'Emissions per kg'!K97","v":0},{"$f":"$C$123*'Emissions per kg'!L97","v":0},{"$f":"$C$123*'Emissions per kg'!M97","v":0},{"$f":"$C$123*'Emissions per kg'!N97","v":0},{"$f":"$C$123*'Emissions per kg'!O97","v":0},{"$f":"$C$123*'Emissions per kg'!P97","v":0},{"$f":"$C$123*'Emissions per kg'!Q97","v":0},{"$f":"$C$123*'Emissions per kg'!R97","v":0}]
[null,"retail",null,{"$f":"Calculation_original!D124","v":0.02},{"$f":"$C$124*'Emissions per kg'!C98","v":0},{"$f":"$C$124*'Emissions per kg'!D98","v":0},{"$f":"$C$124*'Emissions per kg'!E98","v":0},{"$f":"$C$124*'Emissions per kg'!F98","v":0},{"$f":"$C$124*'Emissions per kg'!G98","v":0},{"$f":"$C$124*'Emissions per kg'!H98","v":0},{"$f":"$C$124*'Emissions per kg'!I98","v":0},{"$f":"$C$124*'Emissions per kg'!J98","v":0},{"$f":"$C$124*'Emissions per kg'!K98","v":0},{"$f":"$C$124*'Emissions per kg'!L98","v":0},{"$f":"$C$124*'Emissions per kg'!M98","v":0},{"$f":"$C$124*'Emissions per kg'!N98","v":0},{"$f":"$C$124*'Emissions per kg'!O98","v":0},{"$f":"$C$124*'Emissions per kg'!P98","v":0},{"$f":"$C$124*'Emissions per kg'!Q98","v":0},{"$f":"$C$124*'Emissions per kg'!R98","v":0}]
[null,"use ",null,{"$f":"Calculation_original!D125","v":0.25},{"$f":"$C$125*'Emissions per kg'!C99","v":0},{"$f":"$C$125*'Emissions per kg'!D99","v":0},{"$f":"$C$125*'Emissions per kg'!E99","v":0},{"$f":"$C$125*'Emissions per kg'!F99","v":0},{"$f":"$C$125*'Emissions per kg'!G99","v":0},{"$f":"$C$125*'Emissions per kg'!H99","v":0},{"$f":"$C$125*'Emissions per kg'!I99","v":0},{"$f":"$C$125*'Emissions per kg'!J99","v":0},{"$f":"$C$125*'Emissions per kg'!K99","v":0},{"$f":"$C$125*'Emissions per kg'!L99","v":0},{"$f":"$C$125*'Emissions per kg'!M99","v":0},{"$f":"$C$125*'Emissions per kg'!N99","v":0},{"$f":"$C$125*'Emissions per kg'!O99","v":0},{"$f":"$C$125*'Emissions per kg'!P99","v":0},{"$f":"$C$125*'Emissions per kg'!Q99","v":0},{"$f":"$C$125*'Emissions per kg'!R99","v":0}]
[null,"end of life P&R",{"$f":"D122*C122+D124*C124+C123*D123+C121*D121","v":0},null,{"$f":"$C$126*'EoL emissions'!B4","v":0},{"$f":"$C$126*'EoL emissions'!C4","v":0},{"$f":"$C$126*'EoL emissions'!D4","v":0},{"$f":"$C$126*'EoL emissions'!E4","v":0},{"$f":"$C$126*'EoL emissions'!F4","v":0},{"$f":"$C$126*'EoL emissions'!G4","v":0},{"$f":"$C$126*'EoL emissions'!H4","v":0},{"$f":"$C$126*'EoL emissions'!I4","v":0},{"$f":"$C$126*'EoL emissions'!J4","v":0},{"$f":"$C$126*'EoL emissions'!K4","v":0},{"$f":"$C$126*'EoL emissions'!L4","v":0},{"$f":"$C$126*'EoL emissions'!M4","v":0},{"$f":"$C$126*'EoL emissions'!N4","v":0},{"$f":"$C$126*'EoL emissions'!O4","v":0},{"$f":"$C$126*'EoL emissions'!P4","v":0},{"$f":"$C$126*'EoL emissions'!Q4","v":0}]
[null,"end of life HH",{"$f":"D125*C125","v":0},null,{"$f":"$C$127*'EoL emissions'!B5","v":0},{"$f":"$C$127*'EoL emissions'!C5","v":0},{"$f":"$C$127*'EoL emissions'!D5","v":0},{"$f":"$C$127*'EoL emissions'!E5","v":0},{"$f":"$C$127*'EoL emissions'!F5","v":0},{"$f":"$C$127*'EoL emissions'!G5","v":0},{"$f":"$C$127*'EoL emissions'!H5","v":0},{"$f":"$C$127*'EoL emissions'!I5","v":0},{"$f":"$C$127*'EoL emissions'!J5","v":0},{"$f":"$C$127*'EoL emissions'!K5","v":0},{"$f":"$C$127*'EoL emissions'!L5","v":0},{"$f":"$C$127*'EoL emissions'!M5","v":0},{"$f":"$C$127*'EoL emissions'!N5","v":0},{"$f":"$C$127*'EoL emissions'!O5","v":0},{"$f":"$C$127*'EoL emissions'!P5","v":0},{"$f":"$C$127*'EoL emissions'!Q5","v":0}]
["PASTA",null,null,null,{"$f":"SUM(E121:E127)","v":0.67700000000000005},{"$f":"SUM(F121:F127)","v":8.7999999999999994E-8},2.3099999999999999E-7,9.3600000000000008E-9,1.29E-7,2.5700000000000001E-2,1.74E-3,1.72E-2,7.1400000000000005E-2,2.7999999999999998E-4,1.49E-2,0.93100000000000005,540,1.44,6.66,3.3900000000000002E-6]
["Cereal products","RICE"]
[null,"agriculture ",1,{"$f":"Calculation_original!D130","v":0},{"$f":"$C$130*'Emissions per kg'!C102","v":3.4},{"$f":"$C$130*'Emissions per kg'!D102","v":8.8199999999999996E-8},{"$f":"$C$130*'Emissions per kg'!E102","v":1.46E-8},{"$f":"$C$130*'Emissions per kg'!F102","v":1.1100000000000001E-9},{"$f":"$C$130*'Emissions per kg'!G102","v":1.04E-7},{"$f":"$C$130*'Emissions per kg'!H102","v":1.38E-2},{"$f":"$C$130*'Emissions per kg'!I102","v":2.2000000000000001E-3},{"$f":"$C$130*'Emissions per kg'!J102","v":1.41E-2},{"$f":"$C$130*'Emissions per kg'!K102","v":6.0900000000000003E-2},{"$f":"$C$130*'Emissions per kg'!L102","v":3.0800000000000001E-4},{"$f":"$C$130*'Emissions per kg'!M102","v":3.2000000000000002E-3},{"$f":"$C$130*'Emissions per kg'!N102","v":20.8},{"$f":"$C$130*'Emissions per kg'!O102","v":323},{"$f":"$C$130*'Emissions per kg'!P102","v":56.1},{"$f":"$C$130*'Emissions per kg'!Q102","v":5.76},{"$f":"$C$130*'Emissions per kg'!R102","v":6.63E-6}]
[null,"processsing",null,{"$f":"Calculation_original!D131","v":0.1},{"$f":"$C$131*'Emissions per kg'!C103","v":0},{"$f":"$C$131*'Emissions per kg'!D103","v":0},{"$f":"$C$131*'Emissions per kg'!E103","v":0},{"$f":"$C$131*'Emissions per kg'!F103","v":0},{"$f":"$C$131*'Emissions per kg'!G103","v":0},{"$f":"$C$131*'Emissions per kg'!H103","v":0},{"$f":"$C$131*'Emissions per kg'!I103","v":0},{"$f":"$C$131*'Emissions per kg'!J103","v":0},{"$f":"$C$131*'Emissions per kg'!K103","v":0},{"$f":"$C$131*'Emissions per kg'!L103","v":0},{"$f":"$C$131*'Emissions per kg'!M103","v":0},{"$f":"$C$131*'Emissions per kg'!N103","v":0},{"$f":"$C$131*'Emissions per kg'!O103","v":0},{"$f":"$C$131*'Emissions per kg'!P103","v":0},{"$f":"$C$131*'Emissions per kg'!Q103","v":0},{"$f":"$C$131*'Emissions per kg'!R103","v":0}]
[null,"packaging",null,{"$f":"Calculation_original!D132","v":0},{"$f":"$C$132*'Emissions per kg'!C104","v":0},{"$f":"$C$132*'Emissions per kg'!D104","v":0},{"$f":"$C$132*'Emissions per kg'!E104","v":0},{"$f":"$C$132*'Emissions per kg'!F104","v":0},{"$f":"$C$132*'Emissions per kg'!G104","v":0},{"$f":"$C$132*'Emissions per kg'!H104","v":0},{"$f":"$C$132*'Emissions per kg'!I104","v":0},{"$f":"$C$132*'Emissions per kg'!J104","v":0},{"$f":"$C$132*'Emissions per kg'!K104","v":0},{"$f":"$C$132*'Emissions per kg'!L104","v":0},{"$f":"$C$132*'Emissions per kg'!M104","v":0},{"$f":"$C$132*'Emissions per kg'!N104","v":0},{"$f":"$C$132*'Emissions per kg'!O104","v":0},{"$f":"$C$132*'Emissions per kg'!P104","v":0},{"$f":"$C$132*'Emissions per kg'!Q104","v":0},{"$f":"$C$132*'Emissions per kg'!R104","v":0}]
[null,"retail",null,{"$f":"Calculation_original!D133","v":0.02},{"$f":"$C$133*'Emissions per kg'!C105","v":0},{"$f":"$C$133*'Emissions per kg'!D105","v":0},{"$f":"$C$133*'Emissions per kg'!E105","v":0},{"$f":"$C$133*'Emissions per kg'!F105","v":0},{"$f":"$C$133*'Emissions per kg'!G105","v":0},{"$f":"$C$133*'Emissions per kg'!H105","v":0},{"$f":"$C$133*'Emissions per kg'!I105","v":0},{"$f":"$C$133*'Emissions per kg'!J105","v":0},{"$f":"$C$133*'Emissions per kg'!K105","v":0},{"$f":"$C$133*'Emissions per kg'!L105","v":0},{"$f":"$C$133*'Emissions per kg'!M105","v":0},{"$f":"$C$133*'Emissions per kg'!N105","v":0},{"$f":"$C$133*'Emissions per kg'!O105","v":0},{"$f":"$C$133*'Emissions per kg'!P105","v":0},{"$f":"$C$133*'Emissions per kg'!Q105","v":0},{"$f":"$C$133*'Emissions per kg'!R105","v":0}]
[null,"use ",null,{"$f":"Calculation_original!D134","v":0.25},{"$f":"$C$134*'Emissions per kg'!C106","v":0},{"$f":"$C$134*'Emissions per kg'!D106","v":0},{"$f":"$C$134*'Emissions per kg'!E106","v":0},{"$f":"$C$134*'Emissions per kg'!F106","v":0},{"$f":"$C$134*'Emissions per kg'!G106","v":0},{"$f":"$C$134*'Emissions per kg'!H106","v":0},{"$f":"$C$134*'Emissions per kg'!I106","v":0},{"$f":"$C$134*'Emissions per kg'!J106","v":0},{"$f":"$C$134*'Emissions per kg'!K106","v":0},{"$f":"$C$134*'Emissions per kg'!L106","v":0},{"$f":"$C$134*'Emissions per kg'!M106","v":0},{"$f":"$C$134*'Emissions per kg'!N106","v":0},{"$f":"$C$134*'Emissions per kg'!O106","v":0},{"$f":"$C$134*'Emissions per kg'!P106","v":0},{"$f":"$C$134*'Emissions per kg'!Q106","v":0},{"$f":"$C$134*'Emissions per kg'!R106","v":0}]
[null,"end of life P&R",{"$f":"D131*C131+D133*C133+C132*D132+C130*D130","v":0},null,{"$f":"$C$135*'EoL emissions'!B4","v":0},{"$f":"$C$135*'EoL emissions'!C4","v":0},{"$f":"$C$135*'EoL emissions'!D4","v":0},{"$f":"$C$135*'EoL emissions'!E4","v":0},{"$f":"$C$135*'EoL emissions'!F4","v":0},{"$f":"$C$135*'EoL emissions'!G4","v":0},{"$f":"$C$135*'EoL emissions'!H4","v":0},{"$f":"$C$135*'EoL emissions'!I4","v":0},{"$f":"$C$135*'EoL emissions'!J4","v":0},{"$f":"$C$135*'EoL emissions'!K4","v":0},{"$f":"$C$135*'EoL emissions'!L4","v":0},{"$f":"$C$135*'EoL emissions'!M4","v":0},{"$f":"$C$135*'EoL emissions'!N4","v":0},{"$f":"$C$135*'EoL emissions'!O4","v":0},{"$f":"$C$135*'EoL emissions'!P4","v":0},{"$f":"$C$135*'EoL emissions'!Q4","v":0}]
[null,"end of life HH",{"$f":"D134*C134","v":0},null,{"$f":"$C$136*'EoL emissions'!B5","v":0},{"$f":"$C$136*'EoL emissions'!C5","v":0},{"$f":"$C$136*'EoL emissions'!D5","v":0},{"$f":"$C$136*'EoL emissions'!E5","v":0},{"$f":"$C$136*'EoL emissions'!F5","v":0},{"$f":"$C$136*'EoL emissions'!G5","v":0},{"$f":"$C$136*'EoL emissions'!H5","v":0},{"$f":"$C$136*'EoL emissions'!I5","v":0},{"$f":"$C$136*'EoL emissions'!J5","v":0},{"$f":"$C$136*'EoL emissions'!K5","v":0},{"$f":"$C$136*'EoL emissions'!L5","v":0},{"$f":"$C$136*'EoL emissions'!M5","v":0},{"$f":"$C$136*'EoL emissions'!N5","v":0},{"$f":"$C$136*'EoL emissions'!O5","v":0},{"$f":"$C$136*'EoL emissions'!P5","v":0},{"$f":"$C$136*'EoL emissions'!Q5","v":0}]
["RICE",null,null,null,{"$f":"SUM(E130:E136)","v":3.4},{"$f":"SUM(F130:F136)","v":8.8199999999999996E-8},1.46E-8,1.1100000000000001E-9,1.04E-7,1.38E-2,2.2000000000000001E-3,1.41E-2,6.0900000000000003E-2,3.0800000000000001E-4,3.2000000000000002E-3,20.8,323,56.1,5.76,6.63E-6]
["Vegetables","TOMATOES"]
[null,"agriculture ",1,{"$f":"Calculation_original!D139","v":0},{"$f":"$C$139*'Emissions per kg'!C109","v":0.13200000000000001},{"$f":"$C$139*'Emissions per kg'!D109","v":4.0199999999999998E-9},{"$f":"$C$139*'Emissions per kg'!E109","v":8.5999999999999993E-9},{"$f":"$C$139*'Emissions per kg'!F109","v":5.6700000000000001E-10},{"$f":"$C$139*'Emissions per kg'!G109","v":1.74E-8},{"$f":"$C$139*'Emissions per kg'!H109","v":4.3400000000000001E-3},{"$f":"$C$139*'Emissions per kg'!I109","v":2.61E-4},{"$f":"$C$139*'Emissions per kg'!J109","v":2.5100000000000001E-3},{"$f":"$C$139*'Emissions per kg'!K109","v":1.0200000000000001E-2},{"$f":"$C$139*'Emissions per kg'!L109","v":1.55E-4},{"$f":"$C$139*'Emissions per kg'!M109","v":4.5800000000000002E-4},{"$f":"$C$139*'Emissions per kg'!N109","v":2.86},{"$f":"$C$139*'Emissions per kg'!O109","v":8.4499999999999993},{"$f":"$C$139*'Emissions per kg'!P109","v":1.31},{"$f":"$C$139*'Emissions per kg'!Q109","v":1.86},{"$f":"$C$139*'Emissions per kg'!R109","v":3.27E-7}]
[null,"processsing",null,{"$f":"Calculation_original!D140","v":0.05},{"$f":"$C$140*'Emissions per kg'!C110","v":0},{"$f":"$C$140*'Emissions per kg'!D110","v":0},{"$f":"$C$140*'Emissions per kg'!E110","v":0},{"$f":"$C$140*'Emissions per kg'!F110","v":0},{"$f":"$C$140*'Emissions per kg'!G110","v":0},{"$f":"$C$140*'Emissions per kg'!H110","v":0},{"$f":"$C$140*'Emissions per kg'!I110","v":0},{"$f":"$C$140*'Emissions per kg'!J110","v":0},{"$f":"$C$140*'Emissions per kg'!K110","v":0},{"$f":"$C$140*'Emissions per kg'!L110","v":0},{"$f":"$C$140*'Emissions per kg'!M110","v":0},{"$f":"$C$140*'Emissions per kg'!N110","v":0},{"$f":"$C$140*'Emissions per kg'!O110","v":0},{"$f":"$C$140*'Emissions per kg'!P110","v":0},{"$f":"$C$140*'Emissions per kg'!Q110","v":0},{"$f":"$C$140*'Emissions per kg'!R110","v":0}]
[null,"packaging",null,{"$f":"Calculation_original!D141","v":0},{"$f":"$C$141*'Emissions per kg'!C111","v":0},{"$f":"$C$141*'Emissions per kg'!D111","v":0},{"$f":"$C$141*'Emissions per kg'!E111","v":0},{"$f":"$C$141*'Emissions per kg'!F111","v":0},{"$f":"$C$141*'Emissions per kg'!G111","v":0},{"$f":"$C$141*'Emissions per kg'!H111","v":0},{"$f":"$C$141*'Emissions per kg'!I111","v":0},{"$f":"$C$141*'Emissions per kg'!J111","v":0},{"$f":"$C$141*'Emissions per kg'!K111","v":0},{"$f":"$C$141*'Emissions per kg'!L111","v":0},{"$f":"$C$141*'Emissions per kg'!M111","v":0},{"$f":"$C$141*'Emissions per kg'!N111","v":0},{"$f":"$C$141*'Emissions per kg'!O111","v":0},{"$f":"$C$141*'Emissions per kg'!P111","v":0},{"$f":"$C$141*'Emissions per kg'!Q111","v":0},{"$f":"$C$141*'Emissions per kg'!R111","v":0}]
[null,"retail",null,{"$f":"Calculation_original!D142","v":0.1},{"$f":"$C$142*'Emissions per kg'!C112","v":0},{"$f":"$C$142*'Emissions per kg'!D112","v":0},{"$f":"$C$142*'Emissions per kg'!E112","v":0},{"$f":"$C$142*'Emissions per kg'!F112","v":0},{"$f":"$C$142*'Emissions per kg'!G112","v":0},{"$f":"$C$142*'Emissions per kg'!H112","v":0},{"$f":"$C$142*'Emissions per kg'!I112","v":0},{"$f":"$C$142*'Emissions per kg'!J112","v":0},{"$f":"$C$142*'Emissions per kg'!K112","v":0},{"$f":"$C$142*'Emissions per kg'!L112","v":0},{"$f":"$C$142*'Emissions per kg'!M112","v":0},{"$f":"$C$142*'Emissions per kg'!N112","v":0},{"$f":"$C$142*'Emissions per kg'!O112","v":0},{"$f":"$C$142*'Emissions per kg'!P112","v":0},{"$f":"$C$142*'Emissions per kg'!Q112","v":0},{"$f":"$C$142*'Emissions per kg'!R112","v":0}]
[null,"use ",null,{"$f":"Calculation_original!D143","v":0.19},{"$f":"$C$143*'Emissions per kg'!C113","v":0},{"$f":"$C$143*'Emissions per kg'!D113","v":0},{"$f":"$C$143*'Emissions per kg'!E113","v":0},{"$f":"$C$143*'Emissions per kg'!F113","v":0},{"$f":"$C$143*'Emissions per kg'!G113","v":0},{"$f":"$C$143*'Emissions per kg'!H113","v":0},{"$f":"$C$143*'Emissions per kg'!I113","v":0},{"$f":"$C$143*'Emissions per kg'!J113","v":0},{"$f":"$C$143*'Emissions per kg'!K113","v":0},{"$f":"$C$143*'Emissions per kg'!L113","v":0},{"$f":"$C$143*'Emissions per kg'!M113","v":0},{"$f":"$C$143*'Emissions per kg'!N113","v":0},{"$f":"$C$143*'Emissions per kg'!O113","v":0},{"$f":"$C$143*'Emissions per kg'!P113","v":0},{"$f":"$C$143*'Emissions per kg'!Q113","v":0},{"$f":"$C$143*'Emissions per kg'!R113","v":0}]
[null,"end of life P&R",{"$f":"D140*C140+D142*C142+C141*D141+C139*D139","v":0},null,{"$f":"$C$144*'EoL emissions'!B4","v":0},{"$f":"$C$144*'EoL emissions'!C4","v":0},{"$f":"$C$144*'EoL emissions'!D4","v":0},{"$f":"$C$144*'EoL emissions'!E4","v":0},{"$f":"$C$144*'EoL emissions'!F4","v":0},{"$f":"$C$144*'EoL emissions'!G4","v":0},{"$f":"$C$144*'EoL emissions'!H4","v":0},{"$f":"$C$144*'EoL emissions'!I4","v":0},{"$f":"$C$144*'EoL emissions'!J4","v":0},{"$f":"$C$144*'EoL emissions'!K4","v":0},{"$f":"$C$144*'EoL emissions'!L4","v":0},{"$f":"$C$144*'EoL emissions'!M4","v":0},{"$f":"$C$144*'EoL emissions'!N4","v":0},{"$f":"$C$144*'EoL emissions'!O4","v":0},{"$f":"$C$144*'EoL emissions'!P4","v":0},{"$f":"$C$144*'EoL emissions'!Q4","v":0}]
[null,"end of life HH",{"$f":"D143*C143","v":0},null,{"$f":"$C$145*'EoL emissions'!B5","v":0},{"$f":"$C$145*'EoL emissions'!C5","v":0},{"$f":"$C$145*'EoL emissions'!D5","v":0},{"$f":"$C$145*'EoL emissions'!E5","v":0},{"$f":"$C$145*'EoL emissions'!F5","v":0},{"$f":"$C$145*'EoL emissions'!G5","v":0},{"$f":"$C$145*'EoL emissions'!H5","v":0},{"$f":"$C$145*'EoL emissions'!I5","v":0},{"$f":"$C$145*'EoL emissions'!J5","v":0},{"$f":"$C$145*'EoL emissions'!K5","v":0},{"$f":"$C$145*'EoL emissions'!L5","v":0},{"$f":"$C$145*'EoL emissions'!M5","v":0},{"$f":"$C$145*'EoL emissions'!N5","v":0},{"$f":"$C$145*'EoL emissions'!O5","v":0},{"$f":"$C$145*'EoL emissions'!P5","v":0},{"$f":"$C$145*'EoL emissions'!Q5","v":0}]
["TOMATOES",null,null,null,{"$f":"SUM(E139:E145)","v":0.13200000000000001},{"$f":"SUM(F139:F145)","v":4.0199999999999998E-9},8.5999999999999993E-9,5.6700000000000001E-10,1.74E-8,4.3400000000000001E-3,2.61E-4,2.5100000000000001E-3,1.0200000000000001E-2,1.55E-4,4.5800000000000002E-4,2.86,8.4499999999999993,1.31,1.86,3.27E-7]
["Tubers","POTATOES"]
[null,"agriculture ",1,{"$f":"Calculation_original!D148","v":0},{"$f":"$C$148*'Emissions per kg'!C116","v":9.5600000000000004E-2},{"$f":"$C$148*'Emissions per kg'!D116","v":3.8199999999999996E-9},{"$f":"$C$148*'Emissions per kg'!E116","v":7.8299999999999996E-7},{"$f":"$C$148*'Emissions per kg'!F116","v":7.0100000000000004E-9},{"$f":"$C$148*'Emissions per kg'!G116","v":2.6000000000000001E-8},{"$f":"$C$148*'Emissions per kg'!H116","v":3.13E-3},{"$f":"$C$148*'Emissions per kg'!I116","v":2.9300000000000002E-4},{"$f":"$C$148*'Emissions per kg'!J116","v":3.5699999999999998E-3},{"$f":"$C$148*'Emissions per kg'!K116","v":1.55E-2},{"$f":"$C$148*'Emissions per kg'!L116","v":8.7000000000000001E-5},{"$f":"$C$148*'Emissions per kg'!M116","v":1.8500000000000001E-3},{"$f":"$C$148*'Emissions per kg'!N116","v":0.97399999999999998},{"$f":"$C$148*'Emissions per kg'!O116","v":31.7},{"$f":"$C$148*'Emissions per kg'!P116","v":1.9800000000000002E-2},{"$f":"$C$148*'Emissions per kg'!Q116","v":0.997},{"$f":"$C$148*'Emissions per kg'!R116","v":2.6100000000000002E-7}]
[null,"processsing",null,{"$f":"Calculation_original!D149","v":0},{"$f":"$C$149*'Emissions per kg'!C117","v":0},{"$f":"$C$149*'Emissions per kg'!D117","v":0},{"$f":"$C$149*'Emissions per kg'!E117","v":0},{"$f":"$C$149*'Emissions per kg'!F117","v":0},{"$f":"$C$149*'Emissions per kg'!G117","v":0},{"$f":"$C$149*'Emissions per kg'!H117","v":0},{"$f":"$C$149*'Emissions per kg'!I117","v":0},{"$f":"$C$149*'Emissions per kg'!J117","v":0},{"$f":"$C$149*'Emissions per kg'!K117","v":0},{"$f":"$C$149*'Emissions per kg'!L117","v":0},{"$f":"$C$149*'Emissions per kg'!M117","v":0},{"$f":"$C$149*'Emissions per kg'!N117","v":0},{"$f":"$C$149*'Emissions per kg'!O117","v":0},{"$f":"$C$149*'Emissions per kg'!P117","v":0},{"$f":"$C$149*'Emissions per kg'!Q117","v":0},{"$f":"$C$149*'Emissions per kg'!R117","v":0}]
[null,"packaging",null,{"$f":"Calculation_original!D150","v":0},{"$f":"$C$150*'Emissions per kg'!C118","v":0},{"$f":"$C$150*'Emissions per kg'!D118","v":0},{"$f":"$C$150*'Emissions per kg'!E118","v":0},{"$f":"$C$150*'Emissions per kg'!F118","v":0},{"$f":"$C$150*'Emissions per kg'!G118","v":0},{"$f":"$C$150*'Emissions per kg'!H118","v":0},{"$f":"$C$150*'Emissions per kg'!I118","v":0},{"$f":"$C$150*'Emissions per kg'!J118","v":0},{"$f":"$C$150*'Emissions per kg'!K118","v":0},{"$f":"$C$150*'Emissions per kg'!L118","v":0},{"$f":"$C$150*'Emissions per kg'!M118","v":0},{"$f":"$C$150*'Emissions per kg'!N118","v":0},{"$f":"$C$150*'Emissions per kg'!O118","v":0},{"$f":"$C$150*'Emissions per kg'!P118","v":0},{"$f":"$C$150*'Emissions per kg'!Q118","v":0},{"$f":"$C$150*'Emissions per kg'!R118","v":0}]
[null,"retail",null,{"$f":"Calculation_original!D151","v":7.0000000000000007E-2},{"$f":"$C$151*'Emissions per kg'!C119","v":0},{"$f":"$C$151*'Emissions per kg'!D119","v":0},{"$f":"$C$151*'Emissions per kg'!E119","v":0},{"$f":"$C$151*'Emissions per kg'!F119","v":0},{"$f":"$C$151*'Emissions per kg'!G119","v":0},{"$f":"$C$151*'Emissions per kg'!H119","v":0},{"$f":"$C$151*'Emissions per kg'!I119","v":0},{"$f":"$C$151*'Emissions per kg'!J119","v":0},{"$f":"$C$151*'Emissions per kg'!K119","v":0},{"$f":"$C$151*'Emissions per kg'!L119","v":0},{"$f":"$C$151*'Emissions per kg'!M119","v":0},{"$f":"$C$151*'Emissions per kg'!N119","v":0},{"$f":"$C$151*'Emissions per kg'!O119","v":0},{"$f":"$C$151*'Emissions per kg'!P119","v":0},{"$f":"$C$151*'Emissions per kg'!Q119","v":0},{"$f":"$C$151*'Emissions per kg'!R119","v":0}]
[null,"use ",null,{"$f":"Calculation_original!D152","v":0.17},{"$f":"$C$152*'Emissions per kg'!C120","v":0},{"$f":"$C$152*'Emissions per kg'!D120","v":0},{"$f":"$C$152*'Emissions per kg'!E120","v":0},{"$f":"$C$152*'Emissions per kg'!F120","v":0},{"$f":"$C$152*'Emissions per kg'!G120","v":0},{"$f":"$C$152*'Emissions per kg'!H120","v":0},{"$f":"$C$152*'Emissions per kg'!I120","v":0},{"$f":"$C$152*'Emissions per kg'!J120","v":0},{"$f":"$C$152*'Emissions per kg'!K120","v":0},{"$f":"$C$152*'Emissions per kg'!L120","v":0},{"$f":"$C$152*'Emissions per kg'!M120","v":0},{"$f":"$C$152*'Emissions per kg'!N120","v":0},{"$f":"$C$152*'Emissions per kg'!O120","v":0},{"$f":"$C$152*'Emissions per kg'!P120","v":0},{"$f":"$C$152*'Emissions per kg'!Q120","v":0},{"$f":"$C$152*'Emissions per kg'!R120","v":0}]
[null,"end of life P&R",{"$f":"D149*C149+D151*C151+C150*D150+C148*D148","v":0},null,{"$f":"$C$153*'EoL emissions'!B4","v":0},{"$f":"$C$153*'EoL emissions'!C4","v":0},{"$f":"$C$153*'EoL emissions'!D4","v":0},{"$f":"$C$153*'EoL emissions'!E4","v":0},{"$f":"$C$153*'EoL emissions'!F4","v":0},{"$f":"$C$153*'EoL emissions'!G4","v":0},{"$f":"$C$153*'EoL emissions'!H4","v":0},{"$f":"$C$153*'EoL emissions'!I4","v":0},{"$f":"$C$153*'EoL emissions'!J4","v":0},{"$f":"$C$153*'EoL emissions'!K4","v":0},{"$f":"$C$153*'EoL emissions'!L4","v":0},{"$f":"$C$153*'EoL emissions'!M4","v":0},{"$f":"$C$153*'EoL emissions'!N4","v":0},{"$f":"$C$153*'EoL emissions'!O4","v":0},{"$f":"$C$153*'EoL emissions'!P4","v":0},{"$f":"$C$153*'EoL emissions'!Q4","v":0}]
[null,"end of life HH",{"$f":"D152*C152","v":0},null,{"$f":"$C$154*'EoL emissions'!B5","v":0},{"$f":"$C$154*'EoL emissions'!C5","v":0},{"$f":"$C$154*'EoL emissions'!D5","v":0},{"$f":"$C$154*'EoL emissions'!E5","v":0},{"$f":"$C$154*'EoL emissions'!F5","v":0},{"$f":"$C$154*'EoL emissions'!G5","v":0},{"$f":"$C$154*'EoL emissions'!H5","v":0},{"$f":"$C$154*'EoL emissions'!I5","v":0},{"$f":"$C$154*'EoL emissions'!J5","v":0},{"$f":"$C$154*'EoL emissions'!K5","v":0},{"$f":"$C$154*'EoL emissions'!L5","v":0},{"$f":"$C$154*'EoL emissions'!M5","v":0},{"$f":"$C$154*'EoL emissions'!N5","v":0},{"$f":"$C$154*'EoL emissions'!O5","v":0},{"$f":"$C$154*'EoL emissions'!P5","v":0},{"$f":"$C$154*'EoL emissions'!Q5","v":0}]
["POTATOES",null,null,null,{"$f":"SUM(E148:E154)","v":9.5600000000000004E-2},{"$f":"SUM(F148:F154)","v":3.8199999999999996E-9},7.8299999999999996E-7,7.0100000000000004E-9,2.6000000000000001E-8,3.13E-3,2.9300000000000002E-4,3.5699999999999998E-3,1.55E-2,8.7000000000000001E-5,1.8500000000000001E-3,0.97399999999999998,31.7,1.9800000000000002E-2,0.997,2.6100000000000002E-7]
["Oils","SUNFLOWER OIL"]
[null,"agriculture ",1,{"$f":"Calculation_original!D157","v":0.1},{"$f":"$C$157*'Emissions per kg'!C123","v":5.2},{"$f":"$C$157*'Emissions per kg'!D123","v":2.35E-7},{"$f":"$C$157*'Emissions per kg'!E123","v":1.45E-5},{"$f":"$C$157*'Emissions per kg'!F123","v":3.7099999999999997E-7},{"$f":"$C$157*'Emissions per kg'!G123","v":2.7099999999999998E-7},{"$f":"$C$157*'Emissions per kg'!H123","v":8.1199999999999994E-2},{"$f":"$C$157*'Emissions per kg'!I123","v":1.0999999999999999E-2},{"$f":"$C$157*'Emissions per kg'!J123","v":3.1399999999999997E-2},{"$f":"$C$157*'Emissions per kg'!K123","v":0.13100000000000001},{"$f":"$C$157*'Emissions per kg'!L123","v":3.0999999999999999E-3},{"$f":"$C$157*'Emissions per kg'!M123","v":6.7199999999999996E-2},{"$f":"$C$157*'Emissions per kg'!N123","v":44.9},{"$f":"$C$157*'Emissions per kg'!O123","v":3220},{"$f":"$C$157*'Emissions per kg'!P123","v":2.39},{"$f":"$C$157*'Emissions per kg'!Q123","v":34.799999999999997},{"$f":"$C$157*'Emissions per kg'!R123","v":1.8199999999999999E-5}]
[null,"processsing",null,{"$f":"Calculation_original!D158","v":0.06},{"$f":"$C$158*'Emissions per kg'!C124","v":0},{"$f":"$C$158*'Emissions per kg'!D124","v":0},{"$f":"$C$158*'Emissions per kg'!E124","v":0},{"$f":"$C$158*'Emissions per kg'!F124","v":0},{"$f":"$C$158*'Emissions per kg'!G124","v":0},{"$f":"$C$158*'Emissions per kg'!H124","v":0},{"$f":"$C$158*'Emissions per kg'!I124","v":0},{"$f":"$C$158*'Emissions per kg'!J124","v":0},{"$f":"$C$158*'Emissions per kg'!K124","v":0},{"$f":"$C$158*'Emissions per kg'!L124","v":0},{"$f":"$C$158*'Emissions per kg'!M124","v":0},{"$f":"$C$158*'Emissions per kg'!N124","v":0},{"$f":"$C$158*'Emissions per kg'!O124","v":0},{"$f":"$C$158*'Emissions per kg'!P124","v":0},{"$f":"$C$158*'Emissions per kg'!Q124","v":0},{"$f":"$C$158*'Emissions per kg'!R124","v":0}]
[null,"packaging",null,{"$f":"Calculation_original!D159","v":0},{"$f":"$C$159*'Emissions per kg'!C125","v":0},{"$f":"$C$159*'Emissions per kg'!D125","v":0},{"$f":"$C$159*'Emissions per kg'!E125","v":0},{"$f":"$C$159*'Emissions per kg'!F125","v":0},{"$f":"$C$159*'Emissions per kg'!G125","v":0},{"$f":"$C$159*'Emissions per kg'!H125","v":0},{"$f":"$C$159*'Emissions per kg'!I125","v":0},{"$f":"$C$159*'Emissions per kg'!J125","v":0},{"$f":"$C$159*'Emissions per kg'!K125","v":0},{"$f":"$C$159*'Emissions per kg'!L125","v":0},{"$f":"$C$159*'Emissions per kg'!M125","v":0},{"$f":"$C$159*'Emissions per kg'!N125","v":0},{"$f":"$C$159*'Emissions per kg'!O125","v":0},{"$f":"$C$159*'Emissions per kg'!P125","v":0},{"$f":"$C$159*'Emissions per kg'!Q125","v":0},{"$f":"$C$159*'Emissions per kg'!R125","v":0}]
[null,"retail",null,{"$f":"Calculation_original!D160","v":0.01},{"$f":"$C$160*'Emissions per kg'!C126","v":0},{"$f":"$C$160*'Emissions per kg'!D126","v":0},{"$f":"$C$160*'Emissions per kg'!E126","v":0},{"$f":"$C$160*'Emissions per kg'!F126","v":0},{"$f":"$C$160*'Emissions per kg'!G126","v":0},{"$f":"$C$160*'Emissions per kg'!H126","v":0},{"$f":"$C$160*'Emissions per kg'!I126","v":0},{"$f":"$C$160*'Emissions per kg'!J126","v":0},{"$f":"$C$160*'Emissions per kg'!K126","v":0},{"$f":"$C$160*'Emissions per kg'!L126","v":0},{"$f":"$C$160*'Emissions per kg'!M126","v":0},{"$f":"$C$160*'Emissions per kg'!N126","v":0},{"$f":"$C$160*'Emissions per kg'!O126","v":0},{"$f":"$C$160*'Emissions per kg'!P126","v":0},{"$f":"$C$160*'Emissions per kg'!Q126","v":0},{"$f":"$C$160*'Emissions per kg'!R126","v":0}]
[null,"use ",null,{"$f":"Calculation_original!D161","v":0.04},{"$f":"$C$161*'Emissions per kg'!C127","v":0},{"$f":"$C$161*'Emissions per kg'!D127","v":0},{"$f":"$C$161*'Emissions per kg'!E127","v":0},{"$f":"$C$161*'Emissions per kg'!F127","v":0},{"$f":"$C$161*'Emissions per kg'!G127","v":0},{"$f":"$C$161*'Emissions per kg'!H127","v":0},{"$f":"$C$161*'Emissions per kg'!I127","v":0},{"$f":"$C$161*'Emissions per kg'!J127","v":0},{"$f":"$C$161*'Emissions per kg'!K127","v":0},{"$f":"$C$161*'Emissions per kg'!L127","v":0},{"$f":"$C$161*'Emissions per kg'!M127","v":0},{"$f":"$C$161*'Emissions per kg'!N127","v":0},{"$f":"$C$161*'Emissions per kg'!O127","v":0},{"$f":"$C$161*'Emissions per kg'!P127","v":0},{"$f":"$C$161*'Emissions per kg'!Q127","v":0},{"$f":"$C$161*'Emissions per kg'!R127","v":0}]
[null,"end of life P&R",{"$f":"D158*C158+D160*C160+C159*D159+C157*D157","v":0.1},null,{"$f":"$C$162*'EoL emissions'!B4","v":3.3835517924498591E-2},{"$f":"$C$162*'EoL emissions'!C4","v":4.048775736132027E-10},{"$f":"$C$162*'EoL emissions'!D4","v":3.7546349058569257E-8},{"$f":"$C$162*'EoL emissions'!E4","v":1.5018155681099548E-9},{"$f":"$C$162*'EoL emissions'!F4","v":7.6553178506936502E-10},{"$f":"$C$162*'EoL emissions'!G4","v":2.5636931828444069E-4},{"$f":"$C$162*'EoL emissions'!H4","v":4.5329245005976654E-5},{"$f":"$C$162*'EoL emissions'!I4","v":1.2010722290544881E-4},{"$f":"$C$162*'EoL emissions'!J4","v":4.8571650165136338E-4},{"$f":"$C$162*'EoL emissions'!K4","v":9.5611035705205821E-6},{"$f":"$C$162*'EoL emissions'!L4","v":5.4880084551325613E-5},{"$f":"$C$162*'EoL emissions'!M4","v":2.6548468291042937},{"$f":"$C$162*'EoL emissions'!N4","v":0.13722059602326411},{"$f":"$C$162*'EoL emissions'!O4","v":1.3288906063975722E-3},{"$f":"$C$162*'EoL emissions'!P4","v":-2.4413430072783307E-2},{"$f":"$C$162*'EoL emissions'!Q4","v":-1.8530853985393172E-9}]
[null,"end of life HH",{"$f":"D161*C161","v":0},null,{"$f":"$C$163*'EoL emissions'!B5","v":0},{"$f":"$C$163*'EoL emissions'!C5","v":0},{"$f":"$C$163*'EoL emissions'!D5","v":0},{"$f":"$C$163*'EoL emissions'!E5","v":0},{"$f":"$C$163*'EoL emissions'!F5","v":0},{"$f":"$C$163*'EoL emissions'!G5","v":0},{"$f":"$C$163*'EoL emissions'!H5","v":0},{"$f":"$C$163*'EoL emissions'!I5","v":0},{"$f":"$C$163*'EoL emissions'!J5","v":0},{"$f":"$C$163*'EoL emissions'!K5","v":0},{"$f":"$C$163*'EoL emissions'!L5","v":0},{"$f":"$C$163*'EoL emissions'!M5","v":0},{"$f":"$C$163*'EoL emissions'!N5","v":0},{"$f":"$C$163*'EoL emissions'!O5","v":0},{"$f":"$C$163*'EoL emissions'!P5","v":0},{"$f":"$C$163*'EoL emissions'!Q5","v":0}]
["SUNFLOWER OIL",null,null,null,{"$f":"SUM(E157:E163)","v":5.2338355179244989},{"$f":"SUM(F157:F163)","v":2.3540487757361321E-7},1.4537546349058569E-5,3.7250181556810992E-7,2.7176553178506936E-7,8.1456369318284441E-2,1.1045329245005977E-2,3.152010722290545E-2,0.13148571650165136,3.1095611035705205E-3,6.7254880084551327E-2,47.554846829104292,3220.1372205960233,2.3913288906063976,34.775586569927214,1.819814691460146E-5]
["Oils","OLIVE OIL"]
[null,"agriculture ",1,{"$f":"Calculation_original!D166","v":0},{"$f":"$C$166*'Emissions per kg'!C130","v":1.1200000000000001},{"$f":"$C$166*'Emissions per kg'!D130","v":8.7999999999999994E-8},{"$f":"$C$166*'Emissions per kg'!E130","v":2.23E-7},{"$f":"$C$166*'Emissions per kg'!F130","v":7.8000000000000004E-9},{"$f":"$C$166*'Emissions per kg'!G130","v":1.2700000000000001E-7},{"$f":"$C$166*'Emissions per kg'!H130","v":6.2399999999999997E-2},{"$f":"$C$166*'Emissions per kg'!I130","v":5.4999999999999997E-3},{"$f":"$C$166*'Emissions per kg'!J130","v":1.7299999999999999E-2},{"$f":"$C$166*'Emissions per kg'!K130","v":6.4799999999999996E-2},{"$f":"$C$166*'Emissions per kg'!L130","v":2.42E-4},{"$f":"$C$166*'Emissions per kg'!M130","v":1.01E-2},{"$f":"$C$166*'Emissions per kg'!N130","v":4.16},{"$f":"$C$166*'Emissions per kg'!O130","v":1160},{"$f":"$C$166*'Emissions per kg'!P130","v":26.3},{"$f":"$C$166*'Emissions per kg'!Q130","v":15.8},{"$f":"$C$166*'Emissions per kg'!R130","v":6.8800000000000002E-6}]
[null,"processsing",null,{"$f":"Calculation_original!D167","v":0},{"$f":"$C$167*'Emissions per kg'!C131","v":0},{"$f":"$C$167*'Emissions per kg'!D131","v":0},{"$f":"$C$167*'Emissions per kg'!E131","v":0},{"$f":"$C$167*'Emissions per kg'!F131","v":0},{"$f":"$C$167*'Emissions per kg'!G131","v":0},{"$f":"$C$167*'Emissions per kg'!H131","v":0},{"$f":"$C$167*'Emissions per kg'!I131","v":0},{"$f":"$C$167*'Emissions per kg'!J131","v":0},{"$f":"$C$167*'Emissions per kg'!K131","v":0},{"$f":"$C$167*'Emissions per kg'!L131","v":0},{"$f":"$C$167*'Emissions per kg'!M131","v":0},{"$f":"$C$167*'Emissions per kg'!N131","v":0},{"$f":"$C$167*'Emissions per kg'!O131","v":0},{"$f":"$C$167*'Emissions per kg'!P131","v":0},{"$f":"$C$167*'Emissions per kg'!Q131","v":0},{"$f":"$C$167*'Emissions per kg'!R131","v":0}]
[null,"packaging",null,{"$f":"Calculation_original!D168","v":0},{"$f":"$C$168*'Emissions per kg'!C132","v":0},{"$f":"$C$168*'Emissions per kg'!D132","v":0},{"$f":"$C$168*'Emissions per kg'!E132","v":0},{"$f":"$C$168*'Emissions per kg'!F132","v":0},{"$f":"$C$168*'Emissions per kg'!G132","v":0},{"$f":"$C$168*'Emissions per kg'!H132","v":0},{"$f":"$C$168*'Emissions per kg'!I132","v":0},{"$f":"$C$168*'Emissions per kg'!J132","v":0},{"$f":"$C$168*'Emissions per kg'!K132","v":0},{"$f":"$C$168*'Emissions per kg'!L132","v":0},{"$f":"$C$168*'Emissions per kg'!M132","v":0},{"$f":"$C$168*'Emissions per kg'!N132","v":0},{"$f":"$C$168*'Emissions per kg'!O132","v":0},{"$f":"$C$168*'Emissions per kg'!P132","v":0},{"$f":"$C$168*'Emissions per kg'!Q132","v":0},{"$f":"$C$168*'Emissions per kg'!R132","v":0}]
[null,"retail",null,{"$f":"Calculation_original!D169","v":0},{"$f":"$C$169*'Emissions per kg'!C133","v":0},{"$f":"$C$169*'Emissions per kg'!D133","v":0},{"$f":"$C$169*'Emissions per kg'!E133","v":0},{"$f":"$C$169*'Emissions per kg'!F133","v":0},{"$f":"$C$169*'Emissions per kg'!G133","v":0},{"$f":"$C$169*'Emissions per kg'!H133","v":0},{"$f":"$C$169*'Emissions per kg'!I133","v":0},{"$f":"$C$169*'Emissions per kg'!J133","v":0},{"$f":"$C$169*'Emissions per kg'!K133","v":0},{"$f":"$C$169*'Emissions per kg'!L133","v":0},{"$f":"$C$169*'Emissions per kg'!M133","v":0},{"$f":"$C$169*'Emissions per kg'!N133","v":0},{"$f":"$C$169*'Emissions per kg'!O133","v":0},{"$f":"$C$169*'Emissions per kg'!P133","v":0},{"$f":"$C$169*'Emissions per kg'!Q133","v":0},{"$f":"$C$169*'Emissions per kg'!R133","v":0}]
[null,"use ",null,{"$f":"Calculation_original!D170","v":0.13600000000000001},{"$f":"$C$170*'Emissions per kg'!C134","v":0},{"$f":"$C$170*'Emissions per kg'!D134","v":0},{"$f":"$C$170*'Emissions per kg'!E134","v":0},{"$f":"$C$170*'Emissions per kg'!F134","v":0},{"$f":"$C$170*'Emissions per kg'!G134","v":0},{"$f":"$C$170*'Emissions per kg'!H134","v":0},{"$f":"$C$170*'Emissions per kg'!I134","v":0},{"$f":"$C$170*'Emissions per kg'!J134","v":0},{"$f":"$C$170*'Emissions per kg'!K134","v":0},{"$f":"$C$170*'Emissions per kg'!L134","v":0},{"$f":"$C$170*'Emissions per kg'!M134","v":0},{"$f":"$C$170*'Emissions per kg'!N134","v":0},{"$f":"$C$170*'Emissions per kg'!O134","v":0},{"$f":"$C$170*'Emissions per kg'!P134","v":0},{"$f":"$C$170*'Emissions per kg'!Q134","v":0},{"$f":"$C$170*'Emissions per kg'!R134","v":0}]
[null,"end of life P&R",{"$f":"D167*C167+D169*C169+C168*D168+C166*D166","v":0},null,{"$f":"$C$171*'EoL emissions'!B4","v":0},{"$f":"$C$171*'EoL emissions'!C4","v":0},{"$f":"$C$171*'EoL emissions'!D4","v":0},{"$f":"$C$171*'EoL emissions'!E4","v":0},{"$f":"$C$171*'EoL emissions'!F4","v":0},{"$f":"$C$171*'EoL emissions'!G4","v":0},{"$f":"$C$171*'EoL emissions'!H4","v":0},{"$f":"$C$171*'EoL emissions'!I4","v":0},{"$f":"$C$171*'EoL emissions'!J4","v":0},{"$f":"$C$171*'EoL emissions'!K4","v":0},{"$f":"$C$171*'EoL emissions'!L4","v":0},{"$f":"$C$171*'EoL emissions'!M4","v":0},{"$f":"$C$171*'EoL emissions'!N4","v":0},{"$f":"$C$171*'EoL emissions'!O4","v":0},{"$f":"$C$171*'EoL emissions'!P4","v":0},{"$f":"$C$171*'EoL emissions'!Q4","v":0}]
[null,"end of life HH",{"$f":"D170*C170","v":0},null,{"$f":"$C$172*'EoL emissions'!B5","v":0},{"$f":"$C$172*'EoL emissions'!C5","v":0},{"$f":"$C$172*'EoL emissions'!D5","v":0},{"$f":"$C$172*'EoL emissions'!E5","v":0},{"$f":"$C$172*'EoL emissions'!F5","v":0},{"$f":"$C$172*'EoL emissions'!G5","v":0},{"$f":"$C$172*'EoL emissions'!H5","v":0},{"$f":"$C$172*'EoL emissions'!I5","v":0},{"$f":"$C$172*'EoL emissions'!J5","v":0},{"$f":"$C$172*'EoL emissions'!K5","v":0},{"$f":"$C$172*'EoL emissions'!L5","v":0},{"$f":"$C$172*'EoL emissions'!M5","v":0},{"$f":"$C$172*'EoL emissions'!N5","v":0},{"$f":"$C$172*'EoL emissions'!O5","v":0},{"$f":"$C$172*'EoL emissions'!P5","v":0},{"$f":"$C$172*'EoL emissions'!Q5","v":0}]
["OLIVE OIL",null,null,null,{"$f":"SUM(E166:E172)","v":1.1200000000000001},{"$f":"SUM(F166:F172)","v":8.7999999999999994E-8},2.23E-7,7.8000000000000004E-9,1.2700000000000001E-7,6.2399999999999997E-2,5.4999999999999997E-3,1.7299999999999999E-2,6.4799999999999996E-2,2.42E-4,1.01E-2,4.16,1160,26.3,15.8,6.8800000000000002E-6]
["Fruits","APPLES"]
[null,"agriculture ",1,{"$f":"Calculation_original!D175","v":0},{"$f":"$C$175*'Emissions per kg'!C137","v":6.7599999999999993E-2},{"$f":"$C$175*'Emissions per kg'!D137","v":1.9800000000000002E-9},{"$f":"$C$175*'Emissions per kg'!E137","v":4.1400000000000002E-9},{"$f":"$C$175*'Emissions per kg'!F137","v":1.8999999999999999E-10},{"$f":"$C$175*'Emissions per kg'!G137","v":9.1800000000000001E-9},{"$f":"$C$175*'Emissions per kg'!H137","v":2.5899999999999999E-3},{"$f":"$C$175*'Emissions per kg'!I137","v":3.0899999999999998E-4},{"$f":"$C$175*'Emissions per kg'!J137","v":1.1199999999999999E-3},{"$f":"$C$175*'Emissions per kg'!K137","v":4.7200000000000002E-3},{"$f":"$C$175*'Emissions per kg'!L137","v":5.0699999999999997E-6},{"$f":"$C$175*'Emissions per kg'!M137","v":7.2400000000000003E-4},{"$f":"$C$175*'Emissions per kg'!N137","v":2.87},{"$f":"$C$175*'Emissions per kg'!O137","v":41.9},{"$f":"$C$175*'Emissions per kg'!P137","v":4.29},{"$f":"$C$175*'Emissions per kg'!Q137","v":0.88800000000000001},{"$f":"$C$175*'Emissions per kg'!R137","v":1.24E-7}]
[null,"processsing",null,{"$f":"Calculation_original!D176","v":0.15},{"$f":"$C$176*'Emissions per kg'!C138","v":0},{"$f":"$C$176*'Emissions per kg'!D138","v":0},{"$f":"$C$176*'Emissions per kg'!E138","v":0},{"$f":"$C$176*'Emissions per kg'!F138","v":0},{"$f":"$C$176*'Emissions per kg'!G138","v":0},{"$f":"$C$176*'Emissions per kg'!H138","v":0},{"$f":"$C$176*'Emissions per kg'!I138","v":0},{"$f":"$C$176*'Emissions per kg'!J138","v":0},{"$f":"$C$176*'Emissions per kg'!K138","v":0},{"$f":"$C$176*'Emissions per kg'!L138","v":0},{"$f":"$C$176*'Emissions per kg'!M138","v":0},{"$f":"$C$176*'Emissions per kg'!N138","v":0},{"$f":"$C$176*'Emissions per kg'!O138","v":0},{"$f":"$C$176*'Emissions per kg'!P138","v":0},{"$f":"$C$176*'Emissions per kg'!Q138","v":0},{"$f":"$C$176*'Emissions per kg'!R138","v":0}]
[null,"packaging",null,{"$f":"Calculation_original!D177","v":0},{"$f":"$C$177*'Emissions per kg'!C139","v":0},{"$f":"$C$177*'Emissions per kg'!D139","v":0},{"$f":"$C$177*'Emissions per kg'!E139","v":0},{"$f":"$C$177*'Emissions per kg'!F139","v":0},{"$f":"$C$177*'Emissions per kg'!G139","v":0},{"$f":"$C$177*'Emissions per kg'!H139","v":0},{"$f":"$C$177*'Emissions per kg'!I139","v":0},{"$f":"$C$177*'Emissions per kg'!J139","v":0},{"$f":"$C$177*'Emissions per kg'!K139","v":0},{"$f":"$C$177*'Emissions per kg'!L139","v":0},{"$f":"$C$177*'Emissions per kg'!M139","v":0},{"$f":"$C$177*'Emissions per kg'!N139","v":0},{"$f":"$C$177*'Emissions per kg'!O139","v":0},{"$f":"$C$177*'Emissions per kg'!P139","v":0},{"$f":"$C$177*'Emissions per kg'!Q139","v":0},{"$f":"$C$177*'Emissions per kg'!R139","v":0}]
[null,"retail",null,{"$f":"Calculation_original!D178","v":0.1},{"$f":"$C$178*'Emissions per kg'!C140","v":0},{"$f":"$C$178*'Emissions per kg'!D140","v":0},{"$f":"$C$178*'Emissions per kg'!E140","v":0},{"$f":"$C$178*'Emissions per kg'!F140","v":0},{"$f":"$C$178*'Emissions per kg'!G140","v":0},{"$f":"$C$178*'Emissions per kg'!H140","v":0},{"$f":"$C$178*'Emissions per kg'!I140","v":0},{"$f":"$C$178*'Emissions per kg'!J140","v":0},{"$f":"$C$178*'Emissions per kg'!K140","v":0},{"$f":"$C$178*'Emissions per kg'!L140","v":0},{"$f":"$C$178*'Emissions per kg'!M140","v":0},{"$f":"$C$178*'Emissions per kg'!N140","v":0},{"$f":"$C$178*'Emissions per kg'!O140","v":0},{"$f":"$C$178*'Emissions per kg'!P140","v":0},{"$f":"$C$178*'Emissions per kg'!Q140","v":0},{"$f":"$C$178*'Emissions per kg'!R140","v":0}]
[null,"use ",null,{"$f":"Calculation_original!D179","v":0.19},{"$f":"$C$179*'Emissions per kg'!C141","v":0},{"$f":"$C$179*'Emissions per kg'!D141","v":0},{"$f":"$C$179*'Emissions per kg'!E141","v":0},{"$f":"$C$179*'Emissions per kg'!F141","v":0},{"$f":"$C$179*'Emissions per kg'!G141","v":0},{"$f":"$C$179*'Emissions per kg'!H141","v":0},{"$f":"$C$179*'Emissions per kg'!I141","v":0},{"$f":"$C$179*'Emissions per kg'!J141","v":0},{"$f":"$C$179*'Emissions per kg'!K141","v":0},{"$f":"$C$179*'Emissions per kg'!L141","v":0},{"$f":"$C$179*'Emissions per kg'!M141","v":0},{"$f":"$C$179*'Emissions per kg'!N141","v":0},{"$f":"$C$179*'Emissions per kg'!O141","v":0},{"$f":"$C$179*'Emissions per kg'!P141","v":0},{"$f":"$C$179*'Emissions per kg'!Q141","v":0},{"$f":"$C$179*'Emissions per kg'!R141","v":0}]
[null,"end of life P&R",{"$f":"D176*C176+D178*C178+C177*D177+C175*D175","v":0},null,{"$f":"$C$180*'EoL emissions'!B4","v":0},{"$f":"$C$180*'EoL emissions'!C4","v":0},{"$f":"$C$180*'EoL emissions'!D4","v":0},{"$f":"$C$180*'EoL emissions'!E4","v":0},{"$f":"$C$180*'EoL emissions'!F4","v":0},{"$f":"$C$180*'EoL emissions'!G4","v":0},{"$f":"$C$180*'EoL emissions'!H4","v":0},{"$f":"$C$180*'EoL emissions'!I4","v":0},{"$f":"$C$180*'EoL emissions'!J4","v":0},{"$f":"$C$180*'EoL emissions'!K4","v":0},{"$f":"$C$180*'EoL emissions'!L4","v":0},{"$f":"$C$180*'EoL emissions'!M4","v":0},{"$f":"$C$180*'EoL emissions'!N4","v":0},{"$f":"$C$180*'EoL emissions'!O4","v":0},{"$f":"$C$180*'EoL emissions'!P4","v":0},{"$f":"$C$180*'EoL emissions'!Q4","v":0}]
[null,"end of life HH",{"$f":"D179*C179","v":0},null,{"$f":"$C$181*'EoL emissions'!B5","v":0},{"$f":"$C$181*'EoL emissions'!C5","v":0},{"$f":"$C$181*'EoL emissions'!D5","v":0},{"$f":"$C$181*'EoL emissions'!E5","v":0},{"$f":"$C$181*'EoL emissions'!F5","v":0},{"$f":"$C$181*'EoL emissions'!G5","v":0},{"$f":"$C$181*'EoL emissions'!H5","v":0},{"$f":"$C$181*'EoL emissions'!I5","v":0},{"$f":"$C$181*'EoL emissions'!J5","v":0},{"$f":"$C$181*'EoL emissions'!K5","v":0},{"$f":"$C$181*'EoL emissions'!L5","v":0},{"$f":"$C$181*'EoL emissions'!M5","v":0},{"$f":"$C$181*'EoL emissions'!N5","v":0},{"$f":"$C$181*'EoL emissions'!O5","v":0},{"$f":"$C$181*'EoL emissions'!P5","v":0},{"$f":"$C$181*'EoL emissions'!Q5","v":0}]
["APPLES",null,null,null,{"$f":"SUM(E175:E181)","v":6.7599999999999993E-2},{"$f":"SUM(F175:F181)","v":1.9800000000000002E-9},4.1400000000000002E-9,1.8999999999999999E-10,9.1800000000000001E-9,2.5899999999999999E-3,3.0899999999999998E-4,1.1199999999999999E-3,4.7200000000000002E-3,5.0699999999999997E-6,7.2400000000000003E-4,2.87,41.9,4.29,0.88800000000000001,1.24E-7]
["Fruits","ORANGES"]
[null,"agriculture ",1,{"$f":"Calculation_original!D184","v":0},{"$f":"$C$184*'Emissions per kg'!C144","v":0.21099999999999999},{"$f":"$C$184*'Emissions per kg'!D144","v":8.0299999999999998E-9},{"$f":"$C$184*'Emissions per kg'!E144","v":8.1899999999999992E-9},{"$f":"$C$184*'Emissions per kg'!F144","v":7.6299999999999995E-10},{"$f":"$C$184*'Emissions per kg'!G144","v":3.2100000000000003E-8},{"$f":"$C$184*'Emissions per kg'!H144","v":1.0699999999999999E-2},{"$f":"$C$184*'Emissions per kg'!I144","v":5.8399999999999999E-4},{"$f":"$C$184*'Emissions per kg'!J144","v":4.45E-3},{"$f":"$C$184*'Emissions per kg'!K144","v":1.8599999999999998E-2},{"$f":"$C$184*'Emissions per kg'!L144","v":6.9300000000000004E-5},{"$f":"$C$184*'Emissions per kg'!M144","v":3.1900000000000001E-3},{"$f":"$C$184*'Emissions per kg'!N144","v":5.19},{"$f":"$C$184*'Emissions per kg'!O144","v":53.3},{"$f":"$C$184*'Emissions per kg'!P144","v":7.21},{"$f":"$C$184*'Emissions per kg'!Q144","v":2.81},{"$f":"$C$184*'Emissions per kg'!R144","v":2.1199999999999999E-7}]
[null,"processsing",null,{"$f":"Calculation_original!D185","v":0.2},{"$f":"$C$185*'Emissions per kg'!C145","v":0},{"$f":"$C$185*'Emissions per kg'!D145","v":0},{"$f":"$C$185*'Emissions per kg'!E145","v":0},{"$f":"$C$185*'Emissions per kg'!F145","v":0},{"$f":"$C$185*'Emissions per kg'!G145","v":0},{"$f":"$C$185*'Emissions per kg'!H145","v":0},{"$f":"$C$185*'Emissions per kg'!I145","v":0},{"$f":"$C$185*'Emissions per kg'!J145","v":0},{"$f":"$C$185*'Emissions per kg'!K145","v":0},{"$f":"$C$185*'Emissions per kg'!L145","v":0},{"$f":"$C$185*'Emissions per kg'!M145","v":0},{"$f":"$C$185*'Emissions per kg'!N145","v":0},{"$f":"$C$185*'Emissions per kg'!O145","v":0},{"$f":"$C$185*'Emissions per kg'!P145","v":0},{"$f":"$C$185*'Emissions per kg'!Q145","v":0},{"$f":"$C$185*'Emissions per kg'!R145","v":0}]
[null,"packaging",null,{"$f":"Calculation_original!D186","v":0},{"$f":"$C$186*'Emissions per kg'!C146","v":0},{"$f":"$C$186*'Emissions per kg'!D146","v":0},{"$f":"$C$186*'Emissions per kg'!E146","v":0},{"$f":"$C$186*'Emissions per kg'!F146","v":0},{"$f":"$C$186*'Emissions per kg'!G146","v":0},{"$f":"$C$186*'Emissions per kg'!H146","v":0},{"$f":"$C$186*'Emissions per kg'!I146","v":0},{"$f":"$C$186*'Emissions per kg'!J146","v":0},{"$f":"$C$186*'Emissions per kg'!K146","v":0},{"$f":"$C$186*'Emissions per kg'!L146","v":0},{"$f":"$C$186*'Emissions per kg'!M146","v":0},{"$f":"$C$186*'Emissions per kg'!N146","v":0},{"$f":"$C$186*'Emissions per kg'!O146","v":0},{"$f":"$C$186*'Emissions per kg'!P146","v":0},{"$f":"$C$186*'Emissions per kg'!Q146","v":0},{"$f":"$C$186*'Emissions per kg'!R146","v":0}]
[null,"retail",null,{"$f":"Calculation_original!D187","v":0.1},{"$f":"$C$187*'Emissions per kg'!C147","v":0},{"$f":"$C$187*'Emissions per kg'!D147","v":0},{"$f":"$C$187*'Emissions per kg'!E147","v":0},{"$f":"$C$187*'Emissions per kg'!F147","v":0},{"$f":"$C$187*'Emissions per kg'!G147","v":0},{"$f":"$C$187*'Emissions per kg'!H147","v":0},{"$f":"$C$187*'Emissions per kg'!I147","v":0},{"$f":"$C$187*'Emissions per kg'!J147","v":0},{"$f":"$C$187*'Emissions per kg'!K147","v":0},{"$f":"$C$187*'Emissions per kg'!L147","v":0},{"$f":"$C$187*'Emissions per kg'!M147","v":0},{"$f":"$C$187*'Emissions per kg'!N147","v":0},{"$f":"$C$187*'Emissions per kg'!O147","v":0},{"$f":"$C$187*'Emissions per kg'!P147","v":0},{"$f":"$C$187*'Emissions per kg'!Q147","v":0},{"$f":"$C$187*'Emissions per kg'!R147","v":0}]
[null,"use ",null,{"$f":"Calculation_original!D188","v":0.19},{"$f":"$C$188*'Emissions per kg'!C148","v":0},{"$f":"$C$188*'Emissions per kg'!D148","v":0},{"$f":"$C$188*'Emissions per kg'!E148","v":0},{"$f":"$C$188*'Emissions per kg'!F148","v":0},{"$f":"$C$188*'Emissions per kg'!G148","v":0},{"$f":"$C$188*'Emissions per kg'!H148","v":0},{"$f":"$C$188*'Emissions per kg'!I148","v":0},{"$f":"$C$188*'Emissions per kg'!J148","v":0},{"$f":"$C$188*'Emissions per kg'!K148","v":0},{"$f":"$C$188*'Emissions per kg'!L148","v":0},{"$f":"$C$188*'Emissions per kg'!M148","v":0},{"$f":"$C$188*'Emissions per kg'!N148","v":0},{"$f":"$C$188*'Emissions per kg'!O148","v":0},{"$f":"$C$188*'Emissions per kg'!P148","v":0},{"$f":"$C$188*'Emissions per kg'!Q148","v":0},{"$f":"$C$188*'Emissions per kg'!R148","v":0}]
[null,"end of life P&R",{"$f":"D185*C185+D187*C187+C186*D186+C184*D184","v":0},null,{"$f":"$C$189*'EoL emissions'!B4","v":0},{"$f":"$C$189*'EoL emissions'!C4","v":0},{"$f":"$C$189*'EoL emissions'!D4","v":0},{"$f":"$C$189*'EoL emissions'!E4","v":0},{"$f":"$C$189*'EoL emissions'!F4","v":0},{"$f":"$C$189*'EoL emissions'!G4","v":0},{"$f":"$C$189*'EoL emissions'!H4","v":0},{"$f":"$C$189*'EoL emissions'!I4","v":0},{"$f":"$C$189*'EoL emissions'!J4","v":0},{"$f":"$C$189*'EoL emissions'!K4","v":0},{"$f":"$C$189*'EoL emissions'!L4","v":0},{"$f":"$C$189*'EoL emissions'!M4","v":0},{"$f":"$C$189*'EoL emissions'!N4","v":0},{"$f":"$C$189*'EoL emissions'!O4","v":0},{"$f":"$C$189*'EoL emissions'!P4","v":0},{"$f":"$C$189*'EoL emissions'!Q4","v":0}]
[null,"end of life HH",{"$f":"D188*C188","v":0},null,{"$f":"$C$190*'EoL emissions'!B5","v":0},{"$f":"$C$190*'EoL emissions'!C5","v":0},{"$f":"$C$190*'EoL emissions'!D5","v":0},{"$f":"$C$190*'EoL emissions'!E5","v":0},{"$f":"$C$190*'EoL emissions'!F5","v":0},{"$f":"$C$190*'EoL emissions'!G5","v":0},{"$f":"$C$190*'EoL emissions'!H5","v":0},{"$f":"$C$190*'EoL emissions'!I5","v":0},{"$f":"$C$190*'EoL emissions'!J5","v":0},{"$f":"$C$190*'EoL emissions'!K5","v":0},{"$f":"$C$190*'EoL emissions'!L5","v":0},{"$f":"$C$190*'EoL emissions'!M5","v":0},{"$f":"$C$190*'EoL emissions'!N5","v":0},{"$f":"$C$190*'EoL emissions'!O5","v":0},{"$f":"$C$190*'EoL emissions'!P5","v":0},{"$f":"$C$190*'EoL emissions'!Q5","v":0}]
["ORANGES",null,null,null,{"$f":"SUM(E184:E190)","v":0.21099999999999999},{"$f":"SUM(F184:F190)","v":8.0299999999999998E-9},8.1899999999999992E-9,7.6299999999999995E-10,3.2100000000000003E-8,1.0699999999999999E-2,5.8399999999999999E-4,4.45E-3,1.8599999999999998E-2,6.9300000000000004E-5,3.1900000000000001E-3,5.19,53.3,7.21,2.81,2.1199999999999999E-7]
["Fruits","BANANAS"]
[null,"agriculture ",1,{"$f":"Calculation_original!D193","v":0},{"$f":"$C$193*'Emissions per kg'!C151","v":0.13900000000000001},{"$f":"$C$193*'Emissions per kg'!D151","v":1.9300000000000002E-9},{"$f":"$C$193*'Emissions per kg'!E151","v":6.24E-9},{"$f":"$C$193*'Emissions per kg'!F151","v":1.64E-10},{"$f":"$C$193*'Emissions per kg'!G151","v":2.9499999999999999E-8},{"$f":"$C$193*'Emissions per kg'!H151","v":9.1299999999999997E-4},{"$f":"$C$193*'Emissions per kg'!I151","v":2.02E-4},{"$f":"$C$193*'Emissions per kg'!J151","v":4.0899999999999999E-3},{"$f":"$C$193*'Emissions per kg'!K151","v":1.7999999999999999E-2},{"$f":"$C$193*'Emissions per kg'!L151","v":6.0800000000000001E-5},{"$f":"$C$193*'Emissions per kg'!M151","v":7.9199999999999995E-4},{"$f":"$C$193*'Emissions per kg'!N151","v":0.47399999999999998},{"$f":"$C$193*'Emissions per kg'!O151","v":40},{"$f":"$C$193*'Emissions per kg'!P151","v":4.05},{"$f":"$C$193*'Emissions per kg'!Q151","v":0.97799999999999998},{"$f":"$C$193*'Emissions per kg'!R151","v":2.6899999999999999E-7}]
[null,"processsing",null,{"$f":"Calculation_original!D194","v":0.05},{"$f":"$C$194*'Emissions per kg'!C152","v":0},{"$f":"$C$194*'Emissions per kg'!D152","v":0},{"$f":"$C$194*'Emissions per kg'!E152","v":0},{"$f":"$C$194*'Emissions per kg'!F152","v":0},{"$f":"$C$194*'Emissions per kg'!G152","v":0},{"$f":"$C$194*'Emissions per kg'!H152","v":0},{"$f":"$C$194*'Emissions per kg'!I152","v":0},{"$f":"$C$194*'Emissions per kg'!J152","v":0},{"$f":"$C$194*'Emissions per kg'!K152","v":0},{"$f":"$C$194*'Emissions per kg'!L152","v":0},{"$f":"$C$194*'Emissions per kg'!M152","v":0},{"$f":"$C$194*'Emissions per kg'!N152","v":0},{"$f":"$C$194*'Emissions per kg'!O152","v":0},{"$f":"$C$194*'Emissions per kg'!P152","v":0},{"$f":"$C$194*'Emissions per kg'!Q152","v":0},{"$f":"$C$194*'Emissions per kg'!R152","v":0}]
[null,"packaging",null,{"$f":"Calculation_original!D195","v":0},{"$f":"$C$195*'Emissions per kg'!C153","v":0},{"$f":"$C$195*'Emissions per kg'!D153","v":0},{"$f":"$C$195*'Emissions per kg'!E153","v":0},{"$f":"$C$195*'Emissions per kg'!F153","v":0},{"$f":"$C$195*'Emissions per kg'!G153","v":0},{"$f":"$C$195*'Emissions per kg'!H153","v":0},{"$f":"$C$195*'Emissions per kg'!I153","v":0},{"$f":"$C$195*'Emissions per kg'!J153","v":0},{"$f":"$C$195*'Emissions per kg'!K153","v":0},{"$f":"$C$195*'Emissions per kg'!L153","v":0},{"$f":"$C$195*'Emissions per kg'!M153","v":0},{"$f":"$C$195*'Emissions per kg'!N153","v":0},{"$f":"$C$195*'Emissions per kg'!O153","v":0},{"$f":"$C$195*'Emissions per kg'!P153","v":0},{"$f":"$C$195*'Emissions per kg'!Q153","v":0},{"$f":"$C$195*'Emissions per kg'!R153","v":0}]
[null,"retail",null,{"$f":"Calculation_original!D196","v":0.1},{"$f":"$C$196*'Emissions per kg'!C154","v":0},{"$f":"$C$196*'Emissions per kg'!D154","v":0},{"$f":"$C$196*'Emissions per kg'!E154","v":0},{"$f":"$C$196*'Emissions per kg'!F154","v":0},{"$f":"$C$196*'Emissions per kg'!G154","v":0},{"$f":"$C$196*'Emissions per kg'!H154","v":0},{"$f":"$C$196*'Emissions per kg'!I154","v":0},{"$f":"$C$196*'Emissions per kg'!J154","v":0},{"$f":"$C$196*'Emissions per kg'!K154","v":0},{"$f":"$C$196*'Emissions per kg'!L154","v":0},{"$f":"$C$196*'Emissions per kg'!M154","v":0},{"$f":"$C$196*'Emissions per kg'!N154","v":0},{"$f":"$C$196*'Emissions per kg'!O154","v":0},{"$f":"$C$196*'Emissions per kg'!P154","v":0},{"$f":"$C$196*'Emissions per kg'!Q154","v":0},{"$f":"$C$196*'Emissions per kg'!R154","v":0}]
[null,"use ",null,{"$f":"Calculation_original!D197","v":0.19},{"$f":"$C$197*'Emissions per kg'!C155","v":0},{"$f":"$C$197*'Emissions per kg'!D155","v":0},{"$f":"$C$197*'Emissions per kg'!E155","v":0},{"$f":"$C$197*'Emissions per kg'!F155","v":0},{"$f":"$C$197*'Emissions per kg'!G155","v":0},{"$f":"$C$197*'Emissions per kg'!H155","v":0},{"$f":"$C$197*'Emissions per kg'!I155","v":0},{"$f":"$C$197*'Emissions per kg'!J155","v":0},{"$f":"$C$197*'Emissions per kg'!K155","v":0},{"$f":"$C$197*'Emissions per kg'!L155","v":0},{"$f":"$C$197*'Emissions per kg'!M155","v":0},{"$f":"$C$197*'Emissions per kg'!N155","v":0},{"$f":"$C$197*'Emissions per kg'!O155","v":0},{"$f":"$C$197*'Emissions per kg'!P155","v":0},{"$f":"$C$197*'Emissions per kg'!Q155","v":0},{"$f":"$C$197*'Emissions per kg'!R155","v":0}]
[null,"end of life P&R",{"$f":"D194*C194+D196*C196+C195*D195+C193*D193","v":0},null,{"$f":"$C$198*'EoL emissions'!B4","v":0},{"$f":"$C$198*'EoL emissions'!C4","v":0},{"$f":"$C$198*'EoL emissions'!D4","v":0},{"$f":"$C$198*'EoL emissions'!E4","v":0},{"$f":"$C$198*'EoL emissions'!F4","v":0},{"$f":"$C$198*'EoL emissions'!G4","v":0},{"$f":"$C$198*'EoL emissions'!H4","v":0},{"$f":"$C$198*'EoL emissions'!I4","v":0},{"$f":"$C$198*'EoL emissions'!J4","v":0},{"$f":"$C$198*'EoL emissions'!K4","v":0},{"$f":"$C$198*'EoL emissions'!L4","v":0},{"$f":"$C$198*'EoL emissions'!M4","v":0},{"$f":"$C$198*'EoL emissions'!N4","v":0},{"$f":"$C$198*'EoL emissions'!O4","v":0},{"$f":"$C$198*'EoL emissions'!P4","v":0},{"$f":"$C$198*'EoL emissions'!Q4","v":0}]
[null,"end of life HH",{"$f":"D197*C197","v":0},null,{"$f":"$C$199*'EoL emissions'!B5","v":0},{"$f":"$C$199*'EoL emissions'!C5","v":0},{"$f":"$C$199*'EoL emissions'!D5","v":0},{"$f":"$C$199*'EoL emissions'!E5","v":0},{"$f":"$C$199*'EoL emissions'!F5","v":0},{"$f":"$C$199*'EoL emissions'!G5","v":0},{"$f":"$C$199*'EoL emissions'!H5","v":0},{"$f":"$C$199*'EoL emissions'!I5","v":0},{"$f":"$C$199*'EoL emissions'!J5","v":0},{"$f":"$C$199*'EoL emissions'!K5","v":0},{"$f":"$C$199*'EoL emissions'!L5","v":0},{"$f":"$C$199*'EoL emissions'!M5","v":0},{"$f":"$C$199*'EoL emissions'!N5","v":0},{"$f":"$C$199*'EoL emissions'!O5","v":0},{"$f":"$C$199*'EoL emissions'!P5","v":0},{"$f":"$C$199*'EoL emissions'!Q5","v":0}]
["BANANAS",null,null,null,{"$f":"SUM(E193:E199)","v":0.13900000000000001},{"$f":"SUM(F193:F199)","v":1.9300000000000002E-9},6.24E-9,1.64E-10,2.9499999999999999E-8,9.1299999999999997E-4,2.02E-4,4.0899999999999999E-3,1.7999999999999999E-2,6.0800000000000001E-5,7.9199999999999995E-4,0.47399999999999998,40,4.05,0.97799999999999998,2.6899999999999999E-7]
["Sugar1","SUGAR"]
[null,"agriculture ",1,{"$f":"Calculation_original!D202","v":0},{"$f":"$C$202*'Emissions per kg'!C158","v":0.44900000000000001},{"$f":"$C$202*'Emissions per kg'!D158","v":1.89E-8},{"$f":"$C$202*'Emissions per kg'!E158","v":2.4600000000000002E-6},{"$f":"$C$202*'Emissions per kg'!F158","v":1.88E-8},{"$f":"$C$202*'Emissions per kg'!G158","v":2.22E-7},{"$f":"$C$202*'Emissions per kg'!H158","v":2E-3},{"$f":"$C$202*'Emissions per kg'!I158","v":7.2199999999999999E-4},{"$f":"$C$202*'Emissions per kg'!J158","v":3.1300000000000001E-2},{"$f":"$C$202*'Emissions per kg'!K158","v":0.14000000000000001},{"$f":"$C$202*'Emissions per kg'!L158","v":2.0900000000000001E-4},{"$f":"$C$202*'Emissions per kg'!M158","v":1.5699999999999999E-2},{"$f":"$C$202*'Emissions per kg'!N158","v":2.34},{"$f":"$C$202*'Emissions per kg'!O158","v":122},{"$f":"$C$202*'Emissions per kg'!P158","v":3.1800000000000002E-2},{"$f":"$C$202*'Emissions per kg'!Q158","v":2.0699999999999998},{"$f":"$C$202*'Emissions per kg'!R158","v":1.5099999999999999E-6}]
[null,"processsing",null,{"$f":"Calculation_original!D203","v":0},{"$f":"$C$203*'Emissions per kg'!C159","v":0},{"$f":"$C$203*'Emissions per kg'!D159","v":0},{"$f":"$C$203*'Emissions per kg'!E159","v":0},{"$f":"$C$203*'Emissions per kg'!F159","v":0},{"$f":"$C$203*'Emissions per kg'!G159","v":0},{"$f":"$C$203*'Emissions per kg'!H159","v":0},{"$f":"$C$203*'Emissions per kg'!I159","v":0},{"$f":"$C$203*'Emissions per kg'!J159","v":0},{"$f":"$C$203*'Emissions per kg'!K159","v":0},{"$f":"$C$203*'Emissions per kg'!L159","v":0},{"$f":"$C$203*'Emissions per kg'!M159","v":0},{"$f":"$C$203*'Emissions per kg'!N159","v":0},{"$f":"$C$203*'Emissions per kg'!O159","v":0},{"$f":"$C$203*'Emissions per kg'!P159","v":0},{"$f":"$C$203*'Emissions per kg'!Q159","v":0},{"$f":"$C$203*'Emissions per kg'!R159","v":0}]
[null,"packaging",null,{"$f":"Calculation_original!D204","v":0},{"$f":"$C$204*'Emissions per kg'!C160","v":0},{"$f":"$C$204*'Emissions per kg'!D160","v":0},{"$f":"$C$204*'Emissions per kg'!E160","v":0},{"$f":"$C$204*'Emissions per kg'!F160","v":0},{"$f":"$C$204*'Emissions per kg'!G160","v":0},{"$f":"$C$204*'Emissions per kg'!H160","v":0},{"$f":"$C$204*'Emissions per kg'!I160","v":0},{"$f":"$C$204*'Emissions per kg'!J160","v":0},{"$f":"$C$204*'Emissions per kg'!K160","v":0},{"$f":"$C$204*'Emissions per kg'!L160","v":0},{"$f":"$C$204*'Emissions per kg'!M160","v":0},{"$f":"$C$204*'Emissions per kg'!N160","v":0},{"$f":"$C$204*'Emissions per kg'!O160","v":0},{"$f":"$C$204*'Emissions per kg'!P160","v":0},{"$f":"$C$204*'Emissions per kg'!Q160","v":0},{"$f":"$C$204*'Emissions per kg'!R160","v":0}]
[null,"retail",null,{"$f":"Calculation_original!D205","v":0},{"$f":"$C$205*'Emissions per kg'!C161","v":0},{"$f":"$C$205*'Emissions per kg'!D161","v":0},{"$f":"$C$205*'Emissions per kg'!E161","v":0},{"$f":"$C$205*'Emissions per kg'!F161","v":0},{"$f":"$C$205*'Emissions per kg'!G161","v":0},{"$f":"$C$205*'Emissions per kg'!H161","v":0},{"$f":"$C$205*'Emissions per kg'!I161","v":0},{"$f":"$C$205*'Emissions per kg'!J161","v":0},{"$f":"$C$205*'Emissions per kg'!K161","v":0},{"$f":"$C$205*'Emissions per kg'!L161","v":0},{"$f":"$C$205*'Emissions per kg'!M161","v":0},{"$f":"$C$205*'Emissions per kg'!N161","v":0},{"$f":"$C$205*'Emissions per kg'!O161","v":0},{"$f":"$C$205*'Emissions per kg'!P161","v":0},{"$f":"$C$205*'Emissions per kg'!Q161","v":0},{"$f":"$C$205*'Emissions per kg'!R161","v":0}]
[null,"use ",null,{"$f":"Calculation_original!D206","v":0.17199999999999999},{"$f":"$C$206*'Emissions per kg'!C162","v":0},{"$f":"$C$206*'Emissions per kg'!D162","v":0},{"$f":"$C$206*'Emissions per kg'!E162","v":0},{"$f":"$C$206*'Emissions per kg'!F162","v":0},{"$f":"$C$206*'Emissions per kg'!G162","v":0},{"$f":"$C$206*'Emissions per kg'!H162","v":0},{"$f":"$C$206*'Emissions per kg'!I162","v":0},{"$f":"$C$206*'Emissions per kg'!J162","v":0},{"$f":"$C$206*'Emissions per kg'!K162","v":0},{"$f":"$C$206*'Emissions per kg'!L162","v":0},{"$f":"$C$206*'Emissions per kg'!M162","v":0},{"$f":"$C$206*'Emissions per kg'!N162","v":0},{"$f":"$C$206*'Emissions per kg'!O162","v":0},{"$f":"$C$206*'Emissions per kg'!P162","v":0},{"$f":"$C$206*'Emissions per kg'!Q162","v":0},{"$f":"$C$206*'Emissions per kg'!R162","v":0}]
[null,"end of life P&R",{"$f":"D203*C203+D205*C205+C204*D204+C202*D202","v":0},null,{"$f":"$C$207*'EoL emissions'!B4","v":0},{"$f":"$C$207*'EoL emissions'!C4","v":0},{"$f":"$C$207*'EoL emissions'!D4","v":0},{"$f":"$C$207*'EoL emissions'!E4","v":0},{"$f":"$C$207*'EoL emissions'!F4","v":0},{"$f":"$C$207*'EoL emissions'!G4","v":0},{"$f":"$C$207*'EoL emissions'!H4","v":0},{"$f":"$C$207*'EoL emissions'!I4","v":0},{"$f":"$C$207*'EoL emissions'!J4","v":0},{"$f":"$C$207*'EoL emissions'!K4","v":0},{"$f":"$C$207*'EoL emissions'!L4","v":0},{"$f":"$C$207*'EoL emissions'!M4","v":0},{"$f":"$C$207*'EoL emissions'!N4","v":0},{"$f":"$C$207*'EoL emissions'!O4","v":0},{"$f":"$C$207*'EoL emissions'!P4","v":0},{"$f":"$C$207*'EoL emissions'!Q4","v":0}]
[null,"end of life HH",{"$f":"D206*C206","v":0},null,{"$f":"$C$208*'EoL emissions'!B5","v":0},{"$f":"$C$208*'EoL emissions'!C5","v":0},{"$f":"$C$208*'EoL emissions'!D5","v":0},{"$f":"$C$208*'EoL emissions'!E5","v":0},{"$f":"$C$208*'EoL emissions'!F5","v":0},{"$f":"$C$208*'EoL emissions'!G5","v":0},{"$f":"$C$208*'EoL emissions'!H5","v":0},{"$f":"$C$208*'EoL emissions'!I5","v":0},{"$f":"$C$208*'EoL emissions'!J5","v":0},{"$f":"$C$208*'EoL emissions'!K5","v":0},{"$f":"$C$208*'EoL emissions'!L5","v":0},{"$f":"$C$208*'EoL emissions'!M5","v":0},{"$f":"$C$208*'EoL emissions'!N5","v":0},{"$f":"$C$208*'EoL emissions'!O5","v":0},{"$f":"$C$208*'EoL emissions'!P5","v":0},{"$f":"$C$208*'EoL emissions'!Q5","v":0}]
["SUGAR",null,null,null,{"$f":"SUM(E202:E208)","v":0.44900000000000001},{"$f":"SUM(F202:F208)","v":1.89E-8},2.4600000000000002E-6,1.88E-8,2.22E-7,2E-3,7.2199999999999999E-4,3.1300000000000001E-2,0.14000000000000001,2.0900000000000001E-4,1.5699999999999999E-2,2.34,122,3.1800000000000002E-2,2.0699999999999998,1.5099999999999999E-6]
["Confectionery","BISCUITS"]
[null,"agriculture ",1,{"$f":"Calculation_original!D211","v":0},{"$f":"$C$211*'Emissions per kg'!C165","v":1.4},{"$f":"$C$211*'Emissions per kg'!D165","v":9.5100000000000005E-9},{"$f":"$C$211*'Emissions per kg'!E165","v":2.65E-6},{"$f":"$C$211*'Emissions per kg'!F165","v":2.4100000000000001E-8},{"$f":"$C$211*'Emissions per kg'!G165","v":2.3200000000000001E-7},{"$f":"$C$211*'Emissions per kg'!H165","v":6.9300000000000004E-3},{"$f":"$C$211*'Emissions per kg'!I165","v":1.2099999999999999E-3},{"$f":"$C$211*'Emissions per kg'!J165","v":3.1899999999999998E-2},{"$f":"$C$211*'Emissions per kg'!K165","v":0.14199999999999999},{"$f":"$C$211*'Emissions per kg'!L165","v":2.4899999999999998E-4},{"$f":"$C$211*'Emissions per kg'!M165","v":1.52E-2},{"$f":"$C$211*'Emissions per kg'!N165","v":7.2},{"$f":"$C$211*'Emissions per kg'!O165","v":230},{"$f":"$C$211*'Emissions per kg'!P165","v":0.56299999999999994},{"$f":"$C$211*'Emissions per kg'!Q165","v":3.62},{"$f":"$C$211*'Emissions per kg'!R165","v":4.2399999999999999E-7}]
[null,"processsing",null,{"$f":"Calculation_original!D212","v":2.3E-2},{"$f":"$C$212*'Emissions per kg'!C166","v":0},{"$f":"$C$212*'Emissions per kg'!D166","v":0},{"$f":"$C$212*'Emissions per kg'!E166","v":0},{"$f":"$C$212*'Emissions per kg'!F166","v":0},{"$f":"$C$212*'Emissions per kg'!G166","v":0},{"$f":"$C$212*'Emissions per kg'!H166","v":0},{"$f":"$C$212*'Emissions per kg'!I166","v":0},{"$f":"$C$212*'Emissions per kg'!J166","v":0},{"$f":"$C$212*'Emissions per kg'!K166","v":0},{"$f":"$C$212*'Emissions per kg'!L166","v":0},{"$f":"$C$212*'Emissions per kg'!M166","v":0},{"$f":"$C$212*'Emissions per kg'!N166","v":0},{"$f":"$C$212*'Emissions per kg'!O166","v":0},{"$f":"$C$212*'Emissions per kg'!P166","v":0},{"$f":"$C$212*'Emissions per kg'!Q166","v":0},{"$f":"$C$212*'Emissions per kg'!R166","v":0}]
[null,"packaging",null,{"$f":"Calculation_original!D213","v":0},{"$f":"$C$213*'Emissions per kg'!C167","v":0},{"$f":"$C$213*'Emissions per kg'!D167","v":0},{"$f":"$C$213*'Emissions per kg'!E167","v":0},{"$f":"$C$213*'Emissions per kg'!F167","v":0},{"$f":"$C$213*'Emissions per kg'!G167","v":0},{"$f":"$C$213*'Emissions per kg'!H167","v":0},{"$f":"$C$213*'Emissions per kg'!I167","v":0},{"$f":"$C$213*'Emissions per kg'!J167","v":0},{"$f":"$C$213*'Emissions per kg'!K167","v":0},{"$f":"$C$213*'Emissions per kg'!L167","v":0},{"$f":"$C$213*'Emissions per kg'!M167","v":0},{"$f":"$C$213*'Emissions per kg'!N167","v":0},{"$f":"$C$213*'Emissions per kg'!O167","v":0},{"$f":"$C$213*'Emissions per kg'!P167","v":0},{"$f":"$C$213*'Emissions per kg'!Q167","v":0},{"$f":"$C$213*'Emissions per kg'!R167","v":0}]
[null,"retail",null,{"$f":"Calculation_original!D214","v":0.02},{"$f":"$C$214*'Emissions per kg'!C168","v":0},{"$f":"$C$214*'Emissions per kg'!D168","v":0},{"$f":"$C$214*'Emissions per kg'!E168","v":0},{"$f":"$C$214*'Emissions per kg'!F168","v":0},{"$f":"$C$214*'Emissions per kg'!G168","v":0},{"$f":"$C$214*'Emissions per kg'!H168","v":0},{"$f":"$C$214*'Emissions per kg'!I168","v":0},{"$f":"$C$214*'Emissions per kg'!J168","v":0},{"$f":"$C$214*'Emissions per kg'!K168","v":0},{"$f":"$C$214*'Emissions per kg'!L168","v":0},{"$f":"$C$214*'Emissions per kg'!M168","v":0},{"$f":"$C$214*'Emissions per kg'!N168","v":0},{"$f":"$C$214*'Emissions per kg'!O168","v":0},{"$f":"$C$214*'Emissions per kg'!P168","v":0},{"$f":"$C$214*'Emissions per kg'!Q168","v":0},{"$f":"$C$214*'Emissions per kg'!R168","v":0}]
[null,"use ",null,{"$f":"Calculation_original!D215","v":4.2999999999999997E-2},{"$f":"$C$215*'Emissions per kg'!C169","v":0},{"$f":"$C$215*'Emissions per kg'!D169","v":0},{"$f":"$C$215*'Emissions per kg'!E169","v":0},{"$f":"$C$215*'Emissions per kg'!F169","v":0},{"$f":"$C$215*'Emissions per kg'!G169","v":0},{"$f":"$C$215*'Emissions per kg'!H169","v":0},{"$f":"$C$215*'Emissions per kg'!I169","v":0},{"$f":"$C$215*'Emissions per kg'!J169","v":0},{"$f":"$C$215*'Emissions per kg'!K169","v":0},{"$f":"$C$215*'Emissions per kg'!L169","v":0},{"$f":"$C$215*'Emissions per kg'!M169","v":0},{"$f":"$C$215*'Emissions per kg'!N169","v":0},{"$f":"$C$215*'Emissions per kg'!O169","v":0},{"$f":"$C$215*'Emissions per kg'!P169","v":0},{"$f":"$C$215*'Emissions per kg'!Q169","v":0},{"$f":"$C$215*'Emissions per kg'!R169","v":0}]
[null,"end of life P&R",{"$f":"D212*C212+D214*C214+C213*D213+C211*D211","v":0},null,{"$f":"$C$216*'EoL emissions'!B4","v":0},{"$f":"$C$216*'EoL emissions'!C4","v":0},{"$f":"$C$216*'EoL emissions'!D4","v":0},{"$f":"$C$216*'EoL emissions'!E4","v":0},{"$f":"$C$216*'EoL emissions'!F4","v":0},{"$f":"$C$216*'EoL emissions'!G4","v":0},{"$f":"$C$216*'EoL emissions'!H4","v":0},{"$f":"$C$216*'EoL emissions'!I4","v":0},{"$f":"$C$216*'EoL emissions'!J4","v":0},{"$f":"$C$216*'EoL emissions'!K4","v":0},{"$f":"$C$216*'EoL emissions'!L4","v":0},{"$f":"$C$216*'EoL emissions'!M4","v":0},{"$f":"$C$216*'EoL emissions'!N4","v":0},{"$f":"$C$216*'EoL emissions'!O4","v":0},{"$f":"$C$216*'EoL emissions'!P4","v":0},{"$f":"$C$216*'EoL emissions'!Q4","v":0}]
[null,"end of life HH",{"$f":"D215*C215","v":0},null,{"$f":"$C$217*'EoL emissions'!B5","v":0},{"$f":"$C$217*'EoL emissions'!C5","v":0},{"$f":"$C$217*'EoL emissions'!D5","v":0},{"$f":"$C$217*'EoL emissions'!E5","v":0},{"$f":"$C$217*'EoL emissions'!F5","v":0},{"$f":"$C$217*'EoL emissions'!G5","v":0},{"$f":"$C$217*'EoL emissions'!H5","v":0},{"$f":"$C$217*'EoL emissions'!I5","v":0},{"$f":"$C$217*'EoL emissions'!J5","v":0},{"$f":"$C$217*'EoL emissions'!K5","v":0},{"$f":"$C$217*'EoL emissions'!L5","v":0},{"$f":"$C$217*'EoL emissions'!M5","v":0},{"$f":"$C$217*'EoL emissions'!N5","v":0},{"$f":"$C$217*'EoL emissions'!O5","v":0},{"$f":"$C$217*'EoL emissions'!P5","v":0},{"$f":"$C$217*'EoL emissions'!Q5","v":0}]
["BISCUITS",null,null,null,{"$f":"SUM(E211:E217)","v":1.4},{"$f":"SUM(F211:F217)","v":9.5100000000000005E-9},2.65E-6,2.4100000000000001E-8,2.3200000000000001E-7,6.9300000000000004E-3,1.2099999999999999E-3,3.1899999999999998E-2,0.14199999999999999,2.4899999999999998E-4,1.52E-2,7.2,230,0.56299999999999994,3.62,4.2399999999999999E-7]
["Confectionery","CHOCOLATE"]
[null,"agriculture ",1,{"$f":"Calculation_original!D220","v":0},{"$f":"$C$220*'Emissions per kg'!C172","v":0.16400000000000001},{"$f":"$C$220*'Emissions per kg'!D172","v":1.7299999999999999E-8},{"$f":"$C$220*'Emissions per kg'!E172","v":5.0299999999999999E-7},{"$f":"$C$220*'Emissions per kg'!F172","v":3.4299999999999999E-9},{"$f":"$C$220*'Emissions per kg'!G172","v":4.3200000000000003E-8},{"$f":"$C$220*'Emissions per kg'!H172","v":5.1599999999999997E-3},{"$f":"$C$220*'Emissions per kg'!I172","v":5.8900000000000001E-4},{"$f":"$C$220*'Emissions per kg'!J172","v":6.0600000000000003E-3},{"$f":"$C$220*'Emissions per kg'!K172","v":2.07E-2},{"$f":"$C$220*'Emissions per kg'!L172","v":5.0899999999999997E-5},{"$f":"$C$220*'Emissions per kg'!M172","v":2.32E-3},{"$f":"$C$220*'Emissions per kg'!N172","v":49.5},{"$f":"$C$220*'Emissions per kg'!O172","v":66.8},{"$f":"$C$220*'Emissions per kg'!P172","v":0.307},{"$f":"$C$220*'Emissions per kg'!Q172","v":2.4},{"$f":"$C$220*'Emissions per kg'!R172","v":7.0500000000000003E-6}]
[null,"processsing",null,{"$f":"Calculation_original!D221","v":0.05},{"$f":"$C$221*'Emissions per kg'!C173","v":0},{"$f":"$C$221*'Emissions per kg'!D173","v":0},{"$f":"$C$221*'Emissions per kg'!E173","v":0},{"$f":"$C$221*'Emissions per kg'!F173","v":0},{"$f":"$C$221*'Emissions per kg'!G173","v":0},{"$f":"$C$221*'Emissions per kg'!H173","v":0},{"$f":"$C$221*'Emissions per kg'!I173","v":0},{"$f":"$C$221*'Emissions per kg'!J173","v":0},{"$f":"$C$221*'Emissions per kg'!K173","v":0},{"$f":"$C$221*'Emissions per kg'!L173","v":0},{"$f":"$C$221*'Emissions per kg'!M173","v":0},{"$f":"$C$221*'Emissions per kg'!N173","v":0},{"$f":"$C$221*'Emissions per kg'!O173","v":0},{"$f":"$C$221*'Emissions per kg'!P173","v":0},{"$f":"$C$221*'Emissions per kg'!Q173","v":0},{"$f":"$C$221*'Emissions per kg'!R173","v":0}]
[null,"packaging",null,{"$f":"Calculation_original!D222","v":0},{"$f":"$C$222*'Emissions per kg'!C174","v":0},{"$f":"$C$222*'Emissions per kg'!D174","v":0},{"$f":"$C$222*'Emissions per kg'!E174","v":0},{"$f":"$C$222*'Emissions per kg'!F174","v":0},{"$f":"$C$222*'Emissions per kg'!G174","v":0},{"$f":"$C$222*'Emissions per kg'!H174","v":0},{"$f":"$C$222*'Emissions per kg'!I174","v":0},{"$f":"$C$222*'Emissions per kg'!J174","v":0},{"$f":"$C$222*'Emissions per kg'!K174","v":0},{"$f":"$C$222*'Emissions per kg'!L174","v":0},{"$f":"$C$222*'Emissions per kg'!M174","v":0},{"$f":"$C$222*'Emissions per kg'!N174","v":0},{"$f":"$C$222*'Emissions per kg'!O174","v":0},{"$f":"$C$222*'Emissions per kg'!P174","v":0},{"$f":"$C$222*'Emissions per kg'!Q174","v":0},{"$f":"$C$222*'Emissions per kg'!R174","v":0}]
[null,"retail",null,{"$f":"Calculation_original!D223","v":0.01},{"$f":"$C$223*'Emissions per kg'!C175","v":0},{"$f":"$C$223*'Emissions per kg'!D175","v":0},{"$f":"$C$223*'Emissions per kg'!E175","v":0},{"$f":"$C$223*'Emissions per kg'!F175","v":0},{"$f":"$C$223*'Emissions per kg'!G175","v":0},{"$f":"$C$223*'Emissions per kg'!H175","v":0},{"$f":"$C$223*'Emissions per kg'!I175","v":0},{"$f":"$C$223*'Emissions per kg'!J175","v":0},{"$f":"$C$223*'Emissions per kg'!K175","v":0},{"$f":"$C$223*'Emissions per kg'!L175","v":0},{"$f":"$C$223*'Emissions per kg'!M175","v":0},{"$f":"$C$223*'Emissions per kg'!N175","v":0},{"$f":"$C$223*'Emissions per kg'!O175","v":0},{"$f":"$C$223*'Emissions per kg'!P175","v":0},{"$f":"$C$223*'Emissions per kg'!Q175","v":0},{"$f":"$C$223*'Emissions per kg'!R175","v":0}]
[null,"use ",null,{"$f":"Calculation_original!D224","v":4.3999999999999997E-2},{"$f":"$C$224*'Emissions per kg'!C176","v":0},{"$f":"$C$224*'Emissions per kg'!D176","v":0},{"$f":"$C$224*'Emissions per kg'!E176","v":0},{"$f":"$C$224*'Emissions per kg'!F176","v":0},{"$f":"$C$224*'Emissions per kg'!G176","v":0},{"$f":"$C$224*'Emissions per kg'!H176","v":0},{"$f":"$C$224*'Emissions per kg'!I176","v":0},{"$f":"$C$224*'Emissions per kg'!J176","v":0},{"$f":"$C$224*'Emissions per kg'!K176","v":0},{"$f":"$C$224*'Emissions per kg'!L176","v":0},{"$f":"$C$224*'Emissions per kg'!M176","v":0},{"$f":"$C$224*'Emissions per kg'!N176","v":0},{"$f":"$C$224*'Emissions per kg'!O176","v":0},{"$f":"$C$224*'Emissions per kg'!P176","v":0},{"$f":"$C$224*'Emissions per kg'!Q176","v":0},{"$f":"$C$224*'Emissions per kg'!R176","v":0}]
[null,"end of life P&R",{"$f":"D221*C221+D223*C223+C222*D222+C220*D220","v":0},null,{"$f":"$C$225*'EoL emissions'!B4","v":0},{"$f":"$C$225*'EoL emissions'!C4","v":0},{"$f":"$C$225*'EoL emissions'!D4","v":0},{"$f":"$C$225*'EoL emissions'!E4","v":0},{"$f":"$C$225*'EoL emissions'!F4","v":0},{"$f":"$C$225*'EoL emissions'!G4","v":0},{"$f":"$C$225*'EoL emissions'!H4","v":0},{"$f":"$C$225*'EoL emissions'!I4","v":0},{"$f":"$C$225*'EoL emissions'!J4","v":0},{"$f":"$C$225*'EoL emissions'!K4","v":0},{"$f":"$C$225*'EoL emissions'!L4","v":0},{"$f":"$C$225*'EoL emissions'!M4","v":0},{"$f":"$C$225*'EoL emissions'!N4","v":0},{"$f":"$C$225*'EoL emissions'!O4","v":0},{"$f":"$C$225*'EoL emissions'!P4","v":0},{"$f":"$C$225*'EoL emissions'!Q4","v":0}]
[null,"end of life HH",{"$f":"D224*C224","v":0},null,{"$f":"$C$226*'EoL emissions'!B5","v":0},{"$f":"$C$226*'EoL emissions'!C5","v":0},{"$f":"$C$226*'EoL emissions'!D5","v":0},{"$f":"$C$226*'EoL emissions'!E5","v":0},{"$f":"$C$226*'EoL emissions'!F5","v":0},{"$f":"$C$226*'EoL emissions'!G5","v":0},{"$f":"$C$226*'EoL emissions'!H5","v":0},{"$f":"$C$226*'EoL emissions'!I5","v":0},{"$f":"$C$226*'EoL emissions'!J5","v":0},{"$f":"$C$226*'EoL emissions'!K5","v":0},{"$f":"$C$226*'EoL emissions'!L5","v":0},{"$f":"$C$226*'EoL emissions'!M5","v":0},{"$f":"$C$226*'EoL emissions'!N5","v":0},{"$f":"$C$226*'EoL emissions'!O5","v":0},{"$f":"$C$226*'EoL emissions'!P5","v":0},{"$f":"$C$226*'EoL emissions'!Q5","v":0}]
["CHOCOLATE",null,null,null,{"$f":"SUM(E220:E226)","v":0.16400000000000001},{"$f":"SUM(F220:F226)","v":1.7299999999999999E-8},5.0299999999999999E-7,3.4299999999999999E-9,4.3200000000000003E-8,5.1599999999999997E-3,5.8900000000000001E-4,6.0600000000000003E-3,2.07E-2,5.0899999999999997E-5,2.32E-3,49.5,66.8,0.307,2.4,7.0500000000000003E-6]
["Nuts","ALMONDS"]
[null,"agriculture ",1,{"$f":"Calculation_original!D229","v":0},{"$f":"$C$229*'Emissions per kg'!C179","v":4.26},{"$f":"$C$229*'Emissions per kg'!D179","v":1.91E-7},{"$f":"$C$229*'Emissions per kg'!E179","v":6.1599999999999996E-8},{"$f":"$C$229*'Emissions per kg'!F179","v":6.3600000000000004E-9},{"$f":"$C$229*'Emissions per kg'!G179","v":6.8700000000000005E-7},{"$f":"$C$229*'Emissions per kg'!H179","v":7.5800000000000006E-2},{"$f":"$C$229*'Emissions per kg'!I179","v":1.8599999999999998E-2},{"$f":"$C$229*'Emissions per kg'!J179","v":8.3500000000000005E-2},{"$f":"$C$229*'Emissions per kg'!K179","v":0.371},{"$f":"$C$229*'Emissions per kg'!L179","v":4.4299999999999999E-3},{"$f":"$C$229*'Emissions per kg'!M179","v":1.9199999999999998E-2},{"$f":"$C$229*'Emissions per kg'!N179","v":36.6},{"$f":"$C$229*'Emissions per kg'!O179","v":1150},{"$f":"$C$229*'Emissions per kg'!P179","v":326},{"$f":"$C$229*'Emissions per kg'!Q179","v":44},{"$f":"$C$229*'Emissions per kg'!R179","v":1.43E-5}]
[null,"processsing",null,{"$f":"Calculation_original!D230","v":7.4999999999999997E-2},{"$f":"$C$230*'Emissions per kg'!C180","v":0},{"$f":"$C$230*'Emissions per kg'!D180","v":0},{"$f":"$C$230*'Emissions per kg'!E180","v":0},{"$f":"$C$230*'Emissions per kg'!F180","v":0},{"$f":"$C$230*'Emissions per kg'!G180","v":0},{"$f":"$C$230*'Emissions per kg'!H180","v":0},{"$f":"$C$230*'Emissions per kg'!I180","v":0},{"$f":"$C$230*'Emissions per kg'!J180","v":0},{"$f":"$C$230*'Emissions per kg'!K180","v":0},{"$f":"$C$230*'Emissions per kg'!L180","v":0},{"$f":"$C$230*'Emissions per kg'!M180","v":0},{"$f":"$C$230*'Emissions per kg'!N180","v":0},{"$f":"$C$230*'Emissions per kg'!O180","v":0},{"$f":"$C$230*'Emissions per kg'!P180","v":0},{"$f":"$C$230*'Emissions per kg'!Q180","v":0},{"$f":"$C$230*'Emissions per kg'!R180","v":0}]
[null,"packaging",null,{"$f":"Calculation_original!D231","v":0},{"$f":"$C$231*'Emissions per kg'!C181","v":0},{"$f":"$C$231*'Emissions per kg'!D181","v":0},{"$f":"$C$231*'Emissions per kg'!E181","v":0},{"$f":"$C$231*'Emissions per kg'!F181","v":0},{"$f":"$C$231*'Emissions per kg'!G181","v":0},{"$f":"$C$231*'Emissions per kg'!H181","v":0},{"$f":"$C$231*'Emissions per kg'!I181","v":0},{"$f":"$C$231*'Emissions per kg'!J181","v":0},{"$f":"$C$231*'Emissions per kg'!K181","v":0},{"$f":"$C$231*'Emissions per kg'!L181","v":0},{"$f":"$C$231*'Emissions per kg'!M181","v":0},{"$f":"$C$231*'Emissions per kg'!N181","v":0},{"$f":"$C$231*'Emissions per kg'!O181","v":0},{"$f":"$C$231*'Emissions per kg'!P181","v":0},{"$f":"$C$231*'Emissions per kg'!Q181","v":0},{"$f":"$C$231*'Emissions per kg'!R181","v":0}]
[null,"retail",null,{"$f":"Calculation_original!D232","v":0.02},{"$f":"$C$232*'Emissions per kg'!C182","v":0},{"$f":"$C$232*'Emissions per kg'!D182","v":0},{"$f":"$C$232*'Emissions per kg'!E182","v":0},{"$f":"$C$232*'Emissions per kg'!F182","v":0},{"$f":"$C$232*'Emissions per kg'!G182","v":0},{"$f":"$C$232*'Emissions per kg'!H182","v":0},{"$f":"$C$232*'Emissions per kg'!I182","v":0},{"$f":"$C$232*'Emissions per kg'!J182","v":0},{"$f":"$C$232*'Emissions per kg'!K182","v":0},{"$f":"$C$232*'Emissions per kg'!L182","v":0},{"$f":"$C$232*'Emissions per kg'!M182","v":0},{"$f":"$C$232*'Emissions per kg'!N182","v":0},{"$f":"$C$232*'Emissions per kg'!O182","v":0},{"$f":"$C$232*'Emissions per kg'!P182","v":0},{"$f":"$C$232*'Emissions per kg'!Q182","v":0},{"$f":"$C$232*'Emissions per kg'!R182","v":0}]
[null,"use ",null,{"$f":"Calculation_original!D233","v":0.04},{"$f":"$C$233*'Emissions per kg'!C183","v":0},{"$f":"$C$233*'Emissions per kg'!D183","v":0},{"$f":"$C$233*'Emissions per kg'!E183","v":0},{"$f":"$C$233*'Emissions per kg'!F183","v":0},{"$f":"$C$233*'Emissions per kg'!G183","v":0},{"$f":"$C$233*'Emissions per kg'!H183","v":0},{"$f":"$C$233*'Emissions per kg'!I183","v":0},{"$f":"$C$233*'Emissions per kg'!J183","v":0},{"$f":"$C$233*'Emissions per kg'!K183","v":0},{"$f":"$C$233*'Emissions per kg'!L183","v":0},{"$f":"$C$233*'Emissions per kg'!M183","v":0},{"$f":"$C$233*'Emissions per kg'!N183","v":0},{"$f":"$C$233*'Emissions per kg'!O183","v":0},{"$f":"$C$233*'Emissions per kg'!P183","v":0},{"$f":"$C$233*'Emissions per kg'!Q183","v":0},{"$f":"$C$233*'Emissions per kg'!R183","v":0}]
[null,"end of life P&R",{"$f":"D230*C230+D232*C232+C231*D231+C229*D229","v":0},null,{"$f":"$C$234*'EoL emissions'!B4","v":0},{"$f":"$C$234*'EoL emissions'!C4","v":0},{"$f":"$C$234*'EoL emissions'!D4","v":0},{"$f":"$C$234*'EoL emissions'!E4","v":0},{"$f":"$C$234*'EoL emissions'!F4","v":0},{"$f":"$C$234*'EoL emissions'!G4","v":0},{"$f":"$C$234*'EoL emissions'!H4","v":0},{"$f":"$C$234*'EoL emissions'!I4","v":0},{"$f":"$C$234*'EoL emissions'!J4","v":0},{"$f":"$C$234*'EoL emissions'!K4","v":0},{"$f":"$C$234*'EoL emissions'!L4","v":0},{"$f":"$C$234*'EoL emissions'!M4","v":0},{"$f":"$C$234*'EoL emissions'!N4","v":0},{"$f":"$C$234*'EoL emissions'!O4","v":0},{"$f":"$C$234*'EoL emissions'!P4","v":0},{"$f":"$C$234*'EoL emissions'!Q4","v":0}]
[null,"end of life HH",{"$f":"D233*C233","v":0},null,{"$f":"$C$235*'EoL emissions'!B5","v":0},{"$f":"$C$235*'EoL emissions'!C5","v":0},{"$f":"$C$235*'EoL emissions'!D5","v":0},{"$f":"$C$235*'EoL emissions'!E5","v":0},{"$f":"$C$235*'EoL emissions'!F5","v":0},{"$f":"$C$235*'EoL emissions'!G5","v":0},{"$f":"$C$235*'EoL emissions'!H5","v":0},{"$f":"$C$235*'EoL emissions'!I5","v":0},{"$f":"$C$235*'EoL emissions'!J5","v":0},{"$f":"$C$235*'EoL emissions'!K5","v":0},{"$f":"$C$235*'EoL emissions'!L5","v":0},{"$f":"$C$235*'EoL emissions'!M5","v":0},{"$f":"$C$235*'EoL emissions'!N5","v":0},{"$f":"$C$235*'EoL emissions'!O5","v":0},{"$f":"$C$235*'EoL emissions'!P5","v":0},{"$f":"$C$235*'EoL emissions'!Q5","v":0}]
["ALMONDS",null,null,null,{"$f":"SUM(E229:E235)","v":4.26},{"$f":"SUM(F229:F235)","v":1.91E-7},6.1599999999999996E-8,6.3600000000000004E-9,6.8700000000000005E-7,7.5800000000000006E-2,1.8599999999999998E-2,8.3500000000000005E-2,0.371,4.4299999999999999E-3,1.9199999999999998E-2,36.6,1150,326,44,1.43E-5]
["Drinks","COFFEE"]
[null,"agriculture ",1,{"$f":"Calculation_original!D238","v":0},{"$f":"$C$238*'Emissions per kg'!C186","v":2.68},{"$f":"$C$238*'Emissions per kg'!D186","v":4.2699999999999999E-8},{"$f":"$C$238*'Emissions per kg'!E186","v":6.9899999999999997E-8},{"$f":"$C$238*'Emissions per kg'!F186","v":3.77E-9},{"$f":"$C$238*'Emissions per kg'!G186","v":5.44E-7},{"$f":"$C$238*'Emissions per kg'!H186","v":2.18E-2},{"$f":"$C$238*'Emissions per kg'!I186","v":6.2100000000000002E-3},{"$f":"$C$238*'Emissions per kg'!J186","v":7.3200000000000001E-2},{"$f":"$C$238*'Emissions per kg'!K186","v":0.32400000000000001},{"$f":"$C$238*'Emissions per kg'!L186","v":3.77E-4},{"$f":"$C$238*'Emissions per kg'!M186","v":5.7799999999999997E-2},{"$f":"$C$238*'Emissions per kg'!N186","v":111},{"$f":"$C$238*'Emissions per kg'!O186","v":984},{"$f":"$C$238*'Emissions per kg'!P186","v":0.126},{"$f":"$C$238*'Emissions per kg'!Q186","v":20.7},{"$f":"$C$238*'Emissions per kg'!R186","v":5.2800000000000003E-6}]
[null,"processsing",null,{"$f":"Calculation_original!D239","v":0},{"$f":"$C$239*'Emissions per kg'!C187","v":0},{"$f":"$C$239*'Emissions per kg'!D187","v":0},{"$f":"$C$239*'Emissions per kg'!E187","v":0},{"$f":"$C$239*'Emissions per kg'!F187","v":0},{"$f":"$C$239*'Emissions per kg'!G187","v":0},{"$f":"$C$239*'Emissions per kg'!H187","v":0},{"$f":"$C$239*'Emissions per kg'!I187","v":0},{"$f":"$C$239*'Emissions per kg'!J187","v":0},{"$f":"$C$239*'Emissions per kg'!K187","v":0},{"$f":"$C$239*'Emissions per kg'!L187","v":0},{"$f":"$C$239*'Emissions per kg'!M187","v":0},{"$f":"$C$239*'Emissions per kg'!N187","v":0},{"$f":"$C$239*'Emissions per kg'!O187","v":0},{"$f":"$C$239*'Emissions per kg'!P187","v":0},{"$f":"$C$239*'Emissions per kg'!Q187","v":0},{"$f":"$C$239*'Emissions per kg'!R187","v":0}]
[null,"packaging",null,{"$f":"Calculation_original!D240","v":0},{"$f":"$C$240*'Emissions per kg'!C188","v":0},{"$f":"$C$240*'Emissions per kg'!D188","v":0},{"$f":"$C$240*'Emissions per kg'!E188","v":0},{"$f":"$C$240*'Emissions per kg'!F188","v":0},{"$f":"$C$240*'Emissions per kg'!G188","v":0},{"$f":"$C$240*'Emissions per kg'!H188","v":0},{"$f":"$C$240*'Emissions per kg'!I188","v":0},{"$f":"$C$240*'Emissions per kg'!J188","v":0},{"$f":"$C$240*'Emissions per kg'!K188","v":0},{"$f":"$C$240*'Emissions per kg'!L188","v":0},{"$f":"$C$240*'Emissions per kg'!M188","v":0},{"$f":"$C$240*'Emissions per kg'!N188","v":0},{"$f":"$C$240*'Emissions per kg'!O188","v":0},{"$f":"$C$240*'Emissions per kg'!P188","v":0},{"$f":"$C$240*'Emissions per kg'!Q188","v":0},{"$f":"$C$240*'Emissions per kg'!R188","v":0}]
[null,"retail",null,{"$f":"Calculation_original!D241","v":0},{"$f":"$C$241*'Emissions per kg'!C189","v":0},{"$f":"$C$241*'Emissions per kg'!D189","v":0},{"$f":"$C$241*'Emissions per kg'!E189","v":0},{"$f":"$C$241*'Emissions per kg'!F189","v":0},{"$f":"$C$241*'Emissions per kg'!G189","v":0},{"$f":"$C$241*'Emissions per kg'!H189","v":0},{"$f":"$C$241*'Emissions per kg'!I189","v":0},{"$f":"$C$241*'Emissions per kg'!J189","v":0},{"$f":"$C$241*'Emissions per kg'!K189","v":0},{"$f":"$C$241*'Emissions per kg'!L189","v":0},{"$f":"$C$241*'Emissions per kg'!M189","v":0},{"$f":"$C$241*'Emissions per kg'!N189","v":0},{"$f":"$C$241*'Emissions per kg'!O189","v":0},{"$f":"$C$241*'Emissions per kg'!P189","v":0},{"$f":"$C$241*'Emissions per kg'!Q189","v":0},{"$f":"$C$241*'Emissions per kg'!R189","v":0}]
[null,"use ",null,{"$f":"Calculation_original!D242","v":0.32},{"$f":"$C$242*'Emissions per kg'!C190","v":0},{"$f":"$C$242*'Emissions per kg'!D190","v":0},{"$f":"$C$242*'Emissions per kg'!E190","v":0},{"$f":"$C$242*'Emissions per kg'!F190","v":0},{"$f":"$C$242*'Emissions per kg'!G190","v":0},{"$f":"$C$242*'Emissions per kg'!H190","v":0},{"$f":"$C$242*'Emissions per kg'!I190","v":0},{"$f":"$C$242*'Emissions per kg'!J190","v":0},{"$f":"$C$242*'Emissions per kg'!K190","v":0},{"$f":"$C$242*'Emissions per kg'!L190","v":0},{"$f":"$C$242*'Emissions per kg'!M190","v":0},{"$f":"$C$242*'Emissions per kg'!N190","v":0},{"$f":"$C$242*'Emissions per kg'!O190","v":0},{"$f":"$C$242*'Emissions per kg'!P190","v":0},{"$f":"$C$242*'Emissions per kg'!Q190","v":0},{"$f":"$C$242*'Emissions per kg'!R190","v":0}]
[null,"end of life P&R",{"$f":"D239*C239+D241*C241+C240*D240+C238*D238","v":0},null,{"$f":"$C$243*'EoL emissions'!B4","v":0},{"$f":"$C$243*'EoL emissions'!C4","v":0},{"$f":"$C$243*'EoL emissions'!D4","v":0},{"$f":"$C$243*'EoL emissions'!E4","v":0},{"$f":"$C$243*'EoL emissions'!F4","v":0},{"$f":"$C$243*'EoL emissions'!G4","v":0},{"$f":"$C$243*'EoL emissions'!H4","v":0},{"$f":"$C$243*'EoL emissions'!I4","v":0},{"$f":"$C$243*'EoL emissions'!J4","v":0},{"$f":"$C$243*'EoL emissions'!K4","v":0},{"$f":"$C$243*'EoL emissions'!L4","v":0},{"$f":"$C$243*'EoL emissions'!M4","v":0},{"$f":"$C$243*'EoL emissions'!N4","v":0},{"$f":"$C$243*'EoL emissions'!O4","v":0},{"$f":"$C$243*'EoL emissions'!P4","v":0},{"$f":"$C$243*'EoL emissions'!Q4","v":0}]
[null,"end of life HH",{"$f":"D242*C242*5.14","v":0},null,{"$f":"$C$244*'EoL emissions'!B6","v":0},{"$f":"$C$244*'EoL emissions'!C6","v":0},{"$f":"$C$244*'EoL emissions'!D6","v":0},{"$f":"$C$244*'EoL emissions'!E6","v":0},{"$f":"$C$244*'EoL emissions'!F6","v":0},{"$f":"$C$244*'EoL emissions'!G6","v":0},{"$f":"$C$244*'EoL emissions'!H6","v":0},{"$f":"$C$244*'EoL emissions'!I6","v":0},{"$f":"$C$244*'EoL emissions'!J6","v":0},{"$f":"$C$244*'EoL emissions'!K6","v":0},{"$f":"$C$244*'EoL emissions'!L6","v":0},{"$f":"$C$244*'EoL emissions'!M6","v":0},{"$f":"$C$244*'EoL emissions'!N6","v":0},{"$f":"$C$244*'EoL emissions'!O6","v":0},{"$f":"$C$244*'EoL emissions'!P6","v":0},{"$f":"$C$244*'EoL emissions'!Q6","v":0}]
["COFFEE",null,null,null,{"$f":"SUM(E238:E244)","v":2.68},{"$f":"SUM(F238:F244)","v":4.2699999999999999E-8},6.9899999999999997E-8,3.77E-9,5.44E-7,2.18E-2,6.2100000000000002E-3,7.3200000000000001E-2,0.32400000000000001,3.77E-4,5.7799999999999997E-2,111,984,0.126,20.7,5.2800000000000003E-6]
["Drinks","TEA"]
[null,"agriculture ",1,{"$f":"Calculation_original!D247","v":0},{"$f":"$C$247*'Emissions per kg'!C193","v":1.79},{"$f":"$C$247*'Emissions per kg'!D193","v":4.0000000000000001E-8},{"$f":"$C$247*'Emissions per kg'!E193","v":2.96E-8},{"$f":"$C$247*'Emissions per kg'!F193","v":1.97E-9},{"$f":"$C$247*'Emissions per kg'!G193","v":4.8699999999999995E-7},{"$f":"$C$247*'Emissions per kg'!H193","v":1.6899999999999998E-2},{"$f":"$C$247*'Emissions per kg'!I193","v":3.0699999999999998E-3},{"$f":"$C$247*'Emissions per kg'!J193","v":6.7400000000000002E-2},{"$f":"$C$247*'Emissions per kg'!K193","v":0.29899999999999999},{"$f":"$C$247*'Emissions per kg'!L193","v":2.0899999999999998E-2},{"$f":"$C$247*'Emissions per kg'!M193","v":1.49E-2},{"$f":"$C$247*'Emissions per kg'!N193","v":0.51300000000000001},{"$f":"$C$247*'Emissions per kg'!O193","v":753},{"$f":"$C$247*'Emissions per kg'!P193","v":1.55},{"$f":"$C$247*'Emissions per kg'!Q193","v":16.399999999999999},{"$f":"$C$247*'Emissions per kg'!R193","v":1.48E-6}]
[null,"processsing",null,{"$f":"Calculation_original!D248","v":0.105},{"$f":"$C$248*'Emissions per kg'!C194","v":0},{"$f":"$C$248*'Emissions per kg'!D194","v":0},{"$f":"$C$248*'Emissions per kg'!E194","v":0},{"$f":"$C$248*'Emissions per kg'!F194","v":0},{"$f":"$C$248*'Emissions per kg'!G194","v":0},{"$f":"$C$248*'Emissions per kg'!H194","v":0},{"$f":"$C$248*'Emissions per kg'!I194","v":0},{"$f":"$C$248*'Emissions per kg'!J194","v":0},{"$f":"$C$248*'Emissions per kg'!K194","v":0},{"$f":"$C$248*'Emissions per kg'!L194","v":0},{"$f":"$C$248*'Emissions per kg'!M194","v":0},{"$f":"$C$248*'Emissions per kg'!N194","v":0},{"$f":"$C$248*'Emissions per kg'!O194","v":0},{"$f":"$C$248*'Emissions per kg'!P194","v":0},{"$f":"$C$248*'Emissions per kg'!Q194","v":0},{"$f":"$C$248*'Emissions per kg'!R194","v":0}]
[null,"packaging",null,{"$f":"Calculation_original!D249","v":0},{"$f":"$C$249*'Emissions per kg'!C195","v":0},{"$f":"$C$249*'Emissions per kg'!D195","v":0},{"$f":"$C$249*'Emissions per kg'!E195","v":0},{"$f":"$C$249*'Emissions per kg'!F195","v":0},{"$f":"$C$249*'Emissions per kg'!G195","v":0},{"$f":"$C$249*'Emissions per kg'!H195","v":0},{"$f":"$C$249*'Emissions per kg'!I195","v":0},{"$f":"$C$249*'Emissions per kg'!J195","v":0},{"$f":"$C$249*'Emissions per kg'!K195","v":0},{"$f":"$C$249*'Emissions per kg'!L195","v":0},{"$f":"$C$249*'Emissions per kg'!M195","v":0},{"$f":"$C$249*'Emissions per kg'!N195","v":0},{"$f":"$C$249*'Emissions per kg'!O195","v":0},{"$f":"$C$249*'Emissions per kg'!P195","v":0},{"$f":"$C$249*'Emissions per kg'!Q195","v":0},{"$f":"$C$249*'Emissions per kg'!R195","v":0}]
[null,"retail",null,{"$f":"Calculation_original!D250","v":0.02},{"$f":"$C$250*'Emissions per kg'!C196","v":0},{"$f":"$C$250*'Emissions per kg'!D196","v":0},{"$f":"$C$250*'Emissions per kg'!E196","v":0},{"$f":"$C$250*'Emissions per kg'!F196","v":0},{"$f":"$C$250*'Emissions per kg'!G196","v":0},{"$f":"$C$250*'Emissions per kg'!H196","v":0},{"$f":"$C$250*'Emissions per kg'!I196","v":0},{"$f":"$C$250*'Emissions per kg'!J196","v":0},{"$f":"$C$250*'Emissions per kg'!K196","v":0},{"$f":"$C$250*'Emissions per kg'!L196","v":0},{"$f":"$C$250*'Emissions per kg'!M196","v":0},{"$f":"$C$250*'Emissions per kg'!N196","v":0},{"$f":"$C$250*'Emissions per kg'!O196","v":0},{"$f":"$C$250*'Emissions per kg'!P196","v":0},{"$f":"$C$250*'Emissions per kg'!Q196","v":0},{"$f":"$C$250*'Emissions per kg'!R196","v":0}]
[null,"use ",null,{"$f":"Calculation_original!D251","v":0.33300000000000002},{"$f":"$C$251*'Emissions per kg'!C197","v":0},{"$f":"$C$251*'Emissions per kg'!D197","v":0},{"$f":"$C$251*'Emissions per kg'!E197","v":0},{"$f":"$C$251*'Emissions per kg'!F197","v":0},{"$f":"$C$251*'Emissions per kg'!G197","v":0},{"$f":"$C$251*'Emissions per kg'!H197","v":0},{"$f":"$C$251*'Emissions per kg'!I197","v":0},{"$f":"$C$251*'Emissions per kg'!J197","v":0},{"$f":"$C$251*'Emissions per kg'!K197","v":0},{"$f":"$C$251*'Emissions per kg'!L197","v":0},{"$f":"$C$251*'Emissions per kg'!M197","v":0},{"$f":"$C$251*'Emissions per kg'!N197","v":0},{"$f":"$C$251*'Emissions per kg'!O197","v":0},{"$f":"$C$251*'Emissions per kg'!P197","v":0},{"$f":"$C$251*'Emissions per kg'!Q197","v":0},{"$f":"$C$251*'Emissions per kg'!R197","v":0}]
[null,"end of life P&R",{"$f":"D248*C248+D250*C250+C249*D249+C247*D247","v":0},null,{"$f":"$C$252*'EoL emissions'!B4","v":0},{"$f":"$C$252*'EoL emissions'!C4","v":0},{"$f":"$C$252*'EoL emissions'!D4","v":0},{"$f":"$C$252*'EoL emissions'!E4","v":0},{"$f":"$C$252*'EoL emissions'!F4","v":0},{"$f":"$C$252*'EoL emissions'!G4","v":0},{"$f":"$C$252*'EoL emissions'!H4","v":0},{"$f":"$C$252*'EoL emissions'!I4","v":0},{"$f":"$C$252*'EoL emissions'!J4","v":0},{"$f":"$C$252*'EoL emissions'!K4","v":0},{"$f":"$C$252*'EoL emissions'!L4","v":0},{"$f":"$C$252*'EoL emissions'!M4","v":0},{"$f":"$C$252*'EoL emissions'!N4","v":0},{"$f":"$C$252*'EoL emissions'!O4","v":0},{"$f":"$C$252*'EoL emissions'!P4","v":0},{"$f":"$C$252*'EoL emissions'!Q4","v":0}]
[null,"end of life HH",{"$f":"D251*C251*125","v":0},null,{"$f":"$C$253*'EoL emissions'!B6","v":0},{"$f":"$C$253*'EoL emissions'!C6","v":0},{"$f":"$C$253*'EoL emissions'!D6","v":0},{"$f":"$C$253*'EoL emissions'!E6","v":0},{"$f":"$C$253*'EoL emissions'!F6","v":0},{"$f":"$C$253*'EoL emissions'!G6","v":0},{"$f":"$C$253*'EoL emissions'!H6","v":0},{"$f":"$C$253*'EoL emissions'!I6","v":0},{"$f":"$C$253*'EoL emissions'!J6","v":0},{"$f":"$C$253*'EoL emissions'!K6","v":0},{"$f":"$C$253*'EoL emissions'!L6","v":0},{"$f":"$C$253*'EoL emissions'!M6","v":0},{"$f":"$C$253*'EoL emissions'!N6","v":0},{"$f":"$C$253*'EoL emissions'!O6","v":0},{"$f":"$C$253*'EoL emissions'!P6","v":0},{"$f":"$C$253*'EoL emissions'!Q6","v":0}]
["TEA",null,null,null,{"$f":"SUM(E247:E253)","v":1.79},{"$f":"SUM(F247:F253)","v":4.0000000000000001E-8},2.96E-8,1.97E-9,4.8699999999999995E-7,1.6899999999999998E-2,3.0699999999999998E-3,6.7400000000000002E-2,0.29899999999999999,2.0899999999999998E-2,1.49E-2,0.51300000000000001,753,1.55,16.399999999999999,1.48E-6]
["Drinks","BEER"]
[null,"agriculture ",1,{"$f":"Calculation_original!D256","v":0},{"$f":"$C$256*'Emissions per kg'!C200","v":0.107},{"$f":"$C$256*'Emissions per kg'!D200","v":3.6E-9},{"$f":"$C$256*'Emissions per kg'!E200","v":8.7599999999999996E-7},{"$f":"$C$256*'Emissions per kg'!F200","v":4.2199999999999999E-9},{"$f":"$C$256*'Emissions per kg'!G200","v":3.6300000000000001E-8},{"$f":"$C$256*'Emissions per kg'!H200","v":8.6899999999999998E-4},{"$f":"$C$256*'Emissions per kg'!I200","v":2.0799999999999999E-4},{"$f":"$C$256*'Emissions per kg'!J200","v":5.0499999999999998E-3},{"$f":"$C$256*'Emissions per kg'!K200","v":2.2499999999999999E-2},{"$f":"$C$256*'Emissions per kg'!L200","v":4.7700000000000001E-5},{"$f":"$C$256*'Emissions per kg'!M200","v":2.9099999999999998E-3},{"$f":"$C$256*'Emissions per kg'!N200","v":0.79700000000000004},{"$f":"$C$256*'Emissions per kg'!O200","v":46.4},{"$f":"$C$256*'Emissions per kg'!P200","v":2.7799999999999999E-3},{"$f":"$C$256*'Emissions per kg'!Q200","v":0.64800000000000002},{"$f":"$C$256*'Emissions per kg'!R200","v":2.7700000000000001E-7}]
[null,"processsing",null,{"$f":"Calculation_original!D257","v":0},{"$f":"$C$257*'Emissions per kg'!C201","v":0},{"$f":"$C$257*'Emissions per kg'!D201","v":0},{"$f":"$C$257*'Emissions per kg'!E201","v":0},{"$f":"$C$257*'Emissions per kg'!F201","v":0},{"$f":"$C$257*'Emissions per kg'!G201","v":0},{"$f":"$C$257*'Emissions per kg'!H201","v":0},{"$f":"$C$257*'Emissions per kg'!I201","v":0},{"$f":"$C$257*'Emissions per kg'!J201","v":0},{"$f":"$C$257*'Emissions per kg'!K201","v":0},{"$f":"$C$257*'Emissions per kg'!L201","v":0},{"$f":"$C$257*'Emissions per kg'!M201","v":0},{"$f":"$C$257*'Emissions per kg'!N201","v":0},{"$f":"$C$257*'Emissions per kg'!O201","v":0},{"$f":"$C$257*'Emissions per kg'!P201","v":0},{"$f":"$C$257*'Emissions per kg'!Q201","v":0},{"$f":"$C$257*'Emissions per kg'!R201","v":0}]
[null,"packaging",null,{"$f":"Calculation_original!D258","v":0},{"$f":"$C$258*'Emissions per kg'!C202","v":0},{"$f":"$C$258*'Emissions per kg'!D202","v":0},{"$f":"$C$258*'Emissions per kg'!E202","v":0},{"$f":"$C$258*'Emissions per kg'!F202","v":0},{"$f":"$C$258*'Emissions per kg'!G202","v":0},{"$f":"$C$258*'Emissions per kg'!H202","v":0},{"$f":"$C$258*'Emissions per kg'!I202","v":0},{"$f":"$C$258*'Emissions per kg'!J202","v":0},{"$f":"$C$258*'Emissions per kg'!K202","v":0},{"$f":"$C$258*'Emissions per kg'!L202","v":0},{"$f":"$C$258*'Emissions per kg'!M202","v":0},{"$f":"$C$258*'Emissions per kg'!N202","v":0},{"$f":"$C$258*'Emissions per kg'!O202","v":0},{"$f":"$C$258*'Emissions per kg'!P202","v":0},{"$f":"$C$258*'Emissions per kg'!Q202","v":0},{"$f":"$C$258*'Emissions per kg'!R202","v":0}]
[null,"retail",null,{"$f":"Calculation_original!D259","v":0},{"$f":"$C$259*'Emissions per kg'!C203","v":0},{"$f":"$C$259*'Emissions per kg'!D203","v":0},{"$f":"$C$259*'Emissions per kg'!E203","v":0},{"$f":"$C$259*'Emissions per kg'!F203","v":0},{"$f":"$C$259*'Emissions per kg'!G203","v":0},{"$f":"$C$259*'Emissions per kg'!H203","v":0},{"$f":"$C$259*'Emissions per kg'!I203","v":0},{"$f":"$C$259*'Emissions per kg'!J203","v":0},{"$f":"$C$259*'Emissions per kg'!K203","v":0},{"$f":"$C$259*'Emissions per kg'!L203","v":0},{"$f":"$C$259*'Emissions per kg'!M203","v":0},{"$f":"$C$259*'Emissions per kg'!N203","v":0},{"$f":"$C$259*'Emissions per kg'!O203","v":0},{"$f":"$C$259*'Emissions per kg'!P203","v":0},{"$f":"$C$259*'Emissions per kg'!Q203","v":0},{"$f":"$C$259*'Emissions per kg'!R203","v":0}]
[null,"use ",null,{"$f":"Calculation_original!D260","v":0.1},{"$f":"$C$260*'Emissions per kg'!C204","v":0},{"$f":"$C$260*'Emissions per kg'!D204","v":0},{"$f":"$C$260*'Emissions per kg'!E204","v":0},{"$f":"$C$260*'Emissions per kg'!F204","v":0},{"$f":"$C$260*'Emissions per kg'!G204","v":0},{"$f":"$C$260*'Emissions per kg'!H204","v":0},{"$f":"$C$260*'Emissions per kg'!I204","v":0},{"$f":"$C$260*'Emissions per kg'!J204","v":0},{"$f":"$C$260*'Emissions per kg'!K204","v":0},{"$f":"$C$260*'Emissions per kg'!L204","v":0},{"$f":"$C$260*'Emissions per kg'!M204","v":0},{"$f":"$C$260*'Emissions per kg'!N204","v":0},{"$f":"$C$260*'Emissions per kg'!O204","v":0},{"$f":"$C$260*'Emissions per kg'!P204","v":0},{"$f":"$C$260*'Emissions per kg'!Q204","v":0},{"$f":"$C$260*'Emissions per kg'!R204","v":0}]
[null,"end of life A&P",{"$f":"D257*C257+C256*D256","v":0},null,{"$f":"$C$261*'EoL emissions'!B4","v":0},{"$f":"$C$261*'EoL emissions'!C4","v":0},{"$f":"$C$261*'EoL emissions'!D4","v":0},{"$f":"$C$261*'EoL emissions'!E4","v":0},{"$f":"$C$261*'EoL emissions'!F4","v":0},{"$f":"$C$261*'EoL emissions'!G4","v":0},{"$f":"$C$261*'EoL emissions'!H4","v":0},{"$f":"$C$261*'EoL emissions'!I4","v":0},{"$f":"$C$261*'EoL emissions'!J4","v":0},{"$f":"$C$261*'EoL emissions'!K4","v":0},{"$f":"$C$261*'EoL emissions'!L4","v":0},{"$f":"$C$261*'EoL emissions'!M4","v":0},{"$f":"$C$261*'EoL emissions'!N4","v":0},{"$f":"$C$261*'EoL emissions'!O4","v":0},{"$f":"$C$261*'EoL emissions'!P4","v":0},{"$f":"$C$261*'EoL emissions'!Q4","v":0}]
[null,"end of life beer",{"$f":"D260*C260+C259*D259+C258*D258","v":0},null,{"$f":"$C$262*'EoL emissions'!B6","v":0},{"$f":"$C$262*'EoL emissions'!C6","v":0},{"$f":"$C$262*'EoL emissions'!D6","v":0},{"$f":"$C$262*'EoL emissions'!E6","v":0},{"$f":"$C$262*'EoL emissions'!F6","v":0},{"$f":"$C$262*'EoL emissions'!G6","v":0},{"$f":"$C$262*'EoL emissions'!H6","v":0},{"$f":"$C$262*'EoL emissions'!I6","v":0},{"$f":"$C$262*'EoL emissions'!J6","v":0},{"$f":"$C$262*'EoL emissions'!K6","v":0},{"$f":"$C$262*'EoL emissions'!L6","v":0},{"$f":"$C$262*'EoL emissions'!M6","v":0},{"$f":"$C$262*'EoL emissions'!N6","v":0},{"$f":"$C$262*'EoL emissions'!O6","v":0},{"$f":"$C$262*'EoL emissions'!P6","v":0},{"$f":"$C$262*'EoL emissions'!Q6","v":0}]
["BEER",null,null,null,{"$f":"SUM(E256:E262)","v":0.107},{"$f":"SUM(F256:F262)","v":3.6E-9},8.7599999999999996E-7,4.2199999999999999E-9,3.6300000000000001E-8,8.6899999999999998E-4,2.0799999999999999E-4,5.0499999999999998E-3,2.2499999999999999E-2,4.7700000000000001E-5,2.9099999999999998E-3,0.79700000000000004,46.4,2.7799999999999999E-3,0.64800000000000002,2.7700000000000001E-7]
["Drinks","WINE"]
[null,"agriculture ",1,{"$f":"Calculation_original!D265","v":0},{"$f":"$C$265*'Emissions per kg'!C207","v":0.48399999999999999},{"$f":"$C$265*'Emissions per kg'!D207","v":4.4899999999999998E-8},{"$f":"$C$265*'Emissions per kg'!E207","v":1.9400000000000001E-6},{"$f":"$C$265*'Emissions per kg'!F207","v":5.7100000000000002E-8},{"$f":"$C$265*'Emissions per kg'!G207","v":3.99E-8},{"$f":"$C$265*'Emissions per kg'!H207","v":1.7500000000000002E-2},{"$f":"$C$265*'Emissions per kg'!I207","v":2.7000000000000001E-3},{"$f":"$C$265*'Emissions per kg'!J207","v":5.8999999999999999E-3},{"$f":"$C$265*'Emissions per kg'!K207","v":2.3099999999999999E-2},{"$f":"$C$265*'Emissions per kg'!L207","v":9.5600000000000006E-5},{"$f":"$C$265*'Emissions per kg'!M207","v":5.4900000000000001E-3},{"$f":"$C$265*'Emissions per kg'!N207","v":38.9},{"$f":"$C$265*'Emissions per kg'!O207","v":219},{"$f":"$C$265*'Emissions per kg'!P207","v":68.599999999999994},{"$f":"$C$265*'Emissions per kg'!Q207","v":6.02},{"$f":"$C$265*'Emissions per kg'!R207","v":6.3600000000000001E-6}]
[null,"processsing",null,{"$f":"Calculation_original!D266","v":0},{"$f":"$C$266*'Emissions per kg'!C208","v":0},{"$f":"$C$266*'Emissions per kg'!D208","v":0},{"$f":"$C$266*'Emissions per kg'!E208","v":0},{"$f":"$C$266*'Emissions per kg'!F208","v":0},{"$f":"$C$266*'Emissions per kg'!G208","v":0},{"$f":"$C$266*'Emissions per kg'!H208","v":0},{"$f":"$C$266*'Emissions per kg'!I208","v":0},{"$f":"$C$266*'Emissions per kg'!J208","v":0},{"$f":"$C$266*'Emissions per kg'!K208","v":0},{"$f":"$C$266*'Emissions per kg'!L208","v":0},{"$f":"$C$266*'Emissions per kg'!M208","v":0},{"$f":"$C$266*'Emissions per kg'!N208","v":0},{"$f":"$C$266*'Emissions per kg'!O208","v":0},{"$f":"$C$266*'Emissions per kg'!P208","v":0},{"$f":"$C$266*'Emissions per kg'!Q208","v":0},{"$f":"$C$266*'Emissions per kg'!R208","v":0}]
[null,"packaging",null,{"$f":"Calculation_original!D267","v":3.0000000000000001E-3},{"$f":"$C$267*'Emissions per kg'!C209","v":0},{"$f":"$C$267*'Emissions per kg'!D209","v":0},{"$f":"$C$267*'Emissions per kg'!E209","v":0},{"$f":"$C$267*'Emissions per kg'!F209","v":0},{"$f":"$C$267*'Emissions per kg'!G209","v":0},{"$f":"$C$267*'Emissions per kg'!H209","v":0},{"$f":"$C$267*'Emissions per kg'!I209","v":0},{"$f":"$C$267*'Emissions per kg'!J209","v":0},{"$f":"$C$267*'Emissions per kg'!K209","v":0},{"$f":"$C$267*'Emissions per kg'!L209","v":0},{"$f":"$C$267*'Emissions per kg'!M209","v":0},{"$f":"$C$267*'Emissions per kg'!N209","v":0},{"$f":"$C$267*'Emissions per kg'!O209","v":0},{"$f":"$C$267*'Emissions per kg'!P209","v":0},{"$f":"$C$267*'Emissions per kg'!Q209","v":0},{"$f":"$C$267*'Emissions per kg'!R209","v":0}]
[null,"retail",null,{"$f":"Calculation_original!D268","v":0.01},{"$f":"$C$268*'Emissions per kg'!C210","v":0},{"$f":"$C$268*'Emissions per kg'!D210","v":0},{"$f":"$C$268*'Emissions per kg'!E210","v":0},{"$f":"$C$268*'Emissions per kg'!F210","v":0},{"$f":"$C$268*'Emissions per kg'!G210","v":0},{"$f":"$C$268*'Emissions per kg'!H210","v":0},{"$f":"$C$268*'Emissions per kg'!I210","v":0},{"$f":"$C$268*'Emissions per kg'!J210","v":0},{"$f":"$C$268*'Emissions per kg'!K210","v":0},{"$f":"$C$268*'Emissions per kg'!L210","v":0},{"$f":"$C$268*'Emissions per kg'!M210","v":0},{"$f":"$C$268*'Emissions per kg'!N210","v":0},{"$f":"$C$268*'Emissions per kg'!O210","v":0},{"$f":"$C$268*'Emissions per kg'!P210","v":0},{"$f":"$C$268*'Emissions per kg'!Q210","v":0},{"$f":"$C$268*'Emissions per kg'!R210","v":0}]
[null,"use ",null,{"$f":"Calculation_original!D269","v":0.1},{"$f":"$C$269*'Emissions per kg'!C211","v":0},{"$f":"$C$269*'Emissions per kg'!D211","v":0},{"$f":"$C$269*'Emissions per kg'!E211","v":0},{"$f":"$C$269*'Emissions per kg'!F211","v":0},{"$f":"$C$269*'Emissions per kg'!G211","v":0},{"$f":"$C$269*'Emissions per kg'!H211","v":0},{"$f":"$C$269*'Emissions per kg'!I211","v":0},{"$f":"$C$269*'Emissions per kg'!J211","v":0},{"$f":"$C$269*'Emissions per kg'!K211","v":0},{"$f":"$C$269*'Emissions per kg'!L211","v":0},{"$f":"$C$269*'Emissions per kg'!M211","v":0},{"$f":"$C$269*'Emissions per kg'!N211","v":0},{"$f":"$C$269*'Emissions per kg'!O211","v":0},{"$f":"$C$269*'Emissions per kg'!P211","v":0},{"$f":"$C$269*'Emissions per kg'!Q211","v":0},{"$f":"$C$269*'Emissions per kg'!R211","v":0}]
[null,"end of life A&P",{"$f":"D266*C266+C265*D265","v":0},null,{"$f":"$C$270*'EoL emissions'!B4","v":0},{"$f":"$C$270*'EoL emissions'!C4","v":0},{"$f":"$C$270*'EoL emissions'!D4","v":0},{"$f":"$C$270*'EoL emissions'!E4","v":0},{"$f":"$C$270*'EoL emissions'!F4","v":0},{"$f":"$C$270*'EoL emissions'!G4","v":0},{"$f":"$C$270*'EoL emissions'!H4","v":0},{"$f":"$C$270*'EoL emissions'!I4","v":0},{"$f":"$C$270*'EoL emissions'!J4","v":0},{"$f":"$C$270*'EoL emissions'!K4","v":0},{"$f":"$C$270*'EoL emissions'!L4","v":0},{"$f":"$C$270*'EoL emissions'!M4","v":0},{"$f":"$C$270*'EoL emissions'!N4","v":0},{"$f":"$C$270*'EoL emissions'!O4","v":0},{"$f":"$C$270*'EoL emissions'!P4","v":0},{"$f":"$C$270*'EoL emissions'!Q4","v":0}]
[null,"end of life wine",{"$f":"D269*C269+C268*D268+C267*D267","v":0},null,{"$f":"$C$271*'EoL emissions'!B6","v":0},{"$f":"$C$271*'EoL emissions'!C6","v":0},{"$f":"$C$271*'EoL emissions'!D6","v":0},{"$f":"$C$271*'EoL emissions'!E6","v":0},{"$f":"$C$271*'EoL emissions'!F6","v":0},{"$f":"$C$271*'EoL emissions'!G6","v":0},{"$f":"$C$271*'EoL emissions'!H6","v":0},{"$f":"$C$271*'EoL emissions'!I6","v":0},{"$f":"$C$271*'EoL emissions'!J6","v":0},{"$f":"$C$271*'EoL emissions'!K6","v":0},{"$f":"$C$271*'EoL emissions'!L6","v":0},{"$f":"$C$271*'EoL emissions'!M6","v":0},{"$f":"$C$271*'EoL emissions'!N6","v":0},{"$f":"$C$271*'EoL emissions'!O6","v":0},{"$f":"$C$271*'EoL emissions'!P6","v":0},{"$f":"$C$271*'EoL emissions'!Q6","v":0}]
["WINE",null,null,null,{"$f":"SUM(E265:E271)","v":0.48399999999999999},{"$f":"SUM(F265:F271)","v":4.4899999999999998E-8},1.9400000000000001E-6,5.7100000000000002E-8,3.99E-8,1.7500000000000002E-2,2.7000000000000001E-3,5.8999999999999999E-3,2.3099999999999999E-2,9.5600000000000006E-5,5.4900000000000001E-3,38.9,219,68.599999999999994,6.02,6.3600000000000001E-6]
["Drinks","MINERAL WATER"]
[null,"agriculture ",1,{"$f":"Calculation_original!D274","v":0},{"$f":"$C$274*'Emissions per kg'!C214","v":0},{"$f":"$C$274*'Emissions per kg'!D214","v":0},{"$f":"$C$274*'Emissions per kg'!E214","v":0},{"$f":"$C$274*'Emissions per kg'!F214","v":0},{"$f":"$C$274*'Emissions per kg'!G214","v":0},{"$f":"$C$274*'Emissions per kg'!H214","v":0},{"$f":"$C$274*'Emissions per kg'!I214","v":0},{"$f":"$C$274*'Emissions per kg'!J214","v":0},{"$f":"$C$274*'Emissions per kg'!K214","v":0},{"$f":"$C$274*'Emissions per kg'!L214","v":0},{"$f":"$C$274*'Emissions per kg'!M214","v":0},{"$f":"$C$274*'Emissions per kg'!N214","v":0},{"$f":"$C$274*'Emissions per kg'!O214","v":0},{"$f":"$C$274*'Emissions per kg'!P214","v":0},{"$f":"$C$274*'Emissions per kg'!Q214","v":0},{"$f":"$C$274*'Emissions per kg'!R214","v":0}]
[null,"processsing",null,{"$f":"Calculation_original!D275","v":0},{"$f":"$C$275*'Emissions per kg'!C215","v":0},{"$f":"$C$275*'Emissions per kg'!D215","v":0},{"$f":"$C$275*'Emissions per kg'!E215","v":0},{"$f":"$C$275*'Emissions per kg'!F215","v":0},{"$f":"$C$275*'Emissions per kg'!G215","v":0},{"$f":"$C$275*'Emissions per kg'!H215","v":0},{"$f":"$C$275*'Emissions per kg'!I215","v":0},{"$f":"$C$275*'Emissions per kg'!J215","v":0},{"$f":"$C$275*'Emissions per kg'!K215","v":0},{"$f":"$C$275*'Emissions per kg'!L215","v":0},{"$f":"$C$275*'Emissions per kg'!M215","v":0},{"$f":"$C$275*'Emissions per kg'!N215","v":0},{"$f":"$C$275*'Emissions per kg'!O215","v":0},{"$f":"$C$275*'Emissions per kg'!P215","v":0},{"$f":"$C$275*'Emissions per kg'!Q215","v":0},{"$f":"$C$275*'Emissions per kg'!R215","v":0}]
[null,"packaging",null,{"$f":"Calculation_original!D276","v":0},{"$f":"$C$276*'Emissions per kg'!C216","v":0},{"$f":"$C$276*'Emissions per kg'!D216","v":0},{"$f":"$C$276*'Emissions per kg'!E216","v":0},{"$f":"$C$276*'Emissions per kg'!F216","v":0},{"$f":"$C$276*'Emissions per kg'!G216","v":0},{"$f":"$C$276*'Emissions per kg'!H216","v":0},{"$f":"$C$276*'Emissions per kg'!I216","v":0},{"$f":"$C$276*'Emissions per kg'!J216","v":0},{"$f":"$C$276*'Emissions per kg'!K216","v":0},{"$f":"$C$276*'Emissions per kg'!L216","v":0},{"$f":"$C$276*'Emissions per kg'!M216","v":0},{"$f":"$C$276*'Emissions per kg'!N216","v":0},{"$f":"$C$276*'Emissions per kg'!O216","v":0},{"$f":"$C$276*'Emissions per kg'!P216","v":0},{"$f":"$C$276*'Emissions per kg'!Q216","v":0},{"$f":"$C$276*'Emissions per kg'!R216","v":0}]
[null,"retail",null,{"$f":"Calculation_original!D277","v":0},{"$f":"$C$277*'Emissions per kg'!C217","v":0},{"$f":"$C$277*'Emissions per kg'!D217","v":0},{"$f":"$C$277*'Emissions per kg'!E217","v":0},{"$f":"$C$277*'Emissions per kg'!F217","v":0},{"$f":"$C$277*'Emissions per kg'!G217","v":0},{"$f":"$C$277*'Emissions per kg'!H217","v":0},{"$f":"$C$277*'Emissions per kg'!I217","v":0},{"$f":"$C$277*'Emissions per kg'!J217","v":0},{"$f":"$C$277*'Emissions per kg'!K217","v":0},{"$f":"$C$277*'Emissions per kg'!L217","v":0},{"$f":"$C$277*'Emissions per kg'!M217","v":0},{"$f":"$C$277*'Emissions per kg'!N217","v":0},{"$f":"$C$277*'Emissions per kg'!O217","v":0},{"$f":"$C$277*'Emissions per kg'!P217","v":0},{"$f":"$C$277*'Emissions per kg'!Q217","v":0},{"$f":"$C$277*'Emissions per kg'!R217","v":0}]
[null,"use ",null,{"$f":"Calculation_original!D278","v":0.1},{"$f":"$C$278*'Emissions per kg'!C218","v":0},{"$f":"$C$278*'Emissions per kg'!D218","v":0},{"$f":"$C$278*'Emissions per kg'!E218","v":0},{"$f":"$C$278*'Emissions per kg'!F218","v":0},{"$f":"$C$278*'Emissions per kg'!G218","v":0},{"$f":"$C$278*'Emissions per kg'!H218","v":0},{"$f":"$C$278*'Emissions per kg'!I218","v":0},{"$f":"$C$278*'Emissions per kg'!J218","v":0},{"$f":"$C$278*'Emissions per kg'!K218","v":0},{"$f":"$C$278*'Emissions per kg'!L218","v":0},{"$f":"$C$278*'Emissions per kg'!M218","v":0},{"$f":"$C$278*'Emissions per kg'!N218","v":0},{"$f":"$C$278*'Emissions per kg'!O218","v":0},{"$f":"$C$278*'Emissions per kg'!P218","v":0},{"$f":"$C$278*'Emissions per kg'!Q218","v":0},{"$f":"$C$278*'Emissions per kg'!R218","v":0}]
[null,"end of life",{"$f":"D275*C275+D277*C277+C276*D276+C274*D274+C278*D278","v":0},null,{"$f":"$C$279*'EoL emissions'!B6","v":0},{"$f":"$C$279*'EoL emissions'!C6","v":0},{"$f":"$C$279*'EoL emissions'!D6","v":0},{"$f":"$C$279*'EoL emissions'!E6","v":0},{"$f":"$C$279*'EoL emissions'!F6","v":0},{"$f":"$C$279*'EoL emissions'!G6","v":0},{"$f":"$C$279*'EoL emissions'!H6","v":0},{"$f":"$C$279*'EoL emissions'!I6","v":0},{"$f":"$C$279*'EoL emissions'!J6","v":0},{"$f":"$C$279*'EoL emissions'!K6","v":0},{"$f":"$C$279*'EoL emissions'!L6","v":0},{"$f":"$C$279*'EoL emissions'!M6","v":0},{"$f":"$C$279*'EoL emissions'!N6","v":0},{"$f":"$C$279*'EoL emissions'!O6","v":0},{"$f":"$C$279*'EoL emissions'!P6","v":0},{"$f":"$C$279*'EoL emissions'!Q6","v":0}]
["MINERAL WATER",null,null,null,{"$f":"SUM(E274:E279)","v":0},{"$f":"SUM(F274:F279)","v":0},0,0,0,0,0,0,0,0,0,0,0,0,0,0]
["Pre-prepared","MEAT BASED DISHES"]
[null,"agriculture ",1,{"$f":"Calculation_original!D282","v":0},{"$f":"$C$282*'Emissions per kg'!C221","v":3.57},{"$f":"$C$282*'Emissions per kg'!D221","v":1.35E-7},{"$f":"$C$282*'Emissions per kg'!E221","v":1.4100000000000001E-6},{"$f":"$C$282*'Emissions per kg'!F221","v":3.8799999999999997E-8},{"$f":"$C$282*'Emissions per kg'!G221","v":3.6199999999999999E-7},{"$f":"$C$282*'Emissions per kg'!H221","v":0.10100000000000001},{"$f":"$C$282*'Emissions per kg'!I221","v":8.9099999999999995E-3},{"$f":"$C$282*'Emissions per kg'!J221","v":4.3799999999999999E-2},{"$f":"$C$282*'Emissions per kg'!K221","v":0.16600000000000001},{"$f":"$C$282*'Emissions per kg'!L221","v":6.9899999999999997E-4},{"$f":"$C$282*'Emissions per kg'!M221","v":1.2999999999999999E-2},{"$f":"$C$282*'Emissions per kg'!N221","v":14.4},{"$f":"$C$282*'Emissions per kg'!O221","v":364},{"$f":"$C$282*'Emissions per kg'!P221","v":0.69399999999999995},{"$f":"$C$282*'Emissions per kg'!Q221","v":27},{"$f":"$C$282*'Emissions per kg'!R221","v":4.5700000000000003E-6}]
[null,"processsing",null,{"$f":"Calculation_original!D283","v":3.1E-2},{"$f":"$C$283*'Emissions per kg'!C222","v":0},{"$f":"$C$283*'Emissions per kg'!D222","v":0},{"$f":"$C$283*'Emissions per kg'!E222","v":0},{"$f":"$C$283*'Emissions per kg'!F222","v":0},{"$f":"$C$283*'Emissions per kg'!G222","v":0},{"$f":"$C$283*'Emissions per kg'!H222","v":0},{"$f":"$C$283*'Emissions per kg'!I222","v":0},{"$f":"$C$283*'Emissions per kg'!J222","v":0},{"$f":"$C$283*'Emissions per kg'!K222","v":0},{"$f":"$C$283*'Emissions per kg'!L222","v":0},{"$f":"$C$283*'Emissions per kg'!M222","v":0},{"$f":"$C$283*'Emissions per kg'!N222","v":0},{"$f":"$C$283*'Emissions per kg'!O222","v":0},{"$f":"$C$283*'Emissions per kg'!P222","v":0},{"$f":"$C$283*'Emissions per kg'!Q222","v":0},{"$f":"$C$283*'Emissions per kg'!R222","v":0}]
[null,"packaging",null,{"$f":"Calculation_original!D284","v":0},{"$f":"$C$284*'Emissions per kg'!C223","v":0},{"$f":"$C$284*'Emissions per kg'!D223","v":0},{"$f":"$C$284*'Emissions per kg'!E223","v":0},{"$f":"$C$284*'Emissions per kg'!F223","v":0},{"$f":"$C$284*'Emissions per kg'!G223","v":0},{"$f":"$C$284*'Emissions per kg'!H223","v":0},{"$f":"$C$284*'Emissions per kg'!I223","v":0},{"$f":"$C$284*'Emissions per kg'!J223","v":0},{"$f":"$C$284*'Emissions per kg'!K223","v":0},{"$f":"$C$284*'Emissions per kg'!L223","v":0},{"$f":"$C$284*'Emissions per kg'!M223","v":0},{"$f":"$C$284*'Emissions per kg'!N223","v":0},{"$f":"$C$284*'Emissions per kg'!O223","v":0},{"$f":"$C$284*'Emissions per kg'!P223","v":0},{"$f":"$C$284*'Emissions per kg'!Q223","v":0},{"$f":"$C$284*'Emissions per kg'!R223","v":0}]
[null,"retail",null,{"$f":"Calculation_original!D285","v":0.01},{"$f":"$C$285*'Emissions per kg'!C224","v":0},{"$f":"$C$285*'Emissions per kg'!D224","v":0},{"$f":"$C$285*'Emissions per kg'!E224","v":0},{"$f":"$C$285*'Emissions per kg'!F224","v":0},{"$f":"$C$285*'Emissions per kg'!G224","v":0},{"$f":"$C$285*'Emissions per kg'!H224","v":0},{"$f":"$C$285*'Emissions per kg'!I224","v":0},{"$f":"$C$285*'Emissions per kg'!J224","v":0},{"$f":"$C$285*'Emissions per kg'!K224","v":0},{"$f":"$C$285*'Emissions per kg'!L224","v":0},{"$f":"$C$285*'Emissions per kg'!M224","v":0},{"$f":"$C$285*'Emissions per kg'!N224","v":0},{"$f":"$C$285*'Emissions per kg'!O224","v":0},{"$f":"$C$285*'Emissions per kg'!P224","v":0},{"$f":"$C$285*'Emissions per kg'!Q224","v":0},{"$f":"$C$285*'Emissions per kg'!R224","v":0}]
[null,"use ",null,{"$f":"Calculation_original!D286","v":0.24},{"$f":"$C$286*'Emissions per kg'!C225","v":0},{"$f":"$C$286*'Emissions per kg'!D225","v":0},{"$f":"$C$286*'Emissions per kg'!E225","v":0},{"$f":"$C$286*'Emissions per kg'!F225","v":0},{"$f":"$C$286*'Emissions per kg'!G225","v":0},{"$f":"$C$286*'Emissions per kg'!H225","v":0},{"$f":"$C$286*'Emissions per kg'!I225","v":0},{"$f":"$C$286*'Emissions per kg'!J225","v":0},{"$f":"$C$286*'Emissions per kg'!K225","v":0},{"$f":"$C$286*'Emissions per kg'!L225","v":0},{"$f":"$C$286*'Emissions per kg'!M225","v":0},{"$f":"$C$286*'Emissions per kg'!N225","v":0},{"$f":"$C$286*'Emissions per kg'!O225","v":0},{"$f":"$C$286*'Emissions per kg'!P225","v":0},{"$f":"$C$286*'Emissions per kg'!Q225","v":0},{"$f":"$C$286*'Emissions per kg'!R225","v":0}]
[null,"end of life P&R",{"$f":"D283*C283+D285*C285+C284*D284+C282*D282","v":0},null,{"$f":"$C$287*'EoL emissions'!B4","v":0},{"$f":"$C$287*'EoL emissions'!C4","v":0},{"$f":"$C$287*'EoL emissions'!D4","v":0},{"$f":"$C$287*'EoL emissions'!E4","v":0},{"$f":"$C$287*'EoL emissions'!F4","v":0},{"$f":"$C$287*'EoL emissions'!G4","v":0},{"$f":"$C$287*'EoL emissions'!H4","v":0},{"$f":"$C$287*'EoL emissions'!I4","v":0},{"$f":"$C$287*'EoL emissions'!J4","v":0},{"$f":"$C$287*'EoL emissions'!K4","v":0},{"$f":"$C$287*'EoL emissions'!L4","v":0},{"$f":"$C$287*'EoL emissions'!M4","v":0},{"$f":"$C$287*'EoL emissions'!N4","v":0},{"$f":"$C$287*'EoL emissions'!O4","v":0},{"$f":"$C$287*'EoL emissions'!P4","v":0},{"$f":"$C$287*'EoL emissions'!Q4","v":0}]
[null,"end of life HH",{"$f":"D286*C286","v":0},null,{"$f":"$C$288*'EoL emissions'!B5","v":0},{"$f":"$C$288*'EoL emissions'!C5","v":0},{"$f":"$C$288*'EoL emissions'!D5","v":0},{"$f":"$C$288*'EoL emissions'!E5","v":0},{"$f":"$C$288*'EoL emissions'!F5","v":0},{"$f":"$C$288*'EoL emissions'!G5","v":0},{"$f":"$C$288*'EoL emissions'!H5","v":0},{"$f":"$C$288*'EoL emissions'!I5","v":0},{"$f":"$C$288*'EoL emissions'!J5","v":0},{"$f":"$C$288*'EoL emissions'!K5","v":0},{"$f":"$C$288*'EoL emissions'!L5","v":0},{"$f":"$C$288*'EoL emissions'!M5","v":0},{"$f":"$C$288*'EoL emissions'!N5","v":0},{"$f":"$C$288*'EoL emissions'!O5","v":0},{"$f":"$C$288*'EoL emissions'!P5","v":0},{"$f":"$C$288*'EoL emissions'!Q5","v":0}]
["MEAT BASED DISHES",null,null,null,{"$f":"SUM(E282:E288)","v":3.57},{"$f":"SUM(F282:F288)","v":1.35E-7},1.4100000000000001E-6,3.8799999999999997E-8,3.6199999999999999E-7,0.10100000000000001,8.9099999999999995E-3,4.3799999999999999E-2,0.16600000000000001,6.9899999999999997E-4,1.2999999999999999E-2,14.4,364,0.69399999999999995,27,4.5700000000000003E-6]
[null,"AVERAGE BASKET"]
[null,"agriculture ",1,6.1000000000000004E-3,{"$f":"$C$291*'Emissions per kg'!C230","v":2.298353433412029},{"$f":"$C$291*'Emissions per kg'!D230","v":2.8650795474573066E-8},{"$f":"$C$291*'Emissions per kg'!E230","v":2.4429006123493744E-6},{"$f":"$C$291*'Emissions per kg'!F230","v":3.1579683432237522E-8},{"$f":"$C$291*'Emissions per kg'!G230","v":3.1159421840773302E-7},{"$f":"$C$291*'Emissions per kg'!H230","v":1.6273552608408817E-2},{"$f":"$C$291*'Emissions per kg'!I230","v":3.3620588955306551E-3},{"$f":"$C$291*'Emissions per kg'!J230","v":4.2516060336051945E-2},{"$f":"$C$291*'Emissions per kg'!K230","v":0.18779113485589671},{"$f":"$C$291*'Emissions per kg'!L230","v":5.3097542668975747E-4},{"$f":"$C$291*'Emissions per kg'!M230","v":1.6324043268332568E-2},{"$f":"$C$291*'Emissions per kg'!N230","v":8.5262270974507128},{"$f":"$C$291*'Emissions per kg'!O230","v":313.4364890239907},{"$f":"$C$291*'Emissions per kg'!P230","v":4.9628258151792339},{"$f":"$C$291*'Emissions per kg'!Q230","v":7.8687752282026624},{"$f":"$C$291*'Emissions per kg'!R230","v":9.4126154181774851E-7}]
[null,"processsing",null,2.8500000000000001E-2,{"$f":"$C$292*'Emissions per kg'!C231","v":0},{"$f":"$C$292*'Emissions per kg'!D231","v":0},{"$f":"$C$292*'Emissions per kg'!E231","v":0},{"$f":"$C$292*'Emissions per kg'!F231","v":0},{"$f":"$C$292*'Emissions per kg'!G231","v":0},{"$f":"$C$292*'Emissions per kg'!H231","v":0},{"$f":"$C$292*'Emissions per kg'!I231","v":0},{"$f":"$C$292*'Emissions per kg'!J231","v":0},{"$f":"$C$292*'Emissions per kg'!K231","v":0},{"$f":"$C$292*'Emissions per kg'!L231","v":0},{"$f":"$C$292*'Emissions per kg'!M231","v":0},{"$f":"$C$292*'Emissions per kg'!N231","v":0},{"$f":"$C$292*'Emissions per kg'!O231","v":0},{"$f":"$C$292*'Emissions per kg'!P231","v":0},{"$f":"$C$292*'Emissions per kg'!Q231","v":0},{"$f":"$C$292*'Emissions per kg'!R231","v":0}]
[null,"packaging",null,0,{"$f":"$C$293*'Emissions per kg'!C232","v":0},{"$f":"$C$293*'Emissions per kg'!D232","v":0},{"$f":"$C$293*'Emissions per kg'!E232","v":0},{"$f":"$C$293*'Emissions per kg'!F232","v":0},{"$f":"$C$293*'Emissions per kg'!G232","v":0},{"$f":"$C$293*'Emissions per kg'!H232","v":0},{"$f":"$C$293*'Emissions per kg'!I232","v":0},{"$f":"$C$293*'Emissions per kg'!J232","v":0},{"$f":"$C$293*'Emissions per kg'!K232","v":0},{"$f":"$C$293*'Emissions per kg'!L232","v":0},{"$f":"$C$293*'Emissions per kg'!M232","v":0},{"$f":"$C$293*'Emissions per kg'!N232","v":0},{"$f":"$C$293*'Emissions per kg'!O232","v":0},{"$f":"$C$293*'Emissions per kg'!P232","v":0},{"$f":"$C$293*'Emissions per kg'!Q232","v":0},{"$f":"$C$293*'Emissions per kg'!R232","v":0}]
[null,"retail",null,2.9000000000000001E-2,{"$f":"$C$294*'Emissions per kg'!C233","v":0},{"$f":"$C$294*'Emissions per kg'!D233","v":0},{"$f":"$C$294*'Emissions per kg'!E233","v":0},{"$f":"$C$294*'Emissions per kg'!F233","v":0},{"$f":"$C$294*'Emissions per kg'!G233","v":0},{"$f":"$C$294*'Emissions per kg'!H233","v":0},{"$f":"$C$294*'Emissions per kg'!I233","v":0},{"$f":"$C$294*'Emissions per kg'!J233","v":0},{"$f":"$C$294*'Emissions per kg'!K233","v":0},{"$f":"$C$294*'Emissions per kg'!L233","v":0},{"$f":"$C$294*'Emissions per kg'!M233","v":0},{"$f":"$C$294*'Emissions per kg'!N233","v":0},{"$f":"$C$294*'Emissions per kg'!O233","v":0},{"$f":"$C$294*'Emissions per kg'!P233","v":0},{"$f":"$C$294*'Emissions per kg'!Q233","v":0},{"$f":"$C$294*'Emissions per kg'!R233","v":0}]
[null,"use ",null,0.124,{"$f":"$C$295*'Emissions per kg'!C234","v":0},{"$f":"$C$295*'Emissions per kg'!D234","v":0},{"$f":"$C$295*'Emissions per kg'!E234","v":0},{"$f":"$C$295*'Emissions per kg'!F234","v":0},{"$f":"$C$295*'Emissions per kg'!G234","v":0},{"$f":"$C$295*'Emissions per kg'!H234","v":0},{"$f":"$C$295*'Emissions per kg'!I234","v":0},{"$f":"$C$295*'Emissions per kg'!J234","v":0},{"$f":"$C$295*'Emissions per kg'!K234","v":0},{"$f":"$C$295*'Emissions per kg'!L234","v":0},{"$f":"$C$295*'Emissions per kg'!M234","v":0},{"$f":"$C$295*'Emissions per kg'!N234","v":0},{"$f":"$C$295*'Emissions per kg'!O234","v":0},{"$f":"$C$295*'Emissions per kg'!P234","v":0},{"$f":"$C$295*'Emissions per kg'!Q234","v":0},{"$f":"$C$295*'Emissions per kg'!R234","v":0}]
[null,"end of life P&R",{"$f":"D292*C292+D294*C294+C293*D293+C291*D291","v":6.1000000000000004E-3},null,{"$f":"$C$296*'EoL emissions'!B4","v":2.0639665933944139E-3},{"$f":"$C$296*'EoL emissions'!C4","v":2.4697531990405364E-11},{"$f":"$C$296*'EoL emissions'!D4","v":2.2903272925727245E-9},{"$f":"$C$296*'EoL emissions'!E4","v":9.1610749654707232E-11},{"$f":"$C$296*'EoL emissions'!F4","v":4.6697438889231268E-11},{"$f":"$C$296*'EoL emissions'!G4","v":1.5638528415350882E-5},{"$f":"$C$296*'EoL emissions'!H4","v":2.7650839453645758E-6},{"$f":"$C$296*'EoL emissions'!I4","v":7.3265405972323783E-6},{"$f":"$C$296*'EoL emissions'!J4","v":2.9628706600733167E-5},{"$f":"$C$296*'EoL emissions'!K4","v":5.8322731780175551E-7},{"$f":"$C$296*'EoL emissions'!L4","v":3.3476851576308625E-6},{"$f":"$C$296*'EoL emissions'!M4","v":0.16194565657536192},{"$f":"$C$296*'EoL emissions'!N4","v":8.3704563574191117E-3},{"$f":"$C$296*'EoL emissions'!O4","v":8.106232699025191E-5},{"$f":"$C$296*'EoL emissions'!P4","v":-1.4892192344397816E-3},{"$f":"$C$296*'EoL emissions'!Q4","v":-1.1303820931089835E-10}]
[null,"end of life HH",{"$f":"D295*C295","v":0},null,{"$f":"$C$297*'EoL emissions'!B5","v":0},{"$f":"$C$297*'EoL emissions'!C5","v":0},{"$f":"$C$297*'EoL emissions'!D5","v":0},{"$f":"$C$297*'EoL emissions'!E5","v":0},{"$f":"$C$297*'EoL emissions'!F5","v":0},{"$f":"$C$297*'EoL emissions'!G5","v":0},{"$f":"$C$297*'EoL emissions'!H5","v":0},{"$f":"$C$297*'EoL emissions'!I5","v":0},{"$f":"$C$297*'EoL emissions'!J5","v":0},{"$f":"$C$297*'EoL emissions'!K5","v":0},{"$f":"$C$297*'EoL emissions'!L5","v":0},{"$f":"$C$297*'EoL emissions'!M5","v":0},{"$f":"$C$297*'EoL emissions'!N5","v":0},{"$f":"$C$297*'EoL emissions'!O5","v":0},{"$f":"$C$297*'EoL emissions'!P5","v":0},{"$f":"$C$297*'EoL emissions'!Q5","v":0}]
["UNSPECIFIED/UNKOWN",null,null,null,{"$f":"SUM(E291:E297)","v":2.3004174000054234},{"$f":"SUM(F291:F297)","v":2.8675493006563472E-8},2.4451909396419474E-6,3.1671294181892226E-8,3.1164091584662223E-7,1.6289191136824168E-2,3.3648239794760197E-3,4.252338687664918E-2,0.18782076356249744,5.3155865400755927E-4,1.6327390953490197E-2,8.6881727540260751,313.4448594803481,4.9629068775062244,7.8672860089682226,9.4114850360843759E-7]
[null,"Cereal based products"]
[null,"agriculture "]
[null,"processsing"]
[null,"packaging"]
[null,"retail"]
[null,"use "]
[null,"end of life P&R"]
[null,"end of life HH"]
[]
[]
[]
[]
[]
[]
[]
[]
[]
[]
[]
[]
[]
[]
[]
[]
[]
[]
[]
[]
[]
[]
[]
[]
[]
[]
[]
[]
[]
[]
[]
[]
[]
[]
[]
[]
["FOOD WASTE PREVENTION"]
[null,"agriculture ",{"$f":"C282+C274+C265+C256+C247+C238+C229+C220+C211+C202+C193+C184+C175+C166+C157+C148+C139+C130+C121+C112+C103+C94+C85+C76+C67+C58+C49+C40+C31+C22+C13+C4","v":32},null,{"$f":"E282+E274+E265+E256+E247+E238+E229+E220+E211+E202+E193+E184+E175+E166+E157+E148+E139+E130+E121+E112+E103+E94+E85+E76+E67+E58+E49+E40+E31+E22+E13+E4","v":129.70519999999999},2.2322500000000005E-6,1.3563616999999999E-4,1.7042439999999997E-6,1.646918E-5,1.081027,0.23131100000000002,2.2181499999999996,9.6970199999999984,6.9834670000000001E-2,1.0235639999999997,555.029,19729.300000000003,536.84226000000001,562.58100000000002,8.6296199999999989E-5]
[null,"processsing",null,null,{"$f":"E283+E275+E266+E257+E248+E239+E230+E221+E212+E203+E194+E185+E176+E167+E158+E149+E140+E131+E122+E113+E104+E95+E86+E77+E68+E59+E50+E41+E32+E23+E14+E5","v":0},0,0,0,0,0,0,0,0,0,0,0,0,0,0,0]
[null,"packaging",null,null,{"$f":"E284+E276+E267+E258+E249+E240+E231+E222+E213+E204+E195+E186+E177+E168+E159+E150+E141+E132+E123+E114+E105+E96+E87+E78+E69+E60+E51+E42+E33+E24+E15+E6","v":0},0,0,0,0,0,0,0,0,0,0,0,0,0,0,0]
[null,"retail",null,null,{"$f":"E285+E277+E268+E259+E250+E241+E232+E223+E214+E205+E196+E187+E178+E169+E160+E151+E142+E133+E124+E115+E106+E97+E88+E79+E70+E61+E52+E43+E34+E25+E16+E7","v":0},0,0,0,0,0,0,0,0,0,0,0,0,0,0,0]
[null,"use ",null,null,{"$f":"E286+E278+E269+E260+E251+E242+E233+E224+E215+E206+E197+E188+E179+E170+E161+E152+E143+E134+E125+E116+E107+E98+E89+E80+E71+E62+E53+E44+E35+E26+E17+E8","v":0},0,0,0,0,0,0,0,0,0,0,0,0,0,0,0]
[null,"end of life food waste",null,null,{"$f":"E288+E287+E279+E271+E270+E262+E261+E253+E252+E244+E243+E235+E234+E226+E225+E217+E216+E208+E207+E199+E198+E190+E189+E181+E180+E172+E171+E163+E162+E154+E153+E145+E144+E136+E135+E127+E126+E118+E117+E109+E108+E100+E99+E91+E90+E82+E81+E73+E72+E64+E63+E55+E54+E46+E45+E37+E36+E28+E27+E19+E18+E10+E9","v":6.9362811745222117E-2},8.2999902590706561E-10,7.6970015570066986E-8,3.0787219146254074E-9,1.5693401593921982E-9,5.2555710248310334E-4,9.2924952262252159E-5,2.4621980695617007E-4,9.9571882838529486E-4,1.9600262319567193E-5,1.1250417333021751E-4,5.4424359996638021,0.28130222184769144,2.7242257431150229E-3,-5.0047531649205786E-2,-3.7988250670056004E-9]
[null,"TOTAL",null,null,{"$f":"SUM(E344:E349)","v":129.77456281174523},{"$f":"SUM(F344:F349)","v":2.2330799990259076E-6},1.3571314001557005E-4,1.707322721914625E-6,1.6470749340159391E-5,1.0815525571024831,0.23140392495226228,2.218396219806956,9.6980157188283833,6.9854270262319565E-2,1.02367650417333,560.47143599966375,19729.58130222185,536.84498422574313,562.53095246835085,8.6292401174932988E-5]
[]
[]
["TOTAL BASKET WITH WASTE AMOUNTS IN SIMAPRO"]
[null,"agriculture ",708.5979720451387,null,1631.5969417471056,2.0418228148237946E-5,1.7311128187481363E-3,2.2382432742444079E-5,2.2266275613243454E-4,11.577299044466747,2.3880046534401647,30.391477429015602,134.24348308658077,0.38630180670328906,11.624496427172886,6025.7460848144528,222111.13320087802,5308.5969099121567,5610.4844881554636,6.6911056240210839E-4]
[null,"processsing",null,null,254.31281984122398,7.0566066130240042E-4,1.6716945961266835E-5,1.3057960821066813E-6,7.168869447572379E-6,18.387097070362532,0.66711835347167303,1.1262934322111589,2.4315880261896381,1.9192004875956233E-2,0.22598705905361816,110.57187948945477,2609.9295195571071,1082.3135002418903,3883.4175884583278,3.8088794715195073E-4]
[null,"packaging",null,null,122.94787510708115,1.208386257890557E-5,6.8238889344655241E-6,5.4661262521001646E-7,-3.7483024320722329E-7,4.6477574072968206,0.12190948104952425,0.25464731201048235,0.51047549038927398,3.1401169296413154E-3,4.6328394092310078E-2,59.488498306070092,-3473.2358229570273,0.18658693718278907,1203.2015993789571,5.3207468224213258E-4]
[null,"retail",null,null,144.75712300479,2.5426825257367407E-3,1.0700079348519428E-5,5.3529873905248149E-7,6.8834126248327614E-6,4.8228682540975853,0.49934153260150455,0.49524512005516214,1.6463804210167543,1.5164619422950499E-3,0.16290243415247055,177.69675053188905,1220.6120970887489,93.585149633685916,1092.4328657026217,2.0978649722289911E-4]
[null,"use ",null,null,179.75526699999995,1.1969046640000002E-5,1.8892666799999999E-5,1.8380119899999999E-6,6.9320137900000001E-6,8.9976042400000011,0.38182367200000011,0.94928086600000006,2.1911555499999995,0.22006650502999997,3.4424493619999996,208.65540300000001,5155.6372660000006,992.66854630000023,2201.3038649999999,5.2626590459999988E-4]
[null,"end of life food waste",null,null,34.726127411719176,2.8772729542925372E-7,7.1237954396470717E-7,1.4563119009689656E-7,4.9186053809221436E-7,0.10488003141648113,3.2208071064044629E-2,8.4745406064160034E-2,0.3693040304076407,1.9442490594397466E-4,4.964763059232339E-2,4.0066020571636187,61.536298298470108,-0.4908253495520466,18.020222240316375,-3.7805340232260273E-6]
[null,"TOTAL",null,null,2368.09615411192,3.2931020517017141E-3,1.7849587793363527E-3,2.6753783368910155E-5,2.4376408228972464E-4,48.537506047640164,4.0904057636269107,33.301689565356568,141.39238660458406,0.63041132038712566,15.551811307063609,6586.1652181990303,227685.61255886531,7476.8598676753645,14008.860628935687,2.3143450595958645E-3]
[]
[]
["DIFFERENCE",null,{"$f":"C344-C354","v":-676.5979720451387},null,{"$f":"E350-E360","v":-2238.321591300175},{"$f":"F350-F360","v":-3.2908689717026881E-3},-1.6492456393207826E-3,-2.5046460646995531E-5,-2.2729333294956526E-4,-47.455953490537681,-3.8590018386746485,-31.083293345549613,-131.69437088575569,-0.56055705012480606,-14.528134802890278,-6025.693782199367,-207956.03125664347,-6940.0148834496213,-13446.329676467336,-2.2280526584209314E-3]
[null,null,{"$f":"C363/C354","v":-0.95484040138071191},null,{"$f":"E363/E360","v":-0.94519877810434061},{"$f":"F363/F360","v":-0.99932189164988916},-0.92396847390166159,-0.93618387730915631,-0.93243159867751502,-0.97771717904004118,-0.94342763571038013,-0.93338487479882304,-0.93141062293580412,-0.88919255095320437,-0.93417638087543031,-0.91490170418881134,-0.9133472638851039,-0.92819913790992925,-0.95984463209617288,-0.96271411610937496]
[]
["Food waste amount, kg",null,{"$f":"C354-C344","v":676.5979720451387}]
[]
["FOOD WASTE PREVENTION"]
["DEFAULT FOOD WASTE AMOUNTS"]

{"sheet":"Emissions per kg","index":11,"n_rows":234,"n_cols":18,"rows_kept":234,"cut":false,"hidden":true,"merged":[[218,0,218,1],[225,0,225,1],[183,0,183,1],[190,0,190,1],[197,0,197,1],[204,0,204,1],[211,0,211,1],[148,0,148,1],[155,0,155,1],[162,0,162,1],[169,0,169,1],[176,0,176,1],[113,0,113,1],[120,0,120,1],[127,0,127,1],[134,0,134,1],[141,0,141,1],[8,0,8,1],[15,0,15,1],[22,0,22,1],[29,0,29,1],[36,0,36,1],[43,0,43,1],[50,0,50,1],[57,0,57,1],[64,0,64,1],[71,0,71,1],[78,0,78,1],[85,0,85,1],[92,0,92,1],[99,0,99,1],[106,0,106,1]]}
[null,null,"IPCC GWP 100a","Ozone depletion","Human toxicity, non-cancer effects","Human toxicity, cancer effects","Particulate matter","Ionizing radiation HH","Photochemical ozone formation","Acidification","Terrestrial eutrophication","Freshwater eutrophication","Marine eutrophication","Freshwater ecotoxicity","Land use","Water scarcity","ADP Fossil","ADP (ultimate)"]
[null,null,"kg CO2 eq","kg CFC11 eq","CTUh","CTUh","Death","kBq U235 eq","kg NMVOC eq","molc H+ eq","molc N eq","kg P eq","kg N eq","CTUe","Pt","m3 water eq","MJ","kg Sb eq"]
["Meat","PORK"]
[null,"agriculture ",6.11,3.4200000000000002E-8,2.21E-6,6.9899999999999997E-8,9.0699999999999996E-7,5.5399999999999998E-2,7.5500000000000003E-3,0.126,0.55900000000000005,1.33E-3,3.9199999999999999E-2,16.8,786,1.21,20.9,1.8099999999999999E-7]
[null,"processsing",0.32500000000000001,8.0500000000000002E-7,9.8299999999999993E-9,6.9099999999999999E-10,8.6900000000000004E-9,1.38E-2,6.96E-4,1.0200000000000001E-3,3.98E-3,1.5E-6,2.6600000000000001E-4,0.13700000000000001,1.0900000000000001,0.19900000000000001,3.2,1.17E-7]
[null,"packaging",5.0900000000000001E-2,1.5900000000000001E-9,1.6500000000000001E-9,1.6900000000000001E-10,1.27E-9,1.1999999999999999E-3,7.3499999999999998E-5,1.37E-4,2.61E-4,1.08E-6,2.4300000000000001E-5,3.0700000000000002E-2,0.156,4.9300000000000004E-3,0.33300000000000002,1.44E-8]
[null,"retail",0.70399999999999996,1.26E-5,1.77E-8,9.5299999999999991E-10,1.15E-8,7.5599999999999999E-3,7.5900000000000002E-4,8.0099999999999995E-4,2.6900000000000001E-3,3.01E-6,2.4499999999999999E-4,0.26900000000000002,1.92,5.1999999999999998E-2,1.8,4.34E-7]
[null,"use ",{"$f":"0.443+0.0468","v":0.48980000000000001},{"$f":"0.0000000322+0.000000000349","v":3.2548999999999996E-8},{"$f":"0.000000102+0.00000000107","v":1.0307E-7},{"$f":"0.00000000559+0.000000000206","v":5.7960000000000003E-9},{"$f":"0.0000000302+0.00000000031","v":3.051E-8},{"$f":"0.02+0.000121","v":2.0121E-2},{"$f":"0.00133+0.0000326","v":1.3626000000000001E-3},{"$f":"0.00452+0.0000367","v":4.5566999999999995E-3},{"$f":"0.0113+0.00014","v":1.1439999999999999E-2},{"$f":"0.00094+0.000000355","v":9.4035499999999992E-4},{"$f":"0.0232+0.0000784","v":2.3278399999999998E-2},{"$f":"1.15+0.0074","v":1.1574},{"$f":"18.8+0.0697","v":18.869700000000002},{"$f":"1.81+0.00231","v":1.8123100000000001},{"$f":"6.47+0.0309","v":6.5008999999999997},{"$f":"0.00000159+0.00000000156","v":1.5915600000000001E-6}]
["PORK TOTAL",null,{"$f":"SUM(C4:C8)","v":7.6797000000000004},{"$f":"SUM(D4:D8)","v":1.3473339E-5},2.3422499999999995E-6,7.7508999999999996E-8,9.5896999999999986E-7,9.8081000000000002E-2,1.04411E-2,0.13251469999999999,0.57737099999999997,2.2759449999999997E-3,6.3013700000000006E-2,18.394099999999998,808.03569999999991,3.2782400000000003,32.733899999999998,2.3379600000000001E-6]
["Meat","BEEF"]
[null,"agriculture ",28.3,1.24E-8,2.0100000000000001E-5,3.2399999999999999E-7,3.5899999999999999E-6,1.9900000000000001E-2,3.09E-2,0.48299999999999998,2.14,4.2599999999999999E-3,0.189,37,3320,8.83,61.3,3.4799999999999999E-7]
[null,"processsing",0.47299999999999998,2.4600000000000002E-6,1.4500000000000001E-8,8.6500000000000001E-10,1.8699999999999999E-8,7.2199999999999999E-3,1.1000000000000001E-3,2.2200000000000002E-3,5.0899999999999999E-3,2.9900000000000002E-6,3.86E-4,0.16200000000000001,1.32,0.20899999999999999,4.24,1.67E-7]
[null,"packaging",5.0900000000000001E-2,1.5900000000000001E-9,1.6500000000000001E-9,1.6900000000000001E-10,1.27E-9,1.1999999999999999E-3,7.3499999999999998E-5,1.37E-4,2.61E-4,1.08E-6,2.4300000000000001E-5,3.0700000000000002E-2,0.156,4.9300000000000004E-3,0.33300000000000002,1.44E-8]
[null,"retail",1.27,2.8E-5,1.77E-8,9.5299999999999991E-10,1.15E-8,7.5599999999999999E-3,7.5900000000000002E-4,8.0099999999999995E-4,2.6900000000000001E-3,3.01E-6,2.4499999999999999E-4,0.26900000000000002,1.92,5.1999999999999998E-2,1.8,4.34E-7]
[null,"use ",{"$f":"0.447+0.0468","v":0.49380000000000002},{"$f":"0.0000000323+0.000000000349","v":3.2648999999999997E-8},{"$f":"0.000000119+0.00000000107","v":1.2006999999999999E-7},{"$f":"0.00000000563+0.000000000206","v":5.8360000000000001E-9},{"$f":"0.0000000316+0.00000000031","v":3.1909999999999999E-8},{"$f":"0.0201+0.000121","v":2.0220999999999999E-2},{"$f":"0.00135+0.0000326","v":1.3826000000000001E-3},{"$f":"0.00473+0.0000367","v":4.7666999999999996E-3},{"$f":"0.0122+0.00014","v":1.234E-2},{"$f":"0.00093+0.000000355","v":9.3035500000000001E-4},{"$f":"0.025+0.0000784","v":2.5078400000000001E-2},{"$f":"1.65+0.0074","v":1.6574},{"$f":"19+0.0697","v":19.069700000000001},{"$f":"1.87+0.00231","v":1.8723100000000001},{"$f":"6.49+0.0309","v":6.5209000000000001},{"$f":"0.0000016+0.00000000156","v":1.60156E-6}]
["BEEF TOTAL",null,{"$f":"SUM(C11:C15)","v":30.587699999999998},{"$f":"SUM(D11:D15)","v":3.0506639E-5},2.0253920000000004E-5,3.3182299999999999E-7,3.6533799999999995E-6,5.6100999999999998E-2,3.4215099999999998E-2,0.49092469999999999,2.1603810000000001,5.1974349999999994E-3,0.2147337,39.119100000000003,3342.4657000000002,10.96824,74.193899999999985,2.5649599999999997E-6]
["Meat","POULTRY"]
[null,"agriculture ",5.58,3.25E-8,1.4500000000000001E-6,4.9999999999999998E-8,7.3200000000000004E-7,5.2299999999999999E-2,6.0899999999999999E-3,9.0200000000000002E-2,0.39900000000000002,1.1800000000000001E-3,2.35E-2,12.1,603,0.67700000000000005,18.600000000000001,1.9500000000000001E-7]
[null,"processsing",0.26800000000000002,4.7700000000000005E-7,9.8999999999999993E-9,5.8500000000000005E-10,8.2299999999999999E-9,1.35E-2,6.7299999999999999E-4,8.7399999999999999E-4,3.3400000000000001E-3,1.1999999999999999E-6,2.4600000000000002E-4,0.14699999999999999,1.08,0.14899999999999999,2.92,1.2200000000000001E-7]
[null,"packaging",1.27,1.5400000000000001E-9,1.61E-9,1.6799999999999999E-10,1.2400000000000001E-9,1.1900000000000001E-3,7.1899999999999999E-5,1.35E-4,2.5500000000000002E-4,1.0699999999999999E-6,2.37E-5,3.0099999999999998E-2,0.152,4.9100000000000003E-3,0.33,1.39E-8]
[null,"retail",5.0700000000000002E-2,2.8E-5,1.77E-8,9.5299999999999991E-10,1.15E-8,7.5599999999999999E-3,7.5900000000000002E-4,8.0099999999999995E-4,2.6900000000000001E-3,3.01E-6,2.4499999999999999E-4,0.26900000000000002,1.92,5.1999999999999998E-2,1.8,4.34E-7]
[null,"use ",{"$f":"0.433+0.0468","v":0.4798},{"$f":"0.0000000319+0.000000000349","v":3.2249E-8},{"$f":"0.0000000931+0.00000000107","v":9.4170000000000002E-8},{"$f":"0.00000000552+0.000000000206","v":5.7260000000000003E-9},{"$f":"0.0000000287+0.00000000031","v":2.901E-8},{"$f":"0.0198+0.000121","v":1.9921000000000001E-2},{"$f":"0.00126+0.0000326","v":1.2926000000000001E-3},{"$f":"0.00428+0.0000367","v":4.3166999999999997E-3},{"$f":"0.0101+0.00014","v":1.0239999999999999E-2},{"$f":"0.000875+0.000000355","v":8.7535499999999997E-4},{"$f":"0.0196+0.0000784","v":1.9678399999999999E-2},{"$f":"0.882+0.0074","v":0.88939999999999997},{"$f":"18.6+0.0697","v":18.669700000000002},{"$f":"1.75+0.00231","v":1.75231},{"$f":"6.43+0.0309","v":6.4608999999999996},{"$f":"0.00000158+0.00000000156","v":1.58156E-6}]
["POULTRY TOTAL",null,{"$f":"SUM(C18:C22)","v":7.6485000000000003},{"$f":"SUM(D18:D22)","v":2.8543289000000002E-5},1.5733799999999999E-6,5.7432000000000001E-8,7.8198000000000007E-7,9.4470999999999999E-2,8.8865000000000003E-3,9.6326699999999987E-2,0.41552500000000003,2.0606349999999999E-3,4.3693099999999999E-2,13.435499999999999,624.82170000000008,2.6352200000000003,30.110900000000001,2.3464600000000001E-6]
["Fish","COD"]
[null,"agriculture ",2.25,6.6199999999999997E-7,3.33E-8,5.4199999999999999E-9,8.5599999999999999E-8,1.4999999999999999E-2,3.7100000000000001E-2,3.1099999999999999E-2,0.14599999999999999,1.03E-5,1.3299999999999999E-2,3.61,1.85,17.600000000000001,30.6,2.9999999999999999E-7]
[null,"processsing",0.628,3.3699999999999999E-6,5.0099999999999999E-8,4.0499999999999999E-9,2.4599999999999999E-8,5.62E-2,2.4099999999999998E-3,3.6700000000000001E-3,8.6599999999999993E-3,3.3899999999999997E-5,7.8799999999999996E-4,0.57199999999999995,7.03,0.107,9.56,1.04E-6]
[null,"packaging",8.6099999999999996E-2,2.69E-9,1.8299999999999998E-8,8.7299999999999998E-10,-1.3000000000000001E-8,1.82E-3,2.4499999999999999E-5,1.56E-4,1.7899999999999999E-4,3.9199999999999997E-6,6.6199999999999996E-5,0.11600000000000001,-26.3,-9.3799999999999994E-2,1.1599999999999999,1.79E-6]
[null,"retail",0.38200000000000001,6.8199999999999999E-6,1.6800000000000002E-8,8.1899999999999996E-10,1.0800000000000001E-8,7.5399999999999998E-3,7.5299999999999998E-4,7.18E-4,2.6900000000000001E-3,2.4499999999999998E-6,2.4499999999999999E-4,0.27800000000000002,1.99,4.36E-2,1.7,2.8999999999999998E-7]
[null,"use ",{"$f":"0.616+0.104","v":0.72},{"$f":"0.0000000121+0.00000000863","v":2.0730000000000001E-8},{"$f":"0.00000006+0.0000000119","v":7.1900000000000002E-8},{"$f":"0.00000000271+0.0000000017","v":4.4099999999999995E-9},{"$f":"0.00000000799+0.0000000109","v":1.8889999999999999E-8},{"$f":"0.00753+0.0044","v":1.193E-2},{"$f":"0.000535+0.0005","v":1.0349999999999999E-3},{"$f":"0.0011+0.00152","v":2.6199999999999999E-3},{"$f":"0.0032+0.00627","v":9.470000000000001E-3},{"$f":"0.0000177+0.000863","v":8.807000000000001E-4},{"$f":"0.000377+0.0182","v":1.8577E-2},{"$f":"0.274+0.0654","v":0.33940000000000003},{"$f":"12.4+6.1","v":18.5},{"$f":"0.0167+1.62","v":1.6367},{"$f":"9.46+0.898","v":10.358000000000001},{"$f":"0.000000907+0.000000337","v":1.2439999999999999E-6}]
["COD TOTAL",null,{"$f":"SUM(C25:C29)","v":4.0661000000000005},{"$f":"SUM(D25:D29)","v":1.0875419999999999E-5},1.9040000000000001E-7,1.5572000000000002E-8,1.2688999999999999E-7,9.2490000000000003E-2,4.1322499999999998E-2,3.8264000000000006E-2,0.16699900000000001,9.312700000000001E-4,3.2976199999999997E-2,4.9153999999999991,3.0699999999999985,19.293500000000002,53.378,{"$f":"SUM(R25:R29)","v":4.6639999999999997E-6}]
["Fish","SALMON"]
[null,"agriculture ",6.47,9.9299999999999996E-8,4.9300000000000002E-6,5.6400000000000002E-8,3.7500000000000001E-7,9.1300000000000006E-2,1.6799999999999999E-2,4.1799999999999997E-2,0.17699999999999999,1.0999999999999999E-2,0.1,11,482,0.28899999999999998,36.5,1.37E-6]
[null,"processsing",0.29899999999999999,6.2300000000000001E-7,2.8200000000000001E-8,2.1700000000000002E-9,1.48E-8,2.92E-2,1.5900000000000001E-3,2.3500000000000001E-3,5.7600000000000004E-3,1.66E-5,5.22E-4,0.34499999999999997,3.78,5.5199999999999999E-2,5.13,5.51E-7]
[null,"packaging",8.0199999999999994E-2,5.0600000000000003E-9,4.4500000000000001E-9,5.1599999999999998E-10,1.62E-9,7.6E-3,1.44E-4,3.4699999999999998E-4,5.0500000000000002E-4,5.6099999999999997E-6,4.6699999999999997E-5,3.1300000000000001E-2,0.67700000000000005,1.5599999999999999E-2,1.24,1.06E-7]
[null,"retail",0.70499999999999996,1.43E-5,1.8699999999999999E-8,9.3600000000000008E-10,1.2100000000000001E-8,8.1600000000000006E-3,8.3100000000000003E-4,8.12E-4,2.96E-3,2.7599999999999998E-6,2.7E-4,0.30399999999999999,2.16,4.7699999999999999E-2,1.88,3.6300000000000001E-7]
[null,"use ",0.32300000000000001,2E-8,9.5900000000000005E-8,6.0799999999999997E-9,5.1200000000000002E-8,8.0300000000000007E-3,1.3699999999999999E-3,7.8300000000000002E-3,9.7900000000000001E-3,1.25E-3,2.1600000000000001E-2,0.96199999999999997,18.399999999999999,2.93,11.5,1.0100000000000001E-6]
["SALMON TOTAL",null,{"$f":"SUM(C32:C36)","v":7.8772000000000002},{"$f":"SUM(D32:D36)","v":1.504736E-5},5.0772500000000004E-6,6.6102000000000005E-8,4.5471999999999998E-7,0.14429000000000003,2.0734999999999996E-2,5.3138999999999992E-2,0.19601499999999997,1.2274969999999998E-2,0.12243870000000001,12.642300000000001,507.017,3.3375000000000004,56.250000000000007,3.4000000000000001E-6]
["Seafood","SHRIMP"]
[null,"agriculture ",6.61,1.5900000000000001E-7,1.17E-6,3.2800000000000003E-8,4.9800000000000004E-7,7.8700000000000006E-2,2.47E-2,4.4900000000000002E-2,0.122,1.0999999999999999E-2,9.4100000000000003E-2,6.1,347,0.59399999999999997,76.3,4.4000000000000002E-6]
[null,"processsing",1.1200000000000001,3.3299999999999999E-6,5.0799999999999998E-8,3.84E-9,6.4500000000000002E-8,1.8599999999999998E-2,4.1599999999999996E-3,6.9800000000000001E-3,1.54E-2,1.7900000000000001E-5,1.39E-3,0.49299999999999999,4.54,0.72599999999999998,12.2,6.5600000000000005E-7]
[null,"packaging",0.19900000000000001,6.4400000000000001E-9,3.2999999999999998E-8,1.09E-9,-1.02E-8,7.1700000000000002E-3,2.5399999999999999E-4,8.4500000000000005E-4,8.7799999999999998E-4,8.6400000000000003E-6,9.2800000000000006E-5,0.14299999999999999,-29.8,-8.1699999999999995E-2,2.6,2.03E-6]
[null,"retail",0.38600000000000001,6.8199999999999999E-6,1.74E-8,8.4699999999999997E-10,1.1199999999999999E-8,7.79E-3,7.8299999999999995E-4,7.4299999999999995E-4,2.8E-3,2.5000000000000002E-6,2.5500000000000002E-4,0.28899999999999998,2.0699999999999998,4.41E-2,1.76,2.9900000000000002E-7]
[null,"use ",{"$f":"0.142+0.0702","v":0.2122},{"$f":"0.0000000161+0.000000000524","v":1.6623999999999997E-8},{"$f":"0.0000000238+0.0000000016","v":2.5400000000000002E-8},{"$f":"0.00000000221+0.00000000031","v":2.52E-9},{"$f":"0.0000000104+0.000000000465","v":1.0865E-8},{"$f":"0.00909+0.000181","v":9.2710000000000015E-3},{"$f":"0.000555+0.0000488","v":6.0380000000000004E-4},{"$f":"0.00138+0.0000551","v":1.4350999999999999E-3},{"$f":"0.005+0.00021","v":5.2100000000000002E-3},{"$f":"0.000477+0.000000532","v":4.7753199999999997E-4},{"$f":"0.013+0.000118","v":1.3117999999999999E-2},{"$f":"0.412+0.0111","v":0.42309999999999998},{"$f":"5.71+0.105","v":5.8150000000000004},{"$f":"1.35+0.00347","v":1.3534700000000002},{"$f":"1.8+0.0464","v":1.8464},{"$f":"0.000000797+0.00000000234","v":7.9933999999999996E-7}]
["SHRIMP TOTAL",null,{"$f":"SUM(C39:C43)","v":8.5271999999999988},{"$f":"SUM(D39:D43)","v":1.0332063999999999E-5},1.2966E-6,4.1097000000000001E-8,5.7436499999999994E-7,0.121531,3.0500800000000002E-2,5.4903100000000003E-2,0.14628799999999997,1.1506572E-2,0.10895580000000002,7.4480999999999993,329.625,2.6358699999999997,94.706400000000002,8.18434E-6]
["Dairy","MILK"]
[null,"agriculture ",1.25,4.0499999999999999E-9,2.0600000000000002E-6,1.4300000000000001E-8,1.6E-7,6.6100000000000004E-3,1.07E-3,2.2599999999999999E-2,0.1,1.6799999999999999E-4,7.2500000000000004E-3,3.05,103,0.122,2.97,2E-8]
[null,"processsing",6.9199999999999998E-2,6.17E-9,3.7499999999999997E-9,5.4299999999999999E-10,1.4100000000000001E-9,4.8599999999999997E-3,1.8599999999999999E-4,3.39E-4,6.6600000000000003E-4,3.5599999999999998E-6,5.94E-5,2.3400000000000001E-2,0.61,0.245,1.29,9.4199999999999996E-8]
[null,"packaging",9.6100000000000005E-2,9.4699999999999998E-9,1.2299999999999999E-8,1.61E-9,3.72E-9,8.2000000000000007E-3,1.55E-4,5.0799999999999999E-4,7.9699999999999997E-4,1.08E-5,7.1500000000000003E-5,8.5199999999999998E-2,2.66,0.107,1.06,6.8899999999999999E-7]
[null,"retail",0.152,1.42E-6,1.51E-8,7.1100000000000003E-10,9.8000000000000001E-9,6.7200000000000003E-3,6.8999999999999997E-4,6.3400000000000001E-4,2.47E-3,1.9700000000000002E-6,2.2499999999999999E-4,0.25800000000000001,1.83,0.04,1.51,2.3200000000000001E-7]
[null,"use ",0.11899999999999999,1.5399999999999999E-8,1.8399999999999999E-8,2.2699999999999998E-9,7.0299999999999999E-9,7.5399999999999998E-3,3.8400000000000001E-4,7.4799999999999997E-4,2.1800000000000001E-3,4.8700000000000002E-4,3.8600000000000001E-3,0.246,6.35,1.57,1.59,7.8999999999999995E-7]
["MILK TOTAL",null,{"$f":"SUM(C46:C50)","v":1.6862999999999999},{"$f":"SUM(D46:D50)","v":1.45509E-6},2.1095500000000004E-6,1.9434000000000001E-8,1.8196000000000002E-7,3.3930000000000002E-2,2.4850000000000002E-3,2.4828999999999997E-2,0.10611300000000001,6.7133000000000004E-4,1.1465900000000001E-2,3.6625999999999999,114.44999999999999,2.0840000000000001,8.42,1.8251999999999999E-6]
["Dairy","CHEESE"]
[null,"agriculture ",11.6,3.7800000000000001E-8,1.9300000000000002E-5,1.3300000000000001E-7,1.5E-6,6.1699999999999998E-2,0.01,0.21099999999999999,0.93700000000000006,1.56E-3,6.7699999999999996E-2,28.5,962,1.1399999999999999,27.7,1.8699999999999999E-7]
[null,"processsing",2.25,4.6400000000000003E-7,2.6300000000000001E-7,7.8199999999999999E-9,4.88E-8,0.14299999999999999,4.2100000000000002E-3,8.3000000000000001E-3,1.7600000000000001E-2,4.0399999999999999E-5,1.33E-3,0.998,7.01,1.51,31.4,1.5099999999999999E-6]
[null,"packaging",0.11899999999999999,3.7399999999999999E-9,2.1600000000000002E-8,1.0500000000000001E-9,-1.4500000000000001E-8,2.5799999999999998E-3,5.6900000000000001E-5,2.32E-4,3.0800000000000001E-4,4.95E-6,8.5599999999999994E-5,0.14899999999999999,-30.1,-0.107,1.46,3.9099999999999999E-7]
[null,"retail",1.04,2.1299999999999999E-5,1.8399999999999999E-8,9.5000000000000003E-10,1.1900000000000001E-8,8.0499999999999999E-3,8.1400000000000005E-4,8.2799999999999996E-4,2.8999999999999998E-3,2.92E-6,2.6400000000000002E-4,0.29099999999999998,2.08,4.9599999999999998E-2,1.87,2.0700000000000001E-6]
[null,"use ",0.22900000000000001,3.2100000000000003E-8,4.29E-8,3.72E-9,1.7599999999999999E-8,1.12E-2,9.1699999999999995E-4,2.2100000000000002E-3,8.1600000000000006E-3,2.0500000000000002E-3,2.1399999999999999E-2,0.86299999999999999,7.2,1.67,2.5499999999999998,1.6500000000000001E-6]
["CHEESE TOTAL",null,{"$f":"SUM(C53:C57)","v":15.238},{"$f":"SUM(D53:D57)","v":2.1837639999999998E-5},1.9645900000000001E-5,1.4654000000000001E-7,1.5638000000000002E-6,0.22652999999999998,1.5997900000000002E-2,0.22256999999999999,0.96596799999999994,3.6582699999999999E-3,9.0779600000000002E-2,30.801000000000002,948.19,4.2625999999999991,64.97999999999999,5.8080000000000001E-6]
["Dairy","BUTTER"]
[null,"agriculture ",28,9.1199999999999996E-8,4.6499999999999999E-5,3.22E-7,3.6100000000000002E-6,0.14899999999999999,2.41E-2,0.50800000000000001,2.2599999999999998,3.7699999999999999E-3,0.16300000000000001,68.599999999999994,2320,2.75,66.8,4.4999999999999998E-7]
[null,"processsing",0.505,9.3800000000000006E-8,6.4000000000000004E-8,3.3099999999999999E-9,2.48E-8,4.2299999999999997E-2,1.9499999999999999E-3,2.6800000000000001E-3,7.2100000000000003E-3,1.95E-5,6.4300000000000002E-4,0.61399999999999999,5.34,0.49299999999999999,8.17,8.3500000000000005E-7]
[null,"packaging",0.20300000000000001,6.5799999999999994E-8,1.6899999999999999E-8,3.4900000000000001E-9,1.6899999999999999E-8,6.0400000000000002E-3,6.4099999999999997E-4,1.32E-3,2.2799999999999999E-3,1.01E-5,2.1499999999999999E-4,0.13300000000000001,5.23,0.124,3.07,3.8299999999999998E-6]
[null,"retail",1.03,2.1299999999999999E-5,1.6700000000000001E-8,8.7599999999999997E-10,1.0800000000000001E-8,7.4000000000000003E-3,7.27E-4,7.45E-4,2.5799999999999998E-3,2.8100000000000002E-6,2.3499999999999999E-4,0.26100000000000001,1.88,4.8300000000000003E-2,1.72,3.6800000000000001E-7]
[null,"use ",0.27200000000000002,3.8799999999999997E-8,2.88E-8,4.3899999999999999E-9,1.2299999999999999E-8,1.46E-2,7.6999999999999996E-4,1.06E-3,2.4499999999999999E-3,1.35E-4,8.9599999999999999E-4,0.46100000000000002,7.82,1.72,3.41,2.3E-6]
["BUTTER TOTAL",null,{"$f":"SUM(C60:C64)","v":30.009999999999998},{"$f":"SUM(D60:D64)","v":2.1589600000000001E-5},4.6626400000000005E-5,3.3406599999999997E-7,3.6748E-6,0.21933999999999998,2.8187999999999998E-2,0.51380499999999996,2.2745199999999999,3.9374099999999997E-3,0.16498900000000002,70.068999999999988,2340.2700000000004,5.1353,83.169999999999987,7.7829999999999999E-6]
["Eggs","EGGS"]
[null,"agriculture ",4.93,5.6799999999999999E-8,7.6699999999999994E-6,7.4900000000000002E-8,1.0499999999999999E-6,9.0800000000000006E-2,6.79E-3,0.13600000000000001,0.6,7.6499999999999995E-4,3.1300000000000001E-2,17.399999999999999,725,1.27,20.6,1.4700000000000001E-7]
[null,"processsing",0.106,1.08E-6,4.5200000000000001E-9,5.0400000000000002E-10,2.4899999999999999E-9,7.4000000000000003E-3,1.95E-4,3.4400000000000001E-4,6.8499999999999995E-4,4.9300000000000002E-6,6.2799999999999995E-5,3.1300000000000001E-2,0.67600000000000005,3.1600000000000003E-2,1.22,1.1899999999999999E-7]
[null,"packaging",0.10299999999999999,3.1899999999999999E-9,1.9099999999999999E-8,6.1099999999999996E-10,-7.61E-9,3.3800000000000002E-3,1.08E-4,4.06E-4,3.88E-4,4.6399999999999996E-6,4.9400000000000001E-5,8.1000000000000003E-2,-19.3,-6.2399999999999997E-2,1.37,1.2699999999999999E-6]
[null,"retail",0.1,8.5700000000000006E-8,1.5799999999999999E-8,7.2999999999999996E-10,1.02E-8,6.9199999999999999E-3,7.2199999999999999E-4,6.5499999999999998E-4,2.5899999999999999E-3,1.9300000000000002E-6,2.3599999999999999E-4,0.27100000000000002,1.92,3.9899999999999998E-2,1.56,2.3200000000000001E-7]
[null,"use ",{"$f":"0.535+0.0772","v":0.61220000000000008},{"$f":"0.0000000341+0.000000000576","v":3.4675999999999999E-8},{"$f":"0.00000003+0.00000000176","v":3.1759999999999995E-8},{"$f":"0.00000000421+0.00000000034","v":4.5500000000000002E-9},{"$f":"0.0000000151+0.000000000512","v":1.5612000000000001E-8},{"$f":"0.0355+0.0002","v":3.5699999999999996E-2},{"$f":"0.00125+0.0000537","v":1.3037000000000001E-3},{"$f":"0.00272+0.0000606","v":2.7806000000000003E-3},{"$f":"0.00707+0.000231","v":7.3010000000000002E-3},{"$f":"0.000881+0.000000585","v":8.8158499999999994E-4},{"$f":"0.0113+0.000129","v":1.1429E-2},{"$f":"0.207+0.0122","v":0.21919999999999998},{"$f":"7.91+0.115","v":8.0250000000000004},{"$f":"1.44+0.00382","v":1.4438199999999999},{"$f":"7.24+0.0511","v":7.2911000000000001},{"$f":"0.00000129+0.00000000257","v":1.2925699999999999E-6}]
["EGGS TOTAL",null,{"$f":"SUM(C67:C71)","v":5.8511999999999986},{"$f":"SUM(D67:D71)","v":1.2603660000000002E-6},7.7411799999999983E-6,8.1295000000000001E-8,1.0706919999999998E-6,0.14419999999999999,9.1186999999999987E-3,0.14018559999999999,0.61096400000000006,1.6580849999999999E-3,4.3077200000000003E-2,18.002500000000001,716.32100000000003,2.7229200000000002,32.0411,3.0605699999999996E-6]
["Legumes","BEANS"]
[null,"agriculture ",1.1499999999999999,1.7199999999999999E-8,9.9399999999999993E-7,3.8000000000000003E-8,4.1399999999999997E-7,5.0000000000000001E-3,8.9099999999999997E-4,5.8900000000000001E-2,0.26200000000000001,3.14E-3,3.5700000000000003E-2,1.56,421,0.79100000000000004,4.1900000000000004,1.08E-6]
[null,"processsing",7.5800000000000006E-2,1.09E-8,7.7099999999999992E-9,6.2000000000000003E-10,3.8099999999999999E-9,8.5400000000000007E-3,3.8999999999999999E-4,5.9599999999999996E-4,1.41E-3,5.0900000000000004E-6,1.2799999999999999E-4,8.9200000000000002E-2,1.04,1.61E-2,1.46,1.5800000000000001E-7]
[null,"packaging",8.5599999999999996E-2,3.6600000000000002E-9,3.9600000000000004E-9,5.6300000000000002E-10,3.24E-9,4.0299999999999997E-3,1.8699999999999999E-4,3.5799999999999997E-4,6.3500000000000004E-4,2.6199999999999999E-6,5.7899999999999998E-5,6.9199999999999998E-2,0.98599999999999999,4.7899999999999998E-2,0.94199999999999995,2.4900000000000002E-7]
[null,"retail",7.9899999999999999E-2,1.7800000000000001E-8,1.31E-8,6.1500000000000005E-10,8.3400000000000006E-9,5.7499999999999999E-3,5.8299999999999997E-4,5.3499999999999999E-4,2.0899999999999998E-3,1.7099999999999999E-6,1.9000000000000001E-4,0.223,1.47,3.7499999999999999E-2,1.28,2.0100000000000001E-7]
[null,"use ",1.1100000000000001,2.0400000000000001E-8,2.1299999999999999E-8,3.46E-9,1.81E-8,1.09E-2,1.9400000000000001E-3,2.97E-3,9.3399999999999993E-3,7.2300000000000001E-4,9.75E-3,0.17799999999999999,6.39,1.66,9.3699999999999992,1.06E-6]
["BEANS TOTAL",null,{"$f":"SUM(C74:C78)","v":2.5013000000000001},{"$f":"SUM(D74:D78)","v":6.9959999999999999E-8},1.0400699999999998E-6,4.3258000000000009E-8,4.4748999999999994E-7,3.422E-2,3.9909999999999998E-3,6.3358999999999999E-2,0.27547500000000003,3.8724200000000001E-3,4.582590000000001E-2,2.1194000000000002,430.88600000000002,2.5524999999999998,17.242000000000001,2.7480000000000002E-6]
["Legumes","TOFU"]
[null,"agriculture ",1.26,3E-10,1.6500000000000001E-6,1.8299999999999998E-8,7.3000000000000005E-8,4.75E-4,5.3899999999999998E-4,1.0200000000000001E-2,4.4499999999999998E-2,1.8200000000000001E-4,4.4099999999999999E-3,3.27,205,0.57599999999999996,1.17,1.6899999999999999E-8]
[null,"processsing",0.155,3.47E-8,2.25E-8,1.1100000000000001E-9,1.51E-8,1.03E-2,1.41E-3,1.6100000000000001E-3,5.1399999999999996E-3,2.3199999999999998E-6,4.6500000000000003E-4,0.38500000000000001,2.46,2.12E-2,2.39,3.2899999999999999E-7]
[null,"packaging",0.20699999999999999,7.4300000000000002E-9,2.6000000000000001E-8,1.21E-9,-4.3899999999999999E-9,8.2400000000000008E-3,3.28E-4,8.7600000000000004E-4,1.1299999999999999E-3,8.1100000000000003E-6,1.11E-4,0.155,-19.7,-1.72E-2,2.56,1.5999999999999999E-6]
[null,"retail",1.04,2.1299999999999999E-5,1.8299999999999998E-8,9.4499999999999994E-10,1.1900000000000001E-8,7.9900000000000006E-3,8.03E-4,8.0900000000000004E-4,2.8500000000000001E-3,2.9100000000000001E-6,2.5999999999999998E-4,0.28999999999999998,2.0699999999999998,4.9500000000000002E-2,1.86,3.9099999999999999E-7]
[null,"use ",0.28199999999999997,1.63E-8,9.9900000000000001E-8,5.7200000000000001E-9,4.5599999999999998E-8,7.2700000000000004E-3,1.1100000000000001E-3,6.94E-3,5.8199999999999997E-3,5.1000000000000004E-4,8.9899999999999997E-3,1.1399999999999999,18.2,2.86,11.3,8.54E-7]
["TOFU TOTAL",null,{"$f":"SUM(C81:C85)","v":2.944},{"$f":"SUM(D81:D85)","v":2.1358729999999998E-5},1.8167000000000003E-6,2.7284999999999999E-8,1.4120999999999998E-7,3.4275E-2,4.1900000000000001E-3,2.0435000000000002E-2,5.9439999999999993E-2,7.0534000000000005E-4,1.4235999999999999E-2,5.2399999999999993,208.03,3.4894999999999996,19.28,3.1909000000000002E-6]
["Cereal products","BREAD"]
[null,"agriculture ",0.249,3.6100000000000001E-9,1.79E-6,8.7099999999999999E-9,7.6000000000000006E-8,2.1099999999999999E-3,4.73E-4,1.06E-2,4.7100000000000003E-2,1.0399999999999999E-4,6.1700000000000001E-3,1.63,99.9,8.8800000000000007E-3,1.54,5.7299999999999997E-8]
[null,"processsing",0.48899999999999999,4.7600000000000003E-8,4.0800000000000001E-8,4.2100000000000001E-9,1.33E-8,6.4299999999999996E-2,1.3500000000000001E-3,2.8E-3,4.9399999999999999E-3,4.6199999999999998E-5,4.7899999999999999E-4,0.27200000000000002,6.64,0.13900000000000001,10.199999999999999,9.9999999999999995E-7]
[null,"packaging",2.4E-2,8.3300000000000002E-10,7.5999999999999996E-10,1.3200000000000001E-10,5.98E-10,1.1299999999999999E-3,5.77E-5,8.6899999999999998E-5,1.4799999999999999E-4,1.0100000000000001E-6,1.38E-5,1.23E-2,0.107,5.28E-3,0.51300000000000001,1.6400000000000001E-8]
[null,"retail",7.7499999999999999E-2,1.7199999999999999E-8,1.26E-8,5.9600000000000001E-10,8.0700000000000005E-9,5.5799999999999999E-3,5.6400000000000005E-4,5.1900000000000004E-4,2.0200000000000001E-3,1.6700000000000001E-6,1.84E-4,0.216,1.42,3.7199999999999997E-2,1.25,1.9500000000000001E-7]
[null,"use ",0.129,1.4300000000000001E-8,1.3399999999999999E-8,2.0099999999999999E-9,8.6100000000000007E-9,5.8799999999999998E-3,4.4700000000000002E-4,1.0200000000000001E-3,3.7000000000000002E-3,4.86E-4,9.2899999999999996E-3,0.14399999999999999,5.28,1.31,1.32,7.5300000000000003E-7]
["BREAD TOTAL",null,{"$f":"SUM(C88:C92)","v":0.96850000000000003},{"$f":"SUM(D88:D92)","v":8.3542999999999996E-8},1.8575600000000002E-6,1.5658E-8,1.0657800000000002E-7,7.9000000000000001E-2,2.8917000000000001E-3,1.50259E-2,5.7908000000000008E-2,6.3887999999999998E-4,1.61368E-2,2.2743000000000002,113.34700000000001,1.5003600000000001,14.822999999999999,2.0217000000000001E-6]
["Cereal products","PASTA"]
[null,"agriculture ",0.67700000000000005,8.7999999999999994E-8,2.3099999999999999E-7,9.3600000000000008E-9,1.29E-7,2.5700000000000001E-2,1.74E-3,1.72E-2,7.1400000000000005E-2,2.7999999999999998E-4,1.49E-2,0.93100000000000005,540,1.44,6.66,3.3900000000000002E-6]
[null,"processsing",0.51200000000000001,6.1999999999999999E-8,2.5799999999999999E-8,2.1200000000000001E-9,2.5300000000000002E-8,5.3199999999999997E-2,1.6000000000000001E-3,2.48E-3,5.62E-3,2.8899999999999999E-6,5.2300000000000003E-4,0.32500000000000001,1.31,5.1100000000000003,8.15,4.4700000000000002E-7]
[null,"packaging",3.5099999999999999E-2,-6.3600000000000004E-9,3.1399999999999999E-9,-1.57E-10,-2.6499999999999999E-8,-9.4799999999999995E-4,-2.9599999999999998E-4,-3.2600000000000001E-4,-1.01E-3,-7.0999999999999998E-7,-7.6500000000000003E-5,3.95E-2,-51.3,-0.16700000000000001,-3.73E-2,1.6700000000000001E-6]
[null,"retail",0.184,3.7300000000000003E-8,1.3599999999999999E-8,2.0700000000000001E-9,7.6899999999999997E-9,1.0800000000000001E-2,1.1900000000000001E-3,1.1800000000000001E-3,4.2399999999999998E-3,3.4199999999999999E-6,3.8400000000000001E-4,0.105,1.86,7.1,2.89,5.3399999999999999E-7]
[null,"use ",0.875,7.3099999999999999E-8,5.4499999999999998E-8,5.2300000000000003E-9,7.3900000000000007E-8,9.6000000000000002E-2,2.3900000000000002E-3,1.03E-2,7.8100000000000001E-3,6.3199999999999997E-4,6.1700000000000001E-3,0.877,6.16,3,18.8,8.47E-7]
["PASTA TOTAL",null,{"$f":"SUM(C95:C99)","v":2.2831000000000001},{"$f":"SUM(D95:D99)","v":2.5403999999999996E-7},3.2804000000000002E-7,1.8623000000000001E-8,2.0939E-7,0.184752,6.6239999999999997E-3,3.0834E-2,8.8059999999999999E-2,9.1759999999999997E-4,2.1900499999999996E-2,2.2774999999999999,498.03,16.483000000000001,36.462699999999998,6.888E-6]
["Cereal products","RICE"]
[null,"agriculture ",3.4,8.8199999999999996E-8,1.46E-8,1.1100000000000001E-9,1.04E-7,1.38E-2,2.2000000000000001E-3,1.41E-2,6.0900000000000003E-2,3.0800000000000001E-4,3.2000000000000002E-3,20.8,323,56.1,5.76,6.63E-6]
[null,"processsing",0.193,3.4599999999999999E-8,2.1299999999999999E-8,1.44E-9,1.27E-8,1.7399999999999999E-2,1.47E-3,2.0600000000000002E-3,5.4000000000000003E-3,8.1599999999999998E-6,4.8799999999999999E-4,0.3,2.56,3.27E-2,3.35,3.6800000000000001E-7]
[null,"packaging",8.7900000000000006E-2,2.9899999999999998E-9,1.29E-8,4.9700000000000004E-10,-3.24E-9,3.32E-3,1.25E-4,3.7199999999999999E-4,4.2999999999999999E-4,3.6399999999999999E-6,4.3999999999999999E-5,6.4500000000000002E-2,-10.9,-2.23E-2,1.1200000000000001,7.92E-7]
[null,"retail",8.14E-2,1.81E-8,1.33E-8,6.2600000000000001E-10,8.5099999999999998E-9,5.8399999999999997E-3,5.9500000000000004E-4,5.4600000000000004E-4,2.1299999999999999E-3,1.73E-6,1.94E-4,0.22800000000000001,1.5,3.7699999999999997E-2,1.31,2.05E-7]
[null,"use ",0.23100000000000001,1.37E-8,1.4899999999999999E-8,2.45E-9,6.6299999999999996E-9,6.6E-3,4.0299999999999998E-4,6.8400000000000004E-4,1.8699999999999999E-3,2.31E-4,2.65E-3,0.15,5.66,1.86,3.23,7.8299999999999996E-7]
["RICE TOTAL",null,{"$f":"SUM(C102:C106)","v":3.9932999999999996},{"$f":"SUM(D102:D106)","v":1.5759E-7},7.7000000000000001E-8,6.1229999999999996E-9,1.286E-7,4.6959999999999995E-2,4.7929999999999995E-3,1.7762000000000003E-2,7.0730000000000001E-2,5.5253000000000008E-4,6.5760000000000002E-3,21.5425,321.82000000000005,58.008099999999999,14.770000000000001,8.7779999999999996E-6]
["Vegetables","TOMATOES"]
[null,"agriculture ",0.13200000000000001,4.0199999999999998E-9,8.5999999999999993E-9,5.6700000000000001E-10,1.74E-8,4.3400000000000001E-3,2.61E-4,2.5100000000000001E-3,1.0200000000000001E-2,1.55E-4,4.5800000000000002E-4,2.86,8.4499999999999993,1.31,1.86,3.27E-7]
[null,"processsing",8.2299999999999998E-2,1.61E-6,2.4199999999999999E-9,1.6699999999999999E-10,1.37E-9,1.9599999999999999E-3,1.2E-4,1.6200000000000001E-4,4.2999999999999999E-4,1.0699999999999999E-6,3.9100000000000002E-5,3.1899999999999998E-2,0.29899999999999999,4.3899999999999998E-3,0.36799999999999999,5.3599999999999997E-8]
[null,"packaging",7.6799999999999993E-2,2.4E-9,1.63E-8,7.79E-10,-1.16E-8,1.6199999999999999E-3,2.19E-5,1.3899999999999999E-4,1.6000000000000001E-4,3.4999999999999999E-6,5.91E-5,0.10299999999999999,-23.4,-8.3699999999999997E-2,1.03,1.5999999999999999E-6]
[null,"retail",0.1,8.5800000000000001E-8,1.5799999999999999E-8,7.3299999999999995E-10,1.03E-8,6.94E-3,7.2599999999999997E-4,6.5799999999999995E-4,2.5999999999999999E-3,1.9400000000000001E-6,2.3699999999999999E-4,0.27300000000000002,1.92,3.9899999999999998E-2,1.56,2.3300000000000001E-7]
[null,"use ",0.10199999999999999,1.3000000000000001E-8,1.3799999999999999E-8,2.0500000000000002E-9,5.4000000000000004E-9,6.1399999999999996E-3,2.9999999999999997E-4,4.7399999999999997E-4,1.14E-3,1.3799999999999999E-4,7.7499999999999997E-4,0.14599999999999999,6.2,1.56,1.34,7.0100000000000004E-7]
["TOMATOES TOTAL",null,{"$f":"SUM(C109:C113)","v":0.49309999999999998},{"$f":"SUM(D109:D113)","v":1.71522E-6},5.6919999999999996E-8,4.2960000000000001E-9,2.2870000000000006E-8,2.0999999999999998E-2,1.4288999999999999E-3,3.9429999999999995E-3,1.4530000000000001E-2,2.9951000000000001E-4,1.5682000000000001E-3,3.4138999999999999,-6.5309999999999997,2.8305899999999999,6.1579999999999995,2.9146000000000004E-6]
["Tubers","POTATOES"]
[null,"agriculture ",9.5600000000000004E-2,3.8199999999999996E-9,7.8299999999999996E-7,7.0100000000000004E-9,2.6000000000000001E-8,3.13E-3,2.9300000000000002E-4,3.5699999999999998E-3,1.55E-2,8.7000000000000001E-5,1.8500000000000001E-3,0.97399999999999998,31.7,1.9800000000000002E-2,0.997,2.6100000000000002E-7]
[null,"processsing",0.14499999999999999,1.53E-6,5.0600000000000003E-9,5.8900000000000003E-10,1.9399999999999999E-9,7.8799999999999999E-3,1.65E-4,4.3800000000000002E-4,7.2599999999999997E-4,7.3799999999999996E-6,6.1400000000000002E-5,5.9700000000000003E-2,0.71599999999999997,1.67E-2,1.52,1.4500000000000001E-6]
[null,"packaging",5.1999999999999998E-2,1.4699999999999999E-8,4.25E-9,8.2900000000000003E-10,3.7900000000000004E-9,1.7600000000000001E-3,1.36E-4,3.0699999999999998E-4,5.2599999999999999E-4,2.7599999999999998E-6,4.9599999999999999E-5,3.6900000000000002E-2,1.2,3.7499999999999999E-2,0.67,8.6099999999999999E-7]
[null,"retail",0.108,6.5499999999999998E-7,1.3599999999999999E-8,6.4299999999999995E-10,8.6900000000000004E-9,6.0099999999999997E-3,6.0700000000000001E-4,5.6099999999999998E-4,2.1800000000000001E-3,1.81E-6,1.9799999999999999E-4,0.23100000000000001,1.55,3.8300000000000001E-2,1.34,2.1199999999999999E-7]
[null,"use ",{"$f":"0.437+0.0674","v":0.50439999999999996},{"$f":"0.0000000236+0.000000000503","v":2.4103000000000001E-8},{"$f":"0.0000000244+0.00000000154","v":2.5939999999999999E-8},{"$f":"0.00000000311+0.000000000297","v":3.4069999999999999E-9},{"$f":"0.00000000935+0.000000000446","v":9.7959999999999988E-9},{"$f":"0.0231+0.000174","v":2.3274E-2},{"$f":"0.000811+0.0000469","v":8.5789999999999998E-4},{"$f":"0.00154+0.0000529","v":1.5929E-3},{"$f":"0.00344+0.000202","v":3.6419999999999998E-3},{"$f":"0.000306+0.000000511","v":3.0651100000000003E-4},{"$f":"0.00312+0.000113","v":3.2329999999999998E-3},{"$f":"0.295+0.0106","v":0.30559999999999998},{"$f":"6.42+0.1","v":6.52},{"$f":"1.28+0.00333","v":1.2833300000000001},{"$f":"6.08+0.0446","v":6.1246},{"$f":"0.00000102+0.00000000224","v":1.02224E-6}]
["POTATOES TOTAL",null,{"$f":"SUM(C116:C120)","v":0.90499999999999992},{"$f":"SUM(D116:D120)","v":2.2276230000000001E-6},8.3184999999999992E-7,1.2478000000000001E-8,5.0215999999999998E-8,4.2053999999999994E-2,2.0588999999999998E-3,6.4688999999999997E-3,2.2574E-2,4.0546100000000003E-4,5.3919999999999992E-3,1.6072000000000002,41.685999999999993,1.3956300000000001,10.6516,3.8062399999999999E-6]
["Oils","SUNFLOWER OIL"]
[null,"agriculture ",5.2,2.35E-7,1.45E-5,3.7099999999999997E-7,2.7099999999999998E-7,8.1199999999999994E-2,1.0999999999999999E-2,3.1399999999999997E-2,0.13100000000000001,3.0999999999999999E-3,6.7199999999999996E-2,44.9,3220,2.39,34.799999999999997,1.8199999999999999E-5]
[null,"processsing",1.1000000000000001,8.1300000000000007E-9,6.7599999999999998E-9,1.0000000000000001E-9,1.27E-8,1.14E-2,4.4200000000000003E-3,2.2300000000000002E-3,7.3600000000000002E-3,2.7500000000000002E-4,1.1100000000000001E-3,8.1500000000000003E-2,0.43,3.3799999999999997E-2,7.26,1.01E-7]
[null,"packaging",0.152,1.28E-8,1.7500000000000001E-8,2.0599999999999999E-9,1.19E-9,1.2E-2,1.63E-4,6.5700000000000003E-4,9.7499999999999996E-4,1.26E-5,1.02E-4,0.126,-2.92,0.127,1.63,1.0699999999999999E-6]
[null,"retail",7.9699999999999993E-2,1.77E-8,1.3000000000000001E-8,6.1400000000000005E-10,8.3199999999999994E-9,5.7299999999999999E-3,5.8100000000000003E-4,5.3399999999999997E-4,2.0899999999999998E-3,1.7099999999999999E-6,1.9000000000000001E-4,0.223,1.47,3.7499999999999999E-2,1.28,1.9999999999999999E-7]
[null,"use ",{"$f":"0.283+0.227","v":0.51},{"$f":"0.0000000043+0.00000000169","v":5.9899999999999994E-9},{"$f":"0.00000000598+0.00000000518","v":1.1159999999999999E-8},{"$f":"0.00000000101+0.000000001","v":2.0100000000000003E-9},{"$f":"0.00000000297+0.0000000015","v":4.4699999999999997E-9},{"$f":"0.0031+0.000586","v":3.686E-3},{"$f":"0.000236+0.000158","v":3.9399999999999998E-4},{"$f":"0.000332+0.000178","v":5.1000000000000004E-4},{"$f":"0.000692+0.000679","v":1.371E-3},{"$f":"0.0000042+0.00000172","v":5.9199999999999992E-6},{"$f":"0.000092+0.00038","v":4.7200000000000003E-4},{"$f":"0.0524+0.0359","v":8.8300000000000003E-2},{"$f":"3.09+0.338","v":3.4279999999999999},{"$f":"0.8+0.0112","v":0.81120000000000003},{"$f":"4.31+0.15","v":4.46},{"$f":"0.000000316+0.00000000755","v":3.2355000000000001E-7}]
["SUNFLOWER OIL TOTAL",null,{"$f":"SUM(C123:C127)","v":7.0417000000000005},{"$f":"SUM(D123:D127)","v":2.7962000000000001E-7},1.4548419999999999E-5,3.7668400000000001E-7,2.9768E-7,0.11401599999999998,1.6558E-2,3.5331000000000001E-2,0.14279600000000003,3.3952299999999999E-3,6.9073999999999997E-2,45.41879999999999,3222.4079999999994,3.3994999999999997,49.43,1.9894550000000004E-5]
["Oils","OLIVE OIL"]
[null,"agriculture ",1.1200000000000001,8.7999999999999994E-8,2.23E-7,7.8000000000000004E-9,1.2700000000000001E-7,6.2399999999999997E-2,5.4999999999999997E-3,1.7299999999999999E-2,6.4799999999999996E-2,2.42E-4,1.01E-2,4.16,1160,26.3,15.8,6.8800000000000002E-6]
[null,"processsing",0.16300000000000001,1.7199999999999999E-8,1.11E-8,1.2199999999999999E-9,4.6500000000000003E-9,1.49E-2,4.6299999999999998E-4,8.5899999999999995E-4,1.57E-3,1.0200000000000001E-5,1.4300000000000001E-4,9.74E-2,1.64,0.223,3.23,2.6100000000000002E-7]
[null,"packaging",0.74,1.2200000000000001E-7,3.6799999999999999E-8,2.4E-9,2.1999999999999998E-9,5.6399999999999999E-2,9.9500000000000001E-4,1.48E-3,1.9E-3,1.1199999999999999E-5,2.9100000000000003E-4,0.30299999999999999,-11.7,-2.1499999999999998E-2,11.5,6.7499999999999997E-6]
[null,"retail",0.14000000000000001,3.1599999999999998E-8,2.3400000000000001E-8,1.07E-9,1.51E-8,9.7199999999999995E-3,1.0499999999999999E-3,9.4600000000000001E-4,3.7699999999999999E-3,2.5799999999999999E-6,3.4299999999999999E-4,0.40600000000000003,2.62,4.5400000000000003E-2,2.2200000000000002,3.5499999999999999E-7]
[null,"use ",0.13200000000000001,1.31E-8,1.3799999999999999E-8,2.0799999999999998E-9,5.3700000000000003E-9,6.3400000000000001E-3,3.1100000000000002E-4,4.57E-4,1.01E-3,8.7399999999999993E-6,1.4799999999999999E-4,0.157,6.25,1.56,1.86,7.3799999999999996E-7]
["OLIVE OIL TOTAL",null,{"$f":"SUM(C130:C134)","v":2.2950000000000004},{"$f":"SUM(D130:D134)","v":2.7189999999999999E-7},3.0810000000000001E-7,1.4570000000000001E-8,1.5432000000000002E-7,0.14976,8.319E-3,2.1041999999999995E-2,7.304999999999999E-2,2.7472E-4,1.1025E-2,5.1234000000000002,1158.81,28.1069,34.61,1.4983999999999999E-5]
["Fruits","APPLES"]
[null,"agriculture ",6.7599999999999993E-2,1.9800000000000002E-9,4.1400000000000002E-9,1.8999999999999999E-10,9.1800000000000001E-9,2.5899999999999999E-3,3.0899999999999998E-4,1.1199999999999999E-3,4.7200000000000002E-3,5.0699999999999997E-6,7.2400000000000003E-4,2.87,41.9,4.29,0.88800000000000001,1.24E-7]
[null,"processsing",0.66800000000000004,1.27E-5,1.26E-8,1.3500000000000001E-9,4.7099999999999997E-9,1.9699999999999999E-2,5.2700000000000002E-4,1.09E-3,1.8799999999999999E-3,1.3699999999999999E-5,1.7100000000000001E-4,8.09E-2,1.83,4.1799999999999997E-2,3.17,3.8700000000000001E-7]
[null,"packaging",4.4799999999999996E-3,1.41E-10,1.4600000000000001E-10,1.33E-11,1.09E-10,1.07E-4,6.2899999999999999E-6,1.1600000000000001E-5,2.2399999999999999E-5,9.5700000000000003E-8,2.08E-6,2.5000000000000001E-3,1.3899999999999999E-2,3.77E-4,2.8799999999999999E-2,1.21E-9]
[null,"retail",7.7399999999999997E-2,1.7199999999999999E-8,1.26E-8,5.9600000000000001E-10,8.0600000000000007E-9,5.5799999999999999E-3,5.6400000000000005E-4,5.1800000000000001E-4,2.0200000000000001E-3,1.6700000000000001E-6,1.84E-4,0.216,1.42,3.7199999999999997E-2,1.24,1.9399999999999999E-7]
[null,"use ",{"$f":"0.0956+0.0468","v":0.1424},{"$f":"0.000000012+0.000000000349","v":1.2349E-8},{"$f":"0.0000000125+0.00000000107","v":1.357E-8},{"$f":"0.00000000186+0.000000000206","v":2.0660000000000001E-9},{"$f":"0.00000000498+0.00000000031","v":5.2899999999999997E-9},{"$f":"0.00564+0.000121","v":5.7609999999999996E-3},{"$f":"0.000279+0.0000326","v":3.1159999999999998E-4},{"$f":"0.000433+0.0000367","v":4.6969999999999998E-4},{"$f":"0.00105+0.00014","v":1.1899999999999999E-3},{"$f":"0.0000445+0.000000355","v":4.4854999999999997E-5},{"$f":"0.000712+0.0000784","v":7.9039999999999991E-4},{"$f":"0.227+0.0074","v":0.2344},{"$f":"5.55+0.0697","v":5.6196999999999999},{"$f":"1.38+0.00231","v":1.3823099999999999},{"$f":"1.24+0.0309","v":1.2708999999999999},{"$f":"0.000000667+0.00000000156","v":6.6856E-7}]
["APPLES TOTAL",null,{"$f":"SUM(C137:C141)","v":0.95988000000000007},{"$f":"SUM(D137:D141)","v":1.2731670000000002E-5},4.3055999999999999E-8,4.2152999999999997E-9,2.7348999999999999E-8,3.3737999999999997E-2,1.7178900000000001E-3,3.2093E-3,9.8323999999999998E-3,6.539069999999999E-5,1.87148E-3,3.4038000000000004,50.7836,5.7516870000000004,6.5977000000000006,1.37477E-6]
["Fruits","ORANGES"]
[null,"agriculture ",0.21099999999999999,8.0299999999999998E-9,8.1899999999999992E-9,7.6299999999999995E-10,3.2100000000000003E-8,1.0699999999999999E-2,5.8399999999999999E-4,4.45E-3,1.8599999999999998E-2,6.9300000000000004E-5,3.1900000000000001E-3,5.19,53.3,7.21,2.81,2.1199999999999999E-7]
[null,"processsing",0.34,5.9399999999999999E-6,7.8299999999999996E-9,6.9999999999999996E-10,3.7600000000000003E-9,9.4400000000000005E-3,4.2499999999999998E-4,7.1500000000000003E-4,1.5299999999999999E-3,5.9100000000000002E-6,1.3899999999999999E-4,7.6799999999999993E-2,1.03,1.9900000000000001E-2,1.62,2.0100000000000001E-7]
[null,"packaging",7.2300000000000003E-2,2.2600000000000001E-9,1.5399999999999999E-8,7.3299999999999995E-10,-1.0999999999999999E-8,1.5299999999999999E-3,2.0599999999999999E-5,1.3100000000000001E-4,1.4999999999999999E-4,3.2899999999999998E-6,5.5600000000000003E-5,9.7100000000000006E-2,-22.1,-7.8799999999999995E-2,0.97299999999999998,1.5099999999999999E-6]
[null,"retail",8.3099999999999993E-2,1.85E-8,1.3599999999999999E-8,6.3899999999999996E-10,8.6900000000000004E-9,5.9500000000000004E-3,6.0700000000000001E-4,5.5699999999999999E-4,2.1800000000000001E-3,1.75E-6,1.9799999999999999E-4,0.23300000000000001,1.53,3.7900000000000003E-2,1.33,2.0900000000000001E-7]
[null,"use ",{"$f":"0.0941+0.0655","v":0.15960000000000002},{"$f":"0.0000000121+0.000000000489","v":1.2589000000000001E-8},{"$f":"0.0000000123+0.00000000149","v":1.379E-8},{"$f":"0.00000000184+0.000000000289","v":2.129E-9},{"$f":"0.00000000498+0.000000000434","v":5.4139999999999997E-9},{"$f":"0.00556+0.000169","v":5.7289999999999997E-3},{"$f":"0.000279+0.0000456","v":3.2459999999999998E-4},{"$f":"0.00044+0.0000514","v":4.9140000000000002E-4},{"$f":"0.00109+0.000196","v":1.286E-3},{"$f":"0.0000793+0.000000496","v":7.9796000000000006E-5},{"$f":"0.000876+0.00011","v":9.8600000000000011E-4},{"$f":"0.223+0.0104","v":0.2334},{"$f":"5.34+0.0975","v":5.4375},{"$f":"1.33+0.00324","v":1.33324},{"$f":"1.23+0.0433","v":1.2732999999999999},{"$f":"0.000000666+0.00000000218","v":6.6817999999999999E-7}]
["ORANGES TOTAL",null,{"$f":"SUM(C144:C148)","v":0.8660000000000001},{"$f":"SUM(D144:D148)","v":5.9813789999999992E-6},5.8810000000000002E-8,4.9639999999999998E-9,3.8964000000000004E-8,3.3348999999999997E-2,1.9611999999999997E-3,6.3444000000000009E-3,2.3746E-2,1.6004600000000001E-4,4.5685999999999999E-3,5.8303000000000003,39.197499999999998,8.52224,8.0062999999999995,2.8001800000000002E-6]
["Fruits","BANANAS"]
[null,"agriculture ",0.13900000000000001,1.9300000000000002E-9,6.24E-9,1.64E-10,2.9499999999999999E-8,9.1299999999999997E-4,2.02E-4,4.0899999999999999E-3,1.7999999999999999E-2,6.0800000000000001E-5,7.9199999999999995E-4,0.47399999999999998,40,4.05,0.97799999999999998,2.6899999999999999E-7]
[null,"processsing",0.47799999999999998,3.8500000000000004E-6,2.6499999999999999E-8,2.0000000000000001E-9,1.88E-8,2.0899999999999998E-2,2.5500000000000002E-3,3.6099999999999999E-3,9.11E-3,8.3499999999999997E-6,8.2200000000000003E-4,0.38800000000000001,3.17,0.41499999999999998,6.68,4.34E-7]
[null,"packaging",0.104,3.3499999999999998E-9,2.0899999999999999E-8,1.03E-9,-1.44E-8,2.3999999999999998E-3,4.3699999999999998E-5,2.0699999999999999E-4,2.5599999999999999E-4,4.6399999999999996E-6,7.9300000000000003E-5,0.13600000000000001,-29.4,-0.10100000000000001,1.38,2.03E-6]
[null,"retail",0.10299999999999999,8.6400000000000006E-8,1.6199999999999999E-8,7.5E-10,1.05E-8,7.0899999999999999E-3,7.4299999999999995E-4,6.7400000000000001E-4,2.66E-3,1.9700000000000002E-6,2.42E-4,0.27900000000000003,1.97,4.02E-2,1.6,2.3900000000000001E-7]
[null,"use ",{"$f":"0.0805+0.159","v":0.23949999999999999},{"$f":"0.000000011+0.00000000119","v":1.2189999999999999E-8},{"$f":"0.00000001+0.00000000363","v":1.363E-8},{"$f":"0.00000000154+0.000000000702","v":2.2419999999999999E-9},{"$f":"0.00000000431+0.00000000105","v":5.3600000000000005E-9},{"$f":"0.00343+0.000411","v":3.8409999999999998E-3},{"$f":"0.000245+0.000111","v":3.5599999999999998E-4},{"$f":"0.000374+0.000125","v":4.9899999999999999E-4},{"$f":"0.000977+0.000476","v":1.4530000000000001E-3},{"$f":"0.0000915+0.00000121","v":9.2709999999999998E-5},{"$f":"0.000952+0.000267","v":1.219E-3},{"$f":"0.126+0.0251","v":0.15110000000000001},{"$f":"3.95+0.237","v":4.1870000000000003},{"$f":"0.986+0.00786","v":0.99385999999999997},{"$f":"1.01+0.105","v":1.115},{"$f":"0.000000629+0.0000000053","v":6.3430000000000001E-7}]
["BANANAS TOTAL",null,{"$f":"SUM(C151:C155)","v":1.0634999999999999},{"$f":"SUM(D151:D155)","v":3.95387E-6},8.3469999999999992E-8,6.1859999999999999E-9,4.976000000000001E-8,3.5143999999999995E-2,3.8946999999999996E-3,9.0799999999999995E-3,3.1479E-2,1.6846999999999999E-4,3.1543000000000001E-3,1.4281000000000001,19.927000000000003,5.3980599999999992,11.753,3.6063000000000001E-6]
["Sugar","SUGAR"]
[null,"agriculture ",0.44900000000000001,1.89E-8,2.4600000000000002E-6,1.88E-8,2.22E-7,2E-3,7.2199999999999999E-4,3.1300000000000001E-2,0.14000000000000001,2.0900000000000001E-4,1.5699999999999999E-2,2.34,122,3.1800000000000002E-2,2.0699999999999998,1.5099999999999999E-6]
[null,"processsing",0.30099999999999999,1.62E-9,1.39E-9,1.8400000000000001E-10,5.0300000000000002E-9,2.3600000000000001E-3,8.7699999999999996E-4,8.3199999999999995E-4,3.4299999999999999E-3,8.6199999999999996E-7,3.1300000000000002E-4,2.8400000000000002E-2,1.21E-2,6.5199999999999994E-2,4.75,3.1499999999999998E-8]
[null,"packaging",0.02,1.39E-9,2.0500000000000002E-9,1.9100000000000001E-10,8.5199999999999995E-10,9.6000000000000002E-4,4.5899999999999998E-5,9.8099999999999999E-5,1.6000000000000001E-4,1.0499999999999999E-6,1.77E-5,1.18E-2,0.26800000000000002,6.0099999999999997E-3,0.29399999999999998,1.5800000000000001E-7]
[null,"retail",7.8200000000000006E-2,1.74E-8,1.28E-8,6.0199999999999999E-10,8.1500000000000002E-9,5.64E-3,5.6999999999999998E-4,5.2400000000000005E-4,2.0500000000000002E-3,1.68E-6,1.8599999999999999E-4,0.218,1.44,3.73E-2,1.26,1.97E-7]
[null,"use ",9.8599999999999993E-2,1.09E-8,1.09E-8,1.5300000000000001E-9,4.01E-9,4.6899999999999997E-3,2.41E-4,3.3199999999999999E-4,7.4600000000000003E-4,1.1E-5,1.02E-4,0.188,4,0.97799999999999998,1.06,6.1900000000000002E-7]
["SUGAR TOTAL",null,{"$f":"SUM(C158:C162)","v":0.94680000000000009},{"$f":"SUM(D158:D162)","v":5.0209999999999998E-8},2.4871400000000001E-6,2.1307000000000003E-8,2.4004200000000003E-7,1.5650000000000001E-2,2.4558999999999996E-3,3.3086099999999993E-2,0.14638599999999999,2.23592E-4,1.6318699999999998E-2,2.7862,127.7201,1.1183099999999999,9.4340000000000011,2.5154999999999999E-6]
["Confectionery","BISCUITS"]
[null,"agriculture ",1.4,9.5100000000000005E-9,2.65E-6,2.4100000000000001E-8,2.3200000000000001E-7,6.9300000000000004E-3,1.2099999999999999E-3,3.1899999999999998E-2,0.14199999999999999,2.4899999999999998E-4,1.52E-2,7.2,230,0.56299999999999994,3.62,4.2399999999999999E-7]
[null,"processsing",1.03,1.06E-7,4.1000000000000003E-8,4.5999999999999998E-9,2.0599999999999999E-8,6.83E-2,2.2000000000000001E-3,3.8E-3,7.3200000000000001E-3,8.7200000000000005E-5,7.5500000000000003E-4,0.32600000000000001,5.59,0.79300000000000004,16.100000000000001,9.8400000000000002E-7]
[null,"packaging",0.30399999999999999,1.35E-8,4.5900000000000001E-8,1.9000000000000001E-9,-1.2299999999999999E-8,1.8700000000000001E-2,4.2900000000000002E-4,1.39E-3,1.49E-3,1.7900000000000001E-5,1.5200000000000001E-4,0.185,-36.799999999999997,-9.3399999999999997E-2,4.6500000000000004,2.65E-6]
[null,"retail",8.9499999999999996E-2,2E-8,1.4699999999999999E-8,6.88E-10,9.4099999999999996E-9,6.3800000000000003E-3,6.5700000000000003E-4,6.0099999999999997E-4,2.3600000000000001E-3,1.8500000000000001E-6,2.1499999999999999E-4,0.252,1.65,3.8800000000000001E-2,1.43,2.2499999999999999E-7]
[null,"use ",0.128,1.35E-8,1.26E-8,1.9000000000000001E-9,7.8700000000000003E-9,5.6100000000000004E-3,4.1599999999999997E-4,9.1500000000000001E-4,2.3700000000000001E-3,3.6299999999999999E-4,8.0700000000000008E-3,0.14000000000000001,4.9800000000000004,1.24,1.26,7.1900000000000002E-7]
["BISCUITS TOTAL",null,{"$f":"SUM(C165:C169)","v":2.9514999999999998},{"$f":"SUM(D165:D169)","v":1.6250999999999999E-7},2.7642000000000001E-6,3.3187999999999993E-8,2.5757999999999995E-7,0.10592000000000001,4.9119999999999997E-3,3.8605999999999994E-2,0.15553999999999998,7.1894999999999999E-4,2.4392E-2,8.1029999999999998,205.42000000000002,2.5413999999999999,27.060000000000006,5.0020000000000006E-6]
["Confectionery","CHOCOLATE"]
[null,"agriculture ",0.16400000000000001,1.7299999999999999E-8,5.0299999999999999E-7,3.4299999999999999E-9,4.3200000000000003E-8,5.1599999999999997E-3,5.8900000000000001E-4,6.0600000000000003E-3,2.07E-2,5.0899999999999997E-5,2.32E-3,49.5,66.8,0.307,2.4,7.0500000000000003E-6]
[null,"processsing",0.96299999999999997,1.06E-7,5.2299999999999998E-8,5.0099999999999999E-9,4.9800000000000003E-8,6.0499999999999998E-2,5.11E-3,6.3899999999999998E-3,1.8599999999999998E-2,3.8500000000000001E-5,1.6900000000000001E-3,0.53400000000000003,6.64,0.52300000000000002,17.399999999999999,1.2100000000000001E-6]
[null,"packaging",0.39800000000000002,8.3700000000000002E-8,4.8300000000000002E-8,5.0099999999999999E-9,1.0600000000000001E-8,1.26E-2,9.4700000000000003E-4,2.2399999999999998E-3,3.3500000000000001E-3,1.91E-5,3.2600000000000001E-4,0.26900000000000002,-20,6.5600000000000006E-2,5.74,6.3099999999999997E-6]
[null,"retail",8.6699999999999999E-2,1.9300000000000001E-8,1.42E-8,6.6699999999999997E-10,9.1100000000000002E-9,6.1999999999999998E-3,6.3599999999999996E-4,5.8200000000000005E-4,2.2799999999999999E-3,1.81E-6,2.0799999999999999E-4,0.24399999999999999,1.6,3.8399999999999997E-2,1.39,2.1799999999999999E-7]
[null,"use ",0.14699999999999999,1.7100000000000001E-8,1.5300000000000001E-8,2.2999999999999999E-9,7.6799999999999999E-9,6.4799999999999996E-3,4.2499999999999998E-4,8.3299999999999997E-4,2.6199999999999999E-3,1.0200000000000001E-3,5.2700000000000004E-3,0.155,5.55,1.38,1.46,8.6600000000000005E-7]
["CHOCOLATE TOTAL",null,{"$f":"SUM(C172:C176)","v":1.7586999999999999},{"$f":"SUM(D172:D176)","v":2.4339999999999997E-7},6.3310000000000002E-7,1.6417000000000001E-8,1.2039000000000001E-7,9.0939999999999993E-2,7.7070000000000003E-3,1.6104999999999998E-2,4.7549999999999995E-2,1.13031E-3,9.8139999999999998E-3,50.701999999999998,60.589999999999996,2.3140000000000001,28.39,1.5654000000000003E-5]
["Nuts","ALMONDS"]
[null,"agriculture ",4.26,1.91E-7,6.1599999999999996E-8,6.3600000000000004E-9,6.8700000000000005E-7,7.5800000000000006E-2,1.8599999999999998E-2,8.3500000000000005E-2,0.371,4.4299999999999999E-3,1.9199999999999998E-2,36.6,1150,326,44,1.43E-5]
[null,"processsing",0.26800000000000002,4.8400000000000003E-8,2.7800000000000001E-8,1.9599999999999998E-9,1.74E-8,2.3699999999999999E-2,2.1700000000000001E-3,3.1099999999999999E-3,7.9699999999999997E-3,1.08E-5,7.2000000000000005E-4,0.38500000000000001,3.31,4.4299999999999999E-2,4.5999999999999996,4.75E-7]
[null,"packaging",8.5599999999999996E-2,3.6600000000000002E-9,3.9600000000000004E-9,5.6300000000000002E-10,3.24E-9,4.0299999999999997E-3,1.8699999999999999E-4,3.5799999999999997E-4,6.3500000000000004E-4,2.6199999999999999E-6,5.7899999999999998E-5,6.9199999999999998E-2,0.98599999999999999,4.7899999999999998E-2,0.94199999999999995,2.4900000000000002E-7]
[null,"retail",7.9899999999999999E-2,1.7800000000000001E-8,1.31E-8,6.1500000000000005E-10,8.3400000000000006E-9,5.7499999999999999E-3,5.8299999999999997E-4,5.3499999999999999E-4,2.0899999999999998E-3,1.7099999999999999E-6,1.9000000000000001E-4,0.223,1.47,3.7499999999999999E-2,1.28,2.0100000000000001E-7]
[null,"use ",0.23100000000000001,2.6000000000000001E-8,4.7699999999999997E-8,3.29E-9,1.7599999999999999E-8,8.7600000000000004E-3,8.9700000000000001E-4,2.3500000000000001E-3,9.11E-3,2.47E-3,2.5399999999999999E-2,0.95799999999999996,7.34,1.79,1.99,1.22E-6]
["ALMONDS TOTAL",null,{"$f":"SUM(C179:C183)","v":4.9245000000000001},2.8686000000000002E-7,1.5416E-7,1.2788E-8,7.3358000000000014E-7,0.11804000000000002,2.2436999999999995E-2,8.9853000000000002E-2,0.39080499999999996,6.9151300000000002E-3,4.5567899999999995E-2,38.235199999999999,1163.106,327.91970000000009,52.812000000000005,1.6444999999999999E-5]
["Drinks","COFFEE"]
[null,"agriculture ",2.68,4.2699999999999999E-8,6.9899999999999997E-8,3.77E-9,5.44E-7,2.18E-2,6.2100000000000002E-3,7.3200000000000001E-2,0.32400000000000001,3.77E-4,5.7799999999999997E-2,111,984,0.126,20.7,5.2800000000000003E-6]
[null,"processsing",6.63,6.2600000000000002E-7,4.8100000000000003E-7,5.6099999999999999E-8,1.4499999999999999E-7,0.876,1.66E-2,3.8899999999999997E-2,5.8700000000000002E-2,6.1799999999999995E-4,5.3200000000000001E-3,2.6,77.7,1.84,141,1.2999999999999999E-5]
[null,"packaging",0.47299999999999998,1.08E-7,2.5600000000000001E-8,4.01E-9,1.6099999999999999E-8,2.0299999999999999E-2,9.6100000000000005E-4,1.75E-3,2.7599999999999999E-3,1.31E-5,3.0600000000000001E-4,0.23100000000000001,0.77100000000000002,8.7300000000000003E-2,7.18,4.6399999999999996E-6]
[null,"retail",0.10199999999999999,2.2799999999999999E-8,1.6800000000000002E-8,7.8299999999999998E-10,1.0800000000000001E-8,7.1999999999999998E-3,7.54E-4,6.8499999999999995E-4,2.7100000000000002E-3,2.03E-6,2.4600000000000002E-4,0.28999999999999998,1.89,4.0399999999999998E-2,1.62,2.5699999999999999E-7]
[null,"use ",{"$f":"5.17+0.277","v":5.4470000000000001},{"$f":"0.000000449+0.00000000207","v":4.5107000000000003E-7},{"$f":"0.000000453+0.00000000633","v":4.5932999999999997E-7},{"$f":"0.0000000596+0.00000000122","v":6.0819999999999998E-8},{"$f":"0.000000121+0.00000000184","v":1.2284000000000001E-7},{"$f":"0.687+0.000717","v":0.68771700000000002},{"$f":"0.0113+0.000193","v":1.1493E-2},{"$f":"0.0282+0.000218","v":2.8417999999999999E-2},{"$f":"0.0406+0.00083","v":4.1429999999999995E-2},{"$f":"0.00106+0.0000021","v":1.0621000000000001E-3},{"$f":"0.00742+0.000465","v":7.8849999999999996E-3},{"$f":"2.11+0.0438","v":2.1537999999999999},{"$f":"138+0.413","v":138.41300000000001},{"$f":"24.9+0.0137","v":24.913699999999999},{"$f":"106+0.183","v":106.18300000000001},{"$f":"0.0000125+0.00000000923","v":1.2509230000000001E-5}]
["COFFEE TOTAL",null,{"$f":"SUM(C186:C190)","v":15.332000000000001},{"$f":"SUM(D186:D190)","v":1.25057E-6},1.0526299999999999E-6,1.2548299999999999E-7,8.3873999999999995E-7,1.6130170000000001,3.6018000000000001E-2,0.142953,0.42959999999999998,2.0722300000000004E-3,7.1556999999999996E-2,116.2748,1202.7740000000001,27.007399999999997,276.68299999999999,3.5686229999999999E-5]
["Drinks","TEA"]
[null,"agriculture ",1.79,4.0000000000000001E-8,2.96E-8,1.97E-9,4.8699999999999995E-7,1.6899999999999998E-2,3.0699999999999998E-3,6.7400000000000002E-2,0.29899999999999999,2.0899999999999998E-2,1.49E-2,0.51300000000000001,753,1.55,16.399999999999999,1.48E-6]
[null,"processsing",3.4,4.51E-7,2.7300000000000001E-6,4.8E-8,1.3599999999999999E-6,0.33500000000000002,2.8199999999999999E-2,2.8799999999999999E-2,8.9700000000000002E-2,2.23E-4,7.9699999999999997E-3,3.92,1370,0.70499999999999996,60,6.4400000000000002E-6]
[null,"packaging",1.0900000000000001,5.0099999999999999E-8,5.7199999999999999E-7,9.4400000000000005E-9,-6.6399999999999999E-8,9.4799999999999995E-2,1.72E-3,4.4400000000000004E-3,6.43E-3,5.6400000000000002E-5,8.3500000000000002E-4,1.28,-44,9.3399999999999997E-2,15.1,2.1500000000000001E-5]
[null,"retail",0.15,3.3799999999999998E-8,2.51E-8,1.15E-9,1.6199999999999999E-8,1.04E-2,1.1299999999999999E-3,1.01E-3,4.0400000000000002E-3,2.7199999999999998E-6,3.68E-4,0.435,2.8,4.6600000000000003E-2,2.37,3.8000000000000001E-7]
[null,"use ",{"$f":"6.46+0.468","v":6.9279999999999999},{"$f":"0.000000233+0.00000000349","v":2.3649000000000002E-7},{"$f":"0.000000514+0.0000000107","v":5.2469999999999993E-7},{"$f":"0.0000000764+0.00000000206","v":7.8460000000000002E-8},{"$f":"0.000000173+0.0000000031","v":1.761E-7},{"$f":"0.21+0.00121","v":0.21120999999999998},{"$f":"0.00954+0.000326","v":9.8659999999999998E-3},{"$f":"0.0159+0.000367","v":1.6267E-2},{"$f":"0.0338+0.0014","v":3.5199999999999995E-2},{"$f":"0.000742+0.00000355","v":7.4554999999999999E-4},{"$f":"0.00602+0.000784","v":6.8040000000000002E-3},{"$f":"2.94+0.074","v":3.0139999999999998},{"$f":"315+0.697","v":315.697},{"$f":"89.2+0.0231","v":89.223100000000002},{"$f":"92.5+0.309","v":92.808999999999997},{"$f":"0.0000105+0.0000000156","v":1.05156E-5}]
["TEA TOTAL",null,{"$f":"SUM(C193:C197)","v":13.358000000000001},{"$f":"SUM(D193:D197)","v":8.1139000000000001E-7},3.8814000000000006E-6,1.3901999999999998E-7,1.9728999999999998E-6,0.66830999999999996,4.3985999999999997E-2,0.11791700000000001,0.43436999999999998,2.1927670000000003E-2,3.0877000000000002E-2,9.161999999999999,2397.4970000000003,91.618099999999998,186.679,4.0315599999999997E-5]
["Drinks","BEER"]
[null,"agriculture ",0.107,3.6E-9,8.7599999999999996E-7,4.2199999999999999E-9,3.6300000000000001E-8,8.6899999999999998E-4,2.0799999999999999E-4,5.0499999999999998E-3,2.2499999999999999E-2,4.7700000000000001E-5,2.9099999999999998E-3,0.79700000000000004,46.4,2.7799999999999999E-3,0.64800000000000002,2.7700000000000001E-7]
[null,"processsing",0.29399999999999998,4.3299999999999997E-8,1.3000000000000001E-8,1.8E-9,4.8399999999999998E-9,1.83E-2,6.1300000000000005E-4,1.1199999999999999E-3,1.7899999999999999E-3,1.08E-4,3.2200000000000002E-4,8.5699999999999998E-2,1.97,0.80900000000000005,6.04,3.27E-7]
[null,"packaging",0.47099999999999997,7.7299999999999997E-8,1.48E-8,1.25E-9,6.5400000000000002E-10,2.1600000000000001E-2,6.0300000000000002E-4,8.4800000000000001E-4,3.1199999999999999E-3,5.8799999999999996E-6,1.75E-4,0.17599999999999999,-6.62,-5.1799999999999999E-2,7.13,1.24E-6]
[null,"retail",0.11700000000000001,2.62E-8,1.9399999999999998E-8,8.9600000000000001E-10,1.2499999999999999E-8,8.1799999999999998E-3,8.6899999999999998E-4,7.8600000000000002E-4,1.0499999999999999E-3,2.2400000000000002E-6,2.8400000000000002E-4,0.33500000000000002,2.17,4.2299999999999997E-2,1.85,2.9499999999999998E-7]
[null,"use ",0.42,1.1900000000000001E-8,1.4100000000000001E-8,1.9399999999999999E-9,4.8600000000000002E-9,7.7600000000000004E-3,2.8400000000000002E-4,4.8700000000000002E-4,1.0399999999999999E-3,8.0199999999999998E-5,4.5100000000000001E-4,0.152,6.09,1.5,1.51,5.8999999999999996E-7]
["BEER TOTAL",null,{"$f":"SUM(C200:C204)","v":1.4089999999999998},{"$f":"SUM(D200:D204)","v":1.6229999999999999E-7},9.372999999999999E-7,1.0106E-8,5.9154000000000001E-8,5.6709000000000002E-2,2.5769999999999999E-3,8.2909999999999998E-3,2.9499999999999998E-2,2.4401999999999998E-4,4.1419999999999998E-3,1.5456999999999999,50.010000000000005,2.3022800000000001,17.178000000000001,2.729E-6]
["Drinks","WINE"]
[null,"agriculture ",0.48399999999999999,4.4899999999999998E-8,1.9400000000000001E-6,5.7100000000000002E-8,3.99E-8,1.7500000000000002E-2,2.7000000000000001E-3,5.8999999999999999E-3,2.3099999999999999E-2,9.5600000000000006E-5,5.4900000000000001E-3,38.9,219,68.599999999999994,6.02,6.3600000000000001E-6]
[null,"processsing",0.57199999999999995,4.6100000000000003E-8,3.33E-8,4.2100000000000001E-9,1.3599999999999999E-8,6.3399999999999998E-2,1.8E-3,3.16E-3,5.62E-3,3.6600000000000002E-5,5.5900000000000004E-4,0.189,5.55,0.20100000000000001,9.36,1.13E-6]
[null,"packaging",0.48199999999999998,7.2899999999999998E-8,2.0999999999999999E-8,8.8800000000000004E-10,-5.3700000000000001E-10,2.3199999999999998E-2,6.6299999999999996E-4,8.1400000000000005E-4,1.2700000000000001E-3,5.2299999999999999E-6,1.9799999999999999E-4,0.29699999999999999,-9.4,-7.7399999999999997E-2,7.23,7.6499999999999998E-7]
[null,"retail",0.183,4.0499999999999999E-8,2.4599999999999999E-8,1.2799999999999999E-9,1.6700000000000001E-8,1.21E-2,1.7700000000000001E-3,2.1700000000000001E-3,6.4799999999999996E-3,2.7499999999999999E-6,5.8600000000000004E-4,0.41499999999999998,2.67,2.3E-2,2.81,3.5600000000000001E-7]
[null,"use ",4.58E-2,9.3999999999999998E-9,3.4299999999999999E-9,6.3099999999999999E-10,1.74E-9,2.5300000000000001E-3,8.81E-5,1.7900000000000001E-5,2.34E-4,5.5999999999999999E-5,1.8599999999999999E-4,0.11,4.92,1.41,0.51400000000000001,-1.8E-7]
["WINE TOTAL",null,{"$f":"SUM(C207:C211)","v":1.7668000000000001},{"$f":"SUM(D207:D211)","v":2.138E-7},2.0223300000000001E-6,6.4108999999999995E-8,7.1402999999999994E-8,0.11873,7.0211000000000006E-3,1.20619E-2,3.6704000000000001E-2,1.9618000000000004E-4,7.0190000000000009E-3,39.910999999999994,222.73999999999998,70.156599999999983,25.933999999999997,8.4309999999999994E-6]
["Drinks","MINERAL WATER"]
[null,"agriculture ",0,0,0,0,0,0,0,0,0,0,0,0,0,0,0,0]
[null,"processsing",3.9399999999999998E-2,1.62E-9,2.0299999999999998E-9,3.6499999999999998E-10,1.5799999999999999E-9,1.9499999999999999E-3,1.3899999999999999E-4,1.92E-4,3.3300000000000002E-4,1.37E-6,3.1900000000000003E-5,2.3400000000000001E-2,0.57699999999999996,6.5199999999999994E-2,1.1000000000000001,1.03E-7]
[null,"packaging",3.8199999999999998E-2,3.6399999999999998E-9,3.72E-9,2.6700000000000001E-10,1.2199999999999999E-10,4.5199999999999997E-3,2.3499999999999999E-5,1.3999999999999999E-4,2.2699999999999999E-4,3.3400000000000002E-6,2.1699999999999999E-5,6.0600000000000001E-2,0.58199999999999996,5.8599999999999998E-3,7.7299999999999994E-2,1.05E-7]
[null,"retail",7.9699999999999993E-2,1.77E-8,1.3000000000000001E-8,6.1299999999999995E-10,8.3099999999999996E-9,5.7299999999999999E-3,5.8100000000000003E-4,5.3399999999999997E-4,2.0899999999999998E-3,1.7099999999999999E-6,1.9000000000000001E-4,0.223,1.47,3.7499999999999999E-2,1.28,1.9999999999999999E-7]
[null,"use ",8.2100000000000006E-2,9.5100000000000005E-9,1.2E-8,1.75E-9,4.32E-9,5.2100000000000002E-3,2.32E-4,3.6099999999999999E-4,7.9600000000000005E-4,7.8299999999999996E-6,1.2799999999999999E-4,0.113,6.12,1.56,1.1000000000000001,4.9800000000000004E-7]
["MINERAL WATER TOTAL",null,{"$f":"SUM(C214:C218)","v":0.2394},{"$f":"SUM(D214:D218)","v":3.2469999999999999E-8},3.0750000000000001E-8,2.9949999999999997E-9,1.4331999999999999E-8,1.7409999999999998E-2,9.7550000000000002E-4,1.227E-3,3.4459999999999994E-3,1.4250000000000001E-5,3.7160000000000003E-4,0.42,8.7489999999999988,1.66856,3.5573000000000001,9.0600000000000009E-7]
["Pre-prepared","MEAT BASED DISHES"]
[null,"agriculture ",3.57,1.35E-7,1.4100000000000001E-6,3.8799999999999997E-8,3.6199999999999999E-7,0.10100000000000001,8.9099999999999995E-3,4.3799999999999999E-2,0.16600000000000001,6.9899999999999997E-4,1.2999999999999999E-2,14.4,364,0.69399999999999995,27,4.5700000000000003E-6]
[null,"processsing",1.1499999999999999,1.5800000000000001E-7,5.76E-8,8.0399999999999995E-9,2.3400000000000001E-8,0.105,2.2399999999999998E-3,4.7699999999999999E-3,8.0400000000000003E-3,6.4900000000000005E-5,6.7599999999999995E-4,0.318,9.1300000000000008,2.84,20,1.3999999999999999E-6]
[null,"packaging",0.22,1.5399999999999999E-8,2.2300000000000001E-8,2.7400000000000001E-9,2.03E-10,1.09E-2,1.5300000000000001E-4,7.8899999999999999E-4,1.2199999999999999E-3,1.42E-5,1.3200000000000001E-4,0.219,-9.2899999999999991,0.17699999999999999,1.35,1.61E-6]
[null,"retail",0.40699999999999997,2.6800000000000002E-6,3.0899999999999999E-8,2.5399999999999999E-9,1.4300000000000001E-8,3.5900000000000001E-2,1.17E-3,1.8E-3,4.1700000000000001E-3,2.27E-5,3.8099999999999999E-4,0.34,4.4400000000000004,9.5399999999999999E-2,5.98,6.7299999999999995E-7]
[null,"use ",0.78900000000000003,7.7599999999999993E-8,6.3399999999999999E-8,8.5400000000000007E-9,2.3800000000000001E-8,9.6199999999999994E-2,1.98E-3,4.8199999999999996E-3,9.7199999999999995E-3,7.3899999999999994E-5,1.37E-2,0.46800000000000003,14,1.74,15.4,2.83E-6]
["MEAT BASED DISHES TOTAL",null,{"$f":"SUM(C221:C225)","v":6.1359999999999992},{"$f":"SUM(D221:D225)","v":3.066E-6},1.5842E-6,6.0660000000000002E-8,4.2370299999999999E-7,0.34900000000000003,1.4453000000000001E-2,5.5979000000000001E-2,0.18915000000000001,8.7469999999999996E-4,2.7888999999999997E-2,15.744999999999999,382.28,5.5464000000000002,69.73,1.1083E-5]
[]
[]
[null,"AVERAGE BASKET"]
[null,"agriculture ",{"$f":"Calculation_original!E303/Calculation_original!$C$303","v":2.298353433412029},{"$f":"Calculation_original!F303/Calculation_original!$C$303","v":2.8650795474573066E-8},{"$f":"Calculation_original!G303/Calculation_original!$C$303","v":2.4429006123493744E-6},{"$f":"Calculation_original!H303/Calculation_original!$C$303","v":3.1579683432237522E-8},{"$f":"Calculation_original!I303/Calculation_original!$C$303","v":3.1159421840773302E-7},{"$f":"Calculation_original!J303/Calculation_original!$C$303","v":1.6273552608408817E-2},{"$f":"Calculation_original!K303/Calculation_original!$C$303","v":3.3620588955306551E-3},{"$f":"Calculation_original!L303/Calculation_original!$C$303","v":4.2516060336051945E-2},{"$f":"Calculation_original!M303/Calculation_original!$C$303","v":0.18779113485589671},{"$f":"Calculation_original!N303/Calculation_original!$C$303","v":5.3097542668975747E-4},{"$f":"Calculation_original!O303/Calculation_original!$C$303","v":1.6324043268332568E-2},{"$f":"Calculation_original!P303/Calculation_original!$C$303","v":8.5262270974507128},{"$f":"Calculation_original!Q303/Calculation_original!$C$303","v":313.4364890239907},{"$f":"Calculation_original!R303/Calculation_original!$C$303","v":4.9628258151792339},{"$f":"Calculation_original!S303/Calculation_original!$C$303","v":7.8687752282026624},{"$f":"Calculation_original!T303/Calculation_original!$C$303","v":9.4126154181774851E-7}]
[null,"processsing",{"$f":"Calculation_original!E304/Calculation_original!$C304","v":0.36107378630284387},{"$f":"Calculation_original!F304/Calculation_original!$C304","v":1.0018982408378148E-6},{"$f":"Calculation_original!G304/Calculation_original!$C304","v":2.3734749107116028E-8},{"$f":"Calculation_original!H304/Calculation_original!$C304","v":1.8539715606945998E-9},{"$f":"Calculation_original!I304/Calculation_original!$C304","v":1.0178373377173109E-8},{"$f":"Calculation_original!J304/Calculation_original!$C304","v":2.6106032572242088E-2},{"$f":"Calculation_original!K304/Calculation_original!$C304","v":9.4717580478453553E-4},{"$f":"Calculation_original!L304/Calculation_original!$C304","v":1.5991133844939841E-3},{"$f":"Calculation_original!M304/Calculation_original!$C304","v":3.4523729314672588E-3},{"$f":"Calculation_original!N304/Calculation_original!$C304","v":2.7248842082088589E-5},{"$f":"Calculation_original!O304/Calculation_original!$C304","v":3.208568216060781E-4},{"$f":"Calculation_original!P304/Calculation_original!$C304","v":0.15699014784549778},{"$f":"Calculation_original!Q304/Calculation_original!$C304","v":3.7055824955989416},{"$f":"Calculation_original!R304/Calculation_original!$C304","v":0.3265168076897767},{"$f":"Calculation_original!S304/Calculation_original!$C304","v":5.513683082650525},{"$f":"Calculation_original!T304/Calculation_original!$C304","v":5.4078537338831798E-7}]
[null,"packaging",{"$f":"Calculation_original!E305/Calculation_original!$C305","v":0.1797022568333608},{"$f":"Calculation_original!F305/Calculation_original!$C305","v":1.7661934985067989E-8},{"$f":"Calculation_original!G305/Calculation_original!$C305","v":9.9738872333957555E-9},{"$f":"Calculation_original!H305/Calculation_original!$C305","v":7.989363157215768E-10},{"$f":"Calculation_original!I305/Calculation_original!$C305","v":-5.4785689118311634E-10},{"$f":"Calculation_original!J305/Calculation_original!$C305","v":6.7932243202884325E-3},{"$f":"Calculation_original!K305/Calculation_original!$C305","v":1.7818452620594813E-4},{"$f":"Calculation_original!L305/Calculation_original!$C305","v":3.7219591330860742E-4},{"$f":"Calculation_original!M305/Calculation_original!$C305","v":7.4611779667744539E-4},{"$f":"Calculation_original!N305/Calculation_original!$C305","v":4.5896368561532638E-6},{"$f":"Calculation_original!O305/Calculation_original!$C305","v":6.7714199750118067E-5},{"$f":"Calculation_original!P305/Calculation_original!$C305","v":8.6949183887218368E-2},{"$f":"Calculation_original!Q305/Calculation_original!$C305","v":-5.0765278810736056},{"$f":"Calculation_original!R305/Calculation_original!$C305","v":2.7271796017758556E-4},{"$f":"Calculation_original!S305/Calculation_original!$C305","v":1.7586155323594921},{"$f":"Calculation_original!T305/Calculation_original!$C305","v":7.7768746405359901E-7}]
[null,"retail",{"$f":"Calculation_original!E306/Calculation_original!$C306","v":0.21157894493100479},{"$f":"Calculation_original!F306/Calculation_original!$C306","v":3.7164187497155517E-6},{"$f":"Calculation_original!G306/Calculation_original!$C306","v":1.5639378928267738E-8},{"$f":"Calculation_original!H306/Calculation_original!$C306","v":7.8239978856082671E-10},{"$f":"Calculation_original!I306/Calculation_original!$C306","v":1.006088785446974E-8},{"$f":"Calculation_original!J306/Calculation_original!$C306","v":7.0491686734437146E-3},{"$f":"Calculation_original!K306/Calculation_original!$C306","v":7.298442552257778E-4},{"$f":"Calculation_original!L306/Calculation_original!$C306","v":7.1088443894495965E-4},{"$f":"Calculation_original!M306/Calculation_original!$C306","v":2.4063716189099849E-3},{"$f":"Calculation_original!N306/Calculation_original!$C306","v":2.2164810347066096E-6},{"$f":"Calculation_original!O306/Calculation_original!$C306","v":2.3810037412481385E-4},{"$f":"Calculation_original!P306/Calculation_original!$C306","v":0.25972394459622528},{"$f":"Calculation_original!Q306/Calculation_original!$C306","v":1.7840629484154158},{"$f":"Calculation_original!R306/Calculation_original!$C306","v":0.13678530499704855},{"$f":"Calculation_original!S306/Calculation_original!$C306","v":1.5967144713539692},{"$f":"Calculation_original!T306/Calculation_original!$C306","v":3.0662674707705691E-7}]
[null,"use ",{"$f":"Calculation_original!E307/Calculation_original!$C307","v":0.30537636941580754},{"$f":"Calculation_original!F307/Calculation_original!$C307","v":2.0549602474226808E-8},{"$f":"Calculation_original!G307/Calculation_original!$C307","v":3.2450709278350512E-8},{"$f":"Calculation_original!H307/Calculation_original!$C307","v":3.1577322852233675E-9},{"$f":"Calculation_original!I307/Calculation_original!$C307","v":1.1869796546391754E-8},{"$f":"Calculation_original!J307/Calculation_original!$C307","v":1.5446457457044675E-2},{"$f":"Calculation_original!K307/Calculation_original!$C307","v":6.4869115463917545E-4},{"$f":"Calculation_original!L307/Calculation_original!$C307","v":1.6327408006872851E-3},{"$f":"Calculation_original!M307/Calculation_original!$C307","v":3.7351521477663229E-3},{"$f":"Calculation_original!N307/Calculation_original!$C307","v":3.7812114266323017E-4},{"$f":"Calculation_original!O307/Calculation_original!$C307","v":5.9118288006872848E-3},{"$f":"Calculation_original!P307/Calculation_original!$C307","v":0.35849017697594499},{"$f":"Calculation_original!Q307/Calculation_original!$C307","v":8.8584832749140912},{"$f":"Calculation_original!R307/Calculation_original!$C307","v":1.71034698676976},{"$f":"Calculation_original!S307/Calculation_original!$C307","v":3.771998049828178},{"$f":"Calculation_original!T307/Calculation_original!$C307","v":9.0418842714776628E-7}]

{"sheet":"Calculation_original","index":12,"n_rows":357,"n_cols":20,"rows_kept":357,"cut":false,"hidden":true,"merged":[[279,0,279,1],[288,0,288,1],[235,0,235,1],[244,0,244,1],[253,0,253,1],[262,0,262,1],[271,0,271,1],[190,0,190,1],[199,0,199,1],[208,0,208,1],[217,0,217,1],[226,0,226,1],[145,0,145,1],[154,0,154,1],[163,0,163,1],[172,0,172,1],[181,0,181,1],[55,0,55,1],[10,0,10,1],[19,0,19,1],[28,0,28,1],[37,0,37,1],[46,0,46,1],[118,0,118,1],[127,0,127,1],[136,0,136,1],[64,0,64,1],[73,0,73,1],[82,0,82,1],[91,0,91,1],[100,0,100,1],[109,0,109,1]]}
[null,null,"Amount","Foodwaste","IPCC GWP 100a","Ozone depletion","Human toxicity, non-cancer effects","Human toxicity, cancer effects","Particulate matter","Ionizing radiation HH","Photochemical ozone formation","Acidification","Terrestrial eutrophication","Freshwater eutrophication","Marine eutrophication","Freshwater ecotoxicity","Land use","Water scarcity","ADP Fossil","ADP (ultimate)"]
[null,null,"kg","%","kg CO2 eq","kg CFC11 eq","CTUh","CTUh","Death","kBq U235 eq","kg NMVOC eq","molc H+ eq","molc N eq","kg P eq","kg N eq","CTUe","Pt","m3 water eq","MJ","kg Sb eq"]
["Meat","PORK"]
[null,"agriculture ",{"$f":"C5/(1-D4)","v":47.260003942440378},0,{"$f":"$C$4*'Emissions per kg'!C4","v":288.75862408831074},{"$f":"$C$4*'Emissions per kg'!D4","v":1.616292134831461E-6},{"$f":"$C$4*'Emissions per kg'!E4","v":1.0444460871279323E-4},{"$f":"$C$4*'Emissions per kg'!F4","v":3.3034742755765823E-6},{"$f":"$C$4*'Emissions per kg'!G4","v":4.286482357579342E-5},{"$f":"$C$4*'Emissions per kg'!H4","v":2.6182042184111967},{"$f":"$C$4*'Emissions per kg'!I4","v":0.35681302976542484},{"$f":"$C$4*'Emissions per kg'!J4","v":5.9547604967474879},{"$f":"$C$4*'Emissions per kg'!K4","v":26.418342203824174},{"$f":"$C$4*'Emissions per kg'!L4","v":6.2855805243445709E-2},{"$f":"$C$4*'Emissions per kg'!M4","v":1.8525921545436628},{"$f":"$C$4*'Emissions per kg'!N4","v":793.96806623299835},{"$f":"$C$4*'Emissions per kg'!O4","v":37146.363098758135},{"$f":"$C$4*'Emissions per kg'!P4","v":57.184604770352855},{"$f":"$C$4*'Emissions per kg'!Q4","v":987.73408239700382},{"$f":"$C$4*'Emissions per kg'!R4","v":8.5540607135817076E-6}]
[null,"processsing",{"$f":"(C6/(1-D5))/(1-D6)","v":47.260003942440378},0.05,{"$f":"$C$5*'Emissions per kg'!C5","v":15.359501281293124},{"$f":"$C$5*'Emissions per kg'!D5","v":3.8044303173664508E-5},{"$f":"$C$5*'Emissions per kg'!E5","v":4.645658387541889E-7},{"$f":"$C$5*'Emissions per kg'!F5","v":3.2656662724226303E-8},{"$f":"$C$5*'Emissions per kg'!G5","v":4.1068943425980691E-7},{"$f":"$C$5*'Emissions per kg'!H5","v":0.65218805440567718},{"$f":"$C$5*'Emissions per kg'!I5","v":3.2892962743938506E-2},{"$f":"$C$5*'Emissions per kg'!J5","v":4.8205204021289187E-2},{"$f":"$C$5*'Emissions per kg'!K5","v":0.18809481569091271},{"$f":"$C$5*'Emissions per kg'!L5","v":7.0890005913660573E-5},{"$f":"$C$5*'Emissions per kg'!M5","v":1.257116104868914E-2},{"$f":"$C$5*'Emissions per kg'!N5","v":6.4746205401143326},{"$f":"$C$5*'Emissions per kg'!O5","v":51.513404297260017},{"$f":"$C$5*'Emissions per kg'!P5","v":9.4047407845456359},{"$f":"$C$5*'Emissions per kg'!Q5","v":151.23201261580923},{"$f":"$C$5*'Emissions per kg'!R5","v":5.529420461265524E-6}]
[null,"packaging",{"$f":"C7","v":44.897003745318358},0,{"$f":"$C$6*'Emissions per kg'!C6","v":2.2852574906367042},{"$f":"$C$6*'Emissions per kg'!D6","v":7.1386235955056191E-8},{"$f":"$C$6*'Emissions per kg'!E6","v":7.4080056179775295E-8},{"$f":"$C$6*'Emissions per kg'!F6","v":7.5875936329588024E-9},{"$f":"$C$6*'Emissions per kg'!G6","v":5.7019194756554315E-8},{"$f":"$C$6*'Emissions per kg'!H6","v":5.3876404494382024E-2},{"$f":"$C$6*'Emissions per kg'!I6","v":3.299929775280899E-3},{"$f":"$C$6*'Emissions per kg'!J6","v":6.1508895131086152E-3},{"$f":"$C$6*'Emissions per kg'!K6","v":1.1718117977528092E-2},{"$f":"$C$6*'Emissions per kg'!L6","v":4.848876404494383E-5},{"$f":"$C$6*'Emissions per kg'!M6","v":1.0909971910112361E-3},{"$f":"$C$6*'Emissions per kg'!N6","v":1.3783380149812736},{"$f":"$C$6*'Emissions per kg'!O6","v":7.0039325842696636},{"$f":"$C$6*'Emissions per kg'!P6","v":0.22134222846441953},{"$f":"$C$6*'Emissions per kg'!Q6","v":14.950702247191014},{"$f":"$C$6*'Emissions per kg'!R6","v":6.4651685393258435E-7}]
[null,"retail",{"$f":"(C8/(1-D8))/(1-D7)","v":44.897003745318358},0.04,{"$f":"$C$7*'Emissions per kg'!C7","v":31.607490636704121},{"$f":"$C$7*'Emissions per kg'!D7","v":5.6570224719101132E-4},{"$f":"$C$7*'Emissions per kg'!E7","v":7.9467696629213497E-7},{"$f":"$C$7*'Emissions per kg'!F7","v":4.278684456928839E-8},{"$f":"$C$7*'Emissions per kg'!G7","v":5.1631554307116113E-7},{"$f":"$C$7*'Emissions per kg'!H7","v":0.3394213483146068},{"$f":"$C$7*'Emissions per kg'!I7","v":3.4076825842696633E-2},{"$f":"$C$7*'Emissions per kg'!J7","v":3.5962500000000001E-2},{"$f":"$C$7*'Emissions per kg'!K7","v":0.12077294007490638},{"$f":"$C$7*'Emissions per kg'!L7","v":1.3513998127340825E-4},{"$f":"$C$7*'Emissions per kg'!M7","v":1.0999765917602997E-2},{"$f":"$C$7*'Emissions per kg'!N7","v":12.077294007490639},{"$f":"$C$7*'Emissions per kg'!O7","v":86.202247191011239},{"$f":"$C$7*'Emissions per kg'!P7","v":2.3346441947565544},{"$f":"$C$7*'Emissions per kg'!Q7","v":80.814606741573044},{"$f":"$C$7*'Emissions per kg'!R7","v":1.9485299625468168E-5}]
[null,"use ",38.36,0.11,{"$f":"$C$8*'Emissions per kg'!C8","v":18.788727999999999},{"$f":"$C$8*'Emissions per kg'!D8","v":1.2485796399999998E-6},{"$f":"$C$8*'Emissions per kg'!E8","v":3.9537652000000001E-6},{"$f":"$C$8*'Emissions per kg'!F8","v":2.2233456E-7},{"$f":"$C$8*'Emissions per kg'!G8","v":1.1703635999999999E-6},{"$f":"$C$8*'Emissions per kg'!H8","v":0.77184156000000004},{"$f":"$C$8*'Emissions per kg'!I8","v":5.2269336E-2},{"$f":"$C$8*'Emissions per kg'!J8","v":0.17479501199999997},{"$f":"$C$8*'Emissions per kg'!K8","v":0.43883839999999996},{"$f":"$C$8*'Emissions per kg'!L8","v":3.6072017799999995E-2},{"$f":"$C$8*'Emissions per kg'!M8","v":0.89295942399999995},{"$f":"$C$8*'Emissions per kg'!N8","v":44.397863999999998},{"$f":"$C$8*'Emissions per kg'!O8","v":723.84169200000008},{"$f":"$C$8*'Emissions per kg'!P8","v":69.520211599999996},{"$f":"$C$8*'Emissions per kg'!Q8","v":249.37452399999998},{"$f":"$C$8*'Emissions per kg'!R8","v":6.10522416E-5}]
[null,"end of life P&R",{"$f":"D5*C5+D7*C7+C6*D6+C4*D4","v":4.1588803469347537},null,{"$f":"$C$9*'EoL emissions'!B4","v":1.4071787052455575},{"$f":"$C$9*'EoL emissions'!C4","v":1.6838373838145776E-8},{"$f":"$C$9*'EoL emissions'!D4","v":1.5615077319883587E-6},{"$f":"$C$9*'EoL emissions'!E4","v":6.2458712509331424E-8},{"$f":"$C$9*'EoL emissions'!F4","v":3.1837550958788621E-8},{"$f":"$C$9*'EoL emissions'!G4","v":1.066209319370221E-2},{"$f":"$C$9*'EoL emissions'!H4","v":1.8851890619674663E-3},{"$f":"$C$9*'EoL emissions'!I4","v":4.9951156886638278E-3},{"$f":"$C$9*'EoL emissions'!J4","v":2.0200368128997569E-2},{"$f":"$C$9*'EoL emissions'!K4","v":3.9763485734445748E-4},{"$f":"$C$9*'EoL emissions'!L4","v":2.2823970507862565E-3},{"$f":"$C$9*'EoL emissions'!M4","v":110.41190301683896},{"$f":"$C$9*'EoL emissions'!N4","v":5.7068403999582635},{"$f":"$C$9*'EoL emissions'!O4","v":5.5266970261730705E-2},{"$f":"$C$9*'EoL emissions'!P4","v":-1.0153253453096438},{"$f":"$C$9*'EoL emissions'!Q4","v":-7.706760445176921E-8}]
[null,"end of life HH",{"$f":"D8*C8","v":4.2195999999999998},null,{"$f":"$C$10*'EoL emissions'!B5","v":1.879699202145648},{"$f":"$C$10*'EoL emissions'!C5","v":1.5828562830980315E-8},{"$f":"$C$10*'EoL emissions'!D5","v":3.3286064366059981E-6},{"$f":"$C$10*'EoL emissions'!E5","v":7.1389112946840918E-8},{"$f":"$C$10*'EoL emissions'!F5","v":1.772515987202425E-8},{"$f":"$C$10*'EoL emissions'!G5","v":9.2741583447176982E-3},{"$f":"$C$10*'EoL emissions'!H5","v":1.5360683444163488E-3},{"$f":"$C$10*'EoL emissions'!I5","v":2.2866388868385511E-3},{"$f":"$C$10*'EoL emissions'!J5","v":8.7236339765898001E-3},{"$f":"$C$10*'EoL emissions'!K5","v":1.9951834338071577E-4},{"$f":"$C$10*'EoL emissions'!L5","v":4.1596604950077509E-3},{"$f":"$C$10*'EoL emissions'!M5","v":241.46357927021444},{"$f":"$C$10*'EoL emissions'!N5","v":3.9151921981668418},{"$f":"$C$10*'EoL emissions'!O5","v":9.1891764267820628E-2},{"$f":"$C$10*'EoL emissions'!P5","v":0.63079935067838311},{"$f":"$C$10*'EoL emissions'!Q5","v":6.1281731175650568E-8}]
["PORK TOTAL",null,null,null,{"$f":"SUM(E4:E10)","v":360.08647940433593},{"$f":"SUM(F4:F10)","v":6.0671547531213153E-4},1.1462181094261369E-4,3.7426877619592281E-6,4.5068774058711764E-5,4.4554678371642824,0.48277334153372459,6.2271558568573875,27.20669047967311,9.9779494995402881E-2,2.77665556024676,1210.1716650826381,38024.546407428796,138.81270231264901,1483.7214020069457,9.5251753380971852E-5]
["Meat","BEEF"]
[null,"agriculture ",{"$f":"C14/(1-D13)","v":16.003843879361327},0,{"$f":"$C$13*'Emissions per kg'!C11","v":452.90878178592556},{"$f":"$C$13*'Emissions per kg'!D11","v":1.9844766410408045E-7},{"$f":"$C$13*'Emissions per kg'!E11","v":3.2167726197516268E-4},{"$f":"$C$13*'Emissions per kg'!F11","v":5.1852454169130697E-6},{"$f":"$C$13*'Emissions per kg'!G11","v":5.7453799526907164E-5},{"$f":"$C$13*'Emissions per kg'!H11","v":0.31847649319929044},{"$f":"$C$13*'Emissions per kg'!I11","v":0.494518775872265},{"$f":"$C$13*'Emissions per kg'!J11","v":7.7298565937315207},{"$f":"$C$13*'Emissions per kg'!K11","v":34.248225901833244},{"$f":"$C$13*'Emissions per kg'!L11","v":6.8176374926079253E-2},{"$f":"$C$13*'Emissions per kg'!M11","v":3.0247264931992905},{"$f":"$C$13*'Emissions per kg'!N11","v":592.1422235363691},{"$f":"$C$13*'Emissions per kg'!O11","v":53132.761679479605},{"$f":"$C$13*'Emissions per kg'!P11","v":141.31394145476051},{"$f":"$C$13*'Emissions per kg'!Q11","v":981.03562980484924},{"$f":"$C$13*'Emissions per kg'!R11","v":5.5693376700177418E-6}]
[null,"processsing",{"$f":"(C15/(1-D14))/(1-D15)","v":16.003843879361327},0.05,{"$f":"$C$14*'Emissions per kg'!C12","v":7.5698181549379076},{"$f":"$C$14*'Emissions per kg'!D12","v":3.9369455943228866E-5},{"$f":"$C$14*'Emissions per kg'!E12","v":2.3205573625073924E-7},{"$f":"$C$14*'Emissions per kg'!F12","v":1.3843324955647548E-8},{"$f":"$C$14*'Emissions per kg'!G12","v":2.9927188054405678E-7},{"$f":"$C$14*'Emissions per kg'!H12","v":0.11554775280898878},{"$f":"$C$14*'Emissions per kg'!I12","v":1.7604228267297461E-2},{"$f":"$C$14*'Emissions per kg'!J12","v":3.5528533412182151E-2},{"$f":"$C$14*'Emissions per kg'!K12","v":8.1459565345949156E-2},{"$f":"$C$14*'Emissions per kg'!L12","v":4.7851493199290368E-5},{"$f":"$C$14*'Emissions per kg'!M12","v":6.177483737433472E-3},{"$f":"$C$14*'Emissions per kg'!N12","v":2.5926227084565352},{"$f":"$C$14*'Emissions per kg'!O12","v":21.125073920756954},{"$f":"$C$14*'Emissions per kg'!P12","v":3.3448033707865172},{"$f":"$C$14*'Emissions per kg'!Q12","v":67.856298048492022},{"$f":"$C$14*'Emissions per kg'!R12","v":2.6726419278533414E-6}]
[null,"packaging",{"$f":"C16","v":15.203651685393259},0,{"$f":"$C$15*'Emissions per kg'!C13","v":0.77386587078651692},{"$f":"$C$15*'Emissions per kg'!D13","v":2.4173806179775285E-8},{"$f":"$C$15*'Emissions per kg'!E13","v":2.5086025280898878E-8},{"$f":"$C$15*'Emissions per kg'!F13","v":2.5694171348314609E-9},{"$f":"$C$15*'Emissions per kg'!G13","v":1.9308637640449438E-8},{"$f":"$C$15*'Emissions per kg'!H13","v":1.824438202247191E-2},{"$f":"$C$15*'Emissions per kg'!I13","v":1.1174683988764045E-3},{"$f":"$C$15*'Emissions per kg'!J13","v":2.0829002808988766E-3},{"$f":"$C$15*'Emissions per kg'!K13","v":3.968153089887641E-3},{"$f":"$C$15*'Emissions per kg'!L13","v":1.641994382022472E-5},{"$f":"$C$15*'Emissions per kg'!M13","v":3.6944873595505621E-4},{"$f":"$C$15*'Emissions per kg'!N13","v":0.46675210674157308},{"$f":"$C$15*'Emissions per kg'!O13","v":2.3717696629213485},{"$f":"$C$15*'Emissions per kg'!P13","v":7.4954002808988771E-2},{"$f":"$C$15*'Emissions per kg'!Q13","v":5.0628160112359559},{"$f":"$C$15*'Emissions per kg'!R13","v":2.1893258426966294E-7}]
[null,"retail",{"$f":"(C17/(1-D17))/(1-D16)","v":15.203651685393259},0.04,{"$f":"$C$16*'Emissions per kg'!C14","v":19.30863764044944},{"$f":"$C$16*'Emissions per kg'!D14","v":4.2570224719101123E-4},{"$f":"$C$16*'Emissions per kg'!E14","v":2.6910463483146069E-7},{"$f":"$C$16*'Emissions per kg'!F14","v":1.4489080056179775E-8},{"$f":"$C$16*'Emissions per kg'!G14","v":1.7484199438202248E-7},{"$f":"$C$16*'Emissions per kg'!H14","v":0.11493960674157304},{"$f":"$C$16*'Emissions per kg'!I14","v":1.1539571629213484E-2},{"$f":"$C$16*'Emissions per kg'!J14","v":1.2178125E-2},{"$f":"$C$16*'Emissions per kg'!K14","v":4.089782303370787E-2},{"$f":"$C$16*'Emissions per kg'!L14","v":4.576299157303371E-5},{"$f":"$C$16*'Emissions per kg'!M14","v":3.7248946629213483E-3},{"$f":"$C$16*'Emissions per kg'!N14","v":4.0897823033707867},{"$f":"$C$16*'Emissions per kg'!O14","v":29.191011235955056},{"$f":"$C$16*'Emissions per kg'!P14","v":0.79058988764044946},{"$f":"$C$16*'Emissions per kg'!Q14","v":27.366573033707866},{"$f":"$C$16*'Emissions per kg'!R14","v":6.598384831460674E-6}]
[null,"use ",12.99,0.11,{"$f":"$C$17*'Emissions per kg'!C15","v":6.4144620000000003},{"$f":"$C$17*'Emissions per kg'!D15","v":4.2411050999999995E-7},{"$f":"$C$17*'Emissions per kg'!E15","v":1.5597092999999999E-6},{"$f":"$C$17*'Emissions per kg'!F15","v":7.5809640000000006E-8},{"$f":"$C$17*'Emissions per kg'!G15","v":4.1451090000000001E-7},{"$f":"$C$17*'Emissions per kg'!H15","v":0.26267078999999999},{"$f":"$C$17*'Emissions per kg'!I15","v":1.7959974E-2},{"$f":"$C$17*'Emissions per kg'!J15","v":6.1919432999999996E-2},{"$f":"$C$17*'Emissions per kg'!K15","v":0.16029660000000001},{"$f":"$C$17*'Emissions per kg'!L15","v":1.208531145E-2},{"$f":"$C$17*'Emissions per kg'!M15","v":0.32576841600000001},{"$f":"$C$17*'Emissions per kg'!N15","v":21.529626},{"$f":"$C$17*'Emissions per kg'!O15","v":247.71540300000001},{"$f":"$C$17*'Emissions per kg'!P15","v":24.321306900000003},{"$f":"$C$17*'Emissions per kg'!Q15","v":84.706491},{"$f":"$C$17*'Emissions per kg'!R15","v":2.0804264400000001E-5}]
[null,"end of life P&R",{"$f":"D14*C14+D16*C16+C15*D15+C13*D13","v":1.4083382613837969},null,{"$f":"$C$18*'EoL emissions'!B4","v":0.47651854486808637},{"$f":"$C$18*'EoL emissions'!C4","v":5.7020457809570815E-9},{"$f":"$C$18*'EoL emissions'!D4","v":5.2877959954454586E-7},{"$f":"$C$18*'EoL emissions'!E4","v":2.1150643261110926E-8},{"$f":"$C$18*'EoL emissions'!F4","v":1.0781277032186239E-8},{"$f":"$C$18*'EoL emissions'!G4","v":3.6105471998485847E-3},{"$f":"$C$18*'EoL emissions'!H4","v":6.3838910101557313E-4},{"$f":"$C$18*'EoL emissions'!I4","v":1.6915159748629592E-3},{"$f":"$C$18*'EoL emissions'!J4","v":6.840531334611012E-3},{"$f":"$C$18*'EoL emissions'!K4","v":1.346526797941737E-4},{"$f":"$C$18*'EoL emissions'!L4","v":7.7289722861609679E-4},{"$f":"$C$18*'EoL emissions'!M4","v":37.389223675410271},{"$f":"$C$18*'EoL emissions'!N4","v":1.9325301562945214},{"$f":"$C$18*'EoL emissions'!O4","v":1.8715274861832165E-2},{"$f":"$C$18*'EoL emissions'!P4","v":-0.3438236766311854},{"$f":"$C$18*'EoL emissions'!Q4","v":-2.6097710683745622E-8}]
[null,"end of life HH",{"$f":"D17*C17","v":1.4289000000000001},null,{"$f":"$C$19*'EoL emissions'!B5","v":0.63653004785901901},{"$f":"$C$19*'EoL emissions'!C5","v":5.3600894466745132E-9},{"$f":"$C$19*'EoL emissions'!D5","v":1.1271792912281523E-6},{"$f":"$C$19*'EoL emissions'!E5","v":2.4174780426993318E-8},{"$f":"$C$19*'EoL emissions'!F5","v":6.0023416772052932E-9},{"$f":"$C$19*'EoL emissions'!G5","v":3.1405452788812022E-3},{"$f":"$C$19*'EoL emissions'!H5","v":5.2016495813264781E-4},{"$f":"$C$19*'EoL emissions'!I5","v":7.7433365849929046E-4},{"$f":"$C$19*'EoL emissions'!J5","v":2.9541190134489449E-3},{"$f":"$C$19*'EoL emissions'!K5","v":6.7563693444095362E-5},{"$f":"$C$19*'EoL emissions'!L5","v":1.4086024460414673E-3},{"$f":"$C$19*'EoL emissions'!M5","v":81.767776191868762},{"$f":"$C$19*'EoL emissions'!N5","v":1.3258171703385631},{"$f":"$C$19*'EoL emissions'!O5","v":3.1117675126146771E-2},{"$f":"$C$19*'EoL emissions'!P5","v":0.2136101033710166},{"$f":"$C$19*'EoL emissions'!Q5","v":2.075207737152505E-8}]
["BEEF TOTAL",null,null,null,{"$f":"SUM(E13:E19)","v":488.08861404482656},{"$f":"SUM(F13:F19)","v":4.6572949724975159E-4},3.254191765622985E-4,5.3372823027478345E-6,5.8378516558183085E-5,0.83663011725105396,0.5438985722268006,7.8440314350579641,34.544642693650857,8.0573937177910074E-2,3.3629482360102578,739.97800652221702,53436.423284625875,169.89542856598442,1165.8975943250248,3.58582157802892E-5]
["Meat","POULTRY"]
[null,"agriculture ",{"$f":"C23/(1-D22)","v":27.683323477232406},0,{"$f":"$C$22*'Emissions per kg'!C18","v":154.47294500295683},{"$f":"$C$22*'Emissions per kg'!D18","v":8.9970801301005322E-7},{"$f":"$C$22*'Emissions per kg'!E18","v":4.0140819041986988E-5},{"$f":"$C$22*'Emissions per kg'!F18","v":1.3841661738616202E-6},{"$f":"$C$22*'Emissions per kg'!G18","v":2.0264192785334122E-5},{"$f":"$C$22*'Emissions per kg'!H18","v":1.4478378178592548},{"$f":"$C$22*'Emissions per kg'!I18","v":0.16859143997634535},{"$f":"$C$22*'Emissions per kg'!J18","v":2.4970357776463632},{"$f":"$C$22*'Emissions per kg'!K18","v":11.045646067415731},{"$f":"$C$22*'Emissions per kg'!L18","v":3.2666321703134243E-2},{"$f":"$C$22*'Emissions per kg'!M18","v":0.65055810171496153},{"$f":"$C$22*'Emissions per kg'!N18","v":334.9682140745121},{"$f":"$C$22*'Emissions per kg'!O18","v":16693.044056771141},{"$f":"$C$22*'Emissions per kg'!P18","v":18.741609994086339},{"$f":"$C$22*'Emissions per kg'!Q18","v":514.90981667652284},{"$f":"$C$22*'Emissions per kg'!R18","v":5.3982480780603193E-6}]
[null,"processsing",{"$f":"(C24/(1-D23))/(1-D24)","v":27.683323477232406},0.05,{"$f":"$C$23*'Emissions per kg'!C19","v":7.4191306918982853},{"$f":"$C$23*'Emissions per kg'!D19","v":1.3204945298639859E-5},{"$f":"$C$23*'Emissions per kg'!E19","v":2.7406490242460078E-7},{"$f":"$C$23*'Emissions per kg'!F19","v":1.6194744234180957E-8},{"$f":"$C$23*'Emissions per kg'!G19","v":2.278337522176227E-7},{"$f":"$C$23*'Emissions per kg'!H19","v":0.37372486694263746},{"$f":"$C$23*'Emissions per kg'!I19","v":1.863087670017741E-2},{"$f":"$C$23*'Emissions per kg'!J19","v":2.4195224719101124E-2},{"$f":"$C$23*'Emissions per kg'!K19","v":9.2462300413956242E-2},{"$f":"$C$23*'Emissions per kg'!L19","v":3.3219988172678885E-5},{"$f":"$C$23*'Emissions per kg'!M19","v":6.8100975753991721E-3},{"$f":"$C$23*'Emissions per kg'!N19","v":4.0694485511531635},{"$f":"$C$23*'Emissions per kg'!O19","v":29.897989355410999},{"$f":"$C$23*'Emissions per kg'!P19","v":4.124815198107628},{"$f":"$C$23*'Emissions per kg'!Q19","v":80.835304553518625},{"$f":"$C$23*'Emissions per kg'!R19","v":3.3773654642223539E-6}]
[null,"packaging",{"$f":"C25","v":26.299157303370784},0,{"$f":"$C$24*'Emissions per kg'!C20","v":33.399929775280896},{"$f":"$C$24*'Emissions per kg'!D20","v":4.0500702247191006E-8},{"$f":"$C$24*'Emissions per kg'!E20","v":4.2341643258426965E-8},{"$f":"$C$24*'Emissions per kg'!F20","v":4.4182584269662914E-9},{"$f":"$C$24*'Emissions per kg'!G20","v":3.2610955056179773E-8},{"$f":"$C$24*'Emissions per kg'!H20","v":3.1295997191011234E-2},{"$f":"$C$24*'Emissions per kg'!I20","v":1.8909094101123593E-3},{"$f":"$C$24*'Emissions per kg'!J20","v":3.5503862359550558E-3},{"$f":"$C$24*'Emissions per kg'!K20","v":6.7062851123595507E-3},{"$f":"$C$24*'Emissions per kg'!L20","v":2.8140098314606735E-5},{"$f":"$C$24*'Emissions per kg'!M20","v":6.232900280898876E-4},{"$f":"$C$24*'Emissions per kg'!N20","v":0.7916046348314606},{"$f":"$C$24*'Emissions per kg'!O20","v":3.9974719101123588},{"$f":"$C$24*'Emissions per kg'!P20","v":0.12912886235955057},{"$f":"$C$24*'Emissions per kg'!Q20","v":8.6787219101123583},{"$f":"$C$24*'Emissions per kg'!R20","v":3.6555828651685392E-7}]
[null,"retail",{"$f":"(C26/(1-D26))/(1-D25)","v":26.299157303370784},0.04,{"$f":"$C$25*'Emissions per kg'!C21","v":1.3333672752808987},{"$f":"$C$25*'Emissions per kg'!D21","v":7.3637640449438196E-4},{"$f":"$C$25*'Emissions per kg'!E21","v":4.6549508426966288E-7},{"$f":"$C$25*'Emissions per kg'!F21","v":2.5063096910112356E-8},{"$f":"$C$25*'Emissions per kg'!G21","v":3.0244030898876401E-7},{"$f":"$C$25*'Emissions per kg'!H21","v":0.19882162921348312},{"$f":"$C$25*'Emissions per kg'!I21","v":1.9961060393258425E-2},{"$f":"$C$25*'Emissions per kg'!J21","v":2.1065624999999998E-2},{"$f":"$C$25*'Emissions per kg'!K21","v":7.0744733146067412E-2},{"$f":"$C$25*'Emissions per kg'!L21","v":7.9160463483146063E-5},{"$f":"$C$25*'Emissions per kg'!M21","v":6.4432935393258419E-3},{"$f":"$C$25*'Emissions per kg'!N21","v":7.0744733146067409},{"$f":"$C$25*'Emissions per kg'!O21","v":50.494382022471903},{"$f":"$C$25*'Emissions per kg'!P21","v":1.3675561797752807},{"$f":"$C$25*'Emissions per kg'!Q21","v":47.338483146067411},{"$f":"$C$25*'Emissions per kg'!R21","v":1.1413834269662921E-5}]
[null,"use ",22.47,0.11,{"$f":"$C$26*'Emissions per kg'!C22","v":10.781105999999999},{"$f":"$C$26*'Emissions per kg'!D22","v":7.2463502999999993E-7},{"$f":"$C$26*'Emissions per kg'!E22","v":2.1159998999999998E-6},{"$f":"$C$26*'Emissions per kg'!F22","v":1.2866322E-7},{"$f":"$C$26*'Emissions per kg'!G22","v":6.5185469999999995E-7},{"$f":"$C$26*'Emissions per kg'!H22","v":0.44762487000000001},{"$f":"$C$26*'Emissions per kg'!I22","v":2.9044722000000002E-2},{"$f":"$C$26*'Emissions per kg'!J22","v":9.6996248999999993E-2},{"$f":"$C$26*'Emissions per kg'!K22","v":0.23009279999999996},{"$f":"$C$26*'Emissions per kg'!L22","v":1.9669226849999999E-2},{"$f":"$C$26*'Emissions per kg'!M22","v":0.44217364799999997},{"$f":"$C$26*'Emissions per kg'!N22","v":19.984817999999997},{"$f":"$C$26*'Emissions per kg'!O22","v":419.50815900000003},{"$f":"$C$26*'Emissions per kg'!P22","v":39.374405699999997},{"$f":"$C$26*'Emissions per kg'!Q22","v":145.17642299999997},{"$f":"$C$26*'Emissions per kg'!R22","v":3.5537653199999998E-5}]
[null,"end of life P&R",{"$f":"D23*C23+D25*C25+C24*D24+C22*D22","v":2.4361324659964518},null,{"$f":"$C$27*'EoL emissions'!B4","v":0.82427803719675896},{"$f":"$C$27*'EoL emissions'!C4","v":9.8633540183299145E-9},{"$f":"$C$27*'EoL emissions'!D4","v":9.1467879921215874E-7},{"$f":"$C$27*'EoL emissions'!E4","v":3.6586216634115662E-8},{"$f":"$C$27*'EoL emissions'!F4","v":1.864936835359698E-8},{"$f":"$C$27*'EoL emissions'!G4","v":6.2454961955810372E-3},{"$f":"$C$27*'EoL emissions'!H4","v":1.1042804541816725E-3},{"$f":"$C$27*'EoL emissions'!I4","v":2.9259710512063654E-3},{"$f":"$C$27*'EoL emissions'!J4","v":1.1832697389431055E-2},{"$f":"$C$27*'EoL emissions'!K4","v":2.3292114818899786E-4},{"$f":"$C$27*'EoL emissions'!L4","v":1.3369515571211464E-3},{"$f":"$C$27*'EoL emissions'!M4","v":64.675585526287037},{"$f":"$C$27*'EoL emissions'!N4","v":3.3428754897565729},{"$f":"$C$27*'EoL emissions'!O4","v":3.2373535500028375E-2},{"$f":"$C$27*'EoL emissions'!P4","v":-0.5947434960664153},{"$f":"$C$27*'EoL emissions'!Q4","v":-4.514361501645604E-8}]
[null,"end of life HH",{"$f":"D26*C26","v":2.4716999999999998},null,{"$f":"$C$28*'EoL emissions'!B5","v":1.1010646786291112},{"$f":"$C$28*'EoL emissions'!C5","v":9.2718406363954034E-9},{"$f":"$C$28*'EoL emissions'!D5","v":1.9497858871359951E-6},{"$f":"$C$28*'EoL emissions'!E5","v":4.1817345357547328E-8},{"$f":"$C$28*'EoL emissions'!F5","v":1.0382803501678438E-8},{"$f":"$C$28*'EoL emissions'!G5","v":5.4324905632379223E-3},{"$f":"$C$28*'EoL emissions'!H5","v":8.9977726014169328E-4},{"$f":"$C$28*'EoL emissions'!I5","v":1.339436282253969E-3},{"$f":"$C$28*'EoL emissions'!J5","v":5.1100118731484054E-3},{"$f":"$C$28*'EoL emissions'!K5","v":1.1687114639636817E-4},{"$f":"$C$28*'EoL emissions'!L5","v":2.4365894505428611E-3},{"$f":"$C$28*'EoL emissions'!M5","v":141.44125720025335},{"$f":"$C$28*'EoL emissions'!N5","v":2.2933881306780219},{"$f":"$C$28*'EoL emissions'!O5","v":5.3827110091186903E-2},{"$f":"$C$28*'EoL emissions'!P5","v":0.36950107950321343},{"$f":"$C$28*'EoL emissions'!Q5","v":3.5896780487926695E-8}]
["POULTRY TOTAL",null,null,null,{"$f":"SUM(E22:E28)","v":209.33182146124278},{"$f":"SUM(F22:F28)","v":7.5126532873293376E-4},4.5903185258287834E-5,1.6369090554245427E-6,2.1507964673451959E-5,2.5109831679652053,0.24012306619421692,2.6471086699348798,11.462594895350694,5.2825861397690042E-2,1.1103819718654404,573.00540130164381,17202.578322679572,63.82371657992001,796.7135068696582,5.6083412463933916E-5]
["Fish","COD"]
[null,"agriculture ",{"$f":"C32/(1-D31)","v":11.059941731708408},0,{"$f":"'Emissions per kg'!C25*$C$31","v":24.884868896343917},{"$f":"'Emissions per kg'!D25*$C$31","v":7.3216814263909657E-6},{"$f":"'Emissions per kg'!E25*$C$31","v":3.6829605966589001E-7},{"$f":"'Emissions per kg'!F25*$C$31","v":5.994488418585957E-8},{"$f":"'Emissions per kg'!G25*$C$31","v":9.4673101223423968E-7},{"$f":"'Emissions per kg'!H25*$C$31","v":0.16589912597562612},{"$f":"'Emissions per kg'!I25*$C$31","v":0.41032383824638197},{"$f":"'Emissions per kg'!J25*$C$31","v":0.34396418785613148},{"$f":"'Emissions per kg'!K25*$C$31","v":1.6147514928294275},{"$f":"'Emissions per kg'!L25*$C$31","v":1.139173998365966E-4},{"$f":"'Emissions per kg'!M25*$C$31","v":0.14709722503172182},{"$f":"'Emissions per kg'!N25*$C$31","v":39.926389651467353},{"$f":"'Emissions per kg'!O25*$C$31","v":20.460892203660556},{"$f":"'Emissions per kg'!P25*$C$31","v":194.654974478068},{"$f":"'Emissions per kg'!Q25*$C$31","v":338.43421699027732},{"$f":"'Emissions per kg'!R25*$C$31","v":3.3179825195125223E-6}]
[null,"processsing",{"$f":"(C33/(1-D32))/(1-D33)","v":11.059941731708408},0.06,{"$f":"'Emissions per kg'!C26*$C$32","v":6.9456434075128799},{"$f":"'Emissions per kg'!D26*$C$32","v":3.7272003635857333E-5},{"$f":"'Emissions per kg'!E26*$C$32","v":5.5410308075859124E-7},{"$f":"'Emissions per kg'!F26*$C$32","v":4.4792764013419054E-8},{"$f":"'Emissions per kg'!G26*$C$32","v":2.7207456660002683E-7},{"$f":"'Emissions per kg'!H26*$C$32","v":0.62156872532201257},{"$f":"'Emissions per kg'!I26*$C$32","v":2.665445957341726E-2},{"$f":"'Emissions per kg'!J26*$C$32","v":4.0589986155369857E-2},{"$f":"'Emissions per kg'!K26*$C$32","v":9.5779095396594807E-2},{"$f":"'Emissions per kg'!L26*$C$32","v":3.74932024704915E-4},{"$f":"'Emissions per kg'!M26*$C$32","v":8.7152340845862257E-3},{"$f":"'Emissions per kg'!N26*$C$32","v":6.3262866705372085},{"$f":"'Emissions per kg'!O26*$C$32","v":77.751390373910112},{"$f":"'Emissions per kg'!P26*$C$32","v":1.1834137652927996},{"$f":"'Emissions per kg'!Q26*$C$32","v":105.73304295513239},{"$f":"'Emissions per kg'!R26*$C$32","v":1.1502339400976744E-5}]
[null,"packaging",{"$f":"C34","v":10.396345227805902},0,{"$f":"'Emissions per kg'!C27*$C$33","v":0.89512532411408818},{"$f":"'Emissions per kg'!D27*$C$33","v":2.7966168662797876E-8},{"$f":"'Emissions per kg'!E27*$C$33","v":1.90253117668848E-7},{"$f":"'Emissions per kg'!F27*$C$33","v":9.0760093838745517E-9},{"$f":"'Emissions per kg'!G27*$C$33","v":-1.3515248796147674E-7},{"$f":"'Emissions per kg'!H27*$C$33","v":1.8921348314606741E-2},{"$f":"'Emissions per kg'!I27*$C$33","v":2.547104580812446E-4},{"$f":"'Emissions per kg'!J27*$C$33","v":1.6218298555377207E-3},{"$f":"'Emissions per kg'!K27*$C$33","v":1.8609457957772563E-3},{"$f":"'Emissions per kg'!L27*$C$33","v":4.0753673292999134E-5},{"$f":"'Emissions per kg'!M27*$C$33","v":6.8823805408075071E-4},{"$f":"'Emissions per kg'!N27*$C$33","v":1.2059760464254847},{"$f":"'Emissions per kg'!O27*$C$33","v":-273.42387949129522},{"$f":"'Emissions per kg'!P27*$C$33","v":-0.97517718236819362},{"$f":"'Emissions per kg'!Q27*$C$33","v":12.059760464254845},{"$f":"'Emissions per kg'!R27*$C$33","v":1.8609457957772565E-5}]
[null,"retail",{"$f":"(C35/(1-D35))/(1-D34)","v":10.396345227805902},0.09,{"$f":"'Emissions per kg'!C28*$C$34","v":3.9714038770218547},{"$f":"'Emissions per kg'!D28*$C$34","v":7.0903074453636258E-5},{"$f":"'Emissions per kg'!E28*$C$34","v":1.7465859982713916E-7},{"$f":"'Emissions per kg'!F28*$C$34","v":8.514606741573033E-9},{"$f":"'Emissions per kg'!G28*$C$34","v":1.1228052846030376E-7},{"$f":"'Emissions per kg'!H28*$C$34","v":7.8388443017656503E-2},{"$f":"'Emissions per kg'!I28*$C$34","v":7.8284479565378443E-3},{"$f":"'Emissions per kg'!J28*$C$34","v":7.4645758735646375E-3},{"$f":"'Emissions per kg'!K28*$C$34","v":2.7966168662797879E-2},{"$f":"'Emissions per kg'!L28*$C$34","v":2.5471045808124459E-5},{"$f":"'Emissions per kg'!M28*$C$34","v":2.547104580812446E-3},{"$f":"'Emissions per kg'!N28*$C$34","v":2.890183973330041},{"$f":"'Emissions per kg'!O28*$C$34","v":20.688727003333746},{"$f":"'Emissions per kg'!P28*$C$34","v":0.45328065193233735},{"$f":"'Emissions per kg'!Q28*$C$34","v":17.673786887270033},{"$f":"'Emissions per kg'!R28*$C$34","v":3.0149401160637112E-6}]
[null,"use ",8.42,0.11,{"$f":"'Emissions per kg'!C29*$C$35","v":6.0623999999999993},{"$f":"'Emissions per kg'!D29*$C$35","v":1.7454660000000001E-7},{"$f":"'Emissions per kg'!E29*$C$35","v":6.0539800000000001E-7},{"$f":"'Emissions per kg'!F29*$C$35","v":3.7132199999999995E-8},{"$f":"'Emissions per kg'!G29*$C$35","v":1.5905379999999998E-7},{"$f":"'Emissions per kg'!H29*$C$35","v":0.1004506},{"$f":"'Emissions per kg'!I29*$C$35","v":8.7146999999999988E-3},{"$f":"'Emissions per kg'!J29*$C$35","v":2.2060400000000001E-2},{"$f":"'Emissions per kg'!K29*$C$35","v":7.9737400000000014E-2},{"$f":"'Emissions per kg'!L29*$C$35","v":7.4154940000000008E-3},{"$f":"'Emissions per kg'!M29*$C$35","v":0.15641833999999999},{"$f":"'Emissions per kg'!N29*$C$35","v":2.8577480000000004},{"$f":"'Emissions per kg'!O29*$C$35","v":155.77000000000001},{"$f":"'Emissions per kg'!P29*$C$35","v":13.781014000000001},{"$f":"'Emissions per kg'!Q29*$C$35","v":87.214359999999999},{"$f":"'Emissions per kg'!R29*$C$35","v":1.0474479999999998E-5}]
[null,"end of life P&R",{"$f":"D32*C32+D34*C34+C33*D33+C31*D31","v":1.5992675744050358},null,{"$f":"'EoL emissions'!B4*$C$36","v":0.54112046679850967},{"$f":"'EoL emissions'!C4*$C$36","v":6.4750757508338297E-9},{"$f":"'EoL emissions'!D4*$C$36","v":6.0046658586662845E-7},{"$f":"'EoL emissions'!E4*$C$36","v":2.4018049408149277E-8},{"$f":"'EoL emissions'!F4*$C$36","v":1.2242901610378404E-8},{"$f":"'EoL emissions'!G4*$C$36","v":4.1000313780463005E-3},{"$f":"'EoL emissions'!H4*$C$36","v":7.2493591710319862E-4},{"$f":"'EoL emissions'!I4*$C$36","v":1.9208358704452208E-3},{"$f":"'EoL emissions'!J4*$C$36","v":7.7679065144447539E-3},{"$f":"'EoL emissions'!K4*$C$36","v":1.5290762915861779E-4},{"$f":"'EoL emissions'!L4*$C$36","v":8.7767939703541781E-4},{"$f":"'EoL emissions'!M4*$C$36","v":42.458104487985246},{"$f":"'EoL emissions'!N4*$C$36","v":2.1945244976053888},{"$f":"'EoL emissions'!O4*$C$36","v":2.1252516567430824E-2},{"$f":"'EoL emissions'!P4*$C$36","v":-0.39043607095407112},{"$f":"'EoL emissions'!Q4*$C$36","v":-2.9635793904873626E-8}]
[null,"end of life HH",{"$f":"D35*C35","v":0.92620000000000002},null,{"$f":"'EoL emissions'!B5*$C$37","v":0.41259299484010314},{"$f":"'EoL emissions'!C5*$C$37","v":3.4743612887605387E-9},{"$f":"'EoL emissions'!D5*$C$37","v":7.3062737737806324E-7},{"$f":"'EoL emissions'!E5*$C$37","v":1.5669873071230465E-8},{"$f":"'EoL emissions'!F5*$C$37","v":3.8906633504286815E-9},{"$f":"'EoL emissions'!G5*$C$37","v":2.035672921337931E-3},{"$f":"'EoL emissions'!H5*$C$37","v":3.3716620072955311E-4},{"$f":"'EoL emissions'!I5*$C$37","v":5.0191604346143382E-4},{"$f":"'EoL emissions'!J5*$C$37","v":1.9148331095642892E-3},{"$f":"'EoL emissions'!K5*$C$37","v":4.3794172347904768E-5},{"$f":"'EoL emissions'!L5*$C$37","v":9.1304330990524675E-4},{"$f":"'EoL emissions'!M5*$C$37","v":53.001129756392224},{"$f":"'EoL emissions'!N5*$C$37","v":0.85938264620867599},{"$f":"'EoL emissions'!O5*$C$37","v":2.0170194346586283E-2},{"$f":"'EoL emissions'!P5*$C$37","v":0.13846012858998921},{"$f":"'EoL emissions'!Q5*$C$37","v":1.3451308042204842E-8}]
["COD TOTAL",null,null,null,{"$f":"SUM(E31:E37)","v":43.71315496663135},{"$f":"SUM(F31:F37)","v":1.1570922172158695E-4},3.2238028211651603E-6,1.9914838680410595E-7,1.3711209842939007E-6,0.99136394692928609,0.45483825835225111,0.41812373165451033,1.8297778423086064,8.1672699451491599E-3,0.31725686445814194,148.66581858613756,4.3010372334232798,209.13892842383899,560.8631913545704,4.6903015508462876E-5]
["Fish","SALMON"]
[null,"agriculture ",{"$f":"C41/(1-D40)","v":3.717296330253538},0,{"$f":"$C$40*'Emissions per kg'!C32","v":24.050907256740391},{"$f":"$C$40*'Emissions per kg'!D32","v":3.6912752559417629E-7},{"$f":"$C$40*'Emissions per kg'!E32","v":1.8326270908149944E-5},{"$f":"$C$40*'Emissions per kg'!F32","v":2.0965551302629954E-7},{"$f":"$C$40*'Emissions per kg'!G32","v":1.3939861238450768E-6},{"$f":"$C$40*'Emissions per kg'!H32","v":0.33938915495214805},{"$f":"$C$40*'Emissions per kg'!I32","v":6.2450578348259435E-2},{"$f":"$C$40*'Emissions per kg'!J32","v":0.15538298660459787},{"$f":"$C$40*'Emissions per kg'!K32","v":0.6579614504548762},{"$f":"$C$40*'Emissions per kg'!L32","v":4.0890259632788917E-2},{"$f":"$C$40*'Emissions per kg'!M32","v":0.37172963302535383},{"$f":"$C$40*'Emissions per kg'!N32","v":40.890259632788919},{"$f":"$C$40*'Emissions per kg'!O32","v":1791.7368311822054},{"$f":"$C$40*'Emissions per kg'!P32","v":1.0742986394432723},{"$f":"$C$40*'Emissions per kg'!Q32","v":135.68131605425413},{"$f":"$C$40*'Emissions per kg'!R32","v":5.0926959724473475E-6}]
[null,"processsing",{"$f":"(C42/(1-D41))/(1-D42)","v":3.717296330253538},0.06,{"$f":"$C$41*'Emissions per kg'!C33","v":1.1114716027458078},{"$f":"$C$41*'Emissions per kg'!D33","v":2.3158756137479543E-6},{"$f":"$C$41*'Emissions per kg'!E33","v":1.0482775651314977E-7},{"$f":"$C$41*'Emissions per kg'!F33","v":8.066533036650178E-9},{"$f":"$C$41*'Emissions per kg'!G33","v":5.5015985687752365E-8},{"$f":"$C$41*'Emissions per kg'!H33","v":0.10854505284340331},{"$f":"$C$41*'Emissions per kg'!I33","v":5.9105011651031259E-3},{"$f":"$C$41*'Emissions per kg'!J33","v":8.7356463760958139E-3},{"$f":"$C$41*'Emissions per kg'!K33","v":2.1411626862260381E-2},{"$f":"$C$41*'Emissions per kg'!L33","v":6.1707119082208731E-5},{"$f":"$C$41*'Emissions per kg'!M33","v":1.9404286843923469E-3},{"$f":"$C$41*'Emissions per kg'!N33","v":1.2824672339374705},{"$f":"$C$41*'Emissions per kg'!O33","v":14.051380128358373},{"$f":"$C$41*'Emissions per kg'!P33","v":0.20519475742999529},{"$f":"$C$41*'Emissions per kg'!Q33","v":19.06973017420065},{"$f":"$C$41*'Emissions per kg'!R33","v":2.0482302779696996E-6}]
[null,"packaging",{"$f":"C43","v":3.4942585504383255},0,{"$f":"$C$42*'Emissions per kg'!C34","v":0.2802395357451537},{"$f":"$C$42*'Emissions per kg'!D34","v":1.7680948265217928E-8},{"$f":"$C$42*'Emissions per kg'!E34","v":1.554945054945055E-8},{"$f":"$C$42*'Emissions per kg'!F34","v":1.8030374120261759E-9},{"$f":"$C$42*'Emissions per kg'!G34","v":5.6606988517100869E-9},{"$f":"$C$42*'Emissions per kg'!H34","v":2.6556364983331273E-2},{"$f":"$C$42*'Emissions per kg'!I34","v":5.0317323126311889E-4},{"$f":"$C$42*'Emissions per kg'!J34","v":1.2125077170020988E-3},{"$f":"$C$42*'Emissions per kg'!K34","v":1.7646005679713545E-3},{"$f":"$C$42*'Emissions per kg'!L34","v":1.9602790467959006E-5},{"$f":"$C$42*'Emissions per kg'!M34","v":1.6318187430546977E-4},{"$f":"$C$42*'Emissions per kg'!N34","v":0.1093702926287196},{"$f":"$C$42*'Emissions per kg'!O34","v":2.3656130386467464},{"$f":"$C$42*'Emissions per kg'!P34","v":5.4510433386837871E-2},{"$f":"$C$42*'Emissions per kg'!Q34","v":4.3328806025435238},{"$f":"$C$42*'Emissions per kg'!R34","v":3.7039140634646251E-7}]
[null,"retail",{"$f":"(C44/(1-D44))/(1-D43)","v":3.4942585504383255},0.09,{"$f":"$C$43*'Emissions per kg'!C35","v":2.4634522780590191},{"$f":"$C$43*'Emissions per kg'!D35","v":4.9967897271268053E-5},{"$f":"$C$43*'Emissions per kg'!E35","v":6.534263489319668E-8},{"$f":"$C$43*'Emissions per kg'!F35","v":3.2706260032102729E-9},{"$f":"$C$43*'Emissions per kg'!G35","v":4.2280528460303738E-8},{"$f":"$C$43*'Emissions per kg'!H35","v":2.8513149771576738E-2},{"$f":"$C$43*'Emissions per kg'!I35","v":2.9037288554142485E-3},{"$f":"$C$43*'Emissions per kg'!J35","v":2.8373379429559205E-3},{"$f":"$C$43*'Emissions per kg'!K35","v":1.0343005309297442E-2},{"$f":"$C$43*'Emissions per kg'!L35","v":9.6441535992097769E-6},{"$f":"$C$43*'Emissions per kg'!M35","v":9.4344980861834791E-4},{"$f":"$C$43*'Emissions per kg'!N35","v":1.0622545993332508},{"$f":"$C$43*'Emissions per kg'!O35","v":7.5475984689467834},{"$f":"$C$43*'Emissions per kg'!P35","v":0.16667613285590813},{"$f":"$C$43*'Emissions per kg'!Q35","v":6.5692060748240513},{"$f":"$C$43*'Emissions per kg'!R35","v":1.2684158538091121E-6}]
[null,"use ",2.83,0.11,{"$f":"$C$44*'Emissions per kg'!C36","v":0.91409000000000007},{"$f":"$C$44*'Emissions per kg'!D36","v":5.6600000000000004E-8},{"$f":"$C$44*'Emissions per kg'!E36","v":2.7139700000000003E-7},{"$f":"$C$44*'Emissions per kg'!F36","v":1.72064E-8},{"$f":"$C$44*'Emissions per kg'!G36","v":1.44896E-7},{"$f":"$C$44*'Emissions per kg'!H36","v":2.2724900000000003E-2},{"$f":"$C$44*'Emissions per kg'!I36","v":3.8770999999999996E-3},{"$f":"$C$44*'Emissions per kg'!J36","v":2.2158900000000002E-2},{"$f":"$C$44*'Emissions per kg'!K36","v":2.77057E-2},{"$f":"$C$44*'Emissions per kg'!L36","v":3.5375000000000003E-3},{"$f":"$C$44*'Emissions per kg'!M36","v":6.1128000000000002E-2},{"$f":"$C$44*'Emissions per kg'!N36","v":2.7224599999999999},{"$f":"$C$44*'Emissions per kg'!O36","v":52.071999999999996},{"$f":"$C$44*'Emissions per kg'!P36","v":8.2919},{"$f":"$C$44*'Emissions per kg'!Q36","v":32.545000000000002},{"$f":"$C$44*'Emissions per kg'!R36","v":2.8583000000000002E-6}]
[null,"end of life P&R",{"$f":"D41*C41+D43*C43+C42*D42+C40*D40","v":0.53752104935466161},null,{"$f":"$C$45*'EoL emissions'!B4","v":0.18187303100234942},{"$f":"$C$45*'EoL emissions'!C4","v":2.1763021822873796E-9},{"$f":"$C$45*'EoL emissions'!D4","v":2.0181952945398555E-7},{"$f":"$C$45*'EoL emissions'!E4","v":8.0725748010763E-9},{"$f":"$C$45*'EoL emissions'!F4","v":4.1148944842483233E-9},{"$f":"$C$45*'EoL emissions'!G4","v":1.378039049865918E-3},{"$f":"$C$45*'EoL emissions'!H4","v":2.4365423342067124E-4},{"$f":"$C$45*'EoL emissions'!I4","v":6.4560160491211095E-4},{"$f":"$C$45*'EoL emissions'!J4","v":2.6108284365651607E-3},{"$f":"$C$45*'EoL emissions'!K4","v":5.1392944242148248E-5},{"$f":"$C$45*'EoL emissions'!L4","v":2.9499200636701097E-4},{"$f":"$C$45*'EoL emissions'!M4","v":14.270360534560359},{"$f":"$C$45*'EoL emissions'!N4","v":0.73758958767497029},{"$f":"$C$45*'EoL emissions'!O4","v":7.1430667322837562E-3},{"$f":"$C$45*'EoL emissions'!P4","v":-0.13122732551069136},{"$f":"$C$45*'EoL emissions'!Q4","v":-9.9607240796665493E-9}]
[null,"end of life HH",{"$f":"D44*C44","v":0.31130000000000002},null,{"$f":"$C$46*'EoL emissions'!B5","v":0.13867436762440521},{"$f":"$C$46*'EoL emissions'!C5","v":1.1677485091677345E-9},{"$f":"$C$46*'EoL emissions'!D5","v":2.4556715890497853E-7},{"$f":"$C$46*'EoL emissions'!E5","v":5.2667150583826858E-9},{"$f":"$C$46*'EoL emissions'!F5","v":1.3076695108923002E-9},{"$f":"$C$46*'EoL emissions'!G5","v":6.8419885598412647E-4},{"$f":"$C$46*'EoL emissions'!H5","v":1.1332308171789018E-4},{"$f":"$C$46*'EoL emissions'!I5","v":1.6869624738668145E-4},{"$f":"$C$46*'EoL emissions'!J5","v":6.4358404988918512E-4},{"$f":"$C$46*'EoL emissions'!K5","v":1.4719418972039251E-5},{"$f":"$C$46*'EoL emissions'!L5","v":3.0687797708216729E-4},{"$f":"$C$46*'EoL emissions'!M5","v":17.81391890862114},{"$f":"$C$46*'EoL emissions'!N5","v":0.28884238583973315},{"$f":"$C$46*'EoL emissions'!O5","v":6.7792933492683109E-3},{"$f":"$C$46*'EoL emissions'!P5","v":4.6537074098535566E-2},{"$f":"$C$46*'EoL emissions'!Q5","v":4.5210453396009153E-9}]
["SALMON TOTAL",null,null,null,{"$f":"SUM(E40:E46)","v":29.140708071917128},{"$f":"SUM(F40:F46)","v":5.2730525409566865E-5},1.9230774438464706E-5,2.5334139933764518E-7,1.6472619008399835E-6,0.52779086045630941,7.6002058915178486E-2,0.19114167649295052,0.72244079568085973,4.4584826059152489E-2,0.43650656337611921,78.15109120186986,1868.7998547916718,9.8065023231975648,198.11344265441022,1.1632593831832557E-5]
["Seafood","SHRIMP"]
[null,"agriculture ",{"$f":"C50/(1-D49)","v":1.589374049331018},0,{"$f":"$C$49*'Emissions per kg'!C39","v":10.50576246607803},{"$f":"$C$49*'Emissions per kg'!D39","v":2.5271047384363186E-7},{"$f":"$C$49*'Emissions per kg'!E39","v":1.8595676377172912E-6},{"$f":"$C$49*'Emissions per kg'!F39","v":5.2131468818057395E-8},{"$f":"$C$49*'Emissions per kg'!G39","v":7.9150827656684707E-7},{"$f":"$C$49*'Emissions per kg'!H39","v":0.12508373768235112},{"$f":"$C$49*'Emissions per kg'!I39","v":3.9257539018476145E-2},{"$f":"$C$49*'Emissions per kg'!J39","v":7.1362894814962718E-2},{"$f":"$C$49*'Emissions per kg'!K39","v":0.1939036340183842},{"$f":"$C$49*'Emissions per kg'!L39","v":1.7483114542641197E-2},{"$f":"$C$49*'Emissions per kg'!M39","v":0.14956009804204881},{"$f":"$C$49*'Emissions per kg'!N39","v":9.6951817009192087},{"$f":"$C$49*'Emissions per kg'!O39","v":551.51279511786322},{"$f":"$C$49*'Emissions per kg'!P39","v":0.94408818530262462},{"$f":"$C$49*'Emissions per kg'!Q39","v":121.26923996395666},{"$f":"$C$49*'Emissions per kg'!R39","v":6.9932458170564792E-6}]
[null,"processsing",{"$f":"(C51/(1-D50))/(1-D51)","v":1.589374049331018},0.06,{"$f":"$C$50*'Emissions per kg'!C40","v":1.7800989352507404},{"$f":"$C$50*'Emissions per kg'!D40","v":5.2926155842722895E-6},{"$f":"$C$50*'Emissions per kg'!E40","v":8.0740201706015708E-8},{"$f":"$C$50*'Emissions per kg'!F40","v":6.1031963494311089E-9},{"$f":"$C$50*'Emissions per kg'!G40","v":1.0251462618185066E-7},{"$f":"$C$50*'Emissions per kg'!H40","v":2.9562357317556933E-2},{"$f":"$C$50*'Emissions per kg'!I40","v":6.6117960452170346E-3},{"$f":"$C$50*'Emissions per kg'!J40","v":1.1093830864330505E-2},{"$f":"$C$50*'Emissions per kg'!K40","v":2.4476360359697677E-2},{"$f":"$C$50*'Emissions per kg'!L40","v":2.8449795483025224E-5},{"$f":"$C$50*'Emissions per kg'!M40","v":2.209229928570115E-3},{"$f":"$C$50*'Emissions per kg'!N40","v":0.78356140632019189},{"$f":"$C$50*'Emissions per kg'!O40","v":7.215758183962822},{"$f":"$C$50*'Emissions per kg'!P40","v":1.153885559814319},{"$f":"$C$50*'Emissions per kg'!Q40","v":19.390363401838417},{"$f":"$C$50*'Emissions per kg'!R40","v":1.042629376361148E-6}]
[null,"packaging",{"$f":"C52","v":1.4940116063711568},0,{"$f":"$C$51*'Emissions per kg'!C41","v":0.2973083096678602},{"$f":"$C$51*'Emissions per kg'!D41","v":9.6214347450302503E-9},{"$f":"$C$51*'Emissions per kg'!E41","v":4.9302383010248172E-8},{"$f":"$C$51*'Emissions per kg'!F41","v":1.6284726509445609E-9},{"$f":"$C$51*'Emissions per kg'!G41","v":-1.52389183849858E-8},{"$f":"$C$51*'Emissions per kg'!H41","v":1.0712063217681195E-2},{"$f":"$C$51*'Emissions per kg'!I41","v":3.7947894801827384E-4},{"$f":"$C$51*'Emissions per kg'!J41","v":1.2624398073836276E-3},{"$f":"$C$51*'Emissions per kg'!K41","v":1.3117421903938757E-3},{"$f":"$C$51*'Emissions per kg'!L41","v":1.2908260279046795E-5},{"$f":"$C$51*'Emissions per kg'!M41","v":1.3864427707124336E-4},{"$f":"$C$51*'Emissions per kg'!N41","v":0.21364365971107541},{"$f":"$C$51*'Emissions per kg'!O41","v":-44.521545869860475},{"$f":"$C$51*'Emissions per kg'!P41","v":-0.1220607482405235},{"$f":"$C$51*'Emissions per kg'!Q41","v":3.884430176565008},{"$f":"$C$51*'Emissions per kg'!R41","v":3.0328435609334486E-6}]
[null,"retail",{"$f":"(C53/(1-D53))/(1-D52)","v":1.4940116063711568},0.09,{"$f":"$C$52*'Emissions per kg'!C42","v":0.57668848005926654},{"$f":"$C$52*'Emissions per kg'!D42","v":1.018915915545129E-5},{"$f":"$C$52*'Emissions per kg'!E42","v":2.5995801950858129E-8},{"$f":"$C$52*'Emissions per kg'!F42","v":1.2654278305963698E-9},{"$f":"$C$52*'Emissions per kg'!G42","v":1.6732929991356954E-8},{"$f":"$C$52*'Emissions per kg'!H42","v":1.1638350413631312E-2},{"$f":"$C$52*'Emissions per kg'!I42","v":1.1698110877886158E-3},{"$f":"$C$52*'Emissions per kg'!J42","v":1.1100506235337696E-3},{"$f":"$C$52*'Emissions per kg'!K42","v":4.1832324978392389E-3},{"$f":"$C$52*'Emissions per kg'!L42","v":3.7350290159278925E-6},{"$f":"$C$52*'Emissions per kg'!M42","v":3.8097295962464503E-4},{"$f":"$C$52*'Emissions per kg'!N42","v":0.43176935424126428},{"$f":"$C$52*'Emissions per kg'!O42","v":3.0926040251882942},{"$f":"$C$52*'Emissions per kg'!P42","v":6.5885911840968023E-2},{"$f":"$C$52*'Emissions per kg'!Q42","v":2.6294604272132358},{"$f":"$C$52*'Emissions per kg'!R42","v":4.467094703049759E-7}]
[null,"use ",1.21,0.11,{"$f":"$C$53*'Emissions per kg'!C43","v":0.25676199999999999},{"$f":"$C$53*'Emissions per kg'!D43","v":2.0115039999999995E-8},{"$f":"$C$53*'Emissions per kg'!E43","v":3.0734000000000002E-8},{"$f":"$C$53*'Emissions per kg'!F43","v":3.0491999999999998E-9},{"$f":"$C$53*'Emissions per kg'!G43","v":1.3146649999999999E-8},{"$f":"$C$53*'Emissions per kg'!H43","v":1.1217910000000001E-2},{"$f":"$C$53*'Emissions per kg'!I43","v":7.3059800000000005E-4},{"$f":"$C$53*'Emissions per kg'!J43","v":1.7364709999999998E-3},{"$f":"$C$53*'Emissions per kg'!K43","v":6.3041E-3},{"$f":"$C$53*'Emissions per kg'!L43","v":5.7781371999999999E-4},{"$f":"$C$53*'Emissions per kg'!M43","v":1.587278E-2},{"$f":"$C$53*'Emissions per kg'!N43","v":0.51195099999999993},{"$f":"$C$53*'Emissions per kg'!O43","v":7.0361500000000001},{"$f":"$C$53*'Emissions per kg'!P43","v":1.6376987000000001},{"$f":"$C$53*'Emissions per kg'!Q43","v":2.2341440000000001},{"$f":"$C$53*'Emissions per kg'!R43","v":9.6720139999999982E-7}]
[null,"end of life P&R",{"$f":"D50*C50+D52*C52+C51*D51+C49*D49","v":0.22982348753326517},null,{"$f":"$C$54*'EoL emissions'!B4","v":7.776196731902571E-2},{"$f":"$C$54*'EoL emissions'!C4","v":9.3050375991792542E-10},{"$f":"$C$54*'EoL emissions'!D4","v":8.629032884781714E-8},{"$f":"$C$54*'EoL emissions'!E4","v":3.4515249149478171E-9},{"$f":"$C$54*'EoL emissions'!F4","v":1.7593718466220744E-9},{"$f":"$C$54*'EoL emissions'!G4","v":5.8919690824655842E-4},{"$f":"$C$54*'EoL emissions'!H4","v":1.0417725174523398E-4},{"$f":"$C$54*'EoL emissions'!I4","v":2.7603460846065516E-4},{"$f":"$C$54*'EoL emissions'!J4","v":1.1162906036197328E-3},{"$f":"$C$54*'EoL emissions'!K4","v":2.1973661672437942E-5},{"$f":"$C$54*'EoL emissions'!L4","v":1.261273242770612E-4},{"$f":"$C$54*'EoL emissions'!M4","v":6.1014615713137923},{"$f":"$C$54*'EoL emissions'!N4","v":0.31536515939459858},{"$f":"$C$54*'EoL emissions'!O4","v":3.0541027371248563E-3},{"$f":"$C$54*'EoL emissions'!P4","v":-5.610779641976555E-2},{"$f":"$C$54*'EoL emissions'!Q4","v":-4.2588254898927645E-9}]
[null,"end of life HH",{"$f":"D53*C53","v":0.1331},null,{"$f":"$C$55*'EoL emissions'!B5","v":5.9291867429516011E-2},{"$f":"$C$55*'EoL emissions'!C5","v":4.9928469826606308E-10},{"$f":"$C$55*'EoL emissions'!D5","v":1.0499514568022048E-7},{"$f":"$C$55*'EoL emissions'!E5","v":2.2518463677183923E-9},{"$f":"$C$55*'EoL emissions'!F5","v":5.5910957886207889E-10},{"$f":"$C$55*'EoL emissions'!G5","v":2.9253732004975015E-4},{"$f":"$C$55*'EoL emissions'!H5","v":4.845262504545834E-5},{"$f":"$C$55*'EoL emissions'!I5","v":7.2128077504552849E-5},{"$f":"$C$55*'EoL emissions'!J5","v":2.7517197892788477E-4},{"$f":"$C$55*'EoL emissions'!K5","v":6.2934618219673119E-6},{"$f":"$C$55*'EoL emissions'!L5","v":1.3120931175597964E-4},{"$f":"$C$55*'EoL emissions'!M5","v":7.6165519008592151},{"$f":"$C$55*'EoL emissions'!N5","v":0.12349798122476222},{"$f":"$C$55*'EoL emissions'!O5","v":2.8985671210652493E-3},{"$f":"$C$55*'EoL emissions'!P5","v":1.9897476911387997E-2},{"$f":"$C$55*'EoL emissions'!Q5","v":1.9330264526208858E-9}]
["SHRIMP TOTAL",null,null,null,{"$f":"SUM(E49:E55)","v":13.553674025804439},{"$f":"SUM(F49:F55)","v":1.5765651476770424E-5},2.2376254989124509E-6,6.9881136931695643E-8,9.1098204578055296E-7,0.18909615285951686,4.8301852976290756E-2,8.6913849796175821E-2,0.2315705316488626,1.8134288470913602E-2,0.16841906184334784,25.354120593364748,524.77462459777325,3.6854502785755781,149.37142765006496,1.248030382561878E-5]
["Dairy","MILK"]
[null,"agriculture ",{"$f":"C59/(1-D58)","v":82.651465083387464},3.5000000000000003E-2,{"$f":"$C$58*'Emissions per kg'!C46","v":103.31433135423433},{"$f":"$C$58*'Emissions per kg'!D46","v":3.3473843358771924E-7},{"$f":"$C$58*'Emissions per kg'!E46","v":1.702620180717782E-4},{"$f":"$C$58*'Emissions per kg'!F46","v":1.1819159506924409E-6},{"$f":"$C$58*'Emissions per kg'!G46","v":1.3224234413341994E-5},{"$f":"$C$58*'Emissions per kg'!H46","v":0.54632618420119117},{"$f":"$C$58*'Emissions per kg'!I46","v":8.8437067639224584E-2},{"$f":"$C$58*'Emissions per kg'!J46","v":1.8679231108845566},{"$f":"$C$58*'Emissions per kg'!K46","v":8.2651465083387468},{"$f":"$C$58*'Emissions per kg'!L46","v":1.3885446134009093E-2},{"$f":"$C$58*'Emissions per kg'!M46","v":0.59922312185455917},{"$f":"$C$58*'Emissions per kg'!N46","v":252.08696850433176},{"$f":"$C$58*'Emissions per kg'!O46","v":8513.1009035889092},{"$f":"$C$58*'Emissions per kg'!P46","v":10.08347874017327},{"$f":"$C$58*'Emissions per kg'!Q46","v":245.47485129766079},{"$f":"$C$58*'Emissions per kg'!R46","v":1.6530293016677493E-6}]
[null,"processsing",{"$f":"(C60/(1-D59))/(1-D60)","v":79.758663805468899},1.7000000000000001E-2,{"$f":"$C$59*'Emissions per kg'!C47","v":5.5192995353384475},{"$f":"$C$59*'Emissions per kg'!D47","v":4.9211095567974315E-7},{"$f":"$C$59*'Emissions per kg'!E47","v":2.9909498927050834E-7},{"$f":"$C$59*'Emissions per kg'!F47","v":4.3308954446369614E-8},{"$f":"$C$59*'Emissions per kg'!G47","v":1.1245971596571116E-7},{"$f":"$C$59*'Emissions per kg'!H47","v":0.38762710609457884},{"$f":"$C$59*'Emissions per kg'!I47","v":1.4835111467817215E-2},{"$f":"$C$59*'Emissions per kg'!J47","v":2.7038187030053958E-2},{"$f":"$C$59*'Emissions per kg'!K47","v":5.311927009444229E-2},{"$f":"$C$59*'Emissions per kg'!L47","v":2.8394084314746926E-4},{"$f":"$C$59*'Emissions per kg'!M47","v":4.737664630044853E-3},{"$f":"$C$59*'Emissions per kg'!N47","v":1.8663527330479723},{"$f":"$C$59*'Emissions per kg'!O47","v":48.652784921336028},{"$f":"$C$59*'Emissions per kg'!P47","v":19.54087263233988},{"$f":"$C$59*'Emissions per kg'!Q47","v":102.88867630905489},{"$f":"$C$59*'Emissions per kg'!R47","v":7.5132661304751697E-6}]
[null,"packaging",{"$f":"C61","v":78.402766520775927},0,{"$f":"$C$60*'Emissions per kg'!C48","v":7.5345058626465669},{"$f":"$C$60*'Emissions per kg'!D48","v":7.4247419895174802E-7},{"$f":"$C$60*'Emissions per kg'!E48","v":9.643540282055439E-7},{"$f":"$C$60*'Emissions per kg'!F48","v":1.2622845409844925E-7},{"$f":"$C$60*'Emissions per kg'!G48","v":2.9165829145728646E-7},{"$f":"$C$60*'Emissions per kg'!H48","v":0.64290268547036267},{"$f":"$C$60*'Emissions per kg'!I48","v":1.2152428810720269E-2},{"$f":"$C$60*'Emissions per kg'!J48","v":3.9828605392554173E-2},{"$f":"$C$60*'Emissions per kg'!K48","v":6.2487004917058414E-2},{"$f":"$C$60*'Emissions per kg'!L48","v":8.4674987842438005E-4},{"$f":"$C$60*'Emissions per kg'!M48","v":5.6057978062354795E-3},{"$f":"$C$60*'Emissions per kg'!N48","v":6.6799157075701086},{"$f":"$C$60*'Emissions per kg'!O48","v":208.55135894526398},{"$f":"$C$60*'Emissions per kg'!P48","v":8.3890960177230234},{"$f":"$C$60*'Emissions per kg'!Q48","v":83.106932512022482},{"$f":"$C$60*'Emissions per kg'!R48","v":5.4019506132814613E-5}]
[null,"retail",{"$f":"(C62/(1-D62))/(1-D61)","v":78.402766520775927},5.0000000000000001E-3,{"$f":"$C$61*'Emissions per kg'!C49","v":11.917220511157941},{"$f":"$C$61*'Emissions per kg'!D49","v":1.1133192845950181E-4},{"$f":"$C$61*'Emissions per kg'!E49","v":1.1838817744637164E-6},{"$f":"$C$61*'Emissions per kg'!F49","v":5.5744366996271686E-8},{"$f":"$C$61*'Emissions per kg'!G49","v":7.6834711190360408E-7},{"$f":"$C$61*'Emissions per kg'!H49","v":0.52686659101961431},{"$f":"$C$61*'Emissions per kg'!I49","v":5.4097908899335384E-2},{"$f":"$C$61*'Emissions per kg'!J49","v":4.970735397417194E-2},{"$f":"$C$61*'Emissions per kg'!K49","v":0.19365483330631653},{"$f":"$C$61*'Emissions per kg'!L49","v":1.5445345004592859E-4},{"$f":"$C$61*'Emissions per kg'!M49","v":1.7640622467174582E-2},{"$f":"$C$61*'Emissions per kg'!N49","v":20.227913762360188},{"$f":"$C$61*'Emissions per kg'!O49","v":143.47706273301995},{"$f":"$C$61*'Emissions per kg'!P49","v":3.136110660831037},{"$f":"$C$61*'Emissions per kg'!Q49","v":118.38817744637166},{"$f":"$C$61*'Emissions per kg'!R49","v":1.8189441832820017E-5}]
[null,"use ",72.55,7.0000000000000007E-2,{"$f":"$C$62*'Emissions per kg'!C50","v":8.6334499999999998},{"$f":"$C$62*'Emissions per kg'!D50","v":1.1172699999999999E-6},{"$f":"$C$62*'Emissions per kg'!E50","v":1.3349199999999998E-6},{"$f":"$C$62*'Emissions per kg'!F50","v":1.6468849999999999E-7},{"$f":"$C$62*'Emissions per kg'!G50","v":5.1002649999999998E-7},{"$f":"$C$62*'Emissions per kg'!H50","v":0.54702699999999993},{"$f":"$C$62*'Emissions per kg'!I50","v":2.7859200000000001E-2},{"$f":"$C$62*'Emissions per kg'!J50","v":5.4267399999999993E-2},{"$f":"$C$62*'Emissions per kg'!K50","v":0.15815899999999999},{"$f":"$C$62*'Emissions per kg'!L50","v":3.5331849999999998E-2},{"$f":"$C$62*'Emissions per kg'!M50","v":0.28004299999999999},{"$f":"$C$62*'Emissions per kg'!N50","v":17.847300000000001},{"$f":"$C$62*'Emissions per kg'!O50","v":460.69249999999994},{"$f":"$C$62*'Emissions per kg'!P50","v":113.90349999999999},{"$f":"$C$62*'Emissions per kg'!Q50","v":115.3545},{"$f":"$C$62*'Emissions per kg'!R50","v":5.7314499999999995E-5}]
[null,"end of life P&R",{"$f":"D59*C59+D61*C61+C60*D60+C58*D58","v":4.6407123952154121},null,{"$f":"$C$63*'EoL emissions'!B4","v":1.5702090743075385},{"$f":"$C$63*'EoL emissions'!C4","v":1.87892037441153E-8},{"$f":"$C$63*'EoL emissions'!D4","v":1.7424180747118685E-6},{"$f":"$C$63*'EoL emissions'!E4","v":6.9694941222553421E-8},{"$f":"$C$63*'EoL emissions'!F4","v":3.5526128439027828E-8},{"$f":"$C$63*'EoL emissions'!G4","v":1.1897362731155291E-2},{"$f":"$C$63*'EoL emissions'!H4","v":2.1035998916499217E-3},{"$f":"$C$63*'EoL emissions'!I4","v":5.5738307809221673E-3},{"$f":"$C$63*'EoL emissions'!J4","v":2.254070589774149E-2},{"$f":"$C$63*'EoL emissions'!K4","v":4.4370331851653199E-4},{"$f":"$C$63*'EoL emissions'!L4","v":2.546826886278066E-3},{"$f":"$C$63*'EoL emissions'!M4","v":123.20380587222628},{"$f":"$C$63*'EoL emissions'!N4","v":6.3680132084400842},{"$f":"$C$63*'EoL emissions'!O4","v":6.1669991089945385E-2},{"$f":"$C$63*'EoL emissions'!P4","v":-1.1329570754849019},{"$f":"$C$63*'EoL emissions'!Q4","v":-8.5996363783941001E-8}]
[null,"end of life HH",{"$f":"D62*C62","v":5.0785},null,{"$f":"$C$64*'EoL emissions'!B5","v":2.2623121618391964},{"$f":"$C$64*'EoL emissions'!C5","v":1.9050468370730289E-8},{"$f":"$C$64*'EoL emissions'!D5","v":4.0061446080916588E-6},{"$f":"$C$64*'EoL emissions'!E5","v":8.5920373992921516E-8},{"$f":"$C$64*'EoL emissions'!F5","v":2.1333117928257455E-8},{"$f":"$C$64*'EoL emissions'!G5","v":1.1161914198892984E-2},{"$f":"$C$64*'EoL emissions'!H5","v":1.8487352088156289E-3},{"$f":"$C$64*'EoL emissions'!I5","v":2.7520844598562856E-3},{"$f":"$C$64*'EoL emissions'!J5","v":1.0499330540835934E-2},{"$f":"$C$64*'EoL emissions'!K5","v":2.4013032203501873E-4},{"$f":"$C$64*'EoL emissions'!L5","v":5.0063598028004704E-3},{"$f":"$C$64*'EoL emissions'!M5","v":290.61351486486495},{"$f":"$C$64*'EoL emissions'!N5","v":4.7121299598043196},{"$f":"$C$64*'EoL emissions'!O5","v":0.11059634203102832},{"$f":"$C$64*'EoL emissions'!P5","v":0.75919862129589744},{"$f":"$C$64*'EoL emissions'!Q5","v":7.3755633656162048E-8}]
["MILK TOTAL",null,null,null,{"$f":"SUM(E58:E64)","v":140.75132849952402},{"$f":"SUM(F58:F64)","v":1.1405636171983587E-4},1.7979283154652152E-4,1.727501541449006E-6,1.4963585279035879E-5,2.6738088437157952,0.20133405191756301,2.0470905725221153,8.7656066530951406,5.1186273946178418E-2,0.91480339344709272,712.52577144440124,9385.5547533567733,155.22532438418818,664.83937911092085,1.3867750266764975E-4]
["Dairy","CHEESE"]
[null,"agriculture ",{"$f":"C68/(1-D67)","v":15.646940350198738},3.5000000000000003E-2,{"$f":"$C$67*'Emissions per kg'!C53","v":181.50450806230535},{"$f":"$C$67*'Emissions per kg'!D53","v":5.9145434523751233E-7},{"$f":"$C$67*'Emissions per kg'!E53","v":3.0198594875883566E-4},{"$f":"$C$67*'Emissions per kg'!F53","v":2.0810430665764324E-6},{"$f":"$C$67*'Emissions per kg'!G53","v":2.347041052529811E-5},{"$f":"$C$67*'Emissions per kg'!H53","v":0.96541621960726209},{"$f":"$C$67*'Emissions per kg'!I53","v":0.15646940350198738},{"$f":"$C$67*'Emissions per kg'!J53","v":3.3015044138919336},{"$f":"$C$67*'Emissions per kg'!K53","v":14.661183108136219},{"$f":"$C$67*'Emissions per kg'!L53","v":2.4409226946310033E-2},{"$f":"$C$67*'Emissions per kg'!M53","v":1.0592978617084545},{"$f":"$C$67*'Emissions per kg'!N53","v":445.93779998066407},{"$f":"$C$67*'Emissions per kg'!O53","v":15052.356616891186},{"$f":"$C$67*'Emissions per kg'!P53","v":17.83751199922656},{"$f":"$C$67*'Emissions per kg'!Q53","v":433.42024770050506},{"$f":"$C$67*'Emissions per kg'!R53","v":2.9259778454871638E-6}]
[null,"processsing",{"$f":"(C69/(1-D68))/(1-D69)","v":15.099297437941782},0,{"$f":"$C$68*'Emissions per kg'!C54","v":33.973419235369008},{"$f":"$C$68*'Emissions per kg'!D54","v":7.0060740112049875E-6},{"$f":"$C$68*'Emissions per kg'!E54","v":3.9711152261786892E-6},{"$f":"$C$68*'Emissions per kg'!F54","v":1.1807650596470473E-7},{"$f":"$C$68*'Emissions per kg'!G54","v":7.3684571497155897E-7},{"$f":"$C$68*'Emissions per kg'!H54","v":2.1591995336256748},{"$f":"$C$68*'Emissions per kg'!I54","v":6.356804221373491E-2},{"$f":"$C$68*'Emissions per kg'!J54","v":0.12532416873491681},{"$f":"$C$68*'Emissions per kg'!K54","v":0.26574763490777537},{"$f":"$C$68*'Emissions per kg'!L54","v":6.1001161649284802E-4},{"$f":"$C$68*'Emissions per kg'!M54","v":2.0082065592462572E-2},{"$f":"$C$68*'Emissions per kg'!N54","v":15.069098843065898},{"$f":"$C$68*'Emissions per kg'!O54","v":105.84607503997189},{"$f":"$C$68*'Emissions per kg'!P54","v":22.799939131292092},{"$f":"$C$68*'Emissions per kg'!Q54","v":474.11793955137193},{"$f":"$C$68*'Emissions per kg'!R54","v":2.2799939131292091E-5}]
[null,"packaging",{"$f":"C70","v":15.099297437941782},0,{"$f":"$C$69*'Emissions per kg'!C55","v":1.796816395115072},{"$f":"$C$69*'Emissions per kg'!D55","v":5.6471372417902263E-8},{"$f":"$C$69*'Emissions per kg'!E55","v":3.2614482465954253E-7},{"$f":"$C$69*'Emissions per kg'!F55","v":1.5854262309838873E-8},{"$f":"$C$69*'Emissions per kg'!G55","v":-2.1893981285015586E-7},{"$f":"$C$69*'Emissions per kg'!H55","v":3.8956187389889797E-2},{"$f":"$C$69*'Emissions per kg'!I55","v":8.5915002421888746E-4},{"$f":"$C$69*'Emissions per kg'!J55","v":3.5030370056024934E-3},{"$f":"$C$69*'Emissions per kg'!K55","v":4.650583610886069E-3},{"$f":"$C$69*'Emissions per kg'!L55","v":7.4741522317811826E-5},{"$f":"$C$69*'Emissions per kg'!M55","v":1.2924998606878165E-3},{"$f":"$C$69*'Emissions per kg'!N55","v":2.2497953182533257},{"$f":"$C$69*'Emissions per kg'!O55","v":-454.48885288204769},{"$f":"$C$69*'Emissions per kg'!P55","v":-1.6156248258597707},{"$f":"$C$69*'Emissions per kg'!Q55","v":22.044974259395001},{"$f":"$C$69*'Emissions per kg'!R55","v":5.9038252982352365E-6}]
[null,"retail",{"$f":"(C71/(1-D71))/(1-D70)","v":15.099297437941782},3.4000000000000002E-2,{"$f":"$C$70*'Emissions per kg'!C56","v":15.703269335459455},{"$f":"$C$70*'Emissions per kg'!D56","v":3.2161503542815995E-4},{"$f":"$C$70*'Emissions per kg'!E56","v":2.7782707285812877E-7},{"$f":"$C$70*'Emissions per kg'!F56","v":1.4344332566044694E-8},{"$f":"$C$70*'Emissions per kg'!G56","v":1.7968163951150723E-7},{"$f":"$C$70*'Emissions per kg'!H56","v":0.12154934437543134},{"$f":"$C$70*'Emissions per kg'!I56","v":1.2290828114484611E-2},{"$f":"$C$70*'Emissions per kg'!J56","v":1.2502218278615794E-2},{"$f":"$C$70*'Emissions per kg'!K56","v":4.3787962570031168E-2},{"$f":"$C$70*'Emissions per kg'!L56","v":4.4089948518790005E-5},{"$f":"$C$70*'Emissions per kg'!M56","v":3.986214523616631E-3},{"$f":"$C$70*'Emissions per kg'!N56","v":4.3938955544410581},{"$f":"$C$70*'Emissions per kg'!O56","v":31.406538670918909},{"$f":"$C$70*'Emissions per kg'!P56","v":0.74892515292191242},{"$f":"$C$70*'Emissions per kg'!Q56","v":28.235686208951133},{"$f":"$C$70*'Emissions per kg'!R56","v":3.1255545696539488E-5}]
[null,"use ",14.09,3.4000000000000002E-2,{"$f":"$C$71*'Emissions per kg'!C57","v":3.22661},{"$f":"$C$71*'Emissions per kg'!D57","v":4.5228900000000006E-7},{"$f":"$C$71*'Emissions per kg'!E57","v":6.0446099999999998E-7},{"$f":"$C$71*'Emissions per kg'!F57","v":5.2414799999999999E-8},{"$f":"$C$71*'Emissions per kg'!G57","v":2.4798399999999998E-7},{"$f":"$C$71*'Emissions per kg'!H57","v":0.157808},{"$f":"$C$71*'Emissions per kg'!I57","v":1.292053E-2},{"$f":"$C$71*'Emissions per kg'!J57","v":3.1138900000000001E-2},{"$f":"$C$71*'Emissions per kg'!K57","v":0.1149744},{"$f":"$C$71*'Emissions per kg'!L57","v":2.88845E-2},{"$f":"$C$71*'Emissions per kg'!M57","v":0.30152599999999996},{"$f":"$C$71*'Emissions per kg'!N57","v":12.15967},{"$f":"$C$71*'Emissions per kg'!O57","v":101.44800000000001},{"$f":"$C$71*'Emissions per kg'!P57","v":23.5303},{"$f":"$C$71*'Emissions per kg'!Q57","v":35.929499999999997},{"$f":"$C$71*'Emissions per kg'!R57","v":2.3248499999999999E-5}]
[null,"end of life P&R",{"$f":"D68*C68+D70*C70+C69*D69+C67*D67","v":1.0610190251469764},null,{"$f":"$C$72*'EoL emissions'!B4","v":0.35900128243594537},{"$f":"$C$72*'EoL emissions'!C4","v":4.2958280845895349E-9},{"$f":"$C$72*'EoL emissions'!D4","v":3.9837390675951244E-7},{"$f":"$C$72*'EoL emissions'!E4","v":1.5934548900265767E-8},{"$f":"$C$72*'EoL emissions'!F4","v":8.1224378831332237E-9},{"$f":"$C$72*'EoL emissions'!G4","v":2.7201272416375218E-3},{"$f":"$C$72*'EoL emissions'!H4","v":4.8095191346889799E-4},{"$f":"$C$72*'EoL emissions'!I4","v":1.274360485602499E-3},{"$f":"$C$72*'EoL emissions'!J4","v":5.1535444907992931E-3},{"$f":"$C$72*'EoL emissions'!K4","v":1.0144512789723023E-4},{"$f":"$C$72*'EoL emissions'!L4","v":5.8228813810631136E-4},{"$f":"$C$72*'EoL emissions'!M4","v":28.168429945307793},{"$f":"$C$72*'EoL emissions'!N4","v":1.4559366302269074},{"$f":"$C$72*'EoL emissions'!O4","v":1.4099782157269264E-2},{"$f":"$C$72*'EoL emissions'!P4","v":-0.2590311377631842},{"$f":"$C$72*'EoL emissions'!Q4","v":-1.9661588630722824E-8}]
[null,"end of life HH",{"$f":"D71*C71","v":0.47906000000000004},null,{"$f":"$C$73*'EoL emissions'!B5","v":0.21340617588868477},{"$f":"$C$73*'EoL emissions'!C5","v":1.7970497937741565E-9},{"$f":"$C$73*'EoL emissions'!D5","v":3.7790364004182139E-7},{"$f":"$C$73*'EoL emissions'!E5","v":8.1049550782807892E-9},{"$f":"$C$73*'EoL emissions'!F5","v":2.0123744166015591E-9},{"$f":"$C$73*'EoL emissions'!G5","v":1.0529145645607311E-3},{"$f":"$C$73*'EoL emissions'!H5","v":1.7439304698931086E-4},{"$f":"$C$73*'EoL emissions'!I5","v":2.5960688812420055E-4},{"$f":"$C$73*'EoL emissions'!J5","v":9.9041238335982325E-4},{"$f":"$C$73*'EoL emissions'!K5","v":2.2651734188066574E-5},{"$f":"$C$73*'EoL emissions'!L5","v":4.7225494282358838E-4},{"$f":"$C$73*'EoL emissions'!M5","v":27.413864414918226},{"$f":"$C$73*'EoL emissions'!N5","v":0.44449994654796837},{"$f":"$C$73*'EoL emissions'!O5","v":1.0432663899455435E-2},{"$f":"$C$73*'EoL emissions'!P5","v":7.1615967612092671E-2},{"$f":"$C$73*'EoL emissions'!Q5","v":6.9574429180508019E-9}]
["CHEESE TOTAL",null,null,null,{"$f":"SUM(E67:E73)","v":236.77703048657347},{"$f":"SUM(F67:F73)","v":3.2972741703489868E-4},3.0794177442933343E-4,2.3057724713955671E-6,2.4426116879230754E-5,3.4467023268044561,0.24676329881488401,3.4755067052847952,15.096487646099069,5.4146666895724782E-2,1.3872391847661514,535.39255405665028,14838.468814296804,63.325583903637522,993.56093255007193,8.6121083825841313E-5]
["Dairy","BUTTER"]
[null,"agriculture ",{"$f":"C77/(1-D76)","v":4.5641536436704619},3.5000000000000003E-2,{"$f":"$C$76*'Emissions per kg'!C60","v":127.79630202277293},{"$f":"$C$76*'Emissions per kg'!D60","v":4.1625081230274611E-7},{"$f":"$C$76*'Emissions per kg'!E60","v":2.1223314443067647E-4},{"$f":"$C$76*'Emissions per kg'!F60","v":1.4696574732618887E-6},{"$f":"$C$76*'Emissions per kg'!G60","v":1.647659465365037E-5},{"$f":"$C$76*'Emissions per kg'!H60","v":0.6800588929068988},{"$f":"$C$76*'Emissions per kg'!I60","v":0.10999610281245813},{"$f":"$C$76*'Emissions per kg'!J60","v":2.3185900509845947},{"$f":"$C$76*'Emissions per kg'!K60","v":10.314987234695243},{"$f":"$C$76*'Emissions per kg'!L60","v":1.7206859236637641E-2},{"$f":"$C$76*'Emissions per kg'!M60","v":0.74395704391828532},{"$f":"$C$76*'Emissions per kg'!N60","v":313.10093995579365},{"$f":"$C$76*'Emissions per kg'!O60","v":10588.836453315471},{"$f":"$C$76*'Emissions per kg'!P60","v":12.551422520093769},{"$f":"$C$76*'Emissions per kg'!Q60","v":304.88546339718687},{"$f":"$C$76*'Emissions per kg'!R60","v":2.0538691396517079E-6}]
[null,"processsing",{"$f":"(C78/(1-D77))/(1-D78)","v":4.4044082661419957},0,{"$f":"$C$77*'Emissions per kg'!C61","v":2.224226174401708},{"$f":"$C$77*'Emissions per kg'!D61","v":4.1313349536411921E-7},{"$f":"$C$77*'Emissions per kg'!E61","v":2.8188212903308773E-7},{"$f":"$C$77*'Emissions per kg'!F61","v":1.4578591360930005E-8},{"$f":"$C$77*'Emissions per kg'!G61","v":1.0922932500032149E-7},{"$f":"$C$77*'Emissions per kg'!H61","v":0.1863064696578064},{"$f":"$C$77*'Emissions per kg'!I61","v":8.5885961189768913E-3},{"$f":"$C$77*'Emissions per kg'!J61","v":1.1803814153260549E-2},{"$f":"$C$77*'Emissions per kg'!K61","v":3.1755783598883792E-2},{"$f":"$C$77*'Emissions per kg'!L61","v":8.5885961189768913E-5},{"$f":"$C$77*'Emissions per kg'!M61","v":2.8320345151293031E-3},{"$f":"$C$77*'Emissions per kg'!N61","v":2.7043066754111851},{"$f":"$C$77*'Emissions per kg'!O61","v":23.519540141198256},{"$f":"$C$77*'Emissions per kg'!P61","v":2.1713732752080039},{"$f":"$C$77*'Emissions per kg'!Q61","v":35.984015534380106},{"$f":"$C$77*'Emissions per kg'!R61","v":3.6776809022285667E-6}]
[null,"packaging",{"$f":"C79","v":4.4044082661419957},0,{"$f":"$C$78*'Emissions per kg'!C62","v":0.89409487802682519},{"$f":"$C$78*'Emissions per kg'!D62","v":2.898100639121433E-7},{"$f":"$C$78*'Emissions per kg'!E62","v":7.4434499697799718E-8},{"$f":"$C$78*'Emissions per kg'!F62","v":1.5371384848835565E-8},{"$f":"$C$78*'Emissions per kg'!G62","v":7.4434499697799718E-8},{"$f":"$C$78*'Emissions per kg'!H62","v":2.6602625927497656E-2},{"$f":"$C$78*'Emissions per kg'!I62","v":2.8232256985970192E-3},{"$f":"$C$78*'Emissions per kg'!J62","v":5.8138189113074341E-3},{"$f":"$C$78*'Emissions per kg'!K62","v":1.0042050846803749E-2},{"$f":"$C$78*'Emissions per kg'!L62","v":4.4484523488034154E-5},{"$f":"$C$78*'Emissions per kg'!M62","v":9.46947777220529E-4},{"$f":"$C$78*'Emissions per kg'!N62","v":0.58578629939688542},{"$f":"$C$78*'Emissions per kg'!O62","v":23.035055231922637},{"$f":"$C$78*'Emissions per kg'!P62","v":0.54614662500160749},{"$f":"$C$78*'Emissions per kg'!Q62","v":13.521533377055926},{"$f":"$C$78*'Emissions per kg'!R62","v":1.6868883659323843E-5}]
[null,"retail",{"$f":"(C80/(1-D80))/(1-D79)","v":4.4044082661419957},3.4000000000000002E-2,{"$f":"$C$79*'Emissions per kg'!C63","v":4.5365405141262558},{"$f":"$C$79*'Emissions per kg'!D63","v":9.3813896068824506E-5},{"$f":"$C$79*'Emissions per kg'!E63","v":7.3553618044571326E-8},{"$f":"$C$79*'Emissions per kg'!F63","v":3.8582616411403881E-9},{"$f":"$C$79*'Emissions per kg'!G63","v":4.7567609274333554E-8},{"$f":"$C$79*'Emissions per kg'!H63","v":3.2592621169450768E-2},{"$f":"$C$79*'Emissions per kg'!I63","v":3.2020048094852306E-3},{"$f":"$C$79*'Emissions per kg'!J63","v":3.2812841582757868E-3},{"$f":"$C$79*'Emissions per kg'!K63","v":1.1363373326646348E-2},{"$f":"$C$79*'Emissions per kg'!L63","v":1.2376387227859008E-5},{"$f":"$C$79*'Emissions per kg'!M63","v":1.035035942543369E-3},{"$f":"$C$79*'Emissions per kg'!N63","v":1.1495505574630609},{"$f":"$C$79*'Emissions per kg'!O63","v":8.2802875403469507},{"$f":"$C$79*'Emissions per kg'!P63","v":0.2127329192546584},{"$f":"$C$79*'Emissions per kg'!Q63","v":7.5755822177642322},{"$f":"$C$79*'Emissions per kg'!R63","v":1.6208222419402545E-6}]
[null,"use ",4.1100000000000003,3.4000000000000002E-2,{"$f":"$C$80*'Emissions per kg'!C64","v":1.1179200000000002},{"$f":"$C$80*'Emissions per kg'!D64","v":1.5946800000000001E-7},{"$f":"$C$80*'Emissions per kg'!E64","v":1.18368E-7},{"$f":"$C$80*'Emissions per kg'!F64","v":1.8042900000000003E-8},{"$f":"$C$80*'Emissions per kg'!G64","v":5.0553000000000003E-8},{"$f":"$C$80*'Emissions per kg'!H64","v":6.0006000000000004E-2},{"$f":"$C$80*'Emissions per kg'!I64","v":3.1646999999999999E-3},{"$f":"$C$80*'Emissions per kg'!J64","v":4.3566000000000004E-3},{"$f":"$C$80*'Emissions per kg'!K64","v":1.00695E-2},{"$f":"$C$80*'Emissions per kg'!L64","v":5.5485000000000007E-4},{"$f":"$C$80*'Emissions per kg'!M64","v":3.6825600000000001E-3},{"$f":"$C$80*'Emissions per kg'!N64","v":1.8947100000000003},{"$f":"$C$80*'Emissions per kg'!O64","v":32.140200000000007},{"$f":"$C$80*'Emissions per kg'!P64","v":7.0692000000000004},{"$f":"$C$80*'Emissions per kg'!Q64","v":14.015100000000002},{"$f":"$C$80*'Emissions per kg'!R64","v":9.4530000000000008E-6}]
[null,"end of life P&R",{"$f":"D77*C77+D79*C79+C78*D78+C76*D76","v":0.30949525857729404},null,{"$f":"$C$81*'EoL emissions'!B4","v":0.10471932369139357},{"$f":"$C$81*'EoL emissions'!C4","v":1.2530768933756556E-9},{"$f":"$C$81*'EoL emissions'!D4","v":1.1620417010515232E-7},{"$f":"$C$81*'EoL emissions'!E4","v":4.6480479758759616E-9},{"$f":"$C$81*'EoL emissions'!F4","v":2.3692845776918059E-9},{"$f":"$C$81*'EoL emissions'!G4","v":7.9345088453727569E-4},{"$f":"$C$81*'EoL emissions'!H4","v":1.4029186404238258E-4},{"$f":"$C$81*'EoL emissions'!I4","v":3.7172616010122575E-4},{"$f":"$C$81*'EoL emissions'!J4","v":1.5032695427384737E-3},{"$f":"$C$81*'EoL emissions'!K4","v":2.9591162218425567E-5},{"$f":"$C$81*'EoL emissions'!L4","v":1.6985125958956279E-4},{"$f":"$C$81*'EoL emissions'!M4","v":8.2166250585674252},{"$f":"$C$81*'EoL emissions'!N4","v":0.42469123848350532},{"$f":"$C$81*'EoL emissions'!O4","v":4.1128534184795371E-3},{"$f":"$C$81*'EoL emissions'!P4","v":-7.5558408531347557E-2},{"$f":"$C$81*'EoL emissions'!Q4","v":-5.7352114458673388E-9}]
[null,"end of life HH",{"$f":"D80*C80","v":0.13974000000000003},null,{"$f":"$C$82*'EoL emissions'!B5","v":6.2249778772355893E-2},{"$f":"$C$82*'EoL emissions'!C5","v":5.2419266518181575E-10},{"$f":"$C$82*'EoL emissions'!D5","v":1.1023307030318568E-7},{"$f":"$C$82*'EoL emissions'!E5","v":2.3641849092784989E-9},{"$f":"$C$82*'EoL emissions'!F5","v":5.870020477098942E-10},{"$f":"$C$82*'EoL emissions'!G5","v":3.0713121790948233E-4},{"$f":"$C$82*'EoL emissions'!H5","v":5.0869795821580392E-5},{"$f":"$C$82*'EoL emissions'!I5","v":7.572635274595205E-5},{"$f":"$C$82*'EoL emissions'!J5","v":2.8889956675719479E-4},{"$f":"$C$82*'EoL emissions'!K5","v":6.6074256574133163E-6},{"$f":"$C$82*'EoL emissions'!L5","v":1.3775499041908788E-4},{"$f":"$C$82*'EoL emissions'!M5","v":7.9965211316759355},{"$f":"$C$82*'EoL emissions'!N5","v":0.12965896240682401},{"$f":"$C$82*'EoL emissions'!O5","v":3.0431688166615931E-3},{"$f":"$C$82*'EoL emissions'!P5","v":2.0890108366621783E-2},{"$f":"$C$82*'EoL emissions'!Q5","v":2.0294599285442726E-9}]
["BUTTER TOTAL",null,null,null,{"$f":"SUM(E76:E82)","v":136.73605269179149},{"$f":"SUM(F76:F82)","v":9.5094335709962075E-5},2.1300781991786025E-4,1.5285208439979492E-6,1.676133537424823E-5,0.98666719176410034,0.12796579109938122,2.3442930207202854,10.380010111577073,1.7940654696419141E-2,0.75276122840318715,335.64843967830814,10676.36588642983,22.55803136179318,375.92702622622244,3.3670550191627054E-5]
["Eggs","EGGS"]
[null,"agriculture ",{"$f":"C86/(1-D85)","v":14.159768144779743},0,{"$f":"$C$85*'Emissions per kg'!C67","v":69.807656953764138},{"$f":"$C$85*'Emissions per kg'!D67","v":8.0427483062348945E-7},{"$f":"$C$85*'Emissions per kg'!E67","v":1.0860542167046063E-4},{"$f":"$C$85*'Emissions per kg'!F67","v":1.0605666340440029E-6},{"$f":"$C$85*'Emissions per kg'!G67","v":1.4867756552018729E-5},{"$f":"$C$85*'Emissions per kg'!H67","v":1.2857069475460008},{"$f":"$C$85*'Emissions per kg'!I67","v":9.6144825703054465E-2},{"$f":"$C$85*'Emissions per kg'!J67","v":1.9257284676900452},{"$f":"$C$85*'Emissions per kg'!K67","v":8.4958608868678454},{"$f":"$C$85*'Emissions per kg'!L67","v":1.0832222630756503E-2},{"$f":"$C$85*'Emissions per kg'!M67","v":0.443200742931606},{"$f":"$C$85*'Emissions per kg'!N67","v":246.37996571916753},{"$f":"$C$85*'Emissions per kg'!O67","v":10265.831904965315},{"$f":"$C$85*'Emissions per kg'!P67","v":17.982905543870274},{"$f":"$C$85*'Emissions per kg'!Q67","v":291.69122378246271},{"$f":"$C$85*'Emissions per kg'!R67","v":2.0814859172826222E-6}]
[null,"processsing",{"$f":"(C87/(1-D86))/(1-D87)","v":14.159768144779743},1.0999999999999999E-2,{"$f":"$C$86*'Emissions per kg'!C68","v":1.5009354233466528},{"$f":"$C$86*'Emissions per kg'!D68","v":1.5292549596362122E-5},{"$f":"$C$86*'Emissions per kg'!E68","v":6.4002152014404446E-8},{"$f":"$C$86*'Emissions per kg'!F68","v":7.1365231449689906E-9},{"$f":"$C$86*'Emissions per kg'!G68","v":3.5257822680501558E-8},{"$f":"$C$86*'Emissions per kg'!H68","v":0.10478228427137011},{"$f":"$C$86*'Emissions per kg'!I68","v":2.76115478823205E-3},{"$f":"$C$86*'Emissions per kg'!J68","v":4.8709602418042317E-3},{"$f":"$C$86*'Emissions per kg'!K68","v":9.6994411791741231E-3},{"$f":"$C$86*'Emissions per kg'!L68","v":6.9807656953764139E-5},{"$f":"$C$86*'Emissions per kg'!M68","v":8.8923343949216783E-4},{"$f":"$C$86*'Emissions per kg'!N68","v":0.443200742931606},{"$f":"$C$86*'Emissions per kg'!O68","v":9.5720032658711069},{"$f":"$C$86*'Emissions per kg'!P68","v":0.44744867337503996},{"$f":"$C$86*'Emissions per kg'!Q68","v":17.274917136631288},{"$f":"$C$86*'Emissions per kg'!R68","v":1.6850124092287893E-6}]
[null,"packaging",{"$f":"C88","v":14.004010695187166},0,{"$f":"$C$87*'Emissions per kg'!C69","v":1.442413101604278},{"$f":"$C$87*'Emissions per kg'!D69","v":4.4672794117647059E-8},{"$f":"$C$87*'Emissions per kg'!E69","v":2.6747660427807485E-7},{"$f":"$C$87*'Emissions per kg'!F69","v":8.5564505347593572E-9},{"$f":"$C$87*'Emissions per kg'!G69","v":-1.0657052139037433E-7},{"$f":"$C$87*'Emissions per kg'!H69","v":4.7333556149732621E-2},{"$f":"$C$87*'Emissions per kg'!I69","v":1.5124331550802137E-3},{"$f":"$C$87*'Emissions per kg'!J69","v":5.6856283422459892E-3},{"$f":"$C$87*'Emissions per kg'!K69","v":5.4335561497326204E-3},{"$f":"$C$87*'Emissions per kg'!L69","v":6.4978609625668442E-5},{"$f":"$C$87*'Emissions per kg'!M69","v":6.9179812834224599E-4},{"$f":"$C$87*'Emissions per kg'!N69","v":1.1343248663101604},{"$f":"$C$87*'Emissions per kg'!O69","v":-270.27740641711233},{"$f":"$C$87*'Emissions per kg'!P69","v":-0.87385026737967908},{"$f":"$C$87*'Emissions per kg'!Q69","v":19.185494652406419},{"$f":"$C$87*'Emissions per kg'!R69","v":1.7785093582887699E-5}]
[null,"retail",{"$f":"(C89/(1-D89))/(1-D88)","v":14.004010695187166},0.04,{"$f":"$C$88*'Emissions per kg'!C70","v":1.4004010695187166},{"$f":"$C$88*'Emissions per kg'!D70","v":1.2001437165775402E-6},{"$f":"$C$88*'Emissions per kg'!E70","v":2.212633689839572E-7},{"$f":"$C$88*'Emissions per kg'!F70","v":1.022292780748663E-8},{"$f":"$C$88*'Emissions per kg'!G70","v":1.428409090909091E-7},{"$f":"$C$88*'Emissions per kg'!H70","v":9.690775401069518E-2},{"$f":"$C$88*'Emissions per kg'!I70","v":1.0110895721925134E-2},{"$f":"$C$88*'Emissions per kg'!J70","v":9.1726270053475931E-3},{"$f":"$C$88*'Emissions per kg'!K70","v":3.6270387700534756E-2},{"$f":"$C$88*'Emissions per kg'!L70","v":2.7027740641711231E-5},{"$f":"$C$88*'Emissions per kg'!M70","v":3.304946524064171E-3},{"$f":"$C$88*'Emissions per kg'!N70","v":3.7950868983957222},{"$f":"$C$88*'Emissions per kg'!O70","v":26.887700534759357},{"$f":"$C$88*'Emissions per kg'!P70","v":0.55876002673796787},{"$f":"$C$88*'Emissions per kg'!Q70","v":21.84625668449198},{"$f":"$C$88*'Emissions per kg'!R70","v":3.2489304812834226E-6}]
[null,"use ",12.57,6.5000000000000002E-2,{"$f":"$C$89*'Emissions per kg'!C71","v":7.6953540000000009},{"$f":"$C$89*'Emissions per kg'!D71","v":4.3587731999999998E-7},{"$f":"$C$89*'Emissions per kg'!E71","v":3.9922319999999996E-7},{"$f":"$C$89*'Emissions per kg'!F71","v":5.7193500000000002E-8},{"$f":"$C$89*'Emissions per kg'!G71","v":1.9624284000000002E-7},{"$f":"$C$89*'Emissions per kg'!H71","v":0.44874899999999995},{"$f":"$C$89*'Emissions per kg'!I71","v":1.6387509000000001E-2},{"$f":"$C$89*'Emissions per kg'!J71","v":3.4952142000000005E-2},{"$f":"$C$89*'Emissions per kg'!K71","v":9.1773569999999999E-2},{"$f":"$C$89*'Emissions per kg'!L71","v":1.108152345E-2},{"$f":"$C$89*'Emissions per kg'!M71","v":0.14366253000000001},{"$f":"$C$89*'Emissions per kg'!N71","v":2.7553439999999996},{"$f":"$C$89*'Emissions per kg'!O71","v":100.87425},{"$f":"$C$89*'Emissions per kg'!P71","v":18.148817399999999},{"$f":"$C$89*'Emissions per kg'!Q71","v":91.649127000000007},{"$f":"$C$89*'Emissions per kg'!R71","v":1.6247604899999999E-5}]
[null,"end of life P&R",{"$f":"D86*C86+D88*C88+C87*D87+C85*D85","v":0.71591787740006385},null,{"$f":"$C$90*'EoL emissions'!B4","v":0.24223452173238844},{"$f":"$C$90*'EoL emissions'!C4","v":2.8985909310805214E-9},{"$f":"$C$90*'EoL emissions'!D4","v":2.6880102522132784E-7},{"$f":"$C$90*'EoL emissions'!E4","v":1.0751766137676498E-8},{"$f":"$C$90*'EoL emissions'!F4","v":5.4805789064914167E-9},{"$f":"$C$90*'EoL emissions'!G4","v":1.8353937817669815E-3},{"$f":"$C$90*'EoL emissions'!H4","v":3.2452016868826249E-4},{"$f":"$C$90*'EoL emissions'!I4","v":8.5986908082885248E-4},{"$f":"$C$90*'EoL emissions'!J4","v":3.4773312688042867E-3},{"$f":"$C$90*'EoL emissions'!K4","v":6.8449649738092669E-5},{"$f":"$C$90*'EoL emissions'!L4","v":3.9289633643521064E-4},{"$f":"$C$90*'EoL emissions'!M4","v":19.006523067146361},{"$f":"$C$90*'EoL emissions'!N4","v":0.98238677840546884},{"$f":"$C$90*'EoL emissions'!O4","v":9.5137654222903368E-3},{"$f":"$C$90*'EoL emissions'!P4","v":-0.17478011037761909},{"$f":"$C$90*'EoL emissions'!Q4","v":-1.3266569651633192E-8}]
[null,"end of life HH",{"$f":"D89*C89","v":0.81705000000000005},null,{"$f":"$C$91*'EoL emissions'!B5","v":0.36397009979929423},{"$f":"$C$91*'EoL emissions'!C5","v":3.0649178265836732E-9},{"$f":"$C$91*'EoL emissions'!D5","v":6.4452504716772464E-7},{"$f":"$C$91*'EoL emissions'!E5","v":1.382322370206095E-8},{"$f":"$C$91*'EoL emissions'!F5","v":3.4321598903776224E-9},{"$f":"$C$91*'EoL emissions'!G5","v":1.7957747358876663E-3},{"$f":"$C$91*'EoL emissions'!H5","v":2.9743213593833013E-4},{"$f":"$C$91*'EoL emissions'!I5","v":4.4276668463632537E-4},{"$f":"$C$91*'EoL emissions'!J5","v":1.6891755475809786E-3},{"$f":"$C$91*'EoL emissions'!K5","v":3.8633155384210315E-5},{"$f":"$C$91*'EoL emissions'!L5","v":8.0544378790550839E-4},{"$f":"$C$91*'EoL emissions'!M5","v":46.755099403433675},{"$f":"$C$91*'EoL emissions'!N5","v":0.75810687873547689},{"$f":"$C$91*'EoL emissions'!O5","v":1.7793195088402422E-2},{"$f":"$C$91*'EoL emissions'!P5","v":0.12214300158113874},{"$f":"$C$91*'EoL emissions'!Q5","v":1.1866110166144966E-8}]
["EGGS TOTAL",null,null,null,{"$f":"SUM(E85:E91)","v":82.452965169765449},{"$f":"SUM(F85:F91)","v":1.7783481766438462E-5},1.1047071306812609E-4,1.1682510253709553E-6,1.5144440341196633E-5,1.9871107104954533,0.12753877067291847,1.9817124610449082,8.6442043487136733,2.2182642893099947E-2,0.59294759114784523,320.26954469738502,10134.628946005974,36.291388337114292,441.59438214719597,4.1046726831197042E-5]
["Legumes","BEANS"]
[null,"agriculture ",{"$f":"C95/(1-D94)","v":2.9461279461279464},0,{"$f":"$C$94*'Emissions per kg'!C74","v":3.388047138047138},{"$f":"$C$94*'Emissions per kg'!D74","v":5.0673400673400671E-8},{"$f":"$C$94*'Emissions per kg'!E74","v":2.9284511784511786E-6},{"$f":"$C$94*'Emissions per kg'!F74","v":1.1195286195286197E-7},{"$f":"$C$94*'Emissions per kg'!G74","v":1.2196969696969697E-6},{"$f":"$C$94*'Emissions per kg'!H74","v":1.4730639730639733E-2},{"$f":"$C$94*'Emissions per kg'!I74","v":2.6250000000000002E-3},{"$f":"$C$94*'Emissions per kg'!J74","v":0.17352693602693606},{"$f":"$C$94*'Emissions per kg'!K74","v":0.77188552188552195},{"$f":"$C$94*'Emissions per kg'!L74","v":9.2508417508417509E-3},{"$f":"$C$94*'Emissions per kg'!M74","v":0.10517676767676769},{"$f":"$C$94*'Emissions per kg'!N74","v":4.5959595959595969},{"$f":"$C$94*'Emissions per kg'!O74","v":1240.3198653198654},{"$f":"$C$94*'Emissions per kg'!P74","v":2.3303872053872059},{"$f":"$C$94*'Emissions per kg'!Q74","v":12.344276094276097},{"$f":"$C$94*'Emissions per kg'!R74","v":3.1818181818181821E-6}]
[null,"processsing",{"$f":"(C96/(1-D95))/(1-D96)","v":2.9461279461279464},0.05,{"$f":"$C$95*'Emissions per kg'!C75","v":0.22331649831649836},{"$f":"$C$95*'Emissions per kg'!D75","v":3.2112794612794613E-8},{"$f":"$C$95*'Emissions per kg'!E75","v":2.2714646464646463E-8},{"$f":"$C$95*'Emissions per kg'!F75","v":1.8265993265993269E-9},{"$f":"$C$95*'Emissions per kg'!G75","v":1.1224747474747475E-8},{"$f":"$C$95*'Emissions per kg'!H75","v":2.5159932659932664E-2},{"$f":"$C$95*'Emissions per kg'!I75","v":1.148989898989899E-3},{"$f":"$C$95*'Emissions per kg'!J75","v":1.755892255892256E-3},{"$f":"$C$95*'Emissions per kg'!K75","v":4.1540404040404048E-3},{"$f":"$C$95*'Emissions per kg'!L75","v":1.4995791245791248E-5},{"$f":"$C$95*'Emissions per kg'!M75","v":3.7710437710437714E-4},{"$f":"$C$95*'Emissions per kg'!N75","v":0.2627946127946128},{"$f":"$C$95*'Emissions per kg'!O75","v":3.0639730639730645},{"$f":"$C$95*'Emissions per kg'!P75","v":4.7432659932659937E-2},{"$f":"$C$95*'Emissions per kg'!Q75","v":4.3013468013468019},{"$f":"$C$95*'Emissions per kg'!R75","v":4.6548821548821555E-7}]
[null,"packaging",{"$f":"C97","v":2.7988215488215489},0,{"$f":"$C$96*'Emissions per kg'!C76","v":0.23957912457912456},{"$f":"$C$96*'Emissions per kg'!D76","v":1.024368686868687E-8},{"$f":"$C$96*'Emissions per kg'!E76","v":1.1083333333333335E-8},{"$f":"$C$96*'Emissions per kg'!F76","v":1.5757365319865322E-9},{"$f":"$C$96*'Emissions per kg'!G76","v":9.0681818181818176E-9},{"$f":"$C$96*'Emissions per kg'!H76","v":1.1279250841750842E-2},{"$f":"$C$96*'Emissions per kg'!I76","v":5.2337962962962961E-4},{"$f":"$C$96*'Emissions per kg'!J76","v":1.0019781144781144E-3},{"$f":"$C$96*'Emissions per kg'!K76","v":1.7772516835016837E-3},{"$f":"$C$96*'Emissions per kg'!L76","v":7.3329124579124581E-6},{"$f":"$C$96*'Emissions per kg'!M76","v":1.6205176767676767E-4},{"$f":"$C$96*'Emissions per kg'!N76","v":0.19367845117845117},{"$f":"$C$96*'Emissions per kg'!O76","v":2.7596380471380471},{"$f":"$C$96*'Emissions per kg'!P76","v":0.13406355218855218},{"$f":"$C$96*'Emissions per kg'!Q76","v":2.6364898989898991},{"$f":"$C$96*'Emissions per kg'!R76","v":6.9690656565656578E-7}]
[null,"retail",{"$f":"(C98/(1-D98))/(1-D97)","v":2.7988215488215489},0.01,{"$f":"$C$97*'Emissions per kg'!C77","v":0.22362584175084174},{"$f":"$C$97*'Emissions per kg'!D77","v":4.9819023569023574E-8},{"$f":"$C$97*'Emissions per kg'!E77","v":3.6664562289562293E-8},{"$f":"$C$97*'Emissions per kg'!F77","v":1.7212752525252528E-9},{"$f":"$C$97*'Emissions per kg'!G77","v":2.3342171717171719E-8},{"$f":"$C$97*'Emissions per kg'!H77","v":1.6093223905723906E-2},{"$f":"$C$97*'Emissions per kg'!I77","v":1.6317129629629628E-3},{"$f":"$C$97*'Emissions per kg'!J77","v":1.4973695286195287E-3},{"$f":"$C$97*'Emissions per kg'!K77","v":5.8495370370370368E-3},{"$f":"$C$97*'Emissions per kg'!L77","v":4.7859848484848481E-6},{"$f":"$C$97*'Emissions per kg'!M77","v":5.3177609427609428E-4},{"$f":"$C$97*'Emissions per kg'!N77","v":0.62413720538720541},{"$f":"$C$97*'Emissions per kg'!O77","v":4.1142676767676765},{"$f":"$C$97*'Emissions per kg'!P77","v":0.10495580808080808},{"$f":"$C$97*'Emissions per kg'!Q77","v":3.5824915824915826},{"$f":"$C$97*'Emissions per kg'!R77","v":5.6256313131313136E-7}]
[null,"use ",2.66,0.04,{"$f":"$C$98*'Emissions per kg'!C78","v":2.9526000000000003},{"$f":"$C$98*'Emissions per kg'!D78","v":5.4264000000000002E-8},{"$f":"$C$98*'Emissions per kg'!E78","v":5.6657999999999997E-8},{"$f":"$C$98*'Emissions per kg'!F78","v":9.2036000000000008E-9},{"$f":"$C$98*'Emissions per kg'!G78","v":4.8146E-8},{"$f":"$C$98*'Emissions per kg'!H78","v":2.8994000000000002E-2},{"$f":"$C$98*'Emissions per kg'!I78","v":5.1604000000000008E-3},{"$f":"$C$98*'Emissions per kg'!J78","v":7.9001999999999996E-3},{"$f":"$C$98*'Emissions per kg'!K78","v":2.4844399999999999E-2},{"$f":"$C$98*'Emissions per kg'!L78","v":1.92318E-3},{"$f":"$C$98*'Emissions per kg'!M78","v":2.5935E-2},{"$f":"$C$98*'Emissions per kg'!N78","v":0.47348000000000001},{"$f":"$C$98*'Emissions per kg'!O78","v":16.997399999999999},{"$f":"$C$98*'Emissions per kg'!P78","v":4.4156000000000004},{"$f":"$C$98*'Emissions per kg'!Q78","v":24.924199999999999},{"$f":"$C$98*'Emissions per kg'!R78","v":2.8196000000000001E-6}]
[null,"end of life P&R",{"$f":"D95*C95+D97*C97+C96*D96+C94*D94","v":0.17529461279461281},null,{"$f":"$C$99*'EoL emissions'!B4","v":5.9311840132801608E-2},{"$f":"$C$99*'EoL emissions'!C4","v":7.097285749574871E-10},{"$f":"$C$99*'EoL emissions'!D4","v":6.5816727200732729E-8},{"$f":"$C$99*'EoL emissions'!E4","v":2.6326017850075594E-9},{"$f":"$C$99*'EoL emissions'!F4","v":1.3419359784570309E-9},{"$f":"$C$99*'EoL emissions'!G4","v":4.4940160381089878E-4},{"$f":"$C$99*'EoL emissions'!H4","v":7.9459724515948131E-5},{"$f":"$C$99*'EoL emissions'!I4","v":2.10541491330469E-4},{"$f":"$C$99*'EoL emissions'!J4","v":8.5143486084929645E-4},{"$f":"$C$99*'EoL emissions'!K4","v":1.6760099482835952E-5},{"$f":"$C$99*'EoL emissions'!L4","v":9.6201831715602351E-5},{"$f":"$C$99*'EoL emissions'!M4","v":4.6538034693684276},{"$f":"$C$99*'EoL emissions'!N4","v":0.24054031247344068},{"$f":"$C$99*'EoL emissions'!O4","v":2.3294736429486061E-3},{"$f":"$C$99*'EoL emissions'!P4","v":-4.2795427715969052E-2},{"$f":"$C$99*'EoL emissions'!Q4","v":-3.2483588741230035E-9}]
[null,"end of life HH",{"$f":"D98*C98","v":0.10640000000000001},null,{"$f":"$C$100*'EoL emissions'!B5","v":4.7397856457554503E-2},{"$f":"$C$100*'EoL emissions'!C5","v":3.9912766262591377E-10},{"$f":"$C$100*'EoL emissions'!D5","v":8.3933009018598508E-8},{"$f":"$C$100*'EoL emissions'!E5","v":1.8001236177703752E-9},{"$f":"$C$100*'EoL emissions'!F5","v":4.469516092481232E-10},{"$f":"$C$100*'EoL emissions'!G5","v":2.3385402594510457E-4},{"$f":"$C$100*'EoL emissions'!H5","v":3.8732977496895325E-5},{"$f":"$C$100*'EoL emissions'!I5","v":5.7659109289890483E-5},{"$f":"$C$100*'EoL emissions'!J5","v":2.1997219051785833E-4},{"$f":"$C$100*'EoL emissions'!K5","v":5.030986760761248E-6},{"$f":"$C$100*'EoL emissions'!L5","v":1.0488858580643301E-4},{"$f":"$C$100*'EoL emissions'!M5","v":6.0886635781474121},{"$f":"$C$100*'EoL emissions'!N5","v":9.872415629086928E-2},{"$f":"$C$100*'EoL emissions'!O5","v":2.3171115077486293E-3},{"$f":"$C$100*'EoL emissions'!P5","v":1.59060221139871E-2},{"$f":"$C$100*'EoL emissions'!Q5","v":1.5452593129891982E-9}]
["BEANS TOTAL",null,null,null,{"$f":"SUM(E94:E100)","v":7.1338782992839596},{"$f":"SUM(F94:F100)","v":1.9822176196148917E-7},3.2053214567580525E-6,1.3071279846675102E-7,1.3132669582947759E-6,9.6940302767803133E-2,1.1207675193595336E-2,0.18595057652654631,0.80958215806146827,1.1222927525637536E-2,0.13238379033334696,16.892516912835706,1267.5944085765084,7.0370858107399226,47.761914971502407,7.7246729947149602E-6]
["Legumes","TOFU"]
[null,"agriculture ",{"$f":"C104/(1-D103)","v":4.5299486088959782},0,{"$f":"$C$103*'Emissions per kg'!C81","v":5.7077352472089329},{"$f":"$C$103*'Emissions per kg'!D81","v":1.3589845826687935E-9},{"$f":"$C$103*'Emissions per kg'!E81","v":7.4744152046783646E-6},{"$f":"$C$103*'Emissions per kg'!F81","v":8.2898059542796389E-8},{"$f":"$C$103*'Emissions per kg'!G81","v":3.3068624844940641E-7},{"$f":"$C$103*'Emissions per kg'!H81","v":2.1517255892255895E-3},{"$f":"$C$103*'Emissions per kg'!I81","v":2.4416423001949322E-3},{"$f":"$C$103*'Emissions per kg'!J81","v":4.6205475810738979E-2},{"$f":"$C$103*'Emissions per kg'!K81","v":0.20158271309587103},{"$f":"$C$103*'Emissions per kg'!L81","v":8.2445064681906804E-4},{"$f":"$C$103*'Emissions per kg'!M81","v":1.9977073365231263E-2},{"$f":"$C$103*'Emissions per kg'!N81","v":14.812931951089849},{"$f":"$C$103*'Emissions per kg'!O81","v":928.63946482367555},{"$f":"$C$103*'Emissions per kg'!P81","v":2.6092503987240834},{"$f":"$C$103*'Emissions per kg'!Q81","v":5.300039872408294},{"$f":"$C$103*'Emissions per kg'!R81","v":7.6556131490342026E-8}]
[null,"processsing",{"$f":"(C105/(1-D104))/(1-D105)","v":4.5299486088959782},0.05,{"$f":"$C$104*'Emissions per kg'!C82","v":0.70214203437887657},{"$f":"$C$104*'Emissions per kg'!D82","v":1.5718921672869044E-7},{"$f":"$C$104*'Emissions per kg'!E82","v":1.0192384370015951E-7},{"$f":"$C$104*'Emissions per kg'!F82","v":5.0282429558745359E-9},{"$f":"$C$104*'Emissions per kg'!G82","v":6.8402223994329271E-8},{"$f":"$C$104*'Emissions per kg'!H82","v":4.6658470671628573E-2},{"$f":"$C$104*'Emissions per kg'!I82","v":6.3872275385433294E-3},{"$f":"$C$104*'Emissions per kg'!J82","v":7.2932172603225251E-3},{"$f":"$C$104*'Emissions per kg'!K82","v":2.3283935849725327E-2},{"$f":"$C$104*'Emissions per kg'!L82","v":1.0509480772638669E-5},{"$f":"$C$104*'Emissions per kg'!M82","v":2.1064261031366301E-3},{"$f":"$C$104*'Emissions per kg'!N82","v":1.7440302144249515},{"$f":"$C$104*'Emissions per kg'!O82","v":11.143673577884107},{"$f":"$C$104*'Emissions per kg'!P82","v":9.6034910508594737E-2},{"$f":"$C$104*'Emissions per kg'!Q82","v":10.826577175261388},{"$f":"$C$104*'Emissions per kg'!R82","v":1.4903530923267769E-6}]
[null,"packaging",{"$f":"C106","v":4.3034511784511791},0,{"$f":"$C$105*'Emissions per kg'!C83","v":0.89081439393939399},{"$f":"$C$105*'Emissions per kg'!D83","v":3.1974642255892258E-8},{"$f":"$C$105*'Emissions per kg'!E83","v":1.1188973063973066E-7},{"$f":"$C$105*'Emissions per kg'!F83","v":5.2071759259259263E-9},{"$f":"$C$105*'Emissions per kg'!G83","v":-1.8892150673400675E-8},{"$f":"$C$105*'Emissions per kg'!H83","v":3.546043771043772E-2},{"$f":"$C$105*'Emissions per kg'!I83","v":1.4115319865319867E-3},{"$f":"$C$105*'Emissions per kg'!J83","v":3.769823232323233E-3},{"$f":"$C$105*'Emissions per kg'!K83","v":4.8628998316498319E-3},{"$f":"$C$105*'Emissions per kg'!L83","v":3.4900989057239065E-5},{"$f":"$C$105*'Emissions per kg'!M83","v":4.7768308080808089E-4},{"$f":"$C$105*'Emissions per kg'!N83","v":0.66703493265993274},{"$f":"$C$105*'Emissions per kg'!O83","v":-84.777988215488222},{"$f":"$C$105*'Emissions per kg'!P83","v":-7.4019360269360276E-2},{"$f":"$C$105*'Emissions per kg'!Q83","v":11.016835016835019},{"$f":"$C$105*'Emissions per kg'!R83","v":6.8855218855218859E-6}]
[null,"retail",{"$f":"(C107/(1-D107))/(1-D106)","v":4.3034511784511791},0.01,{"$f":"$C$106*'Emissions per kg'!C84","v":4.4755892255892267},{"$f":"$C$106*'Emissions per kg'!D84","v":9.1663510101010117E-5},{"$f":"$C$106*'Emissions per kg'!E84","v":7.875315656565657E-8},{"$f":"$C$106*'Emissions per kg'!F84","v":4.0667613636363637E-9},{"$f":"$C$106*'Emissions per kg'!G84","v":5.1211069023569036E-8},{"$f":"$C$106*'Emissions per kg'!H84","v":3.4384574915824924E-2},{"$f":"$C$106*'Emissions per kg'!I84","v":3.455671296296297E-3},{"$f":"$C$106*'Emissions per kg'!J84","v":3.4814920033670043E-3},{"$f":"$C$106*'Emissions per kg'!K84","v":1.226483585858586E-2},{"$f":"$C$106*'Emissions per kg'!L84","v":1.2523042929292931E-5},{"$f":"$C$106*'Emissions per kg'!M84","v":1.1188973063973064E-3},{"$f":"$C$106*'Emissions per kg'!N84","v":1.2480008417508419},{"$f":"$C$106*'Emissions per kg'!O84","v":8.9081439393939394},{"$f":"$C$106*'Emissions per kg'!P84","v":0.21302083333333338},{"$f":"$C$106*'Emissions per kg'!Q84","v":8.0044191919191938},{"$f":"$C$106*'Emissions per kg'!R84","v":1.682649410774411E-6}]
[null,"use ",4.09,0.04,{"$f":"$C$107*'Emissions per kg'!C85","v":1.1533799999999998},{"$f":"$C$107*'Emissions per kg'!D85","v":6.6666999999999997E-8},{"$f":"$C$107*'Emissions per kg'!E85","v":4.0859100000000001E-7},{"$f":"$C$107*'Emissions per kg'!F85","v":2.3394800000000001E-8},{"$f":"$C$107*'Emissions per kg'!G85","v":1.8650399999999999E-7},{"$f":"$C$107*'Emissions per kg'!H85","v":2.9734300000000002E-2},{"$f":"$C$107*'Emissions per kg'!I85","v":4.5399000000000004E-3},{"$f":"$C$107*'Emissions per kg'!J85","v":2.8384599999999999E-2},{"$f":"$C$107*'Emissions per kg'!K85","v":2.3803799999999996E-2},{"$f":"$C$107*'Emissions per kg'!L85","v":2.0858999999999999E-3},{"$f":"$C$107*'Emissions per kg'!M85","v":3.6769099999999999E-2},{"$f":"$C$107*'Emissions per kg'!N85","v":4.6625999999999994},{"$f":"$C$107*'Emissions per kg'!O85","v":74.437999999999988},{"$f":"$C$107*'Emissions per kg'!P85","v":11.697399999999998},{"$f":"$C$107*'Emissions per kg'!Q85","v":46.216999999999999},{"$f":"$C$107*'Emissions per kg'!R85","v":3.4928599999999998E-6}]
[null,"end of life P&R",{"$f":"D104*C104+D106*C106+C105*D105+C103*D103","v":0.26953194222931071},null,{"$f":"$C$108*'EoL emissions'!B4","v":9.1197528625247604E-2},{"$f":"$C$108*'EoL emissions'!C4","v":1.0912743878105725E-9},{"$f":"$C$108*'EoL emissions'!D4","v":1.0119940385375823E-7},{"$f":"$C$108*'EoL emissions'!E4","v":4.0478726694289175E-9},{"$f":"$C$108*'EoL emissions'!F4","v":2.0633526886801718E-9},{"$f":"$C$108*'EoL emissions'!G4","v":6.9099720285209639E-4},{"$f":"$C$108*'EoL emissions'!H4","v":1.2217679446249169E-4},{"$f":"$C$108*'EoL emissions'!I4","v":3.2372733065474371E-4},{"$f":"$C$108*'EoL emissions'!J4","v":1.3091611206291816E-3},{"$f":"$C$108*'EoL emissions'!K4","v":2.5770228152180097E-5},{"$f":"$C$108*'EoL emissions'!L4","v":1.479193577882758E-4},{"$f":"$C$108*'EoL emissions'!M4","v":7.1556602216980716},{"$f":"$C$108*'EoL emissions'!N4","v":0.36985333760014005},{"$f":"$C$108*'EoL emissions'!O4","v":3.5817846615262411E-3},{"$f":"$C$108*'EoL emissions'!P4","v":-6.5801992239967466E-2},{"$f":"$C$108*'EoL emissions'!Q4","v":-4.9946570658507841E-9}]
[null,"end of life HH",{"$f":"D107*C107","v":0.1636},null,{"$f":"$C$109*'EoL emissions'!B5","v":7.2878658989247322E-2},{"$f":"$C$109*'EoL emissions'!C5","v":6.1369629328570943E-10},{"$f":"$C$109*'EoL emissions'!D5","v":1.2905488980679243E-7},{"$f":"$C$109*'EoL emissions'!E5","v":2.767859246872494E-9},{"$f":"$C$109*'EoL emissions'!F5","v":6.8723010594918186E-10},{"$f":"$C$109*'EoL emissions'!G5","v":3.595725436524352E-4},{"$f":"$C$109*'EoL emissions'!H5","v":5.9555593218910478E-5},{"$f":"$C$109*'EoL emissions'!I5","v":8.8656299622425584E-5},{"$f":"$C$109*'EoL emissions'!J5","v":3.3822791699926333E-4},{"$f":"$C$109*'EoL emissions'!K5","v":7.7356149817719936E-6},{"$f":"$C$109*'EoL emissions'!L5","v":1.6127605862718459E-4},{"$f":"$C$109*'EoL emissions'!M5","v":9.3618924942191395},{"$f":"$C$109*'EoL emissions'!N5","v":0.15179766888332907},{"$f":"$C$109*'EoL emissions'!O5","v":3.5627767168014638E-3},{"$f":"$C$109*'EoL emissions'!P5","v":2.4457003927145577E-2},{"$f":"$C$109*'EoL emissions'!Q5","v":2.3759814248593308E-9}]
["TOFU TOTAL",null,null,null,{"$f":"SUM(E103:E109)","v":13.093737088730924},{"$f":"SUM(F103:F109)","v":9.1922404915258473E-5},8.4058272292444618E-6,1.2741077170453465E-7,6.2066197358853338E-7,0.14944007863362133,1.8417705509247949E-2,8.9546991937028919E-2,0.2674455736734605,3.0017900027121906E-3,6.075837527198874E-2,39.652150655842789,938.87294513194888,14.548831343674976,81.323526268111067,1.3625321844472423E-5]
["Cereal products","BREAD"]
[null,"agriculture ",{"$f":"C113/(1-D112)","v":42.105263157894733},0,{"$f":"$C$112*'Emissions per kg'!C88","v":10.484210526315788},{"$f":"$C$112*'Emissions per kg'!D88","v":1.5199999999999998E-7},{"$f":"$C$112*'Emissions per kg'!E88","v":7.5368421052631577E-5},{"$f":"$C$112*'Emissions per kg'!F88","v":3.6673684210526311E-7},{"$f":"$C$112*'Emissions per kg'!G88","v":3.1999999999999999E-6},{"$f":"$C$112*'Emissions per kg'!H88","v":8.8842105263157875E-2},{"$f":"$C$112*'Emissions per kg'!I88","v":1.991578947368421E-2},{"$f":"$C$112*'Emissions per kg'!J88","v":0.44631578947368417},{"$f":"$C$112*'Emissions per kg'!K88","v":1.983157894736842},{"$f":"$C$112*'Emissions per kg'!L88","v":4.3789473684210517E-3},{"$f":"$C$112*'Emissions per kg'!M88","v":0.25978947368421051},{"$f":"$C$112*'Emissions per kg'!N88","v":68.631578947368411},{"$f":"$C$112*'Emissions per kg'!O88","v":4206.3157894736842},{"$f":"$C$112*'Emissions per kg'!P88","v":0.37389473684210528},{"$f":"$C$112*'Emissions per kg'!Q88","v":64.84210526315789},{"$f":"$C$112*'Emissions per kg'!R88","v":2.4126315789473682E-6}]
[null,"processsing",{"$f":"(C114/(1-D113))/(1-D114)","v":42.105263157894733},0.05,{"$f":"$C$113*'Emissions per kg'!C89","v":20.589473684210525},{"$f":"$C$113*'Emissions per kg'!D89","v":2.0042105263157892E-6},{"$f":"$C$113*'Emissions per kg'!E89","v":1.7178947368421052E-6},{"$f":"$C$113*'Emissions per kg'!F89","v":1.7726315789473684E-7},{"$f":"$C$113*'Emissions per kg'!G89","v":5.5999999999999993E-7},{"$f":"$C$113*'Emissions per kg'!H89","v":2.7073684210526312},{"$f":"$C$113*'Emissions per kg'!I89","v":5.6842105263157895E-2},{"$f":"$C$113*'Emissions per kg'!J89","v":0.11789473684210525},{"$f":"$C$113*'Emissions per kg'!K89","v":0.20799999999999999},{"$f":"$C$113*'Emissions per kg'!L89","v":1.9452631578947366E-3},{"$f":"$C$113*'Emissions per kg'!M89","v":2.0168421052631575E-2},{"$f":"$C$113*'Emissions per kg'!N89","v":11.452631578947368},{"$f":"$C$113*'Emissions per kg'!O89","v":279.57894736842098},{"$f":"$C$113*'Emissions per kg'!P89","v":5.852631578947368},{"$f":"$C$113*'Emissions per kg'!Q89","v":429.47368421052624},{"$f":"$C$113*'Emissions per kg'!R89","v":4.2105263157894731E-5}]
[null,"packaging",{"$f":"C115","v":39.999999999999993},0,{"$f":"$C$114*'Emissions per kg'!C90","v":0.95999999999999985},{"$f":"$C$114*'Emissions per kg'!D90","v":3.3319999999999997E-8},{"$f":"$C$114*'Emissions per kg'!E90","v":3.0399999999999994E-8},{"$f":"$C$114*'Emissions per kg'!F90","v":5.2799999999999991E-9},{"$f":"$C$114*'Emissions per kg'!G90","v":2.3919999999999995E-8},{"$f":"$C$114*'Emissions per kg'!H90","v":4.519999999999999E-2},{"$f":"$C$114*'Emissions per kg'!I90","v":2.3079999999999997E-3},{"$f":"$C$114*'Emissions per kg'!J90","v":3.4759999999999995E-3},{"$f":"$C$114*'Emissions per kg'!K90","v":5.919999999999999E-3},{"$f":"$C$114*'Emissions per kg'!L90","v":4.0399999999999993E-5},{"$f":"$C$114*'Emissions per kg'!M90","v":5.5199999999999986E-4},{"$f":"$C$114*'Emissions per kg'!N90","v":0.49199999999999994},{"$f":"$C$114*'Emissions per kg'!O90","v":4.2799999999999994},{"$f":"$C$114*'Emissions per kg'!P90","v":0.21119999999999997},{"$f":"$C$114*'Emissions per kg'!Q90","v":20.519999999999996},{"$f":"$C$114*'Emissions per kg'!R90","v":6.5599999999999994E-7}]
[null,"retail",{"$f":"(C116/(1-D116))/(1-D115)","v":39.999999999999993},0.02,{"$f":"$C$115*'Emissions per kg'!C91","v":3.0999999999999996},{"$f":"$C$115*'Emissions per kg'!D91","v":6.8799999999999981E-7},{"$f":"$C$115*'Emissions per kg'!E91","v":5.0399999999999996E-7},{"$f":"$C$115*'Emissions per kg'!F91","v":2.3839999999999997E-8},{"$f":"$C$115*'Emissions per kg'!G91","v":3.2279999999999995E-7},{"$f":"$C$115*'Emissions per kg'!H91","v":0.22319999999999995},{"$f":"$C$115*'Emissions per kg'!I91","v":2.2559999999999997E-2},{"$f":"$C$115*'Emissions per kg'!J91","v":2.0759999999999997E-2},{"$f":"$C$115*'Emissions per kg'!K91","v":8.0799999999999983E-2},{"$f":"$C$115*'Emissions per kg'!L91","v":6.6799999999999997E-5},{"$f":"$C$115*'Emissions per kg'!M91","v":7.3599999999999985E-3},{"$f":"$C$115*'Emissions per kg'!N91","v":8.6399999999999988},{"$f":"$C$115*'Emissions per kg'!O91","v":56.79999999999999},{"$f":"$C$115*'Emissions per kg'!P91","v":1.4879999999999995},{"$f":"$C$115*'Emissions per kg'!Q91","v":49.999999999999993},{"$f":"$C$115*'Emissions per kg'!R91","v":7.7999999999999999E-6}]
[null,"use ",29.4,0.25,{"$f":"$C$116*'Emissions per kg'!C92","v":3.7925999999999997},{"$f":"$C$116*'Emissions per kg'!D92","v":4.2042E-7},{"$f":"$C$116*'Emissions per kg'!E92","v":3.9395999999999996E-7},{"$f":"$C$116*'Emissions per kg'!F92","v":5.9093999999999993E-8},{"$f":"$C$116*'Emissions per kg'!G92","v":2.53134E-7},{"$f":"$C$116*'Emissions per kg'!H92","v":0.172872},{"$f":"$C$116*'Emissions per kg'!I92","v":1.31418E-2},{"$f":"$C$116*'Emissions per kg'!J92","v":2.9988000000000001E-2},{"$f":"$C$116*'Emissions per kg'!K92","v":0.10878},{"$f":"$C$116*'Emissions per kg'!L92","v":1.42884E-2},{"$f":"$C$116*'Emissions per kg'!M92","v":0.27312599999999998},{"$f":"$C$116*'Emissions per kg'!N92","v":4.2335999999999991},{"$f":"$C$116*'Emissions per kg'!O92","v":155.232},{"$f":"$C$116*'Emissions per kg'!P92","v":38.514000000000003},{"$f":"$C$116*'Emissions per kg'!Q92","v":38.808},{"$f":"$C$116*'Emissions per kg'!R92","v":2.2138200000000001E-5}]
[null,"end of life P&R",{"$f":"D113*C113+D115*C115+C114*D114+C112*D112","v":2.9052631578947365},null,{"$f":"$C$117*'EoL emissions'!B4","v":0.98301083654332733},{"$f":"$C$117*'EoL emissions'!C4","v":1.1762758980762519E-8},{"$f":"$C$117*'EoL emissions'!D4","v":1.0908202463331698E-6},{"$f":"$C$117*'EoL emissions'!E4","v":4.3631694399826046E-8},{"$f":"$C$117*'EoL emissions'!F4","v":2.2240712913594181E-8},{"$f":"$C$117*'EoL emissions'!G4","v":7.4482033522637499E-3},{"$f":"$C$117*'EoL emissions'!H4","v":1.3169338549104794E-3},{"$f":"$C$117*'EoL emissions'!I4","v":3.4894308970425127E-3},{"$f":"$C$117*'EoL emissions'!J4","v":1.4111342574292239E-2},{"$f":"$C$117*'EoL emissions'!K4","v":2.7777521952249265E-4},{"$f":"$C$117*'EoL emissions'!L4","v":1.5944108774911439E-3},{"$f":"$C$117*'EoL emissions'!M4","v":77.130286824503685},{"$f":"$C$117*'EoL emissions'!N4","v":3.9866194213074619},{"$f":"$C$117*'EoL emissions'!O4","v":3.8607769196392618E-2},{"$f":"$C$117*'EoL emissions'!P4","v":-0.7092743894829675},{"$f":"$C$117*'EoL emissions'!Q4","v":-5.3837007368089628E-8}]
[null,"end of life HH",{"$f":"D116*C116","v":7.35},null,{"$f":"$C$118*'EoL emissions'!B5","v":3.274194031607383},{"$f":"$C$118*'EoL emissions'!C5","v":2.7571318799816407E-8},{"$f":"$C$118*'EoL emissions'!D5","v":5.7980039124689751E-6},{"$f":"$C$118*'EoL emissions'!E5","v":1.2435064464861143E-7},{"$f":"$C$118*'EoL emissions'!F5","v":3.0874946691482188E-8},{"$f":"$C$118*'EoL emissions'!G5","v":1.6154389950155248E-2},{"$f":"$C$118*'EoL emissions'!H5","v":2.6756333139302691E-3},{"$f":"$C$118*'EoL emissions'!I5","v":3.983030575946382E-3},{"$f":"$C$118*'EoL emissions'!J5","v":1.5195447371299421E-2},{"$f":"$C$118*'EoL emissions'!K5","v":3.4753526965784933E-4},{"$f":"$C$118*'EoL emissions'!L5","v":7.245593098470701E-3},{"$f":"$C$118*'EoL emissions'!M5","v":420.59847085886724},{"$f":"$C$118*'EoL emissions'!N5","v":6.8197607964087323},{"$f":"$C$118*'EoL emissions'!O5","v":0.1600636238905303},{"$f":"$C$118*'EoL emissions'!P5","v":1.0987712644530563},{"$f":"$C$118*'EoL emissions'!Q5","v":1.0674488675254329E-7}]
["BREAD TOTAL",null,null,null,{"$f":"SUM(E112:E118)","v":43.183489078677027},{"$f":"SUM(F112:F118)","v":3.3372846040963676E-6},8.4903499948275809E-5,8.0019633904843751E-7,4.4129696596050764E-6,3.2610851196182074,0.11876026190568285,0.6259069877887784,2.4159646846824336,2.1345121015496127E-2,0.56983589871280393,591.17856820968677,4713.0131170598206,46.638397708876397,604.0332863486542,7.5165002616226561E-5]
["Cereal products","PASTA"]
[null,"agriculture ",{"$f":"C122/(1-D121)","v":10.00658327847268},0,{"$f":"$C$121*'Emissions per kg'!C95","v":6.7744568795260047},{"$f":"$C$121*'Emissions per kg'!D95","v":8.8057932850559583E-7},{"$f":"$C$121*'Emissions per kg'!E95","v":2.3115207373271893E-6},{"$f":"$C$121*'Emissions per kg'!F95","v":9.3661619486504295E-8},{"$f":"$C$121*'Emissions per kg'!G95","v":1.2908492429229759E-6},{"$f":"$C$121*'Emissions per kg'!H95","v":0.25716919025674789},{"$f":"$C$121*'Emissions per kg'!I95","v":1.7411454904542465E-2},{"$f":"$C$121*'Emissions per kg'!J95","v":0.17211323238973011},{"$f":"$C$121*'Emissions per kg'!K95","v":0.71447004608294939},{"$f":"$C$121*'Emissions per kg'!L95","v":2.8018433179723503E-3},{"$f":"$C$121*'Emissions per kg'!M95","v":0.14909809084924294},{"$f":"$C$121*'Emissions per kg'!N95","v":9.3161290322580665},{"$f":"$C$121*'Emissions per kg'!O95","v":5403.5549703752476},{"$f":"$C$121*'Emissions per kg'!P95","v":14.40947992100066},{"$f":"$C$121*'Emissions per kg'!Q95","v":66.643844634628053},{"$f":"$C$121*'Emissions per kg'!R95","v":3.3922317314022387E-5}]
[null,"processsing",{"$f":"(C123/(1-D122))/(1-D123)","v":10.00658327847268},7.0000000000000007E-2,{"$f":"$C$122*'Emissions per kg'!C96","v":5.1233706385780122},{"$f":"$C$122*'Emissions per kg'!D96","v":6.2040816326530617E-7},{"$f":"$C$122*'Emissions per kg'!E96","v":2.5816984858459516E-7},{"$f":"$C$122*'Emissions per kg'!F96","v":2.1213956550362083E-8},{"$f":"$C$122*'Emissions per kg'!G96","v":2.5316655694535885E-7},{"$f":"$C$122*'Emissions per kg'!H96","v":0.53235023041474661},{"$f":"$C$122*'Emissions per kg'!I96","v":1.6010533245556291E-2},{"$f":"$C$122*'Emissions per kg'!J96","v":2.4816326530612248E-2},{"$f":"$C$122*'Emissions per kg'!K96","v":5.6236998025016464E-2},{"$f":"$C$122*'Emissions per kg'!L96","v":2.8919025674786047E-5},{"$f":"$C$122*'Emissions per kg'!M96","v":5.2334430546412125E-3},{"$f":"$C$122*'Emissions per kg'!N96","v":3.2521395655036214},{"$f":"$C$122*'Emissions per kg'!O96","v":13.108624094799213},{"$f":"$C$122*'Emissions per kg'!P96","v":51.133640552995402},{"$f":"$C$122*'Emissions per kg'!Q96","v":81.553653719552344},{"$f":"$C$122*'Emissions per kg'!R96","v":4.4729427254772885E-6}]
[null,"packaging",{"$f":"C124","v":9.3061224489795915},0,{"$f":"$C$123*'Emissions per kg'!C97","v":0.32664489795918367},{"$f":"$C$123*'Emissions per kg'!D97","v":-5.9186938775510206E-8},{"$f":"$C$123*'Emissions per kg'!E97","v":2.9221224489795918E-8},{"$f":"$C$123*'Emissions per kg'!F97","v":-1.4610612244897959E-9},{"$f":"$C$123*'Emissions per kg'!G97","v":-2.4661224489795916E-7},{"$f":"$C$123*'Emissions per kg'!H97","v":-8.8222040816326522E-3},{"$f":"$C$123*'Emissions per kg'!I97","v":-2.7546122448979591E-3},{"$f":"$C$123*'Emissions per kg'!J97","v":-3.0337959183673467E-3},{"$f":"$C$123*'Emissions per kg'!K97","v":-9.3991836734693881E-3},{"$f":"$C$123*'Emissions per kg'!L97","v":-6.6073469387755095E-6},{"$f":"$C$123*'Emissions per kg'!M97","v":-7.1191836734693875E-4},{"$f":"$C$123*'Emissions per kg'!N97","v":0.36759183673469387},{"$f":"$C$123*'Emissions per kg'!O97","v":-477.404081632653},{"$f":"$C$123*'Emissions per kg'!P97","v":-1.554122448979592},{"$f":"$C$123*'Emissions per kg'!Q97","v":-0.34711836734693874},{"$f":"$C$123*'Emissions per kg'!R97","v":1.5541224489795919E-5}]
[null,"retail",{"$f":"(C125/(1-D125))/(1-D124)","v":9.3061224489795915},0.02,{"$f":"$C$124*'Emissions per kg'!C98","v":1.7123265306122448},{"$f":"$C$124*'Emissions per kg'!D98","v":3.4711836734693877E-7},{"$f":"$C$124*'Emissions per kg'!E98","v":1.2656326530612245E-7},{"$f":"$C$124*'Emissions per kg'!F98","v":1.9263673469387756E-8},{"$f":"$C$124*'Emissions per kg'!G98","v":7.1564081632653058E-8},{"$f":"$C$124*'Emissions per kg'!H98","v":0.10050612244897959},{"$f":"$C$124*'Emissions per kg'!I98","v":1.1074285714285715E-2},{"$f":"$C$124*'Emissions per kg'!J98","v":1.0981224489795919E-2},{"$f":"$C$124*'Emissions per kg'!K98","v":3.9457959183673466E-2},{"$f":"$C$124*'Emissions per kg'!L98","v":3.1826938775510199E-5},{"$f":"$C$124*'Emissions per kg'!M98","v":3.5735510204081633E-3},{"$f":"$C$124*'Emissions per kg'!N98","v":0.97714285714285709},{"$f":"$C$124*'Emissions per kg'!O98","v":17.309387755102041},{"$f":"$C$124*'Emissions per kg'!P98","v":66.073469387755097},{"$f":"$C$124*'Emissions per kg'!Q98","v":26.89469387755102},{"$f":"$C$124*'Emissions per kg'!R98","v":4.9694693877551015E-6}]
[null,"use ",6.84,0.25,{"$f":"$C$125*'Emissions per kg'!C99","v":5.9849999999999994},{"$f":"$C$125*'Emissions per kg'!D99","v":5.0000399999999998E-7},{"$f":"$C$125*'Emissions per kg'!E99","v":3.7277999999999998E-7},{"$f":"$C$125*'Emissions per kg'!F99","v":3.5773200000000003E-8},{"$f":"$C$125*'Emissions per kg'!G99","v":5.0547600000000005E-7},{"$f":"$C$125*'Emissions per kg'!H99","v":0.65664},{"$f":"$C$125*'Emissions per kg'!I99","v":1.63476E-2},{"$f":"$C$125*'Emissions per kg'!J99","v":7.0452000000000001E-2},{"$f":"$C$125*'Emissions per kg'!K99","v":5.34204E-2},{"$f":"$C$125*'Emissions per kg'!L99","v":4.3228799999999994E-3},{"$f":"$C$125*'Emissions per kg'!M99","v":4.2202799999999999E-2},{"$f":"$C$125*'Emissions per kg'!N99","v":5.9986800000000002},{"$f":"$C$125*'Emissions per kg'!O99","v":42.134399999999999},{"$f":"$C$125*'Emissions per kg'!P99","v":20.52},{"$f":"$C$125*'Emissions per kg'!Q99","v":128.59200000000001},{"$f":"$C$125*'Emissions per kg'!R99","v":5.79348E-6}]
[null,"end of life P&R",{"$f":"D122*C122+D124*C124+C123*D123+C121*D121","v":0.88658327847267959},null,{"$f":"$C$126*'EoL emissions'!B4","v":0.2999800441032307},{"$f":"$C$126*'EoL emissions'!C4","v":3.5895768659405688E-9},{"$f":"$C$126*'EoL emissions'!D4","v":3.3287965243025934E-7},{"$f":"$C$126*'EoL emissions'!E4","v":1.3314845700362334E-8},{"$f":"$C$126*'EoL emissions'!F4","v":6.7870767978184033E-9},{"$f":"$C$126*'EoL emissions'!G4","v":2.272927507044253E-3},{"$f":"$C$126*'EoL emissions'!H4","v":4.018815064809012E-4},{"$f":"$C$126*'EoL emissions'!I4","v":1.0648505545176172E-3},{"$f":"$C$126*'EoL emissions'!J4","v":4.3062812844234643E-3},{"$f":"$C$126*'EoL emissions'!K4","v":8.4767145493689806E-5},{"$f":"$C$126*'EoL emissions'!L4","v":4.8655765284372112E-4},{"$f":"$C$126*'EoL emissions'!M4","v":23.537428055900826},{"$f":"$C$126*'EoL emissions'!N4","v":1.2165748589628063},{"$f":"$C$126*'EoL emissions'!O4","v":1.1781721905515068E-2},{"$f":"$C$126*'EoL emissions'!P4","v":-0.21644538872691729},{"$f":"$C$126*'EoL emissions'!Q4","v":-1.6429145279268398E-8}]
[null,"end of life HH",{"$f":"D125*C125","v":1.71},null,{"$f":"$C$127*'EoL emissions'!B5","v":0.76175126449641151},{"$f":"$C$127*'EoL emissions'!C5","v":6.4145517207736138E-9},{"$f":"$C$127*'EoL emissions'!D5","v":1.3489233592274758E-6},{"$f":"$C$127*'EoL emissions'!E5","v":2.8930558142738172E-8},{"$f":"$C$127*'EoL emissions'!F5","v":7.1831508629162646E-9},{"$f":"$C$127*'EoL emissions'!G5","v":3.7583682741177517E-3},{"$f":"$C$127*'EoL emissions'!H5","v":6.2249428120010337E-4},{"$f":"$C$127*'EoL emissions'!I5","v":9.2666425644466835E-4},{"$f":"$C$127*'EoL emissions'!J5","v":3.5352673476084367E-3},{"$f":"$C$127*'EoL emissions'!K5","v":8.0855144369377182E-5},{"$f":"$C$127*'EoL emissions'!L5","v":1.6857094147462448E-3},{"$f":"$C$127*'EoL emissions'!M5","v":97.853521791654828},{"$f":"$C$127*'EoL emissions'!N5","v":1.5866382261032561},{"$f":"$C$127*'EoL emissions'!O5","v":3.7239292088817252E-2},{"$f":"$C$127*'EoL emissions'!P5","v":0.25563249826050694},{"$f":"$C$127*'EoL emissions'!Q5","v":2.4834524673040684E-8}]
["PASTA TOTAL",null,null,null,{"$f":"SUM(E121:E127)","v":20.983530255275085},{"$f":"SUM(F121:F127)","v":2.2989270489290448E-6},4.7800580873654383E-6,2.1069679212486484E-7,1.8884138642637634E-6,1.5438746348200036,5.9113637407167512E-2,0.2773205023027332,0.86202776825020189,7.3444842253469374E-3,0.20156823362453533,141.30263313919488,5001.5065136775611,150.63148842676591,303.37626097391808,6.4707839296444466E-5]
["Cereal products","RICE"]
[null,"agriculture ",{"$f":"C131/(1-D130)","v":10.672713529856386},0,{"$f":"$C$130*'Emissions per kg'!C102","v":36.287226001511712},{"$f":"$C$130*'Emissions per kg'!D102","v":9.4133333333333319E-7},{"$f":"$C$130*'Emissions per kg'!E102","v":1.5582161753590323E-7},{"$f":"$C$130*'Emissions per kg'!F102","v":1.184671201814059E-8},{"$f":"$C$130*'Emissions per kg'!G102","v":1.1099622071050643E-6},{"$f":"$C$130*'Emissions per kg'!H102","v":0.14728344671201812},{"$f":"$C$130*'Emissions per kg'!I102","v":2.3479969765684051E-2},{"$f":"$C$130*'Emissions per kg'!J102","v":0.15048526077097504},{"$f":"$C$130*'Emissions per kg'!K102","v":0.64996825396825397},{"$f":"$C$130*'Emissions per kg'!L102","v":3.2871957671957671E-3},{"$f":"$C$130*'Emissions per kg'!M102","v":3.4152683295540436E-2},{"$f":"$C$130*'Emissions per kg'!N102","v":221.99244142101284},{"$f":"$C$130*'Emissions per kg'!O102","v":3447.2864701436129},{"$f":"$C$130*'Emissions per kg'!P102","v":598.73922902494326},{"$f":"$C$130*'Emissions per kg'!Q102","v":61.474829931972785},{"$f":"$C$130*'Emissions per kg'!R102","v":7.0760090702947845E-5}]
[null,"processsing",{"$f":"(C132/(1-D131))/(1-D132)","v":10.672713529856386},0.1,{"$f":"$C$131*'Emissions per kg'!C103","v":2.0598337112622827},{"$f":"$C$131*'Emissions per kg'!D103","v":3.6927588813303097E-7},{"$f":"$C$131*'Emissions per kg'!E103","v":2.2732879818594101E-7},{"$f":"$C$131*'Emissions per kg'!F103","v":1.5368707482993198E-8},{"$f":"$C$131*'Emissions per kg'!G103","v":1.3554346182917611E-7},{"$f":"$C$131*'Emissions per kg'!H103","v":0.18570521541950111},{"$f":"$C$131*'Emissions per kg'!I103","v":1.5688888888888888E-2},{"$f":"$C$131*'Emissions per kg'!J103","v":2.1985789871504159E-2},{"$f":"$C$131*'Emissions per kg'!K103","v":5.763265306122449E-2},{"$f":"$C$131*'Emissions per kg'!L103","v":8.7089342403628108E-5},{"$f":"$C$131*'Emissions per kg'!M103","v":5.2082842025699162E-3},{"$f":"$C$131*'Emissions per kg'!N103","v":3.201814058956916},{"$f":"$C$131*'Emissions per kg'!O103","v":27.32214663643235},{"$f":"$C$131*'Emissions per kg'!P103","v":0.34899773242630383},{"$f":"$C$131*'Emissions per kg'!Q103","v":35.753590325018898},{"$f":"$C$131*'Emissions per kg'!R103","v":3.9275585789871506E-6}]
[null,"packaging",{"$f":"C133","v":9.6054421768707474},0,{"$f":"$C$132*'Emissions per kg'!C104","v":0.84431836734693877},{"$f":"$C$132*'Emissions per kg'!D104","v":2.8720272108843534E-8},{"$f":"$C$132*'Emissions per kg'!E104","v":1.2391020408163264E-7},{"$f":"$C$132*'Emissions per kg'!F104","v":4.7739047619047615E-9},{"$f":"$C$132*'Emissions per kg'!G104","v":-3.1121632653061219E-8},{"$f":"$C$132*'Emissions per kg'!H104","v":3.189006802721088E-2},{"$f":"$C$132*'Emissions per kg'!I104","v":1.2006802721088435E-3},{"$f":"$C$132*'Emissions per kg'!J104","v":3.5732244897959181E-3},{"$f":"$C$132*'Emissions per kg'!K104","v":4.1303401360544209E-3},{"$f":"$C$132*'Emissions per kg'!L104","v":3.4963809523809522E-5},{"$f":"$C$132*'Emissions per kg'!M104","v":4.2263945578231287E-4},{"$f":"$C$132*'Emissions per kg'!N104","v":0.61955102040816323},{"$f":"$C$132*'Emissions per kg'!O104","v":-104.69931972789115},{"$f":"$C$132*'Emissions per kg'!P104","v":-0.21420136054421768},{"$f":"$C$132*'Emissions per kg'!Q104","v":10.758095238095239},{"$f":"$C$132*'Emissions per kg'!R104","v":7.6075102040816317E-6}]
[null,"retail",{"$f":"(C134/(1-D134))/(1-D133)","v":9.6054421768707474},0.02,{"$f":"$C$133*'Emissions per kg'!C105","v":0.78188299319727883},{"$f":"$C$133*'Emissions per kg'!D105","v":1.7385850340136052E-7},{"$f":"$C$133*'Emissions per kg'!E105","v":1.2775238095238094E-7},{"$f":"$C$133*'Emissions per kg'!F105","v":6.0130068027210879E-9},{"$f":"$C$133*'Emissions per kg'!G105","v":8.1742312925170054E-8},{"$f":"$C$133*'Emissions per kg'!H105","v":5.6095782312925162E-2},{"$f":"$C$133*'Emissions per kg'!I105","v":5.7152380952380953E-3},{"$f":"$C$133*'Emissions per kg'!J105","v":5.2445714285714283E-3},{"$f":"$C$133*'Emissions per kg'!K105","v":2.0459591836734691E-2},{"$f":"$C$133*'Emissions per kg'!L105","v":1.6617414965986391E-5},{"$f":"$C$133*'Emissions per kg'!M105","v":1.8634557823129249E-3},{"$f":"$C$133*'Emissions per kg'!N105","v":2.1900408163265306},{"$f":"$C$133*'Emissions per kg'!O105","v":14.408163265306122},{"$f":"$C$133*'Emissions per kg'!P105","v":0.36212517006802714},{"$f":"$C$133*'Emissions per kg'!Q105","v":12.583129251700679},{"$f":"$C$133*'Emissions per kg'!R105","v":1.9691156462585032E-6}]
[null,"use ",7.06,0.25,{"$f":"$C$134*'Emissions per kg'!C106","v":1.63086},{"$f":"$C$134*'Emissions per kg'!D106","v":9.6721999999999997E-8},{"$f":"$C$134*'Emissions per kg'!E106","v":1.05194E-7},{"$f":"$C$134*'Emissions per kg'!F106","v":1.7296999999999999E-8},{"$f":"$C$134*'Emissions per kg'!G106","v":4.6807799999999994E-8},{"$f":"$C$134*'Emissions per kg'!H106","v":4.6595999999999999E-2},{"$f":"$C$134*'Emissions per kg'!I106","v":2.8451799999999997E-3},{"$f":"$C$134*'Emissions per kg'!J106","v":4.8290399999999997E-3},{"$f":"$C$134*'Emissions per kg'!K106","v":1.3202199999999999E-2},{"$f":"$C$134*'Emissions per kg'!L106","v":1.63086E-3},{"$f":"$C$134*'Emissions per kg'!M106","v":1.8709E-2},{"$f":"$C$134*'Emissions per kg'!N106","v":1.0589999999999999},{"$f":"$C$134*'Emissions per kg'!O106","v":39.959600000000002},{"$f":"$C$134*'Emissions per kg'!P106","v":13.131600000000001},{"$f":"$C$134*'Emissions per kg'!Q106","v":22.803799999999999},{"$f":"$C$134*'Emissions per kg'!R106","v":5.5279799999999997E-6}]
[null,"end of life P&R",{"$f":"D131*C131+D133*C133+C132*D132+C130*D130","v":1.2593801965230536},null,{"$f":"$C$135*'EoL emissions'!B4","v":0.42611781213214334},{"$f":"$C$135*'EoL emissions'!C4","v":5.0989479822477229E-9},{"$f":"$C$135*'EoL emissions'!D4","v":4.7285128456104111E-7},{"$f":"$C$135*'EoL emissions'!E4","v":1.8913567853076958E-8},{"$f":"$C$135*'EoL emissions'!F4","v":9.6409556992530088E-9},{"$f":"$C$135*'EoL emissions'!G4","v":3.2286644244354018E-3},{"$f":"$C$135*'EoL emissions'!H4","v":5.7086753483868524E-4},{"$f":"$C$135*'EoL emissions'!I4","v":1.5126065798650233E-3},{"$f":"$C$135*'EoL emissions'!J4","v":6.11701743304184E-3},{"$f":"$C$135*'EoL emissions'!K4","v":1.2041064493619479E-4},{"$f":"$C$135*'EoL emissions'!L4","v":6.9114891667450241E-4},{"$f":"$C$135*'EoL emissions'!M4","v":33.434615213759713},{"$f":"$C$135*'EoL emissions'!N4","v":1.7281290118678889},{"$f":"$C$135*'EoL emissions'!O4","v":1.6735785130426142E-2},{"$f":"$C$135*'EoL emissions'!P4","v":-0.30745790362863662},{"$f":"$C$135*'EoL emissions'!Q4","v":-2.3337390533864459E-8}]
[null,"end of life HH",{"$f":"D134*C134","v":1.7649999999999999},null,{"$f":"$C$136*'EoL emissions'!B5","v":0.78625203616150074},{"$f":"$C$136*'EoL emissions'!C5","v":6.6208677117926477E-9},{"$f":"$C$136*'EoL emissions'!D5","v":1.3923097830622777E-6},{"$f":"$C$136*'EoL emissions'!E5","v":2.9861073170720978E-8},{"$f":"$C$136*'EoL emissions'!F5","v":7.4141878789749744E-9},{"$f":"$C$136*'EoL emissions'!G5","v":3.879251464220954E-3},{"$f":"$C$136*'EoL emissions'!H5","v":6.4251602708665647E-4},{"$f":"$C$136*'EoL emissions'!I5","v":9.5646924714902905E-4},{"$f":"$C$136*'EoL emissions'!J5","v":3.6489747769174801E-3},{"$f":"$C$136*'EoL emissions'!K5","v":8.3455748428041363E-5},{"$f":"$C$136*'EoL emissions'!L5","v":1.739928138612352E-3},{"$f":"$C$136*'EoL emissions'!M5","v":101.00085728787764},{"$f":"$C$136*'EoL emissions'!N5","v":1.637670449749852},{"$f":"$C$136*'EoL emissions'!O5","v":3.8437047097521902E-2},{"$f":"$C$136*'EoL emissions'!P5","v":0.26385459615777473},{"$f":"$C$136*'EoL emissions'!Q5","v":2.5633295934454271E-8}]
["RICE TOTAL",null,null,null,{"$f":"SUM(E130:E136)","v":42.816490921611852},{"$f":"SUM(F130:F136)","v":1.6216298126706085E-6},2.6051680683791767E-6,1.0407397208955757E-7,1.359989292784577E-6,0.47467842836031165,5.0143340583845217E-2,0.1885869623878606,0.75515903121222694,5.2605927274534279E-3,6.2787139791492433E-2,363.49831981834183,3427.6428597790782,612.42292339912137,143.32984143931677,8.9794551037675709E-5]
["Vegetables","TOMATOES"]
[null,"agriculture ",{"$f":"C140/(1-D139)","v":15.262435925203958},0,{"$f":"$C$139*'Emissions per kg'!C109","v":2.0146415421269226},{"$f":"$C$139*'Emissions per kg'!D109","v":6.1354992419319908E-8},{"$f":"$C$139*'Emissions per kg'!E109","v":1.3125694895675401E-7},{"$f":"$C$139*'Emissions per kg'!F109","v":8.6538011695906441E-9},{"$f":"$C$139*'Emissions per kg'!G109","v":2.6556638509854887E-7},{"$f":"$C$139*'Emissions per kg'!H109","v":6.6238971915385178E-2},{"$f":"$C$139*'Emissions per kg'!I109","v":3.9834957764782334E-3},{"$f":"$C$139*'Emissions per kg'!J109","v":3.8308714172261935E-2},{"$f":"$C$139*'Emissions per kg'!K109","v":0.15567684643708038},{"$f":"$C$139*'Emissions per kg'!L109","v":2.3656775684066135E-3},{"$f":"$C$139*'Emissions per kg'!M109","v":6.990195653743413E-3},{"$f":"$C$139*'Emissions per kg'!N109","v":43.650566746083321},{"$f":"$C$139*'Emissions per kg'!O109","v":128.96758356797343},{"$f":"$C$139*'Emissions per kg'!P109","v":19.993791062017184},{"$f":"$C$139*'Emissions per kg'!Q109","v":28.388130820879365},{"$f":"$C$139*'Emissions per kg'!R109","v":4.9908165475416942E-6}]
[null,"processsing",{"$f":"(C141/(1-D140))/(1-D141)","v":15.262435925203958},0.05,{"$f":"$C$140*'Emissions per kg'!C110","v":1.2560984766442858},{"$f":"$C$140*'Emissions per kg'!D110","v":2.4572521839578373E-5},{"$f":"$C$140*'Emissions per kg'!E110","v":3.6935094938993577E-8},{"$f":"$C$140*'Emissions per kg'!F110","v":2.5488267995090609E-9},{"$f":"$C$140*'Emissions per kg'!G110","v":2.0909537217529424E-8},{"$f":"$C$140*'Emissions per kg'!H110","v":2.9914374413399756E-2},{"$f":"$C$140*'Emissions per kg'!I110","v":1.8314923110244749E-3},{"$f":"$C$140*'Emissions per kg'!J110","v":2.4725146198830415E-3},{"$f":"$C$140*'Emissions per kg'!K110","v":6.5628474478377019E-3},{"$f":"$C$140*'Emissions per kg'!L110","v":1.6330806439968235E-5},{"$f":"$C$140*'Emissions per kg'!M110","v":5.9676124467547477E-4},{"$f":"$C$140*'Emissions per kg'!N110","v":0.4868717060140062},{"$f":"$C$140*'Emissions per kg'!O110","v":4.5634683416359829},{"$f":"$C$140*'Emissions per kg'!P110","v":6.7002093711645366E-2},{"$f":"$C$140*'Emissions per kg'!Q110","v":5.6165764204750568},{"$f":"$C$140*'Emissions per kg'!R110","v":8.1806656559093211E-7}]
[null,"packaging",{"$f":"C142","v":14.499314128943759},0,{"$f":"$C$141*'Emissions per kg'!C111","v":1.1135473251028807},{"$f":"$C$141*'Emissions per kg'!D111","v":3.4798353909465021E-8},{"$f":"$C$141*'Emissions per kg'!E111","v":2.3633882030178327E-7},{"$f":"$C$141*'Emissions per kg'!F111","v":1.1294965706447188E-8},{"$f":"$C$141*'Emissions per kg'!G111","v":-1.6819204389574758E-7},{"$f":"$C$141*'Emissions per kg'!H111","v":2.3488888888888889E-2},{"$f":"$C$141*'Emissions per kg'!I111","v":3.175349794238683E-4},{"$f":"$C$141*'Emissions per kg'!J111","v":2.0154046639231822E-3},{"$f":"$C$141*'Emissions per kg'!K111","v":2.3198902606310014E-3},{"$f":"$C$141*'Emissions per kg'!L111","v":5.0747599451303158E-5},{"$f":"$C$141*'Emissions per kg'!M111","v":8.5690946502057618E-4},{"$f":"$C$141*'Emissions per kg'!N111","v":1.493429355281207},{"$f":"$C$141*'Emissions per kg'!O111","v":-339.28395061728395},{"$f":"$C$141*'Emissions per kg'!P111","v":-1.2135925925925926},{"$f":"$C$141*'Emissions per kg'!Q111","v":14.934293552812072},{"$f":"$C$141*'Emissions per kg'!R111","v":2.3198902606310013E-5}]
[null,"retail",{"$f":"(C143/(1-D143))/(1-D142)","v":14.499314128943759},0.1,{"$f":"$C$142*'Emissions per kg'!C112","v":1.4499314128943759},{"$f":"$C$142*'Emissions per kg'!D112","v":1.2440411522633746E-6},{"$f":"$C$142*'Emissions per kg'!E112","v":2.2908916323731137E-7},{"$f":"$C$142*'Emissions per kg'!F112","v":1.0627997256515774E-8},{"$f":"$C$142*'Emissions per kg'!G112","v":1.4934293552812072E-7},{"$f":"$C$142*'Emissions per kg'!H112","v":0.10062524005486968},{"$f":"$C$142*'Emissions per kg'!I112","v":1.0526502057613168E-2},{"$f":"$C$142*'Emissions per kg'!J112","v":9.5405486968449926E-3},{"$f":"$C$142*'Emissions per kg'!K112","v":3.7698216735253774E-2},{"$f":"$C$142*'Emissions per kg'!L112","v":2.8128669410150892E-5},{"$f":"$C$142*'Emissions per kg'!M112","v":3.4363374485596706E-3},{"$f":"$C$142*'Emissions per kg'!N112","v":3.9583127572016465},{"$f":"$C$142*'Emissions per kg'!O112","v":27.838683127572015},{"$f":"$C$142*'Emissions per kg'!P112","v":0.57852263374485591},{"$f":"$C$142*'Emissions per kg'!Q112","v":22.618930041152264},{"$f":"$C$142*'Emissions per kg'!R112","v":3.3783401920438958E-6}]
[null,"use ",10.57,0.19,{"$f":"$C$143*'Emissions per kg'!C113","v":1.0781399999999999},{"$f":"$C$143*'Emissions per kg'!D113","v":1.3741000000000001E-7},{"$f":"$C$143*'Emissions per kg'!E113","v":1.4586599999999999E-7},{"$f":"$C$143*'Emissions per kg'!F113","v":2.1668500000000003E-8},{"$f":"$C$143*'Emissions per kg'!G113","v":5.7078000000000003E-8},{"$f":"$C$143*'Emissions per kg'!H113","v":6.4899799999999994E-2},{"$f":"$C$143*'Emissions per kg'!I113","v":3.1709999999999998E-3},{"$f":"$C$143*'Emissions per kg'!J113","v":5.0101799999999995E-3},{"$f":"$C$143*'Emissions per kg'!K113","v":1.2049799999999999E-2},{"$f":"$C$143*'Emissions per kg'!L113","v":1.4586599999999999E-3},{"$f":"$C$143*'Emissions per kg'!M113","v":8.1917499999999994E-3},{"$f":"$C$143*'Emissions per kg'!N113","v":1.54322},{"$f":"$C$143*'Emissions per kg'!O113","v":65.534000000000006},{"$f":"$C$143*'Emissions per kg'!P113","v":16.4892},{"$f":"$C$143*'Emissions per kg'!Q113","v":14.163800000000002},{"$f":"$C$143*'Emissions per kg'!R113","v":7.4095700000000006E-6}]
[null,"end of life P&R",{"$f":"D140*C140+D142*C142+C141*D141+C139*D139","v":2.213053209154574},null,{"$f":"$C$144*'EoL emissions'!B4","v":0.74879801526218714},{"$f":"$C$144*'EoL emissions'!C4","v":8.9601561359941545E-9},{"$f":"$C$144*'EoL emissions'!D4","v":8.3092068276104504E-7},{"$f":"$C$144*'EoL emissions'!E4","v":3.3235977625640349E-8},{"$f":"$C$144*'EoL emissions'!F4","v":1.6941625736575877E-8},{"$f":"$C$144*'EoL emissions'!G4","v":5.6735894255815185E-3},{"$f":"$C$144*'EoL emissions'!H4","v":1.0031603112903057E-3},{"$f":"$C$144*'EoL emissions'!I4","v":2.6580367509354726E-3},{"$f":"$C$144*'EoL emissions'!J4","v":1.0749164627188825E-2},{"$f":"$C$144*'EoL emissions'!K4","v":2.115923093979983E-4},{"$f":"$C$144*'EoL emissions'!L4","v":1.2145254723498549E-3},{"$f":"$C$144*'EoL emissions'!M4","v":58.753172949631022},{"$f":"$C$144*'EoL emissions'!N4","v":3.0367648039138802},{"$f":"$C$144*'EoL emissions'!O4","v":2.9409056211035151E-2},{"$f":"$C$144*'EoL emissions'!P4","v":-0.54028219769043873},{"$f":"$C$144*'EoL emissions'!Q4","v":-4.1009765880749182E-8}]
[null,"end of life HH",{"$f":"D143*C143","v":2.0083000000000002},null,{"$f":"$C$145*'EoL emissions'!B5","v":0.89463454063634118},{"$f":"$C$145*'EoL emissions'!C5","v":7.5335346320641232E-9},{"$f":"$C$145*'EoL emissions'!D5","v":1.5842355452260467E-6},{"$f":"$C$145*'EoL emissions'!E5","v":3.3977333285415835E-8},{"$f":"$C$145*'EoL emissions'!F5","v":8.4362116245583255E-9},{"$f":"$C$145*'EoL emissions'!G5","v":4.4139947397138493E-3},{"$f":"$C$145*'EoL emissions'!H5","v":7.3108495025389934E-4},{"$f":"$C$145*'EoL emissions'!I5","v":1.0883156878466829E-3},{"$f":"$C$145*'EoL emissions'!J5","v":4.1519750960245759E-3},{"$f":"$C$145*'EoL emissions'!K5","v":9.4959875109368552E-5},{"$f":"$C$145*'EoL emissions'!L5","v":1.9797720570964234E-3},{"$f":"$C$145*'EoL emissions'!M5","v":114.92352503753241},{"$f":"$C$145*'EoL emissions'!N5","v":1.8634184499901576},{"$f":"$C$145*'EoL emissions'!O5","v":4.3735479708755381E-2},{"$f":"$C$145*'EoL emissions'!P5","v":0.30022616740150654},{"$f":"$C$145*'EoL emissions'!Q5","v":2.9166769532671116E-8}]
["TOMATOES TOTAL",null,null,null,{"$f":"SUM(E139:E145)","v":8.555791312666992},{"$f":"SUM(F139:F145)","v":2.6066620028938589E-5},3.1946422554219337E-6,1.2200740184311885E-7,3.5008265130958562E-7,0.2952548594378388,2.1564270386083949E-2,6.1093714591695304E-2,0.22920874060401628,4.2260968282154029E-3,2.3266251341445408E-2,224.8090985517436,-107.48003232619845,35.988067732800886,85.481674805029826,3.9783852915138461E-5]
["Tubers","POTATOES"]
[null,"agriculture ",{"$f":"C149/(1-D148)","v":68.506283197305365},0,{"$f":"$C$148*'Emissions per kg'!C116","v":6.5492006736623933},{"$f":"$C$148*'Emissions per kg'!D116","v":2.6169400181370645E-7},{"$f":"$C$148*'Emissions per kg'!E116","v":5.3640419743490096E-5},{"$f":"$C$148*'Emissions per kg'!F116","v":4.8022904521311061E-7},{"$f":"$C$148*'Emissions per kg'!G116","v":1.7811633631299395E-6},{"$f":"$C$148*'Emissions per kg'!H116","v":0.2144246664075658},{"$f":"$C$148*'Emissions per kg'!I116","v":2.0072340976810474E-2},{"$f":"$C$148*'Emissions per kg'!J116","v":0.24456743101438014},{"$f":"$C$148*'Emissions per kg'!K116","v":1.0618473895582332},{"$f":"$C$148*'Emissions per kg'!L116","v":5.9600466381655665E-3},{"$f":"$C$148*'Emissions per kg'!M116","v":0.12673662391501492},{"$f":"$C$148*'Emissions per kg'!N116","v":66.72511983417543},{"$f":"$C$148*'Emissions per kg'!O116","v":2171.6491773545799},{"$f":"$C$148*'Emissions per kg'!P116","v":1.3564244073066463},{"$f":"$C$148*'Emissions per kg'!Q116","v":68.300764347713454},{"$f":"$C$148*'Emissions per kg'!R116","v":1.7880139914496701E-5}]
[null,"processsing",{"$f":"(C150/(1-D149))/(1-D150)","v":68.506283197305365},0,{"$f":"$C$149*'Emissions per kg'!C117","v":9.9334110636092774},{"$f":"$C$149*'Emissions per kg'!D117","v":1.0481461329187721E-4},{"$f":"$C$149*'Emissions per kg'!E117","v":3.4664179297836517E-7},{"$f":"$C$149*'Emissions per kg'!F117","v":4.0350200803212861E-8},{"$f":"$C$149*'Emissions per kg'!G117","v":1.329021894027724E-7},{"$f":"$C$149*'Emissions per kg'!H117","v":0.53982951159476622},{"$f":"$C$149*'Emissions per kg'!I117","v":1.1303536727555385E-2},{"$f":"$C$149*'Emissions per kg'!J117","v":3.0005752040419751E-2},{"$f":"$C$149*'Emissions per kg'!K117","v":4.9735561601243691E-2},{"$f":"$C$149*'Emissions per kg'!L117","v":5.0557636999611359E-4},{"$f":"$C$149*'Emissions per kg'!M117","v":4.2062857883145496E-3},{"$f":"$C$149*'Emissions per kg'!N117","v":4.0898251068791307},{"$f":"$C$149*'Emissions per kg'!O117","v":49.050498769270639},{"$f":"$C$149*'Emissions per kg'!P117","v":1.1440549293949995},{"$f":"$C$149*'Emissions per kg'!Q117","v":104.12955045990415},{"$f":"$C$149*'Emissions per kg'!R117","v":9.9334110636092784E-5}]
[null,"packaging",{"$f":"C151","v":68.506283197305365},0,{"$f":"$C$150*'Emissions per kg'!C118","v":3.562326726259879},{"$f":"$C$150*'Emissions per kg'!D118","v":1.0070423630003889E-6},{"$f":"$C$150*'Emissions per kg'!E118","v":2.9115170358854781E-7},{"$f":"$C$150*'Emissions per kg'!F118","v":5.6791708770566151E-8},{"$f":"$C$150*'Emissions per kg'!G118","v":2.5963881331778738E-7},{"$f":"$C$150*'Emissions per kg'!H118","v":0.12057105842725745},{"$f":"$C$150*'Emissions per kg'!I118","v":9.3168545148335294E-3},{"$f":"$C$150*'Emissions per kg'!J118","v":2.1031428941572745E-2},{"$f":"$C$150*'Emissions per kg'!K118","v":3.6034304961782622E-2},{"$f":"$C$150*'Emissions per kg'!L118","v":1.8907734162456279E-4},{"$f":"$C$150*'Emissions per kg'!M118","v":3.3979116465863461E-3},{"$f":"$C$150*'Emissions per kg'!N118","v":2.527881849980568},{"$f":"$C$150*'Emissions per kg'!O118","v":82.207539836766429},{"$f":"$C$150*'Emissions per kg'!P118","v":2.5689856198989509},{"$f":"$C$150*'Emissions per kg'!Q118","v":45.8992097421946},{"$f":"$C$150*'Emissions per kg'!R118","v":5.8983909832879922E-5}]
[null,"retail",{"$f":"(C152/(1-D152))/(1-D151)","v":68.506283197305365},7.0000000000000007E-2,{"$f":"$C$151*'Emissions per kg'!C119","v":7.3986785853089794},{"$f":"$C$151*'Emissions per kg'!D119","v":4.4871615494235011E-5},{"$f":"$C$151*'Emissions per kg'!E119","v":9.3168545148335296E-7},{"$f":"$C$151*'Emissions per kg'!F119","v":4.4049540095867347E-8},{"$f":"$C$151*'Emissions per kg'!G119","v":5.9531960098458368E-7},{"$f":"$C$151*'Emissions per kg'!H119","v":0.41172276201580521},{"$f":"$C$151*'Emissions per kg'!I119","v":4.1583313900764356E-2},{"$f":"$C$151*'Emissions per kg'!J119","v":3.8432024873688311E-2},{"$f":"$C$151*'Emissions per kg'!K119","v":0.14934369737012571},{"$f":"$C$151*'Emissions per kg'!L119","v":1.2399637258712272E-4},{"$f":"$C$151*'Emissions per kg'!M119","v":1.3564244073066462E-2},{"$f":"$C$151*'Emissions per kg'!N119","v":15.824951418577539},{"$f":"$C$151*'Emissions per kg'!O119","v":106.18473895582332},{"$f":"$C$151*'Emissions per kg'!P119","v":2.6237906464567957},{"$f":"$C$151*'Emissions per kg'!Q119","v":91.7984194843892},{"$f":"$C$151*'Emissions per kg'!R119","v":1.4523332037828737E-5}]
[null,"use ",52.88,0.17,{"$f":"$C$152*'Emissions per kg'!C120","v":26.672671999999999},{"$f":"$C$152*'Emissions per kg'!D120","v":1.2745666400000002E-6},{"$f":"$C$152*'Emissions per kg'!E120","v":1.3717072E-6},{"$f":"$C$152*'Emissions per kg'!F120","v":1.8016215999999999E-7},{"$f":"$C$152*'Emissions per kg'!G120","v":5.1801248000000001E-7},{"$f":"$C$152*'Emissions per kg'!H120","v":1.2307291200000001},{"$f":"$C$152*'Emissions per kg'!I120","v":4.5365752000000002E-2},{"$f":"$C$152*'Emissions per kg'!J120","v":8.4232552000000002E-2},{"$f":"$C$152*'Emissions per kg'!K120","v":0.19258896},{"$f":"$C$152*'Emissions per kg'!L120","v":1.6208301680000002E-2},{"$f":"$C$152*'Emissions per kg'!M120","v":0.17096104000000001},{"$f":"$C$152*'Emissions per kg'!N120","v":16.160128},{"$f":"$C$152*'Emissions per kg'!O120","v":344.77760000000001},{"$f":"$C$152*'Emissions per kg'!P120","v":67.862490400000013},{"$f":"$C$152*'Emissions per kg'!Q120","v":323.86884800000001},{"$f":"$C$152*'Emissions per kg'!R120","v":5.4056051200000002E-5}]
[null,"end of life P&R",{"$f":"D149*C149+D151*C151+C150*D150+C148*D148","v":4.7954398238113756},null,{"$f":"$C$153*'EoL emissions'!B4","v":1.6225619011442414},{"$f":"$C$153*'EoL emissions'!C4","v":1.9415660402728737E-8},{"$f":"$C$153*'EoL emissions'!D4","v":1.8005125751418574E-6},{"$f":"$C$153*'EoL emissions'!E4","v":7.2018661833343815E-8},{"$f":"$C$153*'EoL emissions'!F4","v":3.6710616085150436E-8},{"$f":"$C$153*'EoL emissions'!G4","v":1.2294036385045807E-2},{"$f":"$C$153*'EoL emissions'!H4","v":2.1737366668496336E-3},{"$f":"$C$153*'EoL emissions'!I4","v":5.7596695984817904E-3},{"$f":"$C$153*'EoL emissions'!J4","v":2.3292242551012917E-2},{"$f":"$C$153*'EoL emissions'!K4","v":4.584969682165953E-4},{"$f":"$C$153*'EoL emissions'!L4","v":2.6317414299156226E-3},{"$f":"$C$153*'EoL emissions'!M4","v":127.31158210406083},{"$f":"$C$153*'EoL emissions'!N4","v":6.5803311081709355},{"$f":"$C$153*'EoL emissions'!O4","v":6.3726149354077652E-2},{"$f":"$C$153*'EoL emissions'!P4","v":-1.170731348068593},{"$f":"$C$153*'EoL emissions'!Q4","v":-8.8863595170788147E-8}]
[null,"end of life HH",{"$f":"D152*C152","v":8.9896000000000011},null,{"$f":"$C$154*'EoL emissions'!B5","v":4.0045843083724808},{"$f":"$C$154*'EoL emissions'!C5","v":3.3721786052085664E-8},{"$f":"$C$154*'EoL emissions'!D5","v":7.0913926491879053E-6},{"$f":"$C$154*'EoL emissions'!E5","v":1.5209014355553164E-7},{"$f":"$C$154*'EoL emissions'!F5","v":3.7762370173843311E-8},{"$f":"$C$154*'EoL emissions'!G5","v":1.9758027740940903E-2},{"$f":"$C$154*'EoL emissions'!H5","v":3.2724997603955849E-3},{"$f":"$C$154*'EoL emissions'!I5","v":4.8715444442894692E-3},{"$f":"$C$154*'EoL emissions'!J5","v":1.8585169209392287E-2},{"$f":"$C$154*'EoL emissions'!K5","v":4.2506164083213639E-4},{"$f":"$C$154*'EoL emissions'!L5","v":8.86190254666833E-3},{"$f":"$C$154*'EoL emissions'!M5","v":514.42340321535698},{"$f":"$C$154*'EoL emissions'!N5","v":8.3410777762443473},{"$f":"$C$154*'EoL emissions'!O5","v":0.19576978956820565},{"$f":"$C$154*'EoL emissions'!P5","v":1.3438794774050606},{"$f":"$C$154*'EoL emissions'!Q5","v":1.3055698421097459E-7}]
["POTATOES TOTAL",null,null,null,{"$f":"SUM(E148:E154)","v":59.743435258357252},{"$f":"SUM(F148:F154)","v":1.5228266923738112E-4},6.5473511115870129E-5,1.0256914602716322E-6,3.3615094330940767E-6,2.5493291825713817,0.13308803454720899,0.42890040291283216,1.5314273252517903,2.38705570114221E-2,0.3303597493995663,747.06289152903048,2768.7909638008555,75.815241941979693,634.16994016353794,2.4481923701033835E-4]
["Oils","SUNFLOWER OIL"]
[null,"agriculture ",{"$f":"C158/(1-D157)","v":6.7409715754869417},0.1,{"$f":"$C$157*'Emissions per kg'!C123","v":35.0530521925321},{"$f":"$C$157*'Emissions per kg'!D123","v":1.5841283202394313E-6},{"$f":"$C$157*'Emissions per kg'!E123","v":9.774408784456065E-5},{"$f":"$C$157*'Emissions per kg'!F123","v":2.5009004545056552E-6},{"$f":"$C$157*'Emissions per kg'!G123","v":1.826803296956961E-6},{"$f":"$C$157*'Emissions per kg'!H123","v":0.54736689192953958},{"$f":"$C$157*'Emissions per kg'!I123","v":7.415068733035636E-2},{"$f":"$C$157*'Emissions per kg'!J123","v":0.21166650747028995},{"$f":"$C$157*'Emissions per kg'!K123","v":0.88306727638878935},{"$f":"$C$157*'Emissions per kg'!L123","v":2.0897011884009518E-2},{"$f":"$C$157*'Emissions per kg'!M123","v":0.45299328987272247},{"$f":"$C$157*'Emissions per kg'!N123","v":302.66962373936366},{"$f":"$C$157*'Emissions per kg'!O123","v":21705.928473067954},{"$f":"$C$157*'Emissions per kg'!P123","v":16.110922065413792},{"$f":"$C$157*'Emissions per kg'!Q123","v":234.58581082694556},{"$f":"$C$157*'Emissions per kg'!R123","v":1.2268568267386233E-4}]
[null,"processsing",{"$f":"(C159/(1-D158))/(1-D159)","v":6.0668744179382479},0.06,{"$f":"$C$158*'Emissions per kg'!C124","v":6.6735618597320734},{"$f":"$C$158*'Emissions per kg'!D124","v":4.932368901783796E-8},{"$f":"$C$158*'Emissions per kg'!E124","v":4.1012071065262555E-8},{"$f":"$C$158*'Emissions per kg'!F124","v":6.0668744179382482E-9},{"$f":"$C$158*'Emissions per kg'!G124","v":7.7049305107815752E-8},{"$f":"$C$158*'Emissions per kg'!H124","v":6.9162368364496032E-2},{"$f":"$C$158*'Emissions per kg'!I124","v":2.6815584927287056E-2},{"$f":"$C$158*'Emissions per kg'!J124","v":1.3529129952002294E-2},{"$f":"$C$158*'Emissions per kg'!K124","v":4.4652195716025508E-2},{"$f":"$C$158*'Emissions per kg'!L124","v":1.6683904649330184E-3},{"$f":"$C$158*'Emissions per kg'!M124","v":6.7342306039114555E-3},{"$f":"$C$158*'Emissions per kg'!N124","v":0.49445026506196721},{"$f":"$C$158*'Emissions per kg'!O124","v":2.6087559997134466},{"$f":"$C$158*'Emissions per kg'!P124","v":0.20506035532631275},{"$f":"$C$158*'Emissions per kg'!Q124","v":44.045508274231679},{"$f":"$C$158*'Emissions per kg'!R124","v":6.1275431621176307E-7}]
[null,"packaging",{"$f":"C160","v":5.7028619528619524},0,{"$f":"$C$159*'Emissions per kg'!C125","v":0.86683501683501674},{"$f":"$C$159*'Emissions per kg'!D125","v":7.2996632996632998E-8},{"$f":"$C$159*'Emissions per kg'!E125","v":9.9800084175084179E-8},{"$f":"$C$159*'Emissions per kg'!F125","v":1.1747895622895622E-8},{"$f":"$C$159*'Emissions per kg'!G125","v":6.7864057239057238E-9},{"$f":"$C$159*'Emissions per kg'!H125","v":6.8434343434343431E-2},{"$f":"$C$159*'Emissions per kg'!I125","v":9.2956649831649825E-4},{"$f":"$C$159*'Emissions per kg'!J125","v":3.746780303030303E-3},{"$f":"$C$159*'Emissions per kg'!K125","v":5.5602904040404034E-3},{"$f":"$C$159*'Emissions per kg'!L125","v":7.18560606060606E-5},{"$f":"$C$159*'Emissions per kg'!M125","v":5.8169191919191915E-4},{"$f":"$C$159*'Emissions per kg'!N125","v":0.71856060606060601},{"$f":"$C$159*'Emissions per kg'!O125","v":-16.6523569023569},{"$f":"$C$159*'Emissions per kg'!P125","v":0.72426346801346797},{"$f":"$C$159*'Emissions per kg'!Q125","v":9.2956649831649827},{"$f":"$C$159*'Emissions per kg'!R125","v":6.1020622895622887E-6}]
[null,"retail",{"$f":"(C161/(1-D161))/(1-D160)","v":5.7028619528619524},0.01,{"$f":"$C$160*'Emissions per kg'!C126","v":0.45451809764309758},{"$f":"$C$160*'Emissions per kg'!D126","v":1.0094065656565656E-7},{"$f":"$C$160*'Emissions per kg'!E126","v":7.4137205387205389E-8},{"$f":"$C$160*'Emissions per kg'!F126","v":3.5015572390572393E-9},{"$f":"$C$160*'Emissions per kg'!G126","v":4.7447811447811442E-8},{"$f":"$C$160*'Emissions per kg'!H126","v":3.2677398989898986E-2},{"$f":"$C$160*'Emissions per kg'!I126","v":3.3133627946127947E-3},{"$f":"$C$160*'Emissions per kg'!J126","v":3.0453282828282824E-3},{"$f":"$C$160*'Emissions per kg'!K126","v":1.191898148148148E-2},{"$f":"$C$160*'Emissions per kg'!L126","v":9.751893939393938E-6},{"$f":"$C$160*'Emissions per kg'!M126","v":1.0835437710437711E-3},{"$f":"$C$160*'Emissions per kg'!N126","v":1.2717382154882153},{"$f":"$C$160*'Emissions per kg'!O126","v":8.3832070707070692},{"$f":"$C$160*'Emissions per kg'!P126","v":0.2138573232323232},{"$f":"$C$160*'Emissions per kg'!Q126","v":7.2996632996632993},{"$f":"$C$160*'Emissions per kg'!R126","v":1.1405723905723905E-6}]
[null,"use ",5.42,0.04,{"$f":"$C$161*'Emissions per kg'!C127","v":2.7642000000000002},{"$f":"$C$161*'Emissions per kg'!D127","v":3.2465799999999997E-8},{"$f":"$C$161*'Emissions per kg'!E127","v":6.0487199999999989E-8},{"$f":"$C$161*'Emissions per kg'!F127","v":1.0894200000000001E-8},{"$f":"$C$161*'Emissions per kg'!G127","v":2.4227399999999998E-8},{"$f":"$C$161*'Emissions per kg'!H127","v":1.9978119999999999E-2},{"$f":"$C$161*'Emissions per kg'!I127","v":2.1354799999999999E-3},{"$f":"$C$161*'Emissions per kg'!J127","v":2.7642000000000001E-3},{"$f":"$C$161*'Emissions per kg'!K127","v":7.4308200000000003E-3},{"$f":"$C$161*'Emissions per kg'!L127","v":3.2086399999999998E-5},{"$f":"$C$161*'Emissions per kg'!M127","v":2.5582400000000003E-3},{"$f":"$C$161*'Emissions per kg'!N127","v":0.47858600000000001},{"$f":"$C$161*'Emissions per kg'!O127","v":18.57976},{"$f":"$C$161*'Emissions per kg'!P127","v":4.3967039999999997},{"$f":"$C$161*'Emissions per kg'!Q127","v":24.173199999999998},{"$f":"$C$161*'Emissions per kg'!R127","v":1.7536410000000001E-6}]
[null,"end of life P&R",{"$f":"D158*C158+D160*C160+C159*D159+C157*D157","v":1.0951382421536087},null,{"$f":"$C$162*'EoL emissions'!B4","v":0.37054569622192302},{"$f":"$C$162*'EoL emissions'!C4","v":4.4339691425418107E-9},{"$f":"$C$162*'EoL emissions'!D4","v":4.1118442707287334E-7},{"$f":"$C$162*'EoL emissions'!E4","v":1.644695661298859E-8},{"$f":"$C$162*'EoL emissions'!F4","v":8.3836313341357859E-9},{"$f":"$C$162*'EoL emissions'!G4","v":2.8075984456814138E-3},{"$f":"$C$162*'EoL emissions'!H4","v":4.9641789693995512E-4},{"$f":"$C$162*'EoL emissions'!I4","v":1.3153401296262484E-3},{"$f":"$C$162*'EoL emissions'!J4","v":5.3192671580347441E-3},{"$f":"$C$162*'EoL emissions'!K4","v":1.0470730157268501E-4},{"$f":"$C$162*'EoL emissions'!L4","v":6.0101279324780148E-4},{"$f":"$C$162*'EoL emissions'!M4","v":29.074242896123582},{"$f":"$C$162*'EoL emissions'!N4","v":1.5027552231618793},{"$f":"$C$162*'EoL emissions'!O4","v":1.4553189227046803E-2},{"$f":"$C$162*'EoL emissions'!P4","v":-0.26736080894847952},{"$f":"$C$162*'EoL emissions'!Q4","v":-2.029384685916867E-8}]
[null,"end of life HH",{"$f":"D161*C161","v":0.21679999999999999},null,{"$f":"$C$163*'EoL emissions'!B5","v":9.6577587218024577E-2},{"$f":"$C$163*'EoL emissions'!C5","v":8.1326012459866632E-10},{"$f":"$C$163*'EoL emissions'!D5","v":1.7102139431609166E-7},{"$f":"$C$163*'EoL emissions'!E5","v":3.6679210557576814E-9},{"$f":"$C$163*'EoL emissions'!F5","v":9.1070591057324333E-10},{"$f":"$C$163*'EoL emissions'!G5","v":4.764995566249875E-4},{"$f":"$C$163*'EoL emissions'!H5","v":7.8922081967358141E-5},{"$f":"$C$163*'EoL emissions'!I5","v":1.1748585426737082E-4},{"$f":"$C$163*'EoL emissions'!J5","v":4.4821401225819246E-4},{"$f":"$C$163*'EoL emissions'!K5","v":1.0251108362152617E-5},{"$f":"$C$163*'EoL emissions'!L5","v":2.137203515304011E-4},{"$f":"$C$163*'EoL emissions'!M5","v":12.406224283292847},{"$f":"$C$163*'EoL emissions'!N5","v":0.20115974702876369},{"$f":"$C$163*'EoL emissions'!O5","v":4.7213324706757778E-3},{"$f":"$C$163*'EoL emissions'!P5","v":3.2410014984139125E-2},{"$f":"$C$163*'EoL emissions'!Q5","v":3.1486110813539298E-9}]
["SUNFLOWER OIL TOTAL",null,null,null,{"$f":"SUM(E157:E163)","v":46.279290450182238},{"$f":"SUM(F157:F163)","v":1.8451023280866992E-6},9.8601730226577177E-5,2.5532258594542924E-6,1.9916085564812031E-6,0.74090322072058445,0.10792002152948001,0.23618477199204443,0.95839704516062962,2.2794055113422827E-2,0.46476572931164778,347.11342600539081,21720.551754206212,21.67008173368362,319.16489659004122,1.3227756743443097E-4]
["Oils","OLIVE OIL"]
[null,"agriculture ",{"$f":"C167/(1-D166)","v":4.6990740740740735},0,{"$f":"$C$166*'Emissions per kg'!C130","v":5.2629629629629626},{"$f":"$C$166*'Emissions per kg'!D130","v":4.1351851851851846E-7},{"$f":"$C$166*'Emissions per kg'!E130","v":1.0478935185185184E-6},{"$f":"$C$166*'Emissions per kg'!F130","v":3.6652777777777776E-8},{"$f":"$C$166*'Emissions per kg'!G130","v":5.9678240740740736E-7},{"$f":"$C$166*'Emissions per kg'!H130","v":0.29322222222222216},{"$f":"$C$166*'Emissions per kg'!I130","v":2.5844907407407403E-2},{"$f":"$C$166*'Emissions per kg'!J130","v":8.1293981481481467E-2},{"$f":"$C$166*'Emissions per kg'!K130","v":0.30449999999999994},{"$f":"$C$166*'Emissions per kg'!L130","v":1.1371759259259258E-3},{"$f":"$C$166*'Emissions per kg'!M130","v":4.7460648148148141E-2},{"$f":"$C$166*'Emissions per kg'!N130","v":19.548148148148147},{"$f":"$C$166*'Emissions per kg'!O130","v":5450.9259259259252},{"$f":"$C$166*'Emissions per kg'!P130","v":123.58564814814814},{"$f":"$C$166*'Emissions per kg'!Q130","v":74.245370370370367},{"$f":"$C$166*'Emissions per kg'!R130","v":3.2329629629629624E-5}]
[null,"processsing",{"$f":"(C168/(1-D167))/(1-D168)","v":4.6990740740740735},0,{"$f":"$C$167*'Emissions per kg'!C131","v":0.76594907407407398},{"$f":"$C$167*'Emissions per kg'!D131","v":8.0824074074074064E-8},{"$f":"$C$167*'Emissions per kg'!E131","v":5.215972222222222E-8},{"$f":"$C$167*'Emissions per kg'!F131","v":5.7328703703703689E-9},{"$f":"$C$167*'Emissions per kg'!G131","v":2.1850694444444444E-8},{"$f":"$C$167*'Emissions per kg'!H131","v":7.0016203703703692E-2},{"$f":"$C$167*'Emissions per kg'!I131","v":2.1756712962962958E-3},{"$f":"$C$167*'Emissions per kg'!J131","v":4.0365046296296286E-3},{"$f":"$C$167*'Emissions per kg'!K131","v":7.3775462962962952E-3},{"$f":"$C$167*'Emissions per kg'!L131","v":4.7930555555555556E-5},{"$f":"$C$167*'Emissions per kg'!M131","v":6.7196759259259249E-4},{"$f":"$C$167*'Emissions per kg'!N131","v":0.45768981481481474},{"$f":"$C$167*'Emissions per kg'!O131","v":7.7064814814814797},{"$f":"$C$167*'Emissions per kg'!P131","v":1.0478935185185183},{"$f":"$C$167*'Emissions per kg'!Q131","v":15.178009259259257},{"$f":"$C$167*'Emissions per kg'!R131","v":1.2264583333333333E-6}]
[null,"packaging",{"$f":"C169","v":4.6990740740740735},0,{"$f":"$C$168*'Emissions per kg'!C132","v":3.4773148148148145},{"$f":"$C$168*'Emissions per kg'!D132","v":5.7328703703703701E-7},{"$f":"$C$168*'Emissions per kg'!E132","v":1.729259259259259E-7},{"$f":"$C$168*'Emissions per kg'!F132","v":1.1277777777777777E-8},{"$f":"$C$168*'Emissions per kg'!G132","v":1.0337962962962961E-8},{"$f":"$C$168*'Emissions per kg'!H132","v":0.26502777777777775},{"$f":"$C$168*'Emissions per kg'!I132","v":4.6755787037037035E-3},{"$f":"$C$168*'Emissions per kg'!J132","v":6.9546296296296283E-3},{"$f":"$C$168*'Emissions per kg'!K132","v":8.9282407407407401E-3},{"$f":"$C$168*'Emissions per kg'!L132","v":5.2629629629629623E-5},{"$f":"$C$168*'Emissions per kg'!M132","v":1.3674305555555555E-3},{"$f":"$C$168*'Emissions per kg'!N132","v":1.4238194444444443},{"$f":"$C$168*'Emissions per kg'!O132","v":-54.979166666666657},{"$f":"$C$168*'Emissions per kg'!P132","v":-0.10103009259259257},{"$f":"$C$168*'Emissions per kg'!Q132","v":54.039351851851848},{"$f":"$C$168*'Emissions per kg'!R132","v":3.1718749999999995E-5}]
[null,"retail",{"$f":"(C170/(1-D170))/(1-D169)","v":4.6990740740740735},0,{"$f":"$C$169*'Emissions per kg'!C133","v":0.65787037037037033},{"$f":"$C$169*'Emissions per kg'!D133","v":1.4849074074074073E-7},{"$f":"$C$169*'Emissions per kg'!E133","v":1.0995833333333333E-7},{"$f":"$C$169*'Emissions per kg'!F133","v":5.0280092592592588E-9},{"$f":"$C$169*'Emissions per kg'!G133","v":7.0956018518518514E-8},{"$f":"$C$169*'Emissions per kg'!H133","v":4.5674999999999993E-2},{"$f":"$C$169*'Emissions per kg'!I133","v":4.9340277777777768E-3},{"$f":"$C$169*'Emissions per kg'!J133","v":4.4453240740740738E-3},{"$f":"$C$169*'Emissions per kg'!K133","v":1.7715509259259257E-2},{"$f":"$C$169*'Emissions per kg'!L133","v":1.2123611111111109E-5},{"$f":"$C$169*'Emissions per kg'!M133","v":1.6117824074074073E-3},{"$f":"$C$169*'Emissions per kg'!N133","v":1.907824074074074},{"$f":"$C$169*'Emissions per kg'!O133","v":12.311574074074073},{"$f":"$C$169*'Emissions per kg'!P133","v":0.21333796296296295},{"$f":"$C$169*'Emissions per kg'!Q133","v":10.431944444444444},{"$f":"$C$169*'Emissions per kg'!R133","v":1.668171296296296E-6}]
[null,"use ",4.0599999999999996,0.13600000000000001,{"$f":"$C$170*'Emissions per kg'!C134","v":0.53591999999999995},{"$f":"$C$170*'Emissions per kg'!D134","v":5.3185999999999997E-8},{"$f":"$C$170*'Emissions per kg'!E134","v":5.6027999999999991E-8},{"$f":"$C$170*'Emissions per kg'!F134","v":8.444799999999998E-9},{"$f":"$C$170*'Emissions per kg'!G134","v":2.18022E-8},{"$f":"$C$170*'Emissions per kg'!H134","v":2.5740399999999997E-2},{"$f":"$C$170*'Emissions per kg'!I134","v":1.2626600000000001E-3},{"$f":"$C$170*'Emissions per kg'!J134","v":1.8554199999999998E-3},{"$f":"$C$170*'Emissions per kg'!K134","v":4.1005999999999994E-3},{"$f":"$C$170*'Emissions per kg'!L134","v":3.5484399999999995E-5},{"$f":"$C$170*'Emissions per kg'!M134","v":6.0087999999999993E-4},{"$f":"$C$170*'Emissions per kg'!N134","v":0.63741999999999999},{"$f":"$C$170*'Emissions per kg'!O134","v":25.374999999999996},{"$f":"$C$170*'Emissions per kg'!P134","v":6.3335999999999997},{"$f":"$C$170*'Emissions per kg'!Q134","v":7.5515999999999996},{"$f":"$C$170*'Emissions per kg'!R134","v":2.9962799999999995E-6}]
[null,"end of life P&R",{"$f":"D167*C167+D169*C169+C168*D168+C166*D166","v":0},null,{"$f":"$C$171*'EoL emissions'!B4","v":0},{"$f":"$C$171*'EoL emissions'!C4","v":0},{"$f":"$C$171*'EoL emissions'!D4","v":0},{"$f":"$C$171*'EoL emissions'!E4","v":0},{"$f":"$C$171*'EoL emissions'!F4","v":0},{"$f":"$C$171*'EoL emissions'!G4","v":0},{"$f":"$C$171*'EoL emissions'!H4","v":0},{"$f":"$C$171*'EoL emissions'!I4","v":0},{"$f":"$C$171*'EoL emissions'!J4","v":0},{"$f":"$C$171*'EoL emissions'!K4","v":0},{"$f":"$C$171*'EoL emissions'!L4","v":0},{"$f":"$C$171*'EoL emissions'!M4","v":0},{"$f":"$C$171*'EoL emissions'!N4","v":0},{"$f":"$C$171*'EoL emissions'!O4","v":0},{"$f":"$C$171*'EoL emissions'!P4","v":0},{"$f":"$C$171*'EoL emissions'!Q4","v":0}]
[null,"end of life HH",{"$f":"D170*C170","v":0.55215999999999998},null,{"$f":"$C$172*'EoL emissions'!B5","v":0.24596992877446702},{"$f":"$C$172*'EoL emissions'!C5","v":2.0712625018376364E-9},{"$f":"$C$172*'EoL emissions'!D5","v":4.3556814153862164E-7},{"$f":"$C$172*'EoL emissions'!E5","v":9.3416941427452086E-9},{"$f":"$C$172*'EoL emissions'!F5","v":2.319443614308681E-9},{"$f":"$C$172*'EoL emissions'!G5","v":1.2135793135888058E-3},{"$f":"$C$172*'EoL emissions'!H5","v":2.0100376743125678E-4},{"$f":"$C$172*'EoL emissions'!I5","v":2.9922043031490534E-4},{"$f":"$C$172*'EoL emissions'!J5","v":1.1415398939505698E-3},{"$f":"$C$172*'EoL emissions'!K5","v":2.6108173400582052E-5},{"$f":"$C$172*'EoL emissions'!L5","v":5.4431655581654176E-4},{"$f":"$C$172*'EoL emissions'!M5","v":31.596959410807095},{"$f":"$C$172*'EoL emissions'!N5","v":0.5123264110673531},{"$f":"$C$172*'EoL emissions'!O5","v":1.2024589192842886E-2},{"$f":"$C$172*'EoL emissions'!P5","v":8.2543883181006736E-2},{"$f":"$C$172*'EoL emissions'!Q5","v":8.0190825400386803E-9}]
["OLIVE OIL TOTAL",null,null,null,{"$f":"SUM(E166:E172)","v":10.94598715099669},{"$f":"SUM(F166:F172)","v":1.271377632872208E-6},1.8745336415386214E-6,7.6477929327930379E-8,7.2404872694764195E-7,0.70089518301729248,3.9093848952616438E-2,9.8885080245129708E-2,0.34376343619024674,1.3114522956228043E-3,5.2257025259520237E-2,55.571860892288569,5441.8521412258806,131.09147412622985,161.52881980910692,6.9947308341799277E-5]
["Fruits","APPLES"]
[null,"agriculture ",{"$f":"C176/(1-D175)","v":20.592269829742595},0,{"$f":"$C$175*'Emissions per kg'!C137","v":1.3920374404905993},{"$f":"$C$175*'Emissions per kg'!D137","v":4.0772694262890339E-8},{"$f":"$C$175*'Emissions per kg'!E137","v":8.525199709513435E-8},{"$f":"$C$175*'Emissions per kg'!F137","v":3.9125312676510924E-9},{"$f":"$C$175*'Emissions per kg'!G137","v":1.8903703703703702E-7},{"$f":"$C$175*'Emissions per kg'!H137","v":5.3333978859033314E-2},{"$f":"$C$175*'Emissions per kg'!I137","v":6.3630113773904609E-3},{"$f":"$C$175*'Emissions per kg'!J137","v":2.3063342209311704E-2},{"$f":"$C$175*'Emissions per kg'!K137","v":9.719551359638505E-2},{"$f":"$C$175*'Emissions per kg'!L137","v":1.0440280803679495E-4},{"$f":"$C$175*'Emissions per kg'!M137","v":1.4908803356733639E-2},{"$f":"$C$175*'Emissions per kg'!N137","v":59.099814411361251},{"$f":"$C$175*'Emissions per kg'!O137","v":862.81610586621468},{"$f":"$C$175*'Emissions per kg'!P137","v":88.340837569595735},{"$f":"$C$175*'Emissions per kg'!Q137","v":18.285935608811425},{"$f":"$C$175*'Emissions per kg'!R137","v":2.5534414588880817E-6}]
[null,"processsing",{"$f":"(C177/(1-D176))/(1-D177)","v":20.592269829742595},0.15,{"$f":"$C$176*'Emissions per kg'!C138","v":13.755636246268054},{"$f":"$C$176*'Emissions per kg'!D138","v":2.6152182683773095E-4},{"$f":"$C$176*'Emissions per kg'!E138","v":2.594625998547567E-7},{"$f":"$C$176*'Emissions per kg'!F138","v":2.7799564270152504E-8},{"$f":"$C$176*'Emissions per kg'!G138","v":9.6989590898087612E-8},{"$f":"$C$176*'Emissions per kg'!H138","v":0.40566771564592907},{"$f":"$C$176*'Emissions per kg'!I138","v":1.0852126200274348E-2},{"$f":"$C$176*'Emissions per kg'!J138","v":2.2445574114419428E-2},{"$f":"$C$176*'Emissions per kg'!K138","v":3.8713467279916078E-2},{"$f":"$C$176*'Emissions per kg'!L138","v":2.8211409666747354E-4},{"$f":"$C$176*'Emissions per kg'!M138","v":3.521278140885984E-3},{"$f":"$C$176*'Emissions per kg'!N138","v":1.6659146292261759},{"$f":"$C$176*'Emissions per kg'!O138","v":37.683853788428948},{"$f":"$C$176*'Emissions per kg'!P138","v":0.86075687888324037},{"$f":"$C$176*'Emissions per kg'!Q138","v":65.277495360284021},{"$f":"$C$176*'Emissions per kg'!R138","v":7.9692084241103844E-6}]
[null,"packaging",{"$f":"C178","v":17.503429355281206},0,{"$f":"$C$177*'Emissions per kg'!C139","v":7.84153635116598E-2},{"$f":"$C$177*'Emissions per kg'!D139","v":2.46798353909465E-9},{"$f":"$C$177*'Emissions per kg'!E139","v":2.5555006858710561E-9},{"$f":"$C$177*'Emissions per kg'!F139","v":2.3279561042524003E-10},{"$f":"$C$177*'Emissions per kg'!G139","v":1.9078737997256514E-9},{"$f":"$C$177*'Emissions per kg'!H139","v":1.8728669410150889E-3},{"$f":"$C$177*'Emissions per kg'!I139","v":1.1009657064471879E-4},{"$f":"$C$177*'Emissions per kg'!J139","v":2.0303978052126201E-4},{"$f":"$C$177*'Emissions per kg'!K139","v":3.9207681755829899E-4},{"$f":"$C$177*'Emissions per kg'!L139","v":1.6750781893004115E-6},{"$f":"$C$177*'Emissions per kg'!M139","v":3.6407133058984911E-5},{"$f":"$C$177*'Emissions per kg'!N139","v":4.3758573388203013E-2},{"$f":"$C$177*'Emissions per kg'!O139","v":0.24329766803840874},{"$f":"$C$177*'Emissions per kg'!P139","v":6.5987928669410147E-3},{"$f":"$C$177*'Emissions per kg'!Q139","v":0.50409876543209875},{"$f":"$C$177*'Emissions per kg'!R139","v":2.117914951989026E-8}]
[null,"retail",{"$f":"(C179/(1-D179))/(1-D178)","v":17.503429355281206},0.1,{"$f":"$C$178*'Emissions per kg'!C140","v":1.3547654320987652},{"$f":"$C$178*'Emissions per kg'!D140","v":3.010589849108367E-7},{"$f":"$C$178*'Emissions per kg'!E140","v":2.2054320987654321E-7},{"$f":"$C$178*'Emissions per kg'!F140","v":1.04320438957476E-8},{"$f":"$C$178*'Emissions per kg'!G140","v":1.4107764060356654E-7},{"$f":"$C$178*'Emissions per kg'!H140","v":9.7669135802469123E-2},{"$f":"$C$178*'Emissions per kg'!I140","v":9.8719341563786017E-3},{"$f":"$C$178*'Emissions per kg'!J140","v":9.0667764060356655E-3},{"$f":"$C$178*'Emissions per kg'!K140","v":3.5356927297668039E-2},{"$f":"$C$178*'Emissions per kg'!L140","v":2.9230727023319615E-5},{"$f":"$C$178*'Emissions per kg'!M140","v":3.220631001371742E-3},{"$f":"$C$178*'Emissions per kg'!N140","v":3.7807407407407405},{"$f":"$C$178*'Emissions per kg'!O140","v":24.85486968449931},{"$f":"$C$178*'Emissions per kg'!P140","v":0.65112757201646076},{"$f":"$C$178*'Emissions per kg'!Q140","v":21.704252400548697},{"$f":"$C$178*'Emissions per kg'!R140","v":3.3956652949245539E-6}]
[null,"use ",12.76,0.19,{"$f":"$C$179*'Emissions per kg'!C141","v":1.817024},{"$f":"$C$179*'Emissions per kg'!D141","v":1.5757324E-7},{"$f":"$C$179*'Emissions per kg'!E141","v":1.731532E-7},{"$f":"$C$179*'Emissions per kg'!F141","v":2.6362159999999999E-8},{"$f":"$C$179*'Emissions per kg'!G141","v":6.7500399999999997E-8},{"$f":"$C$179*'Emissions per kg'!H141","v":7.3510359999999997E-2},{"$f":"$C$179*'Emissions per kg'!I141","v":3.9760159999999998E-3},{"$f":"$C$179*'Emissions per kg'!J141","v":5.9933719999999994E-3},{"$f":"$C$179*'Emissions per kg'!K141","v":1.5184399999999997E-2},{"$f":"$C$179*'Emissions per kg'!L141","v":5.7234979999999994E-4},{"$f":"$C$179*'Emissions per kg'!M141","v":1.0085503999999999E-2},{"$f":"$C$179*'Emissions per kg'!N141","v":2.9909439999999998},{"$f":"$C$179*'Emissions per kg'!O141","v":71.707371999999992},{"$f":"$C$179*'Emissions per kg'!P141","v":17.6382756},{"$f":"$C$179*'Emissions per kg'!Q141","v":16.216683999999997},{"$f":"$C$179*'Emissions per kg'!R141","v":8.5308255999999994E-6}]
[null,"end of life P&R",{"$f":"D176*C176+D178*C178+C177*D177+C175*D175","v":4.8391834099895092},null,{"$f":"$C$180*'EoL emissions'!B4","v":1.6373627700863624},{"$f":"$C$180*'EoL emissions'!C4","v":1.9592768373058166E-8},{"$f":"$C$180*'EoL emissions'!D4","v":1.8169366946990356E-6},{"$f":"$C$180*'EoL emissions'!E4","v":7.2675609820616616E-8},{"$f":"$C$180*'EoL emissions'!F4","v":3.7045487141273255E-8},{"$f":"$C$180*'EoL emissions'!G4","v":1.2406181518723854E-2},{"$f":"$C$180*'EoL emissions'!H4","v":2.1935653042027205E-3},{"$f":"$C$180*'EoL emissions'!I4","v":5.8122088050395985E-3},{"$f":"$C$180*'EoL emissions'!J4","v":2.3504712367494195E-2},{"$f":"$C$180*'EoL emissions'!K4","v":4.6267933779654661E-4},{"$f":"$C$180*'EoL emissions'!L4","v":2.6557479469959647E-3},{"$f":"$C$180*'EoL emissions'!M4","v":128.47290731464753},{"$f":"$C$180*'EoL emissions'!N4","v":6.6403563178465213},{"$f":"$C$180*'EoL emissions'!O4","v":6.4307453761700301E-2},{"$f":"$C$180*'EoL emissions'!P4","v":-1.1814106578915193},{"$f":"$C$180*'EoL emissions'!Q4","v":-8.9674201179052615E-8}]
[null,"end of life HH",{"$f":"D179*C179","v":2.4243999999999999},null,{"$f":"$C$181*'EoL emissions'!B5","v":1.0799940149971345},{"$f":"$C$181*'EoL emissions'!C5","v":9.0944088841190338E-9},{"$f":"$C$181*'EoL emissions'!D5","v":1.9124735626380656E-6},{"$f":"$C$181*'EoL emissions'!E5","v":4.1017102433482116E-8},{"$f":"$C$181*'EoL emissions'!F5","v":1.0184111667867949E-8},{"$f":"$C$181*'EoL emissions'!G5","v":5.3285310197491676E-3},{"$f":"$C$181*'EoL emissions'!H5","v":8.8255855867925767E-4},{"$f":"$C$181*'EoL emissions'!I5","v":1.3138039902482188E-3},{"$f":"$C$181*'EoL emissions'!J5","v":5.0122234839426278E-3},{"$f":"$C$181*'EoL emissions'!K5","v":1.1463462690591699E-4},{"$f":"$C$181*'EoL emissions'!L5","v":2.3899613480180093E-3},{"$f":"$C$181*'EoL emissions'!M5","v":138.73454867350173},{"$f":"$C$181*'EoL emissions'!N5","v":2.2495004183419498},{"$f":"$C$181*'EoL emissions'!O5","v":5.2797040783700906E-2},{"$f":"$C$181*'EoL emissions'!P5","v":0.36243007531156318},{"$f":"$C$181*'EoL emissions'!Q5","v":3.520983720311101E-8}]
["APPLES TOTAL",null,null,null,{"$f":"SUM(E175:E181)","v":21.115235267452572},{"$f":"SUM(F175:F181)","v":2.6205238691770093E-4},4.4703767648494059E-6,1.8243180729807517E-7,5.4374214114755796E-7,0.64978876978691957,3.4249308167570103E-2,6.7898117305575878E-2,0.21535932084296425,1.5670864746193519E-3,3.6818332927064323E-2,334.78862834286565,1006.1953557433699,107.61470090790777,121.1694855524963,2.2415855563466967E-5]
["Fruits","ORANGES"]
[null,"agriculture ",{"$f":"C185/(1-D184)","v":16.255144032921809},0,{"$f":"$C$184*'Emissions per kg'!C144","v":3.4298353909465016},{"$f":"$C$184*'Emissions per kg'!D144","v":1.3052880658436213E-7},{"$f":"$C$184*'Emissions per kg'!E144","v":1.3312962962962961E-7},{"$f":"$C$184*'Emissions per kg'!F144","v":1.2402674897119339E-8},{"$f":"$C$184*'Emissions per kg'!G144","v":5.2179012345679014E-7},{"$f":"$C$184*'Emissions per kg'!H144","v":0.17393004115226335},{"$f":"$C$184*'Emissions per kg'!I144","v":9.4930041152263365E-3},{"$f":"$C$184*'Emissions per kg'!J144","v":7.2335390946502043E-2},{"$f":"$C$184*'Emissions per kg'!K144","v":0.3023456790123456},{"$f":"$C$184*'Emissions per kg'!L144","v":1.1264814814814813E-3},{"$f":"$C$184*'Emissions per kg'!M144","v":5.1853909465020574E-2},{"$f":"$C$184*'Emissions per kg'!N144","v":84.364197530864189},{"$f":"$C$184*'Emissions per kg'!O144","v":866.39917695473241},{"$f":"$C$184*'Emissions per kg'!P144","v":117.19958847736625},{"$f":"$C$184*'Emissions per kg'!Q144","v":45.676954732510282},{"$f":"$C$184*'Emissions per kg'!R144","v":3.4460905349794235E-6}]
[null,"processsing",{"$f":"(C186/(1-D185))/(1-D186)","v":16.255144032921809},0.2,{"$f":"$C$185*'Emissions per kg'!C145","v":5.526748971193415},{"$f":"$C$185*'Emissions per kg'!D145","v":9.6555555555555538E-5},{"$f":"$C$185*'Emissions per kg'!E145","v":1.2727777777777776E-7},{"$f":"$C$185*'Emissions per kg'!F145","v":1.1378600823045266E-8},{"$f":"$C$185*'Emissions per kg'!G145","v":6.1119341563786002E-8},{"$f":"$C$185*'Emissions per kg'!H145","v":0.15344855967078189},{"$f":"$C$185*'Emissions per kg'!I145","v":6.9084362139917683E-3},{"$f":"$C$185*'Emissions per kg'!J145","v":1.1622427983539093E-2},{"$f":"$C$185*'Emissions per kg'!K145","v":2.4870370370370366E-2},{"$f":"$C$185*'Emissions per kg'!L145","v":9.606790123456789E-5},{"$f":"$C$185*'Emissions per kg'!M145","v":2.2594650205761311E-3},{"$f":"$C$185*'Emissions per kg'!N145","v":1.2483950617283948},{"$f":"$C$185*'Emissions per kg'!O145","v":16.742798353909464},{"$f":"$C$185*'Emissions per kg'!P145","v":0.32347736625514401},{"$f":"$C$185*'Emissions per kg'!Q145","v":26.333333333333332},{"$f":"$C$185*'Emissions per kg'!R145","v":3.2672839506172838E-6}]
[null,"packaging",{"$f":"C187","v":13.004115226337449},0,{"$f":"$C$186*'Emissions per kg'!C146","v":0.94019753086419755},{"$f":"$C$186*'Emissions per kg'!D146","v":2.9389300411522635E-8},{"$f":"$C$186*'Emissions per kg'!E146","v":2.0026337448559669E-7},{"$f":"$C$186*'Emissions per kg'!F146","v":9.5320164609053491E-9},{"$f":"$C$186*'Emissions per kg'!G146","v":-1.4304526748971192E-7},{"$f":"$C$186*'Emissions per kg'!H146","v":1.9896296296296294E-2},{"$f":"$C$186*'Emissions per kg'!I146","v":2.6788477366255142E-4},{"$f":"$C$186*'Emissions per kg'!J146","v":1.7035390946502059E-3},{"$f":"$C$186*'Emissions per kg'!K146","v":1.9506172839506171E-3},{"$f":"$C$186*'Emissions per kg'!L146","v":4.2783539094650207E-5},{"$f":"$C$186*'Emissions per kg'!M146","v":7.2302880658436214E-4},{"$f":"$C$186*'Emissions per kg'!N146","v":1.2626995884773664},{"$f":"$C$186*'Emissions per kg'!O146","v":-287.39094650205766},{"$f":"$C$186*'Emissions per kg'!P146","v":-1.0247242798353908},{"$f":"$C$186*'Emissions per kg'!Q146","v":12.653004115226338},{"$f":"$C$186*'Emissions per kg'!R146","v":1.9636213991769549E-5}]
[null,"retail",{"$f":"(C188/(1-D188))/(1-D187)","v":13.004115226337449},0.1,{"$f":"$C$187*'Emissions per kg'!C147","v":1.0806419753086418},{"$f":"$C$187*'Emissions per kg'!D147","v":2.4057613168724282E-7},{"$f":"$C$187*'Emissions per kg'!E147","v":1.7685596707818929E-7},{"$f":"$C$187*'Emissions per kg'!F147","v":8.3096296296296301E-9},{"$f":"$C$187*'Emissions per kg'!G147","v":1.1300576131687244E-7},{"$f":"$C$187*'Emissions per kg'!H147","v":7.7374485596707829E-2},{"$f":"$C$187*'Emissions per kg'!I147","v":7.8934979423868311E-3},{"$f":"$C$187*'Emissions per kg'!J147","v":7.2432921810699586E-3},{"$f":"$C$187*'Emissions per kg'!K147","v":2.8348971193415638E-2},{"$f":"$C$187*'Emissions per kg'!L147","v":2.2757201646090534E-5},{"$f":"$C$187*'Emissions per kg'!M147","v":2.5748148148148149E-3},{"$f":"$C$187*'Emissions per kg'!N147","v":3.0299588477366259},{"$f":"$C$187*'Emissions per kg'!O147","v":19.896296296296295},{"$f":"$C$187*'Emissions per kg'!P147","v":0.49285596707818935},{"$f":"$C$187*'Emissions per kg'!Q147","v":17.29547325102881},{"$f":"$C$187*'Emissions per kg'!R147","v":2.7178600823045271E-6}]
[null,"use ",9.48,0.19,{"$f":"$C$188*'Emissions per kg'!C148","v":1.5130080000000004},{"$f":"$C$188*'Emissions per kg'!D148","v":1.1934372E-7},{"$f":"$C$188*'Emissions per kg'!E148","v":1.3072920000000002E-7},{"$f":"$C$188*'Emissions per kg'!F148","v":2.018292E-8},{"$f":"$C$188*'Emissions per kg'!G148","v":5.1324720000000001E-8},{"$f":"$C$188*'Emissions per kg'!H148","v":5.4310919999999999E-2},{"$f":"$C$188*'Emissions per kg'!I148","v":3.0772080000000001E-3},{"$f":"$C$188*'Emissions per kg'!J148","v":4.6584720000000003E-3},{"$f":"$C$188*'Emissions per kg'!K148","v":1.2191280000000001E-2},{"$f":"$C$188*'Emissions per kg'!L148","v":7.5646608000000013E-4},{"$f":"$C$188*'Emissions per kg'!M148","v":9.3472800000000012E-3},{"$f":"$C$188*'Emissions per kg'!N148","v":2.2126320000000002},{"$f":"$C$188*'Emissions per kg'!O148","v":51.547499999999999},{"$f":"$C$188*'Emissions per kg'!P148","v":12.639115200000001},{"$f":"$C$188*'Emissions per kg'!Q148","v":12.070884},{"$f":"$C$188*'Emissions per kg'!R148","v":6.3343464000000002E-6}]
[null,"end of life P&R",{"$f":"D185*C185+D187*C187+C186*D186+C184*D184","v":4.5514403292181065},null,{"$f":"$C$189*'EoL emissions'!B4","v":1.5400034084154499},{"$f":"$C$189*'EoL emissions'!C4","v":1.8427761169391033E-8},{"$f":"$C$189*'EoL emissions'!D4","v":1.7088996732007238E-6},{"$f":"$C$189*'EoL emissions'!E4","v":6.8354239437432495E-8},{"$f":"$C$189*'EoL emissions'!F4","v":3.4842722398630355E-8},{"$f":"$C$189*'EoL emissions'!G4","v":1.1668496544139562E-2},{"$f":"$C$189*'EoL emissions'!H4","v":2.0631335381321057E-3},{"$f":"$C$189*'EoL emissions'!I4","v":5.4666085816224841E-3},{"$f":"$C$189*'EoL emissions'!J4","v":2.2107096741827481E-2},{"$f":"$C$189*'EoL emissions'!K4","v":4.3516792382698608E-4},{"$f":"$C$189*'EoL emissions'!L4","v":2.4978343009780294E-3},{"$f":"$C$189*'EoL emissions'!M4","v":120.83376925882092},{"$f":"$C$189*'EoL emissions'!N4","v":6.2455135473962997},{"$f":"$C$189*'EoL emissions'!O4","v":6.0483662990770154E-2},{"$f":"$C$189*'EoL emissions'!P4","v":-1.1111627020781207},{"$f":"$C$189*'EoL emissions'!Q4","v":-8.4342076163970557E-8}]
[null,"end of life HH",{"$f":"D188*C188","v":1.8012000000000001},null,{"$f":"$C$190*'EoL emissions'!B5","v":0.80237799860288694},{"$f":"$C$190*'EoL emissions'!C5","v":6.7566611458815398E-9},{"$f":"$C$190*'EoL emissions'!D5","v":1.4208659383862747E-6},{"$f":"$C$190*'EoL emissions'!E5","v":3.0473521243684207E-8},{"$f":"$C$190*'EoL emissions'!F5","v":7.5662522422718003E-9},{"$f":"$C$190*'EoL emissions'!G5","v":3.9588145820706987E-3},{"$f":"$C$190*'EoL emissions'!H5","v":6.5569397619744238E-4},{"$f":"$C$190*'EoL emissions'!I5","v":9.7608635012171746E-4},{"$f":"$C$190*'EoL emissions'!J5","v":3.723814939480887E-3},{"$f":"$C$190*'EoL emissions'!K5","v":8.5167418735743975E-5},{"$f":"$C$190*'EoL emissions'!L5","v":1.7756139168660446E-3},{"$f":"$C$190*'EoL emissions'!M5","v":103.07237628720976},{"$f":"$C$190*'EoL emissions'!N5","v":1.67125893149543},{"$f":"$C$190*'EoL emissions'!O5","v":3.9225387666887511E-2},{"$f":"$C$190*'EoL emissions'!P5","v":0.26926623150106738},{"$f":"$C$190*'EoL emissions'!Q5","v":2.6159032655602856E-8}]
["ORANGES TOTAL",null,null,null,{"$f":"SUM(E184:E190)","v":14.832813275331096},{"$f":"SUM(F184:F190)","v":9.7100577936553935E-5},3.8980215605581914E-6,1.6063360249181628E-7,6.466036534886388E-7,0.49458761384225963,3.0358858559597034E-2,0.10400581713750551,0.39553782954139061,2.5648915460195201E-3,7.1031946324839959E-2,316.02402857483725,675.11159758177234,129.73002178152183,113.1877529615217,3.5343611916162418E-5]
["Fruits","BANANAS"]
[null,"agriculture ",{"$f":"C194/(1-D193)","v":12.100209371164537},0,{"$f":"$C$193*'Emissions per kg'!C151","v":1.6819291025918708},{"$f":"$C$193*'Emissions per kg'!D151","v":2.3353404086347558E-8},{"$f":"$C$193*'Emissions per kg'!E151","v":7.5505306476066714E-8},{"$f":"$C$193*'Emissions per kg'!F151","v":1.984434336870984E-9},{"$f":"$C$193*'Emissions per kg'!G151","v":3.5695617644935382E-7},{"$f":"$C$193*'Emissions per kg'!H151","v":1.1047491155873222E-2},{"$f":"$C$193*'Emissions per kg'!I151","v":2.4442422929752366E-3},{"$f":"$C$193*'Emissions per kg'!J151","v":4.9489856328062957E-2},{"$f":"$C$193*'Emissions per kg'!K151","v":0.21780376868096166},{"$f":"$C$193*'Emissions per kg'!L151","v":7.3569272976680387E-4},{"$f":"$C$193*'Emissions per kg'!M151","v":9.5833658219623124E-3},{"$f":"$C$193*'Emissions per kg'!N151","v":5.7354992419319899},{"$f":"$C$193*'Emissions per kg'!O151","v":484.00837484658149},{"$f":"$C$193*'Emissions per kg'!P151","v":49.005847953216374},{"$f":"$C$193*'Emissions per kg'!Q151","v":11.834004764998916},{"$f":"$C$193*'Emissions per kg'!R151","v":3.2549563208432604E-6}]
[null,"processsing",{"$f":"(C195/(1-D194))/(1-D195)","v":12.100209371164537},0.05,{"$f":"$C$194*'Emissions per kg'!C152","v":5.7839000794166484},{"$f":"$C$194*'Emissions per kg'!D152","v":4.6585806078983471E-5},{"$f":"$C$194*'Emissions per kg'!E152","v":3.2065554833586022E-7},{"$f":"$C$194*'Emissions per kg'!F152","v":2.4200418742329076E-8},{"$f":"$C$194*'Emissions per kg'!G152","v":2.2748393617789328E-7},{"$f":"$C$194*'Emissions per kg'!H152","v":0.25289437585733882},{"$f":"$C$194*'Emissions per kg'!I152","v":3.085553389646957E-2},{"$f":"$C$194*'Emissions per kg'!J152","v":4.3681755829903975E-2},{"$f":"$C$194*'Emissions per kg'!K152","v":0.11023290737130893},{"$f":"$C$194*'Emissions per kg'!L152","v":1.0103674824922388E-4},{"$f":"$C$194*'Emissions per kg'!M152","v":9.9463721030972497E-3},{"$f":"$C$194*'Emissions per kg'!N152","v":4.6948812360118408},{"$f":"$C$194*'Emissions per kg'!O152","v":38.35766370659158},{"$f":"$C$194*'Emissions per kg'!P152","v":5.0215868890332827},{"$f":"$C$194*'Emissions per kg'!Q152","v":80.829398599379104},{"$f":"$C$194*'Emissions per kg'!R152","v":5.2514908670854093E-6}]
[null,"packaging",{"$f":"C196","v":11.49519890260631},0,{"$f":"$C$195*'Emissions per kg'!C153","v":1.1955006858710562},{"$f":"$C$195*'Emissions per kg'!D153","v":3.8508916323731139E-8},{"$f":"$C$195*'Emissions per kg'!E153","v":2.4024965706447188E-7},{"$f":"$C$195*'Emissions per kg'!F153","v":1.1840054869684499E-8},{"$f":"$C$195*'Emissions per kg'!G153","v":-1.6553086419753087E-7},{"$f":"$C$195*'Emissions per kg'!H153","v":2.7588477366255141E-2},{"$f":"$C$195*'Emissions per kg'!I153","v":5.0234019204389575E-4},{"$f":"$C$195*'Emissions per kg'!J153","v":2.3795061728395061E-3},{"$f":"$C$195*'Emissions per kg'!K153","v":2.9427709190672151E-3},{"$f":"$C$195*'Emissions per kg'!L153","v":5.3337722908093272E-5},{"$f":"$C$195*'Emissions per kg'!M153","v":9.1156927297668042E-4},{"$f":"$C$195*'Emissions per kg'!N153","v":1.5633470507544582},{"$f":"$C$195*'Emissions per kg'!O153","v":-337.9588477366255},{"$f":"$C$195*'Emissions per kg'!P153","v":-1.1610150891632374},{"$f":"$C$195*'Emissions per kg'!Q153","v":15.863374485596706},{"$f":"$C$195*'Emissions per kg'!R153","v":2.3335253772290809E-5}]
[null,"retail",{"$f":"(C197/(1-D197))/(1-D196)","v":11.49519890260631},0.1,{"$f":"$C$196*'Emissions per kg'!C154","v":1.1840054869684498},{"$f":"$C$196*'Emissions per kg'!D154","v":9.9318518518518535E-7},{"$f":"$C$196*'Emissions per kg'!E154","v":1.8622222222222221E-7},{"$f":"$C$196*'Emissions per kg'!F154","v":8.621399176954733E-9},{"$f":"$C$196*'Emissions per kg'!G154","v":1.2069958847736625E-7},{"$f":"$C$196*'Emissions per kg'!H154","v":8.1500960219478738E-2},{"$f":"$C$196*'Emissions per kg'!I154","v":8.5409327846364871E-3},{"$f":"$C$196*'Emissions per kg'!J154","v":7.7477640603566527E-3},{"$f":"$C$196*'Emissions per kg'!K154","v":3.0577229080932786E-2},{"$f":"$C$196*'Emissions per kg'!L154","v":2.2645541838134433E-5},{"$f":"$C$196*'Emissions per kg'!M154","v":2.781838134430727E-3},{"$f":"$C$196*'Emissions per kg'!N154","v":3.207160493827161},{"$f":"$C$196*'Emissions per kg'!O154","v":22.645541838134431},{"$f":"$C$196*'Emissions per kg'!P154","v":0.46210699588477366},{"$f":"$C$196*'Emissions per kg'!Q154","v":18.392318244170095},{"$f":"$C$196*'Emissions per kg'!R154","v":2.7473525377229081E-6}]
[null,"use ",8.3800000000000008,0.19,{"$f":"$C$197*'Emissions per kg'!C155","v":2.0070100000000002},{"$f":"$C$197*'Emissions per kg'!D155","v":1.021522E-7},{"$f":"$C$197*'Emissions per kg'!E155","v":1.1421940000000001E-7},{"$f":"$C$197*'Emissions per kg'!F155","v":1.878796E-8},{"$f":"$C$197*'Emissions per kg'!G155","v":4.4916800000000007E-8},{"$f":"$C$197*'Emissions per kg'!H155","v":3.218758E-2},{"$f":"$C$197*'Emissions per kg'!I155","v":2.98328E-3},{"$f":"$C$197*'Emissions per kg'!J155","v":4.1816200000000005E-3},{"$f":"$C$197*'Emissions per kg'!K155","v":1.2176140000000002E-2},{"$f":"$C$197*'Emissions per kg'!L155","v":7.7690980000000005E-4},{"$f":"$C$197*'Emissions per kg'!M155","v":1.0215220000000001E-2},{"$f":"$C$197*'Emissions per kg'!N155","v":1.2662180000000003},{"$f":"$C$197*'Emissions per kg'!O155","v":35.087060000000008},{"$f":"$C$197*'Emissions per kg'!P155","v":8.3285467999999998},{"$f":"$C$197*'Emissions per kg'!Q155","v":9.3437000000000001},{"$f":"$C$197*'Emissions per kg'!R155","v":5.3154340000000005E-6}]
[null,"end of life P&R",{"$f":"D194*C194+D196*C196+C195*D195+C193*D193","v":1.7545303588188579},null,{"$f":"$C$198*'EoL emissions'!B4","v":0.59365443404892404},{"$f":"$C$198*'EoL emissions'!C4","v":7.1036999450928103E-9},{"$f":"$C$198*'EoL emissions'!D4","v":6.5876209286069598E-7},{"$f":"$C$198*'EoL emissions'!E4","v":2.6349810075957054E-8},{"$f":"$C$198*'EoL emissions'!F4","v":1.3431487575449937E-8},{"$f":"$C$198*'EoL emissions'!G4","v":4.4980775199974571E-3},{"$f":"$C$198*'EoL emissions'!H4","v":7.9531536505324132E-4},{"$f":"$C$198*'EoL emissions'!I4","v":2.1073176890103367E-3},{"$f":"$C$198*'EoL emissions'!J4","v":8.5220434792660695E-3},{"$f":"$C$198*'EoL emissions'!K4","v":1.6775246478289741E-4},{"$f":"$C$198*'EoL emissions'!L4","v":9.6288774439846577E-4},{"$f":"$C$198*'EoL emissions'!M4","v":46.580093596774638},{"$f":"$C$198*'EoL emissions'!N4","v":2.4075770157803511},{"$f":"$C$198*'EoL emissions'!O4","v":2.3315789124737418E-2},{"$f":"$C$198*'EoL emissions'!P4","v":-0.42834104225599584},{"$f":"$C$198*'EoL emissions'!Q4","v":-3.251294589221174E-8}]
[null,"end of life HH",{"$f":"D197*C197","v":1.5922000000000001},null,{"$f":"$C$199*'EoL emissions'!B5","v":0.70927506627554771},{"$f":"$C$199*'EoL emissions'!C5","v":5.9726603800092094E-9},{"$f":"$C$199*'EoL emissions'!D5","v":1.2559975278140276E-6},{"$f":"$C$199*'EoL emissions'!E5","v":2.6937564137349542E-8},{"$f":"$C$199*'EoL emissions'!F5","v":6.6883115812486999E-9},{"$f":"$C$199*'EoL emissions'!G5","v":3.4994584596785292E-3},{"$f":"$C$199*'EoL emissions'!H5","v":5.7961134182854079E-4},{"$f":"$C$199*'EoL emissions'!I5","v":8.6282738544514687E-4},{"$f":"$C$199*'EoL emissions'!J5","v":3.2917267081065227E-3},{"$f":"$C$199*'EoL emissions'!K5","v":7.5285123312820101E-5},{"$f":"$C$199*'EoL emissions'!L5","v":1.5695827661748368E-3},{"$f":"$C$199*'EoL emissions'!M5","v":91.112501401563051},{"$f":"$C$199*'EoL emissions'!N5","v":1.4773364816383652},{"$f":"$C$199*'EoL emissions'!O5","v":3.4673918633809843E-2},{"$f":"$C$199*'EoL emissions'!P5","v":0.23802225949144981},{"$f":"$C$199*'EoL emissions'!Q5","v":2.3123701862231216E-8}]
["BANANAS TOTAL",null,null,null,{"$f":"SUM(E193:E199)","v":13.155274855172499},{"$f":"SUM(F193:F199)","v":4.7756082144903836E-5},2.8516117547733445E-6,1.1872164133914589E-7,6.0464543606378112E-7,0.4132164205786219,4.6701255873006969E-2,0.11045064746561857,0.38554658623964316,1.932660130857973E-3,3.5970835843040276E-2,154.15970102086314,246.02470615210075,61.715063256729735,136.07247731138028,3.9895098253912408E-5]
["Sugar","SUGAR"]
[null,"agriculture ",{"$f":"C203/(1-D202)","v":28.599033816425116},0,{"$f":"$C$202*'Emissions per kg'!C158","v":12.840966183574878},{"$f":"$C$202*'Emissions per kg'!D158","v":5.4052173913043474E-7},{"$f":"$C$202*'Emissions per kg'!E158","v":7.0353623188405796E-5},{"$f":"$C$202*'Emissions per kg'!F158","v":5.3766183574879216E-7},{"$f":"$C$202*'Emissions per kg'!G158","v":6.3489855072463762E-6},{"$f":"$C$202*'Emissions per kg'!H158","v":5.7198067632850236E-2},{"$f":"$C$202*'Emissions per kg'!I158","v":2.0648502415458934E-2},{"$f":"$C$202*'Emissions per kg'!J158","v":0.89514975845410616},{"$f":"$C$202*'Emissions per kg'!K158","v":4.0038647342995164},{"$f":"$C$202*'Emissions per kg'!L158","v":5.9771980676328494E-3},{"$f":"$C$202*'Emissions per kg'!M158","v":0.4490048309178743},{"$f":"$C$202*'Emissions per kg'!N158","v":66.921739130434773},{"$f":"$C$202*'Emissions per kg'!O158","v":3489.0821256038644},{"$f":"$C$202*'Emissions per kg'!P158","v":0.90944927536231879},{"$f":"$C$202*'Emissions per kg'!Q158","v":59.199999999999989},{"$f":"$C$202*'Emissions per kg'!R158","v":4.3184541062801921E-5}]
[null,"processsing",{"$f":"(C204/(1-D203))/(1-D204)","v":28.599033816425116},0,{"$f":"$C$203*'Emissions per kg'!C159","v":8.6083091787439603},{"$f":"$C$203*'Emissions per kg'!D159","v":4.6330434782608691E-8},{"$f":"$C$203*'Emissions per kg'!E159","v":3.9752657004830912E-8},{"$f":"$C$203*'Emissions per kg'!F159","v":5.262222222222222E-9},{"$f":"$C$203*'Emissions per kg'!G159","v":1.4385314009661834E-7},{"$f":"$C$203*'Emissions per kg'!H159","v":6.7493719806763275E-2},{"$f":"$C$203*'Emissions per kg'!I159","v":2.5081352657004827E-2},{"$f":"$C$203*'Emissions per kg'!J159","v":2.3794396135265697E-2},{"$f":"$C$203*'Emissions per kg'!K159","v":9.8094685990338146E-2},{"$f":"$C$203*'Emissions per kg'!L159","v":2.4652367149758448E-5},{"$f":"$C$203*'Emissions per kg'!M159","v":8.9514975845410624E-3},{"$f":"$C$203*'Emissions per kg'!N159","v":0.81221256038647338},{"$f":"$C$203*'Emissions per kg'!O159","v":0.34604830917874391},{"$f":"$C$203*'Emissions per kg'!P159","v":1.8646570048309175},{"$f":"$C$203*'Emissions per kg'!Q159","v":135.84541062801929},{"$f":"$C$203*'Emissions per kg'!R159","v":9.0086956521739106E-7}]
[null,"packaging",{"$f":"C205","v":28.599033816425116},0,{"$f":"$C$204*'Emissions per kg'!C160","v":0.57198067632850236},{"$f":"$C$204*'Emissions per kg'!D160","v":3.9752657004830912E-8},{"$f":"$C$204*'Emissions per kg'!E160","v":5.8628019323671496E-8},{"$f":"$C$204*'Emissions per kg'!F160","v":5.4624154589371973E-9},{"$f":"$C$204*'Emissions per kg'!G160","v":2.4366376811594199E-8},{"$f":"$C$204*'Emissions per kg'!H160","v":2.7455072463768111E-2},{"$f":"$C$204*'Emissions per kg'!I160","v":1.3126956521739128E-3},{"$f":"$C$204*'Emissions per kg'!J160","v":2.8055652173913041E-3},{"$f":"$C$204*'Emissions per kg'!K160","v":4.5758454106280188E-3},{"$f":"$C$204*'Emissions per kg'!L160","v":3.0028985507246371E-5},{"$f":"$C$204*'Emissions per kg'!M160","v":5.0620289855072458E-4},{"$f":"$C$204*'Emissions per kg'!N160","v":0.33746859903381637},{"$f":"$C$204*'Emissions per kg'!O160","v":7.6645410628019315},{"$f":"$C$204*'Emissions per kg'!P160","v":0.17188019323671494},{"$f":"$C$204*'Emissions per kg'!Q160","v":8.4081159420289833},{"$f":"$C$204*'Emissions per kg'!R160","v":4.5186473429951691E-6}]
[null,"retail",{"$f":"(C206/(1-D206))/(1-D205)","v":28.599033816425116},0,{"$f":"$C$205*'Emissions per kg'!C161","v":2.2364444444444445},{"$f":"$C$205*'Emissions per kg'!D161","v":4.9762318840579702E-7},{"$f":"$C$205*'Emissions per kg'!E161","v":3.6606763285024149E-7},{"$f":"$C$205*'Emissions per kg'!F161","v":1.7216618357487921E-8},{"$f":"$C$205*'Emissions per kg'!G161","v":2.3308212560386472E-7},{"$f":"$C$205*'Emissions per kg'!H161","v":0.16129855072463767},{"$f":"$C$205*'Emissions per kg'!I161","v":1.6301449275362315E-2},{"$f":"$C$205*'Emissions per kg'!J161","v":1.4985893719806763E-2},{"$f":"$C$205*'Emissions per kg'!K161","v":5.8628019323671496E-2},{"$f":"$C$205*'Emissions per kg'!L161","v":4.8046376811594196E-5},{"$f":"$C$205*'Emissions per kg'!M161","v":5.3194202898550714E-3},{"$f":"$C$205*'Emissions per kg'!N161","v":6.2345893719806753},{"$f":"$C$205*'Emissions per kg'!O161","v":41.182608695652164},{"$f":"$C$205*'Emissions per kg'!P161","v":1.0667439613526568},{"$f":"$C$205*'Emissions per kg'!Q161","v":36.03478260869565},{"$f":"$C$205*'Emissions per kg'!R161","v":5.6340096618357479E-6}]
[null,"use ",23.68,0.17199999999999999,{"$f":"$C$206*'Emissions per kg'!C162","v":2.3348479999999996},{"$f":"$C$206*'Emissions per kg'!D162","v":2.5811199999999998E-7},{"$f":"$C$206*'Emissions per kg'!E162","v":2.5811199999999998E-7},{"$f":"$C$206*'Emissions per kg'!F162","v":3.6230400000000003E-8},{"$f":"$C$206*'Emissions per kg'!G162","v":9.4956799999999997E-8},{"$f":"$C$206*'Emissions per kg'!H162","v":0.1110592},{"$f":"$C$206*'Emissions per kg'!I162","v":5.7068800000000001E-3},{"$f":"$C$206*'Emissions per kg'!J162","v":7.8617599999999989E-3},{"$f":"$C$206*'Emissions per kg'!K162","v":1.7665280000000002E-2},{"$f":"$C$206*'Emissions per kg'!L162","v":2.6048E-4},{"$f":"$C$206*'Emissions per kg'!M162","v":2.4153600000000001E-3},{"$f":"$C$206*'Emissions per kg'!N162","v":4.4518399999999998},{"$f":"$C$206*'Emissions per kg'!O162","v":94.72},{"$f":"$C$206*'Emissions per kg'!P162","v":23.159040000000001},{"$f":"$C$206*'Emissions per kg'!Q162","v":25.1008},{"$f":"$C$206*'Emissions per kg'!R162","v":1.465792E-5}]
[null,"end of life P&R",{"$f":"D203*C203+D205*C205+C204*D204+C202*D202","v":0},null,{"$f":"$C$207*'EoL emissions'!B4","v":0},{"$f":"$C$207*'EoL emissions'!C4","v":0},{"$f":"$C$207*'EoL emissions'!D4","v":0},{"$f":"$C$207*'EoL emissions'!E4","v":0},{"$f":"$C$207*'EoL emissions'!F4","v":0},{"$f":"$C$207*'EoL emissions'!G4","v":0},{"$f":"$C$207*'EoL emissions'!H4","v":0},{"$f":"$C$207*'EoL emissions'!I4","v":0},{"$f":"$C$207*'EoL emissions'!J4","v":0},{"$f":"$C$207*'EoL emissions'!K4","v":0},{"$f":"$C$207*'EoL emissions'!L4","v":0},{"$f":"$C$207*'EoL emissions'!M4","v":0},{"$f":"$C$207*'EoL emissions'!N4","v":0},{"$f":"$C$207*'EoL emissions'!O4","v":0},{"$f":"$C$207*'EoL emissions'!P4","v":0},{"$f":"$C$207*'EoL emissions'!Q4","v":0}]
[null,"end of life HH",{"$f":"D206*C206","v":4.0729599999999992},null,{"$f":"$C$208*'EoL emissions'!B5","v":1.8143756902007624},{"$f":"$C$208*'EoL emissions'!C5","v":1.52784868869252E-8},{"$f":"$C$208*'EoL emissions'!D5","v":3.2129303422217188E-6},{"$f":"$C$208*'EoL emissions'!E5","v":6.8908190697688212E-8},{"$f":"$C$208*'EoL emissions'!F5","v":1.7109173180481535E-8},{"$f":"$C$208*'EoL emissions'!G5","v":8.9518617811407235E-3},{"$f":"$C$208*'EoL emissions'!H5","v":1.4826867295653643E-3},{"$f":"$C$208*'EoL emissions'!I5","v":2.2071733625315063E-3},{"$f":"$C$208*'EoL emissions'!J5","v":8.4204692959738339E-3},{"$f":"$C$208*'EoL emissions'!K5","v":1.9258466012321546E-4},{"$f":"$C$208*'EoL emissions'!L5","v":4.0151035192309142E-3},{"$f":"$C$208*'EoL emissions'!M5","v":233.0722105944669},{"$f":"$C$208*'EoL emissions'!N5","v":3.7791310113388987},{"$f":"$C$208*'EoL emissions'!O5","v":8.8698331640976083E-2},{"$f":"$C$208*'EoL emissions'!P5","v":0.60887774275737672},{"$f":"$C$208*'EoL emissions'!Q5","v":5.9152061761583485E-8}]
["SUGAR TOTAL",null,null,null,{"$f":"SUM(E202:E208)","v":28.406924173292545},{"$f":"SUM(F202:F208)","v":1.3976185062105967E-6},7.4289113839806241E-5,6.7074168248512763E-7,6.8623531229389349E-6,0.43345647240915997,7.0533566729565345E-2,0.94680454688910143,4.1912490343201272,6.5329904572246651E-3,0.47021241521005203,311.83006025630266,3636.7744546828362,27.260468766423585,265.1979869215013,6.8955139694611815E-5]
["Confectionery","BISCUITS"]
[null,"agriculture ",{"$f":"C212/(1-D211)","v":7.2684474013565286},0,{"$f":"$C$211*'Emissions per kg'!C165","v":10.175826361899139},{"$f":"$C$211*'Emissions per kg'!D165","v":6.9122934786900585E-8},{"$f":"$C$211*'Emissions per kg'!E165","v":1.9261385613594801E-5},{"$f":"$C$211*'Emissions per kg'!F165","v":1.7516958237269234E-7},{"$f":"$C$211*'Emissions per kg'!G165","v":1.6862797971147147E-6},{"$f":"$C$211*'Emissions per kg'!H165","v":5.0370340491400746E-2},{"$f":"$C$211*'Emissions per kg'!I165","v":8.7948213556413996E-3},{"$f":"$C$211*'Emissions per kg'!J165","v":0.23186347210327324},{"$f":"$C$211*'Emissions per kg'!K165","v":1.032119530992627},{"$f":"$C$211*'Emissions per kg'!L165","v":1.8098434029377754E-3},{"$f":"$C$211*'Emissions per kg'!M165","v":0.11048040050061923},{"$f":"$C$211*'Emissions per kg'!N165","v":52.332821289767004},{"$f":"$C$211*'Emissions per kg'!O165","v":1671.7429023120017},{"$f":"$C$211*'Emissions per kg'!P165","v":4.0921358869637254},{"$f":"$C$211*'Emissions per kg'!Q165","v":26.311779592910636},{"$f":"$C$211*'Emissions per kg'!R165","v":3.0818216981751681E-6}]
[null,"processsing",{"$f":"(C213/(1-D212))/(1-D213)","v":7.2684474013565286},2.3E-2,{"$f":"$C$212*'Emissions per kg'!C166","v":7.4865008233972246},{"$f":"$C$212*'Emissions per kg'!D166","v":7.7045542454379203E-7},{"$f":"$C$212*'Emissions per kg'!E166","v":2.9800634345561767E-7},{"$f":"$C$212*'Emissions per kg'!F166","v":3.3434858046240027E-8},{"$f":"$C$212*'Emissions per kg'!G166","v":1.4973001646794447E-7},{"$f":"$C$212*'Emissions per kg'!H166","v":0.49643495751265088},{"$f":"$C$212*'Emissions per kg'!I166","v":1.5990584282984364E-2},{"$f":"$C$212*'Emissions per kg'!J166","v":2.7620100125154808E-2},{"$f":"$C$212*'Emissions per kg'!K166","v":5.3205034977929791E-2},{"$f":"$C$212*'Emissions per kg'!L166","v":6.3380861339828933E-4},{"$f":"$C$212*'Emissions per kg'!M166","v":5.4876777880241796E-3},{"$f":"$C$212*'Emissions per kg'!N166","v":2.3695138528422284},{"$f":"$C$212*'Emissions per kg'!O166","v":40.630620973582992},{"$f":"$C$212*'Emissions per kg'!P166","v":5.7638787892757275},{"$f":"$C$212*'Emissions per kg'!Q166","v":117.02200316184012},{"$f":"$C$212*'Emissions per kg'!R166","v":7.1521522429348246E-6}]
[null,"packaging",{"$f":"C214","v":7.1012731111253284},0,{"$f":"$C$213*'Emissions per kg'!C167","v":2.1587870257820998},{"$f":"$C$213*'Emissions per kg'!D167","v":9.586718700019193E-8},{"$f":"$C$213*'Emissions per kg'!E167","v":3.2594843580065256E-7},{"$f":"$C$213*'Emissions per kg'!F167","v":1.3492418911138125E-8},{"$f":"$C$213*'Emissions per kg'!G167","v":-8.7345659266841531E-8},{"$f":"$C$213*'Emissions per kg'!H167","v":0.13279380717804365},{"$f":"$C$213*'Emissions per kg'!I167","v":3.0464461646727658E-3},{"$f":"$C$213*'Emissions per kg'!J167","v":9.8707696244642058E-3},{"$f":"$C$213*'Emissions per kg'!K167","v":1.0580896935576739E-2},{"$f":"$C$213*'Emissions per kg'!L167","v":1.271127886891434E-4},{"$f":"$C$213*'Emissions per kg'!M167","v":1.07939351289105E-3},{"$f":"$C$213*'Emissions per kg'!N167","v":1.3137355255581857},{"$f":"$C$213*'Emissions per kg'!O167","v":-261.32685048941204},{"$f":"$C$213*'Emissions per kg'!P167","v":-0.66325890857910563},{"$f":"$C$213*'Emissions per kg'!Q167","v":33.020919966732777},{"$f":"$C$213*'Emissions per kg'!R167","v":1.8818373744482122E-5}]
[null,"retail",{"$f":"(C215/(1-D215))/(1-D214)","v":7.1012731111253284},0.02,{"$f":"$C$214*'Emissions per kg'!C168","v":0.63556394344571687},{"$f":"$C$214*'Emissions per kg'!D168","v":1.4202546222250657E-7},{"$f":"$C$214*'Emissions per kg'!E168","v":1.0438871473354233E-7},{"$f":"$C$214*'Emissions per kg'!F168","v":4.8856759004542263E-9},{"$f":"$C$214*'Emissions per kg'!G168","v":6.6822979975689343E-8},{"$f":"$C$214*'Emissions per kg'!H168","v":4.5306122448979594E-2},{"$f":"$C$214*'Emissions per kg'!I168","v":4.6655364340093411E-3},{"$f":"$C$214*'Emissions per kg'!J168","v":4.2678651397863223E-3},{"$f":"$C$214*'Emissions per kg'!K168","v":1.6759004542255776E-2},{"$f":"$C$214*'Emissions per kg'!L168","v":1.3137355255581859E-5},{"$f":"$C$214*'Emissions per kg'!M168","v":1.5267737188919455E-3},{"$f":"$C$214*'Emissions per kg'!N168","v":1.7895208240035827},{"$f":"$C$214*'Emissions per kg'!O168","v":11.717100633356791},{"$f":"$C$214*'Emissions per kg'!P168","v":0.27552939671166277},{"$f":"$C$214*'Emissions per kg'!Q168","v":10.154820548909219},{"$f":"$C$214*'Emissions per kg'!R168","v":1.5977864500031988E-6}]
[null,"use ",6.66,4.2999999999999997E-2,{"$f":"$C$215*'Emissions per kg'!C169","v":0.85248000000000002},{"$f":"$C$215*'Emissions per kg'!D169","v":8.9910000000000002E-8},{"$f":"$C$215*'Emissions per kg'!E169","v":8.3916000000000008E-8},{"$f":"$C$215*'Emissions per kg'!F169","v":1.2654E-8},{"$f":"$C$215*'Emissions per kg'!G169","v":5.2414200000000006E-8},{"$f":"$C$215*'Emissions per kg'!H169","v":3.7362600000000003E-2},{"$f":"$C$215*'Emissions per kg'!I169","v":2.77056E-3},{"$f":"$C$215*'Emissions per kg'!J169","v":6.0939000000000002E-3},{"$f":"$C$215*'Emissions per kg'!K169","v":1.5784200000000002E-2},{"$f":"$C$215*'Emissions per kg'!L169","v":2.4175799999999999E-3},{"$f":"$C$215*'Emissions per kg'!M169","v":5.3746200000000008E-2},{"$f":"$C$215*'Emissions per kg'!N169","v":0.93240000000000012},{"$f":"$C$215*'Emissions per kg'!O169","v":33.166800000000002},{"$f":"$C$215*'Emissions per kg'!P169","v":8.2584},{"$f":"$C$215*'Emissions per kg'!Q169","v":8.3916000000000004},{"$f":"$C$215*'Emissions per kg'!R169","v":4.7885400000000002E-6}]
[null,"end of life P&R",{"$f":"D212*C212+D214*C214+C213*D213+C211*D211","v":0.30919975245370668},null,{"$f":"$C$216*'EoL emissions'!B4","v":0.10461933766397918},{"$f":"$C$216*'EoL emissions'!C4","v":1.2518804553525968E-9},{"$f":"$C$216*'EoL emissions'!D4","v":1.1609321834450076E-7},{"$f":"$C$216*'EoL emissions'!E4","v":4.6436100189072079E-9},{"$f":"$C$216*'EoL emissions'!F4","v":2.3670223843889184E-9},{"$f":"$C$216*'EoL emissions'!G4","v":7.9269329750274598E-4},{"$f":"$C$216*'EoL emissions'!H4","v":1.40157913347614E-4},{"$f":"$C$216*'EoL emissions'!I4","v":3.7137123590266942E-4},{"$f":"$C$216*'EoL emissions'!J4","v":1.5018342207328195E-3},{"$f":"$C$216*'EoL emissions'!K4","v":2.9562908571892149E-5},{"$f":"$C$216*'EoL emissions'!L4","v":1.6968908557908372E-4},{"$f":"$C$216*'EoL emissions'!M4","v":8.2087798236155578},{"$f":"$C$216*'EoL emissions'!N4","v":0.42428574321943346},{"$f":"$C$216*'EoL emissions'!O4","v":4.1089264653618547E-3},{"$f":"$C$216*'EoL emissions'!P4","v":-7.5486265350504761E-2},{"$f":"$C$216*'EoL emissions'!Q4","v":-5.7297354650393519E-9}]
[null,"end of life HH",{"$f":"D215*C215","v":0.28637999999999997},null,{"$f":"$C$217*'EoL emissions'!B5","v":0.12757329071724113},{"$f":"$C$217*'EoL emissions'!C5","v":1.0742686092369282E-9},{"$f":"$C$217*'EoL emissions'!D5","v":2.2590916468746462E-7},{"$f":"$C$217*'EoL emissions'!E5","v":4.845107158431203E-9},{"$f":"$C$217*'EoL emissions'!F5","v":1.202988739252608E-9},{"$f":"$C$217*'EoL emissions'!G5","v":6.2942778148645715E-4},{"$f":"$C$217*'EoL emissions'!H5","v":1.0425141067256468E-4},{"$f":"$C$217*'EoL emissions'!I5","v":1.5519187705299655E-4},{"$f":"$C$217*'EoL emissions'!J5","v":5.9206424737316026E-4},{"$f":"$C$217*'EoL emissions'!K5","v":1.3541108914913588E-5},{"$f":"$C$217*'EoL emissions'!L5","v":2.8231196619592371E-4},{"$f":"$C$217*'EoL emissions'!M5","v":16.387889807423456},{"$f":"$C$217*'EoL emissions'!N5","v":0.26572014923476633},{"$f":"$C$217*'EoL emissions'!O5","v":6.2366014435061316E-3},{"$f":"$C$217*'EoL emissions'!P5","v":4.2811716287628053E-2},{"$f":"$C$217*'EoL emissions'!Q5","v":4.1591293426113391E-9}]
["BISCUITS TOTAL",null,null,null,{"$f":"SUM(E211:E217)","v":21.541350782905401},{"$f":"SUM(F211:F217)","v":1.1697071576179806E-6},2.0415647490616581E-5,2.4912525240786308E-7,1.8714713454151483E-6,0.76368994871006413,3.5512357561328048E-2,0.28024267010563425,1.1305425659164954,5.044586177767596E-3,0.17277244657220142,83.334661123209997,1496.6205793219835,17.737030692280882,194.86844872132988,3.5437103529472884E-5]
["Confectionery","CHOCOLATE"]
[null,"agriculture ",{"$f":"C221/(1-D220)","v":6.3173020671369056},0,{"$f":"$C$220*'Emissions per kg'!C172","v":1.0360375390104526},{"$f":"$C$220*'Emissions per kg'!D172","v":1.0928932576146847E-7},{"$f":"$C$220*'Emissions per kg'!E172","v":3.1776029397698636E-6},{"$f":"$C$220*'Emissions per kg'!F172","v":2.1668346090279584E-8},{"$f":"$C$220*'Emissions per kg'!G172","v":2.7290744930031435E-7},{"$f":"$C$220*'Emissions per kg'!H172","v":3.2597278666426428E-2},{"$f":"$C$220*'Emissions per kg'!I172","v":3.7208909175436376E-3},{"$f":"$C$220*'Emissions per kg'!J172","v":3.8282850526849647E-2},{"$f":"$C$220*'Emissions per kg'!K172","v":0.13076815278973394},{"$f":"$C$220*'Emissions per kg'!L172","v":3.2155067521726847E-4},{"$f":"$C$220*'Emissions per kg'!M172","v":1.4656140795757621E-2},{"$f":"$C$220*'Emissions per kg'!N172","v":312.70645232327684},{"$f":"$C$220*'Emissions per kg'!O172","v":421.99577808474527},{"$f":"$C$220*'Emissions per kg'!P172","v":1.93941173461103},{"$f":"$C$220*'Emissions per kg'!Q172","v":15.161524961128572},{"$f":"$C$220*'Emissions per kg'!R172","v":4.4536979573315185E-5}]
[null,"processsing",{"$f":"(C222/(1-D221))/(1-D222)","v":6.3173020671369056},0.05,{"$f":"$C$221*'Emissions per kg'!C173","v":6.0835618906528399},{"$f":"$C$221*'Emissions per kg'!D173","v":6.6963401911651199E-7},{"$f":"$C$221*'Emissions per kg'!E173","v":3.3039489811126018E-7},{"$f":"$C$221*'Emissions per kg'!F173","v":3.1649683356355897E-8},{"$f":"$C$221*'Emissions per kg'!G173","v":3.1460164294341794E-7},{"$f":"$C$221*'Emissions per kg'!H173","v":0.38219677506178279},{"$f":"$C$221*'Emissions per kg'!I173","v":3.2281413563069586E-2},{"$f":"$C$221*'Emissions per kg'!J173","v":4.0367560209004824E-2},{"$f":"$C$221*'Emissions per kg'!K173","v":0.11750181844874644},{"$f":"$C$221*'Emissions per kg'!L173","v":2.4321612958477088E-4},{"$f":"$C$221*'Emissions per kg'!M173","v":1.0676240493461371E-2},{"$f":"$C$221*'Emissions per kg'!N173","v":3.3734393038511077},{"$f":"$C$221*'Emissions per kg'!O173","v":41.946885725789052},{"$f":"$C$221*'Emissions per kg'!P173","v":3.3039489811126019},{"$f":"$C$221*'Emissions per kg'!Q173","v":109.92105596818215},{"$f":"$C$221*'Emissions per kg'!R173","v":7.6439355012356553E-6}]
[null,"packaging",{"$f":"C223","v":6.0014369637800602},0,{"$f":"$C$222*'Emissions per kg'!C174","v":2.3885719115844641},{"$f":"$C$222*'Emissions per kg'!D174","v":5.0232027386839109E-7},{"$f":"$C$222*'Emissions per kg'!E174","v":2.8986940535057693E-7},{"$f":"$C$222*'Emissions per kg'!F174","v":3.00671991885381E-8},{"$f":"$C$222*'Emissions per kg'!G174","v":6.3615231816068647E-8},{"$f":"$C$222*'Emissions per kg'!H174","v":7.5618105743628761E-2},{"$f":"$C$222*'Emissions per kg'!I174","v":5.6833608046997176E-3},{"$f":"$C$222*'Emissions per kg'!J174","v":1.3443218798867333E-2},{"$f":"$C$222*'Emissions per kg'!K174","v":2.0104813828663203E-2},{"$f":"$C$222*'Emissions per kg'!L174","v":1.1462744600819915E-4},{"$f":"$C$222*'Emissions per kg'!M174","v":1.9564684501922995E-3},{"$f":"$C$222*'Emissions per kg'!N174","v":1.6143865432568363},{"$f":"$C$222*'Emissions per kg'!O174","v":-120.0287392756012},{"$f":"$C$222*'Emissions per kg'!P174","v":0.39369426482397196},{"$f":"$C$222*'Emissions per kg'!Q174","v":34.44824817209755},{"$f":"$C$222*'Emissions per kg'!R174","v":3.7869067241452179E-5}]
[null,"retail",{"$f":"(C224/(1-D224))/(1-D223)","v":6.0014369637800602},0.01,{"$f":"$C$223*'Emissions per kg'!C175","v":0.5203245847597312},{"$f":"$C$223*'Emissions per kg'!D175","v":1.1582773340095516E-7},{"$f":"$C$223*'Emissions per kg'!E175","v":8.5220404885676855E-8},{"$f":"$C$223*'Emissions per kg'!F175","v":4.0029584548412999E-9},{"$f":"$C$223*'Emissions per kg'!G175","v":5.4673090740036352E-8},{"$f":"$C$223*'Emissions per kg'!H175","v":3.7208909175436372E-2},{"$f":"$C$223*'Emissions per kg'!I175","v":3.8169139089641179E-3},{"$f":"$C$223*'Emissions per kg'!J175","v":3.4928363129199955E-3},{"$f":"$C$223*'Emissions per kg'!K175","v":1.3683276277418537E-2},{"$f":"$C$223*'Emissions per kg'!L175","v":1.086260090444191E-5},{"$f":"$C$223*'Emissions per kg'!M175","v":1.2482988884662525E-3},{"$f":"$C$223*'Emissions per kg'!N175","v":1.4643506191623346},{"$f":"$C$223*'Emissions per kg'!O175","v":9.6022991420480963},{"$f":"$C$223*'Emissions per kg'!P175","v":0.2304551794091543},{"$f":"$C$223*'Emissions per kg'!Q175","v":8.3419973796542823},{"$f":"$C$223*'Emissions per kg'!R175","v":1.3083132581040532E-6}]
[null,"use ",5.68,4.3999999999999997E-2,{"$f":"$C$224*'Emissions per kg'!C176","v":0.83495999999999992},{"$f":"$C$224*'Emissions per kg'!D176","v":9.7127999999999995E-8},{"$f":"$C$224*'Emissions per kg'!E176","v":8.6904000000000008E-8},{"$f":"$C$224*'Emissions per kg'!F176","v":1.3063999999999999E-8},{"$f":"$C$224*'Emissions per kg'!G176","v":4.36224E-8},{"$f":"$C$224*'Emissions per kg'!H176","v":3.6806399999999996E-2},{"$f":"$C$224*'Emissions per kg'!I176","v":2.4139999999999999E-3},{"$f":"$C$224*'Emissions per kg'!J176","v":4.73144E-3},{"$f":"$C$224*'Emissions per kg'!K176","v":1.4881599999999998E-2},{"$f":"$C$224*'Emissions per kg'!L176","v":5.7936000000000003E-3},{"$f":"$C$224*'Emissions per kg'!M176","v":2.9933600000000001E-2},{"$f":"$C$224*'Emissions per kg'!N176","v":0.88039999999999996},{"$f":"$C$224*'Emissions per kg'!O176","v":31.523999999999997},{"$f":"$C$224*'Emissions per kg'!P176","v":7.8383999999999991},{"$f":"$C$224*'Emissions per kg'!Q176","v":8.2927999999999997},{"$f":"$C$224*'Emissions per kg'!R176","v":4.9188799999999999E-6}]
[null,"end of life P&R",{"$f":"D221*C221+D223*C223+C222*D222+C220*D220","v":0.37587947299464591},null,{"$f":"$C$225*'EoL emissions'!B4","v":0.12718076645961424},{"$f":"$C$225*'EoL emissions'!C4","v":1.5218516899708158E-9},{"$f":"$C$225*'EoL emissions'!D4","v":1.4112901897008032E-7},{"$f":"$C$225*'EoL emissions'!E4","v":5.6450164427632447E-9},{"$f":"$C$225*'EoL emissions'!F4","v":2.8774768393252347E-9},{"$f":"$C$225*'EoL emissions'!G4","v":9.6363964248752203E-4},{"$f":"$C$225*'EoL emissions'!H4","v":1.703833272409169E-4},{"$f":"$C$225*'EoL emissions'!I4","v":4.5145839648550563E-4},{"$f":"$C$225*'EoL emissions'!J4","v":1.8257086266551751E-3},{"$f":"$C$225*'EoL emissions'!K4","v":3.5938225713345035E-5},{"$f":"$C$225*'EoL emissions'!L4","v":2.0628297259053877E-4},{"$f":"$C$225*'EoL emissions'!M4","v":9.9790242700522871},{"$f":"$C$225*'EoL emissions'!N4","v":0.5157840531723572},{"$f":"$C$225*'EoL emissions'!O4","v":4.9950270080025491E-3},{"$f":"$C$225*'EoL emissions'!P4","v":-9.1765072297494282E-2},{"$f":"$C$225*'EoL emissions'!Q4","v":-6.9653676301703189E-9}]
[null,"end of life HH",{"$f":"D224*C224","v":0.24991999999999998},null,{"$f":"$C$226*'EoL emissions'!B5","v":0.11133150644616559},{"$f":"$C$226*'EoL emissions'!C5","v":9.3749986319049199E-10},{"$f":"$C$226*'EoL emissions'!D5","v":1.971479099053396E-7},{"$f":"$C$226*'EoL emissions'!E5","v":4.2282602871538728E-9},{"$f":"$C$226*'EoL emissions'!F5","v":1.0498322009707793E-9},{"$f":"$C$226*'EoL emissions'!G5","v":5.4929321582895233E-4},{"$f":"$C$226*'EoL emissions'!H5","v":9.0978813308496975E-5},{"$f":"$C$226*'EoL emissions'!I5","v":1.3543387776061491E-4},{"$f":"$C$226*'EoL emissions'!J5","v":5.1668655878029269E-4},{"$f":"$C$226*'EoL emissions'!K5","v":1.1817144842570027E-5},{"$f":"$C$226*'EoL emissions'!L5","v":2.4636988124759147E-4},{"$f":"$C$226*'EoL emissions'!M5","v":14.301492494836475},{"$f":"$C$226*'EoL emissions'!N5","v":0.23189042425013201},{"$f":"$C$226*'EoL emissions'!O5","v":5.4425987595539222E-3},{"$f":"$C$226*'EoL emissions'!P5","v":3.7361212845184733E-2},{"$f":"$C$226*'EoL emissions'!Q5","v":3.6296166118633489E-9}]
["CHOCOLATE TOTAL",null,null,null,{"$f":"SUM(E220:E226)","v":11.101968198913267},{"$f":"SUM(F220:F226)","v":1.4966587037004882E-6},4.3082685769927974E-6,1.1032546381993201E-7,7.5334712384013323E-7,0.56594040150559077,4.8177941334826467E-2,0.10090479812188792,0.29928205652999756,6.531612222270596E-3,5.8923401481715675E-2,344.31954555443588,385.78789815440371,13.716347785724315,176.11122262161024,9.6273839823088762E-5]
["Nuts","ALMONDS"]
[null,"agriculture ",{"$f":"C230/(1-D229)","v":0.64350064350064351},0,{"$f":"$C$229*'Emissions per kg'!C179","v":2.7413127413127412},{"$f":"$C$229*'Emissions per kg'!D179","v":1.2290862290862292E-7},{"$f":"$C$229*'Emissions per kg'!E179","v":3.963963963963964E-8},{"$f":"$C$229*'Emissions per kg'!F179","v":4.0926640926640928E-9},{"$f":"$C$229*'Emissions per kg'!G179","v":4.4208494208494214E-7},{"$f":"$C$229*'Emissions per kg'!H179","v":4.8777348777348781E-2},{"$f":"$C$229*'Emissions per kg'!I179","v":1.1969111969111969E-2},{"$f":"$C$229*'Emissions per kg'!J179","v":5.3732303732303734E-2},{"$f":"$C$229*'Emissions per kg'!K179","v":0.23873873873873874},{"$f":"$C$229*'Emissions per kg'!L179","v":2.8507078507078506E-3},{"$f":"$C$229*'Emissions per kg'!M179","v":1.2355212355212355E-2},{"$f":"$C$229*'Emissions per kg'!N179","v":23.552123552123554},{"$f":"$C$229*'Emissions per kg'!O179","v":740.02574002573999},{"$f":"$C$229*'Emissions per kg'!P179","v":209.78120978120978},{"$f":"$C$229*'Emissions per kg'!Q179","v":28.314028314028313},{"$f":"$C$229*'Emissions per kg'!R179","v":9.2020592020592021E-6}]
[null,"processsing",{"$f":"(C231/(1-D230))/(1-D231)","v":0.64350064350064351},7.4999999999999997E-2,{"$f":"$C$230*'Emissions per kg'!C180","v":0.17245817245817247},{"$f":"$C$230*'Emissions per kg'!D180","v":3.114543114543115E-8},{"$f":"$C$230*'Emissions per kg'!E180","v":1.7889317889317891E-8},{"$f":"$C$230*'Emissions per kg'!F180","v":1.2612612612612611E-9},{"$f":"$C$230*'Emissions per kg'!G180","v":1.1196911196911198E-8},{"$f":"$C$230*'Emissions per kg'!H180","v":1.525096525096525E-2},{"$f":"$C$230*'Emissions per kg'!I180","v":1.3963963963963964E-3},{"$f":"$C$230*'Emissions per kg'!J180","v":2.0012870012870014E-3},{"$f":"$C$230*'Emissions per kg'!K180","v":5.1287001287001286E-3},{"$f":"$C$230*'Emissions per kg'!L180","v":6.9498069498069501E-6},{"$f":"$C$230*'Emissions per kg'!M180","v":4.6332046332046335E-4},{"$f":"$C$230*'Emissions per kg'!N180","v":0.24774774774774777},{"$f":"$C$230*'Emissions per kg'!O180","v":2.1299871299871302},{"$f":"$C$230*'Emissions per kg'!P180","v":2.8507078507078506E-2},{"$f":"$C$230*'Emissions per kg'!Q180","v":2.9601029601029598},{"$f":"$C$230*'Emissions per kg'!R180","v":3.0566280566280567E-7}]
[null,"packaging",{"$f":"C232","v":0.59523809523809523},0,{"$f":"$C$231*'Emissions per kg'!C181","v":5.095238095238095E-2},{"$f":"$C$231*'Emissions per kg'!D181","v":2.1785714285714287E-9},{"$f":"$C$231*'Emissions per kg'!E181","v":2.3571428571428573E-9},{"$f":"$C$231*'Emissions per kg'!F181","v":3.3511904761904765E-10},{"$f":"$C$231*'Emissions per kg'!G181","v":1.9285714285714285E-9},{"$f":"$C$231*'Emissions per kg'!H181","v":2.3988095238095235E-3},{"$f":"$C$231*'Emissions per kg'!I181","v":1.1130952380952381E-4},{"$f":"$C$231*'Emissions per kg'!J181","v":2.1309523809523808E-4},{"$f":"$C$231*'Emissions per kg'!K181","v":3.7797619047619051E-4},{"$f":"$C$231*'Emissions per kg'!L181","v":1.5595238095238095E-6},{"$f":"$C$231*'Emissions per kg'!M181","v":3.4464285714285714E-5},{"$f":"$C$231*'Emissions per kg'!N181","v":4.1190476190476187E-2},{"$f":"$C$231*'Emissions per kg'!O181","v":0.58690476190476193},{"$f":"$C$231*'Emissions per kg'!P181","v":2.8511904761904759E-2},{"$f":"$C$231*'Emissions per kg'!Q181","v":0.56071428571428572},{"$f":"$C$231*'Emissions per kg'!R181","v":1.4821428571428571E-7}]
[null,"retail",{"$f":"(C233/(1-D233))/(1-D232)","v":0.59523809523809523},0.02,{"$f":"$C$232*'Emissions per kg'!C182","v":4.7559523809523808E-2},{"$f":"$C$232*'Emissions per kg'!D182","v":1.0595238095238096E-8},{"$f":"$C$232*'Emissions per kg'!E182","v":7.7976190476190482E-9},{"$f":"$C$232*'Emissions per kg'!F182","v":3.660714285714286E-10},{"$f":"$C$232*'Emissions per kg'!G182","v":4.9642857142857143E-9},{"$f":"$C$232*'Emissions per kg'!H182","v":3.4226190476190476E-3},{"$f":"$C$232*'Emissions per kg'!I182","v":3.4702380952380949E-4},{"$f":"$C$232*'Emissions per kg'!J182","v":3.1845238095238096E-4},{"$f":"$C$232*'Emissions per kg'!K182","v":1.244047619047619E-3},{"$f":"$C$232*'Emissions per kg'!L182","v":1.0178571428571429E-6},{"$f":"$C$232*'Emissions per kg'!M182","v":1.1309523809523811E-4},{"$f":"$C$232*'Emissions per kg'!N182","v":0.13273809523809524},{"$f":"$C$232*'Emissions per kg'!O182","v":0.875},{"$f":"$C$232*'Emissions per kg'!P182","v":2.2321428571428572E-2},{"$f":"$C$232*'Emissions per kg'!Q182","v":0.76190476190476186},{"$f":"$C$232*'Emissions per kg'!R182","v":1.1964285714285715E-7}]
[null,"use ",0.56000000000000005,0.04,{"$f":"$C$233*'Emissions per kg'!C183","v":0.12936000000000003},{"$f":"$C$233*'Emissions per kg'!D183","v":1.4560000000000003E-8},{"$f":"$C$233*'Emissions per kg'!E183","v":2.6712000000000001E-8},{"$f":"$C$233*'Emissions per kg'!F183","v":1.8424000000000002E-9},{"$f":"$C$233*'Emissions per kg'!G183","v":9.8560000000000007E-9},{"$f":"$C$233*'Emissions per kg'!H183","v":4.9056000000000004E-3},{"$f":"$C$233*'Emissions per kg'!I183","v":5.0232E-4},{"$f":"$C$233*'Emissions per kg'!J183","v":1.3160000000000001E-3},{"$f":"$C$233*'Emissions per kg'!K183","v":5.1016000000000004E-3},{"$f":"$C$233*'Emissions per kg'!L183","v":1.3832E-3},{"$f":"$C$233*'Emissions per kg'!M183","v":1.4224000000000001E-2},{"$f":"$C$233*'Emissions per kg'!N183","v":0.53648000000000007},{"$f":"$C$233*'Emissions per kg'!O183","v":4.1104000000000003},{"$f":"$C$233*'Emissions per kg'!P183","v":1.0024000000000002},{"$f":"$C$233*'Emissions per kg'!Q183","v":1.1144000000000001},{"$f":"$C$233*'Emissions per kg'!R183","v":6.8320000000000008E-7}]
[null,"end of life P&R",{"$f":"D230*C230+D232*C232+C231*D231+C229*D229","v":6.0167310167310167E-2},null,{"$f":"$C$234*'EoL emissions'!B4","v":2.0357921016348892E-2},{"$f":"$C$234*'EoL emissions'!C4","v":2.4360394551373521E-10},{"$f":"$C$234*'EoL emissions'!D4","v":2.2590628294570303E-8},{"$f":"$C$234*'EoL emissions'!E4","v":9.0360203100566769E-10},{"$f":"$C$234*'EoL emissions'!F4","v":4.6059988355203104E-10},{"$f":"$C$234*'EoL emissions'!G4","v":1.5425052290601806E-4},{"$f":"$C$234*'EoL emissions'!H4","v":2.7273387439245926E-5},{"$f":"$C$234*'EoL emissions'!I4","v":7.2265285338863987E-5},{"$f":"$C$234*'EoL emissions'!J4","v":2.9224255408238399E-4},{"$f":"$C$234*'EoL emissions'!K4","v":5.7526588406928854E-6},{"$f":"$C$234*'EoL emissions'!L4","v":3.3019870692078153E-5},{"$f":"$C$234*'EoL emissions'!M4","v":1.5973499261341793},{"$f":"$C$234*'EoL emissions'!N4","v":8.2561941622748991E-2},{"$f":"$C$234*'EoL emissions'!O4","v":7.995577329354762E-4},{"$f":"$C$234*'EoL emissions'!P4","v":-1.4688904194370907E-2},{"$f":"$C$234*'EoL emissions'!Q4","v":-1.1149516394042867E-9}]
[null,"end of life HH",{"$f":"D233*C233","v":2.2400000000000003E-2},null,{"$f":"$C$235*'EoL emissions'!B5","v":9.9784960963272638E-3},{"$f":"$C$235*'EoL emissions'!C5","v":8.4026876342297638E-11},{"$f":"$C$235*'EoL emissions'!D5","v":1.7670107161810212E-8},{"$f":"$C$235*'EoL emissions'!E5","v":3.7897339321481588E-10},{"$f":"$C$235*'EoL emissions'!F5","v":9.4095075631183834E-11},{"$f":"$C$235*'EoL emissions'!G5","v":4.923242651475886E-5},{"$f":"$C$235*'EoL emissions'!H5","v":8.1543110519779643E-6},{"$f":"$C$235*'EoL emissions'!I5","v":1.2138759850503261E-5},{"$f":"$C$235*'EoL emissions'!J5","v":4.6309934845864911E-5},{"$f":"$C$235*'EoL emissions'!K5","v":1.0591551075286837E-6},{"$f":"$C$235*'EoL emissions'!L5","v":2.2081807538196425E-5},{"$f":"$C$235*'EoL emissions'!M5","v":1.2818239111889289},{"$f":"$C$235*'EoL emissions'!N5","v":2.0784032903340903E-2},{"$f":"$C$235*'EoL emissions'!O5","v":4.8781294899971151E-4},{"$f":"$C$235*'EoL emissions'!P5","v":3.3486362345236005E-3},{"$f":"$C$235*'EoL emissions'!Q5","v":3.2531775010298913E-10}]
["ALMONDS TOTAL",null,null,null,{"$f":"SUM(E229:E235)","v":3.1719792356454946},{"$f":"SUM(F229:F235)","v":1.8171549439971961E-7},1.3465645489009996E-7,9.1800912543363127E-9,4.7058540538389369E-7,7.4958825549163388E-2,1.4361589397332921E-2,5.7665542397827722E-2,0.25092961516589096,4.2502468525582602E-3,2.7245194020572617E-2,27.389453708622984,747.831377892158,210.8642375637321,33.699810053790472,1.0457989516689849E-5]
["Drinks","COFFEE"]
[null,"agriculture ",{"$f":"C239/(1-D238)","v":4.4558823529411766},0,{"$f":"$C$238*'Emissions per kg'!C186","v":11.941764705882354},{"$f":"$C$238*'Emissions per kg'!D186","v":1.9026617647058823E-7},{"$f":"$C$238*'Emissions per kg'!E186","v":3.1146617647058823E-7},{"$f":"$C$238*'Emissions per kg'!F186","v":1.6798676470588235E-8},{"$f":"$C$238*'Emissions per kg'!G186","v":2.424E-6},{"$f":"$C$238*'Emissions per kg'!H186","v":9.713823529411765E-2},{"$f":"$C$238*'Emissions per kg'!I186","v":2.7671029411764709E-2},{"$f":"$C$238*'Emissions per kg'!J186","v":0.32617058823529416},{"$f":"$C$238*'Emissions per kg'!K186","v":1.4437058823529412},{"$f":"$C$238*'Emissions per kg'!L186","v":1.6798676470588237E-3},{"$f":"$C$238*'Emissions per kg'!M186","v":0.25755},{"$f":"$C$238*'Emissions per kg'!N186","v":494.60294117647061},{"$f":"$C$238*'Emissions per kg'!O186","v":4384.588235294118},{"$f":"$C$238*'Emissions per kg'!P186","v":0.56144117647058822},{"$f":"$C$238*'Emissions per kg'!Q186","v":92.236764705882351},{"$f":"$C$238*'Emissions per kg'!R186","v":2.3527058823529415E-5}]
[null,"processsing",{"$f":"(C240/(1-D239))/(1-D240)","v":4.4558823529411766},0,{"$f":"$C$239*'Emissions per kg'!C187","v":29.5425},{"$f":"$C$239*'Emissions per kg'!D187","v":2.7893823529411767E-6},{"$f":"$C$239*'Emissions per kg'!E187","v":2.1432794117647063E-6},{"$f":"$C$239*'Emissions per kg'!F187","v":2.4997499999999999E-7},{"$f":"$C$239*'Emissions per kg'!G187","v":6.4610294117647055E-7},{"$f":"$C$239*'Emissions per kg'!H187","v":3.9033529411764709},{"$f":"$C$239*'Emissions per kg'!I187","v":7.3967647058823527E-2},{"$f":"$C$239*'Emissions per kg'!J187","v":0.17333382352941176},{"$f":"$C$239*'Emissions per kg'!K187","v":0.26156029411764709},{"$f":"$C$239*'Emissions per kg'!L187","v":2.7537352941176471E-3},{"$f":"$C$239*'Emissions per kg'!M187","v":2.3705294117647061E-2},{"$f":"$C$239*'Emissions per kg'!N187","v":11.585294117647059},{"$f":"$C$239*'Emissions per kg'!O187","v":346.22205882352944},{"$f":"$C$239*'Emissions per kg'!P187","v":8.1988235294117651},{"$f":"$C$239*'Emissions per kg'!Q187","v":628.27941176470586},{"$f":"$C$239*'Emissions per kg'!R187","v":5.7926470588235291E-5}]
[null,"packaging",{"$f":"C241","v":4.4558823529411766},0,{"$f":"$C$240*'Emissions per kg'!C188","v":2.1076323529411765},{"$f":"$C$240*'Emissions per kg'!D188","v":4.8123529411764712E-7},{"$f":"$C$240*'Emissions per kg'!E188","v":1.1407058823529412E-7},{"$f":"$C$240*'Emissions per kg'!F188","v":1.7868088235294119E-8},{"$f":"$C$240*'Emissions per kg'!G188","v":7.1739705882352932E-8},{"$f":"$C$240*'Emissions per kg'!H188","v":9.045441176470588E-2},{"$f":"$C$240*'Emissions per kg'!I188","v":4.2821029411764713E-3},{"$f":"$C$240*'Emissions per kg'!J188","v":7.797794117647059E-3},{"$f":"$C$240*'Emissions per kg'!K188","v":1.2298235294117646E-2},{"$f":"$C$240*'Emissions per kg'!L188","v":5.8372058823529411E-5},{"$f":"$C$240*'Emissions per kg'!M188","v":1.3635000000000001E-3},{"$f":"$C$240*'Emissions per kg'!N188","v":1.0293088235294119},{"$f":"$C$240*'Emissions per kg'!O188","v":3.4354852941176475},{"$f":"$C$240*'Emissions per kg'!P188","v":0.38899852941176472},{"$f":"$C$240*'Emissions per kg'!Q188","v":31.993235294117646},{"$f":"$C$240*'Emissions per kg'!R188","v":2.0675294117647058E-5}]
[null,"retail",{"$f":"(C242/(1-D242))/(1-D241)","v":4.4558823529411766},0,{"$f":"$C$241*'Emissions per kg'!C189","v":0.45449999999999996},{"$f":"$C$241*'Emissions per kg'!D189","v":1.0159411764705882E-7},{"$f":"$C$241*'Emissions per kg'!E189","v":7.485882352941178E-8},{"$f":"$C$241*'Emissions per kg'!F189","v":3.4889558823529411E-9},{"$f":"$C$241*'Emissions per kg'!G189","v":4.8123529411764712E-8},{"$f":"$C$241*'Emissions per kg'!H189","v":3.2082352941176472E-2},{"$f":"$C$241*'Emissions per kg'!I189","v":3.3597352941176473E-3},{"$f":"$C$241*'Emissions per kg'!J189","v":3.0522794117647059E-3},{"$f":"$C$241*'Emissions per kg'!K189","v":1.2075441176470589E-2},{"$f":"$C$241*'Emissions per kg'!L189","v":9.0454411764705888E-6},{"$f":"$C$241*'Emissions per kg'!M189","v":1.0961470588235296E-3},{"$f":"$C$241*'Emissions per kg'!N189","v":1.2922058823529412},{"$f":"$C$241*'Emissions per kg'!O189","v":8.4216176470588238},{"$f":"$C$241*'Emissions per kg'!P189","v":0.18001764705882353},{"$f":"$C$241*'Emissions per kg'!Q189","v":7.218529411764707},{"$f":"$C$241*'Emissions per kg'!R189","v":1.1451617647058824E-6}]
[null,"use ",3.03,0.32,{"$f":"$C$242*'Emissions per kg'!C190","v":16.50441},{"$f":"$C$242*'Emissions per kg'!D190","v":1.3667421E-6},{"$f":"$C$242*'Emissions per kg'!E190","v":1.3917698999999998E-6},{"$f":"$C$242*'Emissions per kg'!F190","v":1.8428459999999999E-7},{"$f":"$C$242*'Emissions per kg'!G190","v":3.7220519999999997E-7},{"$f":"$C$242*'Emissions per kg'!H190","v":2.0837825099999998},{"$f":"$C$242*'Emissions per kg'!I190","v":3.482379E-2},{"$f":"$C$242*'Emissions per kg'!J190","v":8.6106539999999995E-2},{"$f":"$C$242*'Emissions per kg'!K190","v":0.12553289999999998},{"$f":"$C$242*'Emissions per kg'!L190","v":3.218163E-3},{"$f":"$C$242*'Emissions per kg'!M190","v":2.3891549999999998E-2},{"$f":"$C$242*'Emissions per kg'!N190","v":6.5260139999999991},{"$f":"$C$242*'Emissions per kg'!O190","v":419.39139},{"$f":"$C$242*'Emissions per kg'!P190","v":75.488510999999988},{"$f":"$C$242*'Emissions per kg'!Q190","v":321.73448999999999},{"$f":"$C$242*'Emissions per kg'!R190","v":3.7902966899999998E-5}]
[null,"end of life P&R",{"$f":"D239*C239+D241*C241+C240*D240+C238*D238","v":0},null,{"$f":"$C$243*'EoL emissions'!B4","v":0},{"$f":"$C$243*'EoL emissions'!C4","v":0},{"$f":"$C$243*'EoL emissions'!D4","v":0},{"$f":"$C$243*'EoL emissions'!E4","v":0},{"$f":"$C$243*'EoL emissions'!F4","v":0},{"$f":"$C$243*'EoL emissions'!G4","v":0},{"$f":"$C$243*'EoL emissions'!H4","v":0},{"$f":"$C$243*'EoL emissions'!I4","v":0},{"$f":"$C$243*'EoL emissions'!J4","v":0},{"$f":"$C$243*'EoL emissions'!K4","v":0},{"$f":"$C$243*'EoL emissions'!L4","v":0},{"$f":"$C$243*'EoL emissions'!M4","v":0},{"$f":"$C$243*'EoL emissions'!N4","v":0},{"$f":"$C$243*'EoL emissions'!O4","v":0},{"$f":"$C$243*'EoL emissions'!P4","v":0},{"$f":"$C$243*'EoL emissions'!Q4","v":0}]
[null,"end of life HH",{"$f":"D242*C242*5.14","v":4.9837439999999988},null,{"$f":"$C$244*'EoL emissions'!B6","v":1.6097493119999996E-3},{"$f":"$C$244*'EoL emissions'!C6","v":1.0565537279999997E-10},{"$f":"$C$244*'EoL emissions'!D6","v":2.6164655999999995E-10},{"$f":"$C$244*'EoL emissions'!E6","v":1.0416024959999998E-10},{"$f":"$C$244*'EoL emissions'!F6","v":1.2110497919999998E-10},{"$f":"$C$244*'EoL emissions'!G6","v":4.4454996479999988E-5},{"$f":"$C$244*'EoL emissions'!H6","v":5.7313055999999988E-6},{"$f":"$C$244*'EoL emissions'!I6","v":7.5254534399999982E-6},{"$f":"$C$244*'EoL emissions'!J6","v":1.7542778879999995E-5},{"$f":"$C$244*'EoL emissions'!K6","v":8.3228524799999978E-8},{"$f":"$C$244*'EoL emissions'!L6","v":1.5599118719999997E-6},{"$f":"$C$244*'EoL emissions'!M6","v":1.8190665599999995E-3},{"$f":"$C$244*'EoL emissions'!N6","v":1.2758384639999999E-2},{"$f":"$C$244*'EoL emissions'!O6","v":-0.19137576959999994},{"$f":"$C$244*'EoL emissions'!P6","v":2.0383512959999996E-2},{"$f":"$C$244*'EoL emissions'!Q6","v":7.7746406399999974E-9}]
["COFFEE TOTAL",null,null,null,{"$f":"SUM(E238:E244)","v":60.552416808135533},{"$f":"SUM(F238:F244)","v":4.9293256965492708E-6},4.0357065465600006E-6,4.725194808378353E-7,3.562292481449788E-6,6.2068549061729517,0.14411003601148234,0.59646855074755756,1.8551902957200566,7.7192666697012717E-3,0.3076080510883426,515.03758306655993,5162.0715454434639,84.626416112752935,1081.4828146894306,1.4118472683475762E-4]
["Drinks","TEA"]
[null,"agriculture ",{"$f":"C248/(1-D247)","v":0.66663738020398078},0,{"$f":"$C$247*'Emissions per kg'!C193","v":1.1932809105651256},{"$f":"$C$247*'Emissions per kg'!D193","v":2.666549520815923E-8},{"$f":"$C$247*'Emissions per kg'!E193","v":1.9732466454037831E-8},{"$f":"$C$247*'Emissions per kg'!F193","v":1.3132756390018422E-9},{"$f":"$C$247*'Emissions per kg'!G193","v":3.2465240415933862E-7},{"$f":"$C$247*'Emissions per kg'!H193","v":1.1266171725447274E-2},{"$f":"$C$247*'Emissions per kg'!I193","v":2.046576757226221E-3},{"$f":"$C$247*'Emissions per kg'!J193","v":4.4931359425748309E-2},{"$f":"$C$247*'Emissions per kg'!K193","v":0.19932457668099024},{"$f":"$C$247*'Emissions per kg'!L193","v":1.3932721246263198E-2},{"$f":"$C$247*'Emissions per kg'!M193","v":9.9328969650393142E-3},{"$f":"$C$247*'Emissions per kg'!N193","v":0.34198497604464212},{"$f":"$C$247*'Emissions per kg'!O193","v":501.97794729359754},{"$f":"$C$247*'Emissions per kg'!P193","v":1.0332879393161702},{"$f":"$C$247*'Emissions per kg'!Q193","v":10.932853035345284},{"$f":"$C$247*'Emissions per kg'!R193","v":9.8662332270189164E-7}]
[null,"processsing",{"$f":"(C249/(1-D248))/(1-D249)","v":0.66663738020398078},0.105,{"$f":"$C$248*'Emissions per kg'!C194","v":2.2665670926935344},{"$f":"$C$248*'Emissions per kg'!D194","v":3.0065345847199533E-7},{"$f":"$C$248*'Emissions per kg'!E194","v":1.8199200479568676E-6},{"$f":"$C$248*'Emissions per kg'!F194","v":3.1998594249791079E-8},{"$f":"$C$248*'Emissions per kg'!G194","v":9.0662683707741381E-7},{"$f":"$C$248*'Emissions per kg'!H194","v":0.22332352236833358},{"$f":"$C$248*'Emissions per kg'!I194","v":1.8799174121752256E-2},{"$f":"$C$248*'Emissions per kg'!J194","v":1.9199156549874644E-2},{"$f":"$C$248*'Emissions per kg'!K194","v":5.9797373004297077E-2},{"$f":"$C$248*'Emissions per kg'!L194","v":1.486601357854877E-4},{"$f":"$C$248*'Emissions per kg'!M194","v":5.3130999202257263E-3},{"$f":"$C$248*'Emissions per kg'!N194","v":2.6132185303996045},{"$f":"$C$248*'Emissions per kg'!O194","v":913.29321087945368},{"$f":"$C$248*'Emissions per kg'!P194","v":0.46997935304380645},{"$f":"$C$248*'Emissions per kg'!Q194","v":39.99824281223885},{"$f":"$C$248*'Emissions per kg'!R194","v":4.2931447285136366E-6}]
[null,"packaging",{"$f":"C250","v":0.59664045528256282},0,{"$f":"$C$249*'Emissions per kg'!C195","v":0.65033809625799355},{"$f":"$C$249*'Emissions per kg'!D195","v":2.9891686809656394E-8},{"$f":"$C$249*'Emissions per kg'!E195","v":3.4127834042162591E-7},{"$f":"$C$249*'Emissions per kg'!F195","v":5.6322858978673933E-9},{"$f":"$C$249*'Emissions per kg'!G195","v":-3.9616926230762168E-8},{"$f":"$C$249*'Emissions per kg'!H195","v":5.6561515160786953E-2},{"$f":"$C$249*'Emissions per kg'!I195","v":1.026221583086008E-3},{"$f":"$C$249*'Emissions per kg'!J195","v":2.6490836214545792E-3},{"$f":"$C$249*'Emissions per kg'!K195","v":3.836398127466879E-3},{"$f":"$C$249*'Emissions per kg'!L195","v":3.3650521677936545E-5},{"$f":"$C$249*'Emissions per kg'!M195","v":4.9819478016093995E-4},{"$f":"$C$249*'Emissions per kg'!N195","v":0.76369978276168038},{"$f":"$C$249*'Emissions per kg'!O195","v":-26.252180032432765},{"$f":"$C$249*'Emissions per kg'!P195","v":5.5726218523391366E-2},{"$f":"$C$249*'Emissions per kg'!Q195","v":9.009270874766699},{"$f":"$C$249*'Emissions per kg'!R195","v":1.2827769788575102E-5}]
[null,"retail",{"$f":"(C251/(1-D251))/(1-D250)","v":0.59664045528256282},0.02,{"$f":"$C$250*'Emissions per kg'!C196","v":8.949606829238442E-2},{"$f":"$C$250*'Emissions per kg'!D196","v":2.0166447388550623E-8},{"$f":"$C$250*'Emissions per kg'!E196","v":1.4975675427592327E-8},{"$f":"$C$250*'Emissions per kg'!F196","v":6.861365235749472E-10},{"$f":"$C$250*'Emissions per kg'!G196","v":9.6655753755775179E-9},{"$f":"$C$250*'Emissions per kg'!H196","v":6.2050607349386534E-3},{"$f":"$C$250*'Emissions per kg'!I196","v":6.7420371446929596E-4},{"$f":"$C$250*'Emissions per kg'!J196","v":6.0260685983538843E-4},{"$f":"$C$250*'Emissions per kg'!K196","v":2.4104274393415537E-3},{"$f":"$C$250*'Emissions per kg'!L196","v":1.6228620383685708E-6},{"$f":"$C$250*'Emissions per kg'!M196","v":2.1956368754398313E-4},{"$f":"$C$250*'Emissions per kg'!N196","v":0.25953859804791485},{"$f":"$C$250*'Emissions per kg'!O196","v":1.6705932747911758},{"$f":"$C$250*'Emissions per kg'!P196","v":2.7803445216167427E-2},{"$f":"$C$250*'Emissions per kg'!Q196","v":1.4140378790196739},{"$f":"$C$250*'Emissions per kg'!R196","v":2.2672337300737389E-7}]
[null,"use ",0.39,0.33300000000000002,{"$f":"$C$251*'Emissions per kg'!C197","v":2.7019199999999999},{"$f":"$C$251*'Emissions per kg'!D197","v":9.2231100000000006E-8},{"$f":"$C$251*'Emissions per kg'!E197","v":2.0463299999999998E-7},{"$f":"$C$251*'Emissions per kg'!F197","v":3.0599400000000003E-8},{"$f":"$C$251*'Emissions per kg'!G197","v":6.8679000000000002E-8},{"$f":"$C$251*'Emissions per kg'!H197","v":8.2371899999999998E-2},{"$f":"$C$251*'Emissions per kg'!I197","v":3.8477400000000001E-3},{"$f":"$C$251*'Emissions per kg'!J197","v":6.3441299999999999E-3},{"$f":"$C$251*'Emissions per kg'!K197","v":1.3727999999999999E-2},{"$f":"$C$251*'Emissions per kg'!L197","v":2.907645E-4},{"$f":"$C$251*'Emissions per kg'!M197","v":2.6535600000000001E-3},{"$f":"$C$251*'Emissions per kg'!N197","v":1.1754599999999999},{"$f":"$C$251*'Emissions per kg'!O197","v":123.12183},{"$f":"$C$251*'Emissions per kg'!P197","v":34.797009000000003},{"$f":"$C$251*'Emissions per kg'!Q197","v":36.195509999999999},{"$f":"$C$251*'Emissions per kg'!R197","v":4.101084E-6}]
[null,"end of life P&R",{"$f":"D248*C248+D250*C250+C249*D249+C247*D247","v":8.192973402706924E-2},null,{"$f":"$C$252*'EoL emissions'!B4","v":2.772134984222303E-2},{"$f":"$C$252*'EoL emissions'!C4","v":3.317151191965484E-10},{"$f":"$C$252*'EoL emissions'!D4","v":3.0761623920560804E-8},{"$f":"$C$252*'EoL emissions'!E4","v":1.2304335005296046E-9},{"$f":"$C$252*'EoL emissions'!F4","v":6.2719815540000605E-10},{"$f":"$C$252*'EoL emissions'!G4","v":2.1004270059745285E-4},{"$f":"$C$252*'EoL emissions'!H4","v":3.7138129869875239E-5},{"$f":"$C$252*'EoL emissions'!I4","v":9.8403528273733392E-5},{"$f":"$C$252*'EoL emissions'!J4","v":3.9794623792854735E-4},{"$f":"$C$252*'EoL emissions'!K4","v":7.8333867253801326E-6},{"$f":"$C$252*'EoL emissions'!L4","v":4.4963107306731788E-5},{"$f":"$C$252*'EoL emissions'!M4","v":2.1751089459112292},{"$f":"$C$252*'EoL emissions'!N4","v":0.11242446935221943},{"$f":"$C$252*'EoL emissions'!O4","v":1.0887565393322386E-3},{"$f":"$C$252*'EoL emissions'!P4","v":-2.0001858325515896E-2},{"$f":"$C$252*'EoL emissions'!Q4","v":-1.5182279383177185E-9}]
[null,"end of life HH",{"$f":"D251*C251*125","v":16.233750000000001},null,{"$f":"$C$253*'EoL emissions'!B6","v":5.2435012500000001E-3},{"$f":"$C$253*'EoL emissions'!C6","v":3.4415549999999999E-10},{"$f":"$C$253*'EoL emissions'!D6","v":8.5227187500000008E-10},{"$f":"$C$253*'EoL emissions'!E6","v":3.39285375E-10},{"$f":"$C$253*'EoL emissions'!F6","v":3.9448012500000001E-10},{"$f":"$C$253*'EoL emissions'!G6","v":1.4480504999999998E-4},{"$f":"$C$253*'EoL emissions'!H6","v":1.8668812500000001E-5},{"$f":"$C$253*'EoL emissions'!I6","v":2.4512962500000001E-5},{"$f":"$C$253*'EoL emissions'!J6","v":5.7142800000000005E-5},{"$f":"$C$253*'EoL emissions'!K6","v":2.7110362500000001E-7},{"$f":"$C$253*'EoL emissions'!L6","v":5.0811637500000006E-6},{"$f":"$C$253*'EoL emissions'!M6","v":5.9253187500000002E-3},{"$f":"$C$253*'EoL emissions'!N6","v":4.1558400000000002E-2},{"$f":"$C$253*'EoL emissions'!O6","v":-0.62337599999999993},{"$f":"$C$253*'EoL emissions'!P6","v":6.6396037500000005E-2},{"$f":"$C$253*'EoL emissions'!Q6","v":2.5324650000000001E-8}]
["TEA TOTAL",null,null,null,{"$f":"SUM(E247:E253)","v":6.9345670189012614},{"$f":"SUM(F247:F253)","v":4.7028405849755811E-7},2.4321534260556844E-6,7.1799411185764875E-8,1.2710285686619675E-6,0.38008301774010389,2.6449723118903652E-2,7.3849252947686655E-2,0.27955186429002438,1.4415523756115371E-2,1.8667359624026693E-2,7.3349361519150706,1513.9653842847617,35.761518712638868,97.596308780544987,2.2459151634859684E-5]
["Drinks","BEER"]
[null,"agriculture ",{"$f":"C257/(1-D256)","v":70},0,{"$f":"$C$256*'Emissions per kg'!C200","v":7.49},{"$f":"$C$256*'Emissions per kg'!D200","v":2.5199999999999998E-7},{"$f":"$C$256*'Emissions per kg'!E200","v":6.1320000000000002E-5},{"$f":"$C$256*'Emissions per kg'!F200","v":2.9540000000000001E-7},{"$f":"$C$256*'Emissions per kg'!G200","v":2.5409999999999999E-6},{"$f":"$C$256*'Emissions per kg'!H200","v":6.0829999999999995E-2},{"$f":"$C$256*'Emissions per kg'!I200","v":1.4559999999999998E-2},{"$f":"$C$256*'Emissions per kg'!J200","v":0.35349999999999998},{"$f":"$C$256*'Emissions per kg'!K200","v":1.575},{"$f":"$C$256*'Emissions per kg'!L200","v":3.339E-3},{"$f":"$C$256*'Emissions per kg'!M200","v":0.20369999999999999},{"$f":"$C$256*'Emissions per kg'!N200","v":55.790000000000006},{"$f":"$C$256*'Emissions per kg'!O200","v":3248},{"$f":"$C$256*'Emissions per kg'!P200","v":0.1946},{"$f":"$C$256*'Emissions per kg'!Q200","v":45.36},{"$f":"$C$256*'Emissions per kg'!R200","v":1.9389999999999999E-5}]
[null,"processsing",{"$f":"(C258/(1-D257))/(1-D258)","v":70},0,{"$f":"$C$257*'Emissions per kg'!C201","v":20.58},{"$f":"$C$257*'Emissions per kg'!D201","v":3.0309999999999999E-6},{"$f":"$C$257*'Emissions per kg'!E201","v":9.1000000000000008E-7},{"$f":"$C$257*'Emissions per kg'!F201","v":1.2599999999999999E-7},{"$f":"$C$257*'Emissions per kg'!G201","v":3.3879999999999999E-7},{"$f":"$C$257*'Emissions per kg'!H201","v":1.2809999999999999},{"$f":"$C$257*'Emissions per kg'!I201","v":4.2910000000000004E-2},{"$f":"$C$257*'Emissions per kg'!J201","v":7.8399999999999997E-2},{"$f":"$C$257*'Emissions per kg'!K201","v":0.12529999999999999},{"$f":"$C$257*'Emissions per kg'!L201","v":7.5599999999999999E-3},{"$f":"$C$257*'Emissions per kg'!M201","v":2.2540000000000001E-2},{"$f":"$C$257*'Emissions per kg'!N201","v":5.9989999999999997},{"$f":"$C$257*'Emissions per kg'!O201","v":137.9},{"$f":"$C$257*'Emissions per kg'!P201","v":56.63},{"$f":"$C$257*'Emissions per kg'!Q201","v":422.8},{"$f":"$C$257*'Emissions per kg'!R201","v":2.2889999999999999E-5}]
[null,"packaging",{"$f":"C259","v":70},0,{"$f":"$C$258*'Emissions per kg'!C202","v":32.97},{"$f":"$C$258*'Emissions per kg'!D202","v":5.4109999999999995E-6},{"$f":"$C$258*'Emissions per kg'!E202","v":1.0359999999999999E-6},{"$f":"$C$258*'Emissions per kg'!F202","v":8.7499999999999996E-8},{"$f":"$C$258*'Emissions per kg'!G202","v":4.5780000000000004E-8},{"$f":"$C$258*'Emissions per kg'!H202","v":1.512},{"$f":"$C$258*'Emissions per kg'!I202","v":4.2210000000000004E-2},{"$f":"$C$258*'Emissions per kg'!J202","v":5.9360000000000003E-2},{"$f":"$C$258*'Emissions per kg'!K202","v":0.21839999999999998},{"$f":"$C$258*'Emissions per kg'!L202","v":4.1159999999999998E-4},{"$f":"$C$258*'Emissions per kg'!M202","v":1.225E-2},{"$f":"$C$258*'Emissions per kg'!N202","v":12.319999999999999},{"$f":"$C$258*'Emissions per kg'!O202","v":-463.40000000000003},{"$f":"$C$258*'Emissions per kg'!P202","v":-3.6259999999999999},{"$f":"$C$258*'Emissions per kg'!Q202","v":499.09999999999997},{"$f":"$C$258*'Emissions per kg'!R202","v":8.6799999999999996E-5}]
[null,"retail",{"$f":"(C260/(1-D260))/(1-D259)","v":70},0,{"$f":"$C$259*'Emissions per kg'!C203","v":8.1900000000000013},{"$f":"$C$259*'Emissions per kg'!D203","v":1.8339999999999999E-6},{"$f":"$C$259*'Emissions per kg'!E203","v":1.358E-6},{"$f":"$C$259*'Emissions per kg'!F203","v":6.2719999999999995E-8},{"$f":"$C$259*'Emissions per kg'!G203","v":8.7499999999999999E-7},{"$f":"$C$259*'Emissions per kg'!H203","v":0.5726},{"$f":"$C$259*'Emissions per kg'!I203","v":6.0829999999999995E-2},{"$f":"$C$259*'Emissions per kg'!J203","v":5.5019999999999999E-2},{"$f":"$C$259*'Emissions per kg'!K203","v":7.3499999999999996E-2},{"$f":"$C$259*'Emissions per kg'!L203","v":1.5680000000000002E-4},{"$f":"$C$259*'Emissions per kg'!M203","v":1.9880000000000002E-2},{"$f":"$C$259*'Emissions per kg'!N203","v":23.450000000000003},{"$f":"$C$259*'Emissions per kg'!O203","v":151.9},{"$f":"$C$259*'Emissions per kg'!P203","v":2.9609999999999999},{"$f":"$C$259*'Emissions per kg'!Q203","v":129.5},{"$f":"$C$259*'Emissions per kg'!R203","v":2.0649999999999997E-5}]
[null,"use ",63,0.1,{"$f":"$C$260*'Emissions per kg'!C204","v":26.459999999999997},{"$f":"$C$260*'Emissions per kg'!D204","v":7.497E-7},{"$f":"$C$260*'Emissions per kg'!E204","v":8.8830000000000003E-7},{"$f":"$C$260*'Emissions per kg'!F204","v":1.2221999999999999E-7},{"$f":"$C$260*'Emissions per kg'!G204","v":3.0618000000000001E-7},{"$f":"$C$260*'Emissions per kg'!H204","v":0.48888000000000004},{"$f":"$C$260*'Emissions per kg'!I204","v":1.7892000000000002E-2},{"$f":"$C$260*'Emissions per kg'!J204","v":3.0681E-2},{"$f":"$C$260*'Emissions per kg'!K204","v":6.5519999999999995E-2},{"$f":"$C$260*'Emissions per kg'!L204","v":5.0526E-3},{"$f":"$C$260*'Emissions per kg'!M204","v":2.8413000000000001E-2},{"$f":"$C$260*'Emissions per kg'!N204","v":9.5760000000000005},{"$f":"$C$260*'Emissions per kg'!O204","v":383.67},{"$f":"$C$260*'Emissions per kg'!P204","v":94.5},{"$f":"$C$260*'Emissions per kg'!Q204","v":95.13},{"$f":"$C$260*'Emissions per kg'!R204","v":3.7169999999999998E-5}]
[null,"end of life A&P",{"$f":"D257*C257+C256*D256","v":0},null,{"$f":"$C$261*'EoL emissions'!B4","v":0},{"$f":"$C$261*'EoL emissions'!C4","v":0},{"$f":"$C$261*'EoL emissions'!D4","v":0},{"$f":"$C$261*'EoL emissions'!E4","v":0},{"$f":"$C$261*'EoL emissions'!F4","v":0},{"$f":"$C$261*'EoL emissions'!G4","v":0},{"$f":"$C$261*'EoL emissions'!H4","v":0},{"$f":"$C$261*'EoL emissions'!I4","v":0},{"$f":"$C$261*'EoL emissions'!J4","v":0},{"$f":"$C$261*'EoL emissions'!K4","v":0},{"$f":"$C$261*'EoL emissions'!L4","v":0},{"$f":"$C$261*'EoL emissions'!M4","v":0},{"$f":"$C$261*'EoL emissions'!N4","v":0},{"$f":"$C$261*'EoL emissions'!O4","v":0},{"$f":"$C$261*'EoL emissions'!P4","v":0},{"$f":"$C$261*'EoL emissions'!Q4","v":0}]
[null,"end of life beer",{"$f":"D260*C260+C259*D259+C258*D258","v":6.3000000000000007},null,{"$f":"$C$262*'EoL emissions'!B6","v":2.0349000000000001E-3},{"$f":"$C$262*'EoL emissions'!C6","v":1.3356E-10},{"$f":"$C$262*'EoL emissions'!D6","v":3.3075000000000002E-10},{"$f":"$C$262*'EoL emissions'!E6","v":1.3167000000000002E-10},{"$f":"$C$262*'EoL emissions'!F6","v":1.5309000000000001E-10},{"$f":"$C$262*'EoL emissions'!G6","v":5.6196000000000002E-5},{"$f":"$C$262*'EoL emissions'!H6","v":7.2450000000000009E-6},{"$f":"$C$262*'EoL emissions'!I6","v":9.5130000000000002E-6},{"$f":"$C$262*'EoL emissions'!J6","v":2.2176000000000002E-5},{"$f":"$C$262*'EoL emissions'!K6","v":1.0521000000000001E-7},{"$f":"$C$262*'EoL emissions'!L6","v":1.9719000000000001E-6},{"$f":"$C$262*'EoL emissions'!M6","v":2.2995000000000003E-3},{"$f":"$C$262*'EoL emissions'!N6","v":1.6128000000000003E-2},{"$f":"$C$262*'EoL emissions'!O6","v":-0.24192},{"$f":"$C$262*'EoL emissions'!P6","v":2.5767000000000002E-2},{"$f":"$C$262*'EoL emissions'!Q6","v":9.8280000000000004E-9}]
["BEER TOTAL",null,null,null,{"$f":"SUM(E256:E262)","v":95.692034899999996},{"$f":"SUM(F256:F262)","v":1.127783356E-5},6.5512630750000006E-5,6.9397166999999998E-7,4.1069130900000003E-6,3.9153661959999999,0.17840924499999997,0.57697051299999991,2.0577421759999996,1.652010521E-2,0.28678497190000002,107.13729950000003,3458.0861280000004,150.41768000000002,1191.915767,1.8690982799999999E-4]
["Drinks","WINE"]
[null,"agriculture ",{"$f":"C266/(1-D265)","v":26.082737550474096},0,{"$f":"$C$265*'Emissions per kg'!C207","v":12.624044974429463},{"$f":"$C$265*'Emissions per kg'!D207","v":1.171114916016287E-6},{"$f":"$C$265*'Emissions per kg'!E207","v":5.0600510847919749E-5},{"$f":"$C$265*'Emissions per kg'!F207","v":1.489324314132071E-6},{"$f":"$C$265*'Emissions per kg'!G207","v":1.0407012282639165E-6},{"$f":"$C$265*'Emissions per kg'!H207","v":0.45644790713329675},{"$f":"$C$265*'Emissions per kg'!I207","v":7.0423391386280065E-2},{"$f":"$C$265*'Emissions per kg'!J207","v":0.15388815154779717},{"$f":"$C$265*'Emissions per kg'!K207","v":0.60251123741595158},{"$f":"$C$265*'Emissions per kg'!L207","v":2.4935097098253236E-3},{"$f":"$C$265*'Emissions per kg'!M207","v":0.14319422915210278},{"$f":"$C$265*'Emissions per kg'!N207","v":1014.6184907134423},{"$f":"$C$265*'Emissions per kg'!O207","v":5712.1195235538271},{"$f":"$C$265*'Emissions per kg'!P207","v":1789.2757959625228},{"$f":"$C$265*'Emissions per kg'!Q207","v":157.01808005385405},{"$f":"$C$265*'Emissions per kg'!R207","v":1.6588621082101526E-4}]
[null,"processsing",{"$f":"(C267/(1-D266))/(1-D267)","v":26.082737550474096},0,{"$f":"$C$266*'Emissions per kg'!C208","v":14.919325878871183},{"$f":"$C$266*'Emissions per kg'!D208","v":1.2024142010768558E-6},{"$f":"$C$266*'Emissions per kg'!E208","v":8.6855516043078741E-7},{"$f":"$C$266*'Emissions per kg'!F208","v":1.0980832508749595E-7},{"$f":"$C$266*'Emissions per kg'!G208","v":3.5472523068644769E-7},{"$f":"$C$266*'Emissions per kg'!H208","v":1.6536455607000577},{"$f":"$C$266*'Emissions per kg'!I208","v":4.6948927590853375E-2},{"$f":"$C$266*'Emissions per kg'!J208","v":8.2421450659498144E-2},{"$f":"$C$266*'Emissions per kg'!K208","v":0.14658498503366443},{"$f":"$C$266*'Emissions per kg'!L208","v":9.5462819434735202E-4},{"$f":"$C$266*'Emissions per kg'!M208","v":1.4580250290715021E-2},{"$f":"$C$266*'Emissions per kg'!N208","v":4.9296373970396044},{"$f":"$C$266*'Emissions per kg'!O208","v":144.75919340513124},{"$f":"$C$266*'Emissions per kg'!P208","v":5.2426302476452937},{"$f":"$C$266*'Emissions per kg'!Q208","v":244.13442347243753},{"$f":"$C$266*'Emissions per kg'!R208","v":2.9473493432035727E-5}]
[null,"packaging",{"$f":"C268","v":26.004489337822672},3.0000000000000001E-3,{"$f":"$C$267*'Emissions per kg'!C209","v":12.534163860830528},{"$f":"$C$267*'Emissions per kg'!D209","v":1.8957272727272728E-6},{"$f":"$C$267*'Emissions per kg'!E209","v":5.4609427609427608E-7},{"$f":"$C$267*'Emissions per kg'!F209","v":2.3091986531986535E-8},{"$f":"$C$267*'Emissions per kg'!G209","v":-1.3964410774410776E-8},{"$f":"$C$267*'Emissions per kg'!H209","v":0.60330415263748594},{"$f":"$C$267*'Emissions per kg'!I209","v":1.724097643097643E-2},{"$f":"$C$267*'Emissions per kg'!J209","v":2.1167654320987658E-2},{"$f":"$C$267*'Emissions per kg'!K209","v":3.3025701459034794E-2},{"$f":"$C$267*'Emissions per kg'!L209","v":1.3600347923681258E-4},{"$f":"$C$267*'Emissions per kg'!M209","v":5.1488888888888886E-3},{"$f":"$C$267*'Emissions per kg'!N209","v":7.7233333333333336},{"$f":"$C$267*'Emissions per kg'!O209","v":-244.44219977553314},{"$f":"$C$267*'Emissions per kg'!P209","v":-2.0127474747474747},{"$f":"$C$267*'Emissions per kg'!Q209","v":188.01245791245793},{"$f":"$C$267*'Emissions per kg'!R209","v":1.9893434343434345E-5}]
[null,"retail",{"$f":"(C269/(1-D269))/(1-D268)","v":26.004489337822672},0.01,{"$f":"$C$268*'Emissions per kg'!C210","v":4.7588215488215493},{"$f":"$C$268*'Emissions per kg'!D210","v":1.0531818181818182E-6},{"$f":"$C$268*'Emissions per kg'!E210","v":6.3971043771043771E-7},{"$f":"$C$268*'Emissions per kg'!F210","v":3.3285746352413017E-8},{"$f":"$C$268*'Emissions per kg'!G210","v":4.3427497194163866E-7},{"$f":"$C$268*'Emissions per kg'!H210","v":0.31465432098765433},{"$f":"$C$268*'Emissions per kg'!I210","v":4.6027946127946133E-2},{"$f":"$C$268*'Emissions per kg'!J210","v":5.64297418630752E-2},{"$f":"$C$268*'Emissions per kg'!K210","v":0.16850909090909091},{"$f":"$C$268*'Emissions per kg'!L210","v":7.1512345679012354E-5},{"$f":"$C$268*'Emissions per kg'!M210","v":1.5238630751964088E-2},{"$f":"$C$268*'Emissions per kg'!N210","v":10.791863075196408},{"$f":"$C$268*'Emissions per kg'!O210","v":69.431986531986539},{"$f":"$C$268*'Emissions per kg'!P210","v":0.59810325476992143},{"$f":"$C$268*'Emissions per kg'!Q210","v":73.072615039281715},{"$f":"$C$268*'Emissions per kg'!R210","v":9.2575982042648722E-6}]
[null,"use ",23.17,0.1,{"$f":"$C$269*'Emissions per kg'!C211","v":1.0611860000000002},{"$f":"$C$269*'Emissions per kg'!D211","v":2.17798E-7},{"$f":"$C$269*'Emissions per kg'!E211","v":7.9473100000000005E-8},{"$f":"$C$269*'Emissions per kg'!F211","v":1.4620270000000001E-8},{"$f":"$C$269*'Emissions per kg'!G211","v":4.0315800000000004E-8},{"$f":"$C$269*'Emissions per kg'!H211","v":5.8620100000000008E-2},{"$f":"$C$269*'Emissions per kg'!I211","v":2.0412770000000002E-3},{"$f":"$C$269*'Emissions per kg'!J211","v":4.1474300000000008E-4},{"$f":"$C$269*'Emissions per kg'!K211","v":5.4217800000000002E-3},{"$f":"$C$269*'Emissions per kg'!L211","v":1.2975200000000001E-3},{"$f":"$C$269*'Emissions per kg'!M211","v":4.3096200000000001E-3},{"$f":"$C$269*'Emissions per kg'!N211","v":2.5487000000000002},{"$f":"$C$269*'Emissions per kg'!O211","v":113.99640000000001},{"$f":"$C$269*'Emissions per kg'!P211","v":32.669699999999999},{"$f":"$C$269*'Emissions per kg'!Q211","v":11.909380000000001},{"$f":"$C$269*'Emissions per kg'!R211","v":-4.1706000000000004E-6}]
[null,"end of life A&P",{"$f":"D266*C266+C265*D265","v":0},null,{"$f":"$C$270*'EoL emissions'!B4","v":0},{"$f":"$C$270*'EoL emissions'!C4","v":0},{"$f":"$C$270*'EoL emissions'!D4","v":0},{"$f":"$C$270*'EoL emissions'!E4","v":0},{"$f":"$C$270*'EoL emissions'!F4","v":0},{"$f":"$C$270*'EoL emissions'!G4","v":0},{"$f":"$C$270*'EoL emissions'!H4","v":0},{"$f":"$C$270*'EoL emissions'!I4","v":0},{"$f":"$C$270*'EoL emissions'!J4","v":0},{"$f":"$C$270*'EoL emissions'!K4","v":0},{"$f":"$C$270*'EoL emissions'!L4","v":0},{"$f":"$C$270*'EoL emissions'!M4","v":0},{"$f":"$C$270*'EoL emissions'!N4","v":0},{"$f":"$C$270*'EoL emissions'!O4","v":0},{"$f":"$C$270*'EoL emissions'!P4","v":0},{"$f":"$C$270*'EoL emissions'!Q4","v":0}]
[null,"end of life wine",{"$f":"D269*C269+C268*D268+C267*D267","v":2.6550583613916947},null,{"$f":"$C$271*'EoL emissions'!B6","v":8.5758385072951741E-4},{"$f":"$C$271*'EoL emissions'!C6","v":5.6287237261503924E-11},{"$f":"$C$271*'EoL emissions'!D6","v":1.3939056397306396E-10},{"$f":"$C$271*'EoL emissions'!E6","v":5.5490719753086422E-11},{"$f":"$C$271*'EoL emissions'!F6","v":6.4517918181818177E-11},{"$f":"$C$271*'EoL emissions'!G6","v":2.3683120583613915E-5},{"$f":"$C$271*'EoL emissions'!H6","v":3.0533171156004489E-6},{"$f":"$C$271*'EoL emissions'!I6","v":4.0091381257014589E-6},{"$f":"$C$271*'EoL emissions'!J6","v":9.3458054320987655E-6},{"$f":"$C$271*'EoL emissions'!K6","v":4.4339474635241302E-8},{"$f":"$C$271*'EoL emissions'!L6","v":8.3103326711560045E-7},{"$f":"$C$271*'EoL emissions'!M6","v":9.6909630190796848E-4},{"$f":"$C$271*'EoL emissions'!N6","v":6.7969494051627393E-3},{"$f":"$C$271*'EoL emissions'!O6","v":-0.10195424107744107},{"$f":"$C$271*'EoL emissions'!P6","v":1.0859188698092031E-2},{"$f":"$C$271*'EoL emissions'!Q6","v":4.1418910437710438E-9}]
["WINE TOTAL",null,null,null,{"$f":"SUM(E265:E271)","v":45.898399846803457},{"$f":"SUM(F265:F271)","v":5.5402924952394957E-6},5.2734483212719221E-5,1.6701861328237196E-6,1.8561173380357737E-6,3.0866957245790783,0.18268557185317161,0.31432575052948386,0.95606214062317396,4.9532180685631358E-3,0.18247245011693788,1040.6129936153138,5795.8717006648167,1825.671527749113,674.15781566672933,2.2034427869179396E-4]
["Drinks","MINERAL WATER"]
[null,"agriculture ",{"$f":"C275/(1-D274)","v":122.29999999999998},0,{"$f":"$C$274*'Emissions per kg'!C214","v":0},{"$f":"$C$274*'Emissions per kg'!D214","v":0},{"$f":"$C$274*'Emissions per kg'!E214","v":0},{"$f":"$C$274*'Emissions per kg'!F214","v":0},{"$f":"$C$274*'Emissions per kg'!G214","v":0},{"$f":"$C$274*'Emissions per kg'!H214","v":0},{"$f":"$C$274*'Emissions per kg'!I214","v":0},{"$f":"$C$274*'Emissions per kg'!J214","v":0},{"$f":"$C$274*'Emissions per kg'!K214","v":0},{"$f":"$C$274*'Emissions per kg'!L214","v":0},{"$f":"$C$274*'Emissions per kg'!M214","v":0},{"$f":"$C$274*'Emissions per kg'!N214","v":0},{"$f":"$C$274*'Emissions per kg'!O214","v":0},{"$f":"$C$274*'Emissions per kg'!P214","v":0},{"$f":"$C$274*'Emissions per kg'!Q214","v":0},{"$f":"$C$274*'Emissions per kg'!R214","v":0}]
[null,"processsing",{"$f":"(C276/(1-D275))/(1-D276)","v":122.29999999999998},0,{"$f":"$C$275*'Emissions per kg'!C215","v":4.8186199999999992},{"$f":"$C$275*'Emissions per kg'!D215","v":1.9812599999999998E-7},{"$f":"$C$275*'Emissions per kg'!E215","v":2.4826899999999996E-7},{"$f":"$C$275*'Emissions per kg'!F215","v":4.4639499999999994E-8},{"$f":"$C$275*'Emissions per kg'!G215","v":1.9323399999999997E-7},{"$f":"$C$275*'Emissions per kg'!H215","v":0.23848499999999995},{"$f":"$C$275*'Emissions per kg'!I215","v":1.6999699999999996E-2},{"$f":"$C$275*'Emissions per kg'!J215","v":2.3481599999999998E-2},{"$f":"$C$275*'Emissions per kg'!K215","v":4.0725899999999995E-2},{"$f":"$C$275*'Emissions per kg'!L215","v":1.6755099999999997E-4},{"$f":"$C$275*'Emissions per kg'!M215","v":3.9013699999999999E-3},{"$f":"$C$275*'Emissions per kg'!N215","v":2.8618199999999998},{"$f":"$C$275*'Emissions per kg'!O215","v":70.567099999999982},{"$f":"$C$275*'Emissions per kg'!P215","v":7.9739599999999982},{"$f":"$C$275*'Emissions per kg'!Q215","v":134.53},{"$f":"$C$275*'Emissions per kg'!R215","v":1.2596899999999998E-5}]
[null,"packaging",{"$f":"C277","v":122.29999999999998},0,{"$f":"$C$276*'Emissions per kg'!C216","v":4.6718599999999988},{"$f":"$C$276*'Emissions per kg'!D216","v":4.451719999999999E-7},{"$f":"$C$276*'Emissions per kg'!E216","v":4.5495599999999993E-7},{"$f":"$C$276*'Emissions per kg'!F216","v":3.2654099999999995E-8},{"$f":"$C$276*'Emissions per kg'!G216","v":1.4920599999999997E-8},{"$f":"$C$276*'Emissions per kg'!H216","v":0.55279599999999984},{"$f":"$C$276*'Emissions per kg'!I216","v":2.8740499999999995E-3},{"$f":"$C$276*'Emissions per kg'!J216","v":1.7121999999999995E-2},{"$f":"$C$276*'Emissions per kg'!K216","v":2.7762099999999994E-2},{"$f":"$C$276*'Emissions per kg'!L216","v":4.0848199999999994E-4},{"$f":"$C$276*'Emissions per kg'!M216","v":2.6539099999999993E-3},{"$f":"$C$276*'Emissions per kg'!N216","v":7.4113799999999994},{"$f":"$C$276*'Emissions per kg'!O216","v":71.178599999999989},{"$f":"$C$276*'Emissions per kg'!P216","v":0.71667799999999982},{"$f":"$C$276*'Emissions per kg'!Q216","v":9.4537899999999979},{"$f":"$C$276*'Emissions per kg'!R216","v":1.2841499999999999E-5}]
[null,"retail",{"$f":"(C278/(1-D278))/(1-D277)","v":122.29999999999998},0,{"$f":"$C$277*'Emissions per kg'!C217","v":9.747309999999997},{"$f":"$C$277*'Emissions per kg'!D217","v":2.1647099999999996E-6},{"$f":"$C$277*'Emissions per kg'!E217","v":1.5898999999999998E-6},{"$f":"$C$277*'Emissions per kg'!F217","v":7.4969899999999984E-8},{"$f":"$C$277*'Emissions per kg'!G217","v":1.0163129999999998E-6},{"$f":"$C$277*'Emissions per kg'!H217","v":0.70077899999999993},{"$f":"$C$277*'Emissions per kg'!I217","v":7.1056299999999989E-2},{"$f":"$C$277*'Emissions per kg'!J217","v":6.5308199999999983E-2},{"$f":"$C$277*'Emissions per kg'!K217","v":0.25560699999999992},{"$f":"$C$277*'Emissions per kg'!L217","v":2.0913299999999996E-4},{"$f":"$C$277*'Emissions per kg'!M217","v":2.3236999999999997E-2},{"$f":"$C$277*'Emissions per kg'!N217","v":27.272899999999996},{"$f":"$C$277*'Emissions per kg'!O217","v":179.78099999999998},{"$f":"$C$277*'Emissions per kg'!P217","v":4.5862499999999988},{"$f":"$C$277*'Emissions per kg'!Q217","v":156.54399999999998},{"$f":"$C$277*'Emissions per kg'!R217","v":2.4459999999999996E-5}]
[null,"use ",110.07,0.1,{"$f":"$C$278*'Emissions per kg'!C218","v":9.0367470000000001},{"$f":"$C$278*'Emissions per kg'!D218","v":1.0467657E-6},{"$f":"$C$278*'Emissions per kg'!E218","v":1.32084E-6},{"$f":"$C$278*'Emissions per kg'!F218","v":1.9262249999999998E-7},{"$f":"$C$278*'Emissions per kg'!G218","v":4.7550239999999996E-7},{"$f":"$C$278*'Emissions per kg'!H218","v":0.57346469999999994},{"$f":"$C$278*'Emissions per kg'!I218","v":2.5536239999999998E-2},{"$f":"$C$278*'Emissions per kg'!J218","v":3.9735269999999996E-2},{"$f":"$C$278*'Emissions per kg'!K218","v":8.7615719999999994E-2},{"$f":"$C$278*'Emissions per kg'!L218","v":8.6184809999999995E-4},{"$f":"$C$278*'Emissions per kg'!M218","v":1.4088959999999999E-2},{"$f":"$C$278*'Emissions per kg'!N218","v":12.43791},{"$f":"$C$278*'Emissions per kg'!O218","v":673.62839999999994},{"$f":"$C$278*'Emissions per kg'!P218","v":171.70919999999998},{"$f":"$C$278*'Emissions per kg'!Q218","v":121.077},{"$f":"$C$278*'Emissions per kg'!R218","v":5.481486E-5}]
[null,"end of life",{"$f":"D275*C275+D277*C277+C276*D276+C274*D274+C278*D278","v":11.007},null,{"$f":"$C$279*'EoL emissions'!B6","v":3.5552609999999997E-3},{"$f":"$C$279*'EoL emissions'!C6","v":2.3334839999999998E-10},{"$f":"$C$279*'EoL emissions'!D6","v":5.7786750000000002E-10},{"$f":"$C$279*'EoL emissions'!E6","v":2.3004630000000001E-10},{"$f":"$C$279*'EoL emissions'!F6","v":2.6747009999999999E-10},{"$f":"$C$279*'EoL emissions'!G6","v":9.8182439999999993E-5},{"$f":"$C$279*'EoL emissions'!H6","v":1.265805E-5},{"$f":"$C$279*'EoL emissions'!I6","v":1.6620569999999999E-5},{"$f":"$C$279*'EoL emissions'!J6","v":3.8744639999999998E-5},{"$f":"$C$279*'EoL emissions'!K6","v":1.8381689999999999E-7},{"$f":"$C$279*'EoL emissions'!L6","v":3.445191E-6},{"$f":"$C$279*'EoL emissions'!M6","v":4.0175549999999999E-3},{"$f":"$C$279*'EoL emissions'!N6","v":2.8177920000000002E-2},{"$f":"$C$279*'EoL emissions'!O6","v":-0.42266879999999996},{"$f":"$C$279*'EoL emissions'!P6","v":4.5018629999999997E-2},{"$f":"$C$279*'EoL emissions'!Q6","v":1.717092E-8}]
["MINERAL WATER TOTAL",null,null,null,{"$f":"SUM(E274:E279)","v":28.278092260999994},{"$f":"SUM(F274:F279)","v":3.8550070484E-6},3.6145428674999998E-6,3.4511604629999992E-7,1.7002374700999999E-6,2.0656228824399996,0.11647894804999999,0.14566369056999995,0.4117494646399999,1.6471979168999999E-3,4.3884685190999993E-2,49.988027554999995,995.18327791999991,184.56341919999997,421.64980863,1.0473043092E-4]
["Pre-prepared","MEAT BASED DISHES"]
[null,"agriculture ",{"$f":"C283/(1-D282)","v":3.5112956735899541},0,{"$f":"$C$282*'Emissions per kg'!C221","v":12.535325554716136},{"$f":"$C$282*'Emissions per kg'!D221","v":4.7402491593464384E-7},{"$f":"$C$282*'Emissions per kg'!E221","v":4.9509268997618356E-6},{"$f":"$C$282*'Emissions per kg'!F221","v":1.3623827213529021E-7},{"$f":"$C$282*'Emissions per kg'!G221","v":1.2710890338395633E-6},{"$f":"$C$282*'Emissions per kg'!H221","v":0.35464086303258541},{"$f":"$C$282*'Emissions per kg'!I221","v":3.1285644451686488E-2},{"$f":"$C$282*'Emissions per kg'!J221","v":0.15379475050323999},{"$f":"$C$282*'Emissions per kg'!K221","v":0.58287508181593239},{"$f":"$C$282*'Emissions per kg'!L221","v":2.4543956758393778E-3},{"$f":"$C$282*'Emissions per kg'!M221","v":4.56468437566694E-2},{"$f":"$C$282*'Emissions per kg'!N221","v":50.562657699695343},{"$f":"$C$282*'Emissions per kg'!O221","v":1278.1116251867434},{"$f":"$C$282*'Emissions per kg'!P221","v":2.4368391974714281},{"$f":"$C$282*'Emissions per kg'!Q221","v":94.804983186928766},{"$f":"$C$282*'Emissions per kg'!R221","v":1.604662122830609E-5}]
[null,"processsing",{"$f":"(C284/(1-D283))/(1-D284)","v":3.5112956735899541},3.1E-2,{"$f":"$C$283*'Emissions per kg'!C222","v":4.0379900246284466},{"$f":"$C$283*'Emissions per kg'!D222","v":5.5478471642721282E-7},{"$f":"$C$283*'Emissions per kg'!E222","v":2.0225063079878135E-7},{"$f":"$C$283*'Emissions per kg'!F222","v":2.8230817215663228E-8},{"$f":"$C$283*'Emissions per kg'!G222","v":8.216431876200493E-8},{"$f":"$C$283*'Emissions per kg'!H222","v":0.36868604572694519},{"$f":"$C$283*'Emissions per kg'!I222","v":7.8653023088414969E-3},{"$f":"$C$283*'Emissions per kg'!J222","v":1.674888036302408E-2},{"$f":"$C$283*'Emissions per kg'!K222","v":2.8230817215663232E-2},{"$f":"$C$283*'Emissions per kg'!L222","v":2.2788308921598804E-4},{"$f":"$C$283*'Emissions per kg'!M222","v":2.3736358753468087E-3},{"$f":"$C$283*'Emissions per kg'!N222","v":1.1165920242016054},{"$f":"$C$283*'Emissions per kg'!O222","v":32.058129499876287},{"$f":"$C$283*'Emissions per kg'!P222","v":9.9720797129954697},{"$f":"$C$283*'Emissions per kg'!Q222","v":70.225913471799089},{"$f":"$C$283*'Emissions per kg'!R222","v":4.9158139430259352E-6}]
[null,"packaging",{"$f":"C285","v":3.4024455077086655},0,{"$f":"$C$284*'Emissions per kg'!C223","v":0.74853801169590639},{"$f":"$C$284*'Emissions per kg'!D223","v":5.2397660818713447E-8},{"$f":"$C$284*'Emissions per kg'!E223","v":7.587453482190324E-8},{"$f":"$C$284*'Emissions per kg'!F223","v":9.3227006911217438E-9},{"$f":"$C$284*'Emissions per kg'!G223","v":6.906964380648591E-10},{"$f":"$C$284*'Emissions per kg'!H223","v":3.7086656034024452E-2},{"$f":"$C$284*'Emissions per kg'!I223","v":5.205741626794258E-4},{"$f":"$C$284*'Emissions per kg'!J223","v":2.6845295055821371E-3},{"$f":"$C$284*'Emissions per kg'!K223","v":4.1509835194045719E-3},{"$f":"$C$284*'Emissions per kg'!L223","v":4.8314726209463046E-5},{"$f":"$C$284*'Emissions per kg'!M223","v":4.4912280701754387E-4},{"$f":"$C$284*'Emissions per kg'!N223","v":0.74513556618819776},{"$f":"$C$284*'Emissions per kg'!O223","v":-31.608718766613499},{"$f":"$C$284*'Emissions per kg'!P223","v":0.60223285486443379},{"$f":"$C$284*'Emissions per kg'!Q223","v":4.5933014354066986},{"$f":"$C$284*'Emissions per kg'!R223","v":5.4779372674109519E-6}]
[null,"retail",{"$f":"(C286/(1-D286))/(1-D285)","v":3.4024455077086655},0.01,{"$f":"$C$285*'Emissions per kg'!C224","v":1.3847953216374267},{"$f":"$C$285*'Emissions per kg'!D224","v":9.1185539606592247E-6},{"$f":"$C$285*'Emissions per kg'!E224","v":1.0513556618819776E-7},{"$f":"$C$285*'Emissions per kg'!F224","v":8.6422115895800093E-9},{"$f":"$C$285*'Emissions per kg'!G224","v":4.8654970760233919E-8},{"$f":"$C$285*'Emissions per kg'!H224","v":0.1221477937267411},{"$f":"$C$285*'Emissions per kg'!I224","v":3.9808612440191387E-3},{"$f":"$C$285*'Emissions per kg'!J224","v":6.1244019138755974E-3},{"$f":"$C$285*'Emissions per kg'!K224","v":1.4188197767145135E-2},{"$f":"$C$285*'Emissions per kg'!L224","v":7.7235513024986711E-5},{"$f":"$C$285*'Emissions per kg'!M224","v":1.2963317384370016E-3},{"$f":"$C$285*'Emissions per kg'!N224","v":1.1568314726209463},{"$f":"$C$285*'Emissions per kg'!O224","v":15.106858054226477},{"$f":"$C$285*'Emissions per kg'!P224","v":0.32459330143540671},{"$f":"$C$285*'Emissions per kg'!Q224","v":20.34662413609782},{"$f":"$C$285*'Emissions per kg'!R224","v":2.2898458266879319E-6}]
[null,"use ",2.56,0.24,{"$f":"$C$286*'Emissions per kg'!C225","v":2.0198400000000003},{"$f":"$C$286*'Emissions per kg'!D225","v":1.9865599999999998E-7},{"$f":"$C$286*'Emissions per kg'!E225","v":1.62304E-7},{"$f":"$C$286*'Emissions per kg'!F225","v":2.1862400000000003E-8},{"$f":"$C$286*'Emissions per kg'!G225","v":6.0928000000000001E-8},{"$f":"$C$286*'Emissions per kg'!H225","v":0.24627199999999999},{"$f":"$C$286*'Emissions per kg'!I225","v":5.0688E-3},{"$f":"$C$286*'Emissions per kg'!J225","v":1.23392E-2},{"$f":"$C$286*'Emissions per kg'!K225","v":2.4883199999999998E-2},{"$f":"$C$286*'Emissions per kg'!L225","v":1.8918399999999998E-4},{"$f":"$C$286*'Emissions per kg'!M225","v":3.5071999999999999E-2},{"$f":"$C$286*'Emissions per kg'!N225","v":1.19808},{"$f":"$C$286*'Emissions per kg'!O225","v":35.840000000000003},{"$f":"$C$286*'Emissions per kg'!P225","v":4.4543999999999997},{"$f":"$C$286*'Emissions per kg'!Q225","v":39.423999999999999},{"$f":"$C$286*'Emissions per kg'!R225","v":7.2448000000000005E-6}]
[null,"end of life P&R",{"$f":"D283*C283+D285*C285+C284*D284+C282*D282","v":0.14287462095837525},null,{"$f":"$C$287*'EoL emissions'!B4","v":4.8342367983930469E-2},{"$f":"$C$287*'EoL emissions'!C4","v":5.7846729864533007E-10},{"$f":"$C$287*'EoL emissions'!D4","v":5.3644203901139316E-8},{"$f":"$C$287*'EoL emissions'!E4","v":2.1457133004309676E-9},{"$f":"$C$287*'EoL emissions'!F4","v":1.0937506362337392E-9},{"$f":"$C$287*'EoL emissions'!G4","v":3.6628669175246521E-4},{"$f":"$C$287*'EoL emissions'!H4","v":6.4763986985582377E-5},{"$f":"$C$287*'EoL emissions'!I4","v":1.7160273946979085E-4},{"$f":"$C$287*'EoL emissions'!J4","v":6.9396561066666584E-4},{"$f":"$C$287*'EoL emissions'!K4","v":1.3660390485818964E-5},{"$f":"$C$287*'EoL emissions'!L4","v":7.840971278434232E-5},{"$f":"$C$287*'EoL emissions'!M4","v":3.7931023441082039},{"$f":"$C$287*'EoL emissions'!N4","v":0.19605340644506195},{"$f":"$C$287*'EoL emissions'!O4","v":1.8986474168419857E-3},{"$f":"$C$287*'EoL emissions'!P4","v":-3.488059567942714E-2},{"$f":"$C$287*'EoL emissions'!Q4","v":-2.6475887391980465E-9}]
[null,"end of life HH",{"$f":"D286*C286","v":0.61439999999999995},null,{"$f":"$C$288*'EoL emissions'!B5","v":0.27369589292783347},{"$f":"$C$288*'EoL emissions'!C5","v":2.3047371796744489E-9},{"$f":"$C$288*'EoL emissions'!D5","v":4.8466579643822288E-7},{"$f":"$C$288*'EoL emissions'!E5","v":1.0394698785320661E-8},{"$f":"$C$288*'EoL emissions'!F5","v":2.5808935030267561E-9},{"$f":"$C$288*'EoL emissions'!G5","v":1.3503751272619571E-3},{"$f":"$C$288*'EoL emissions'!H5","v":2.2366110313996697E-4},{"$f":"$C$288*'EoL emissions'!I5","v":3.3294884161380362E-4},{"$f":"$C$288*'EoL emissions'!J5","v":1.2702153557722943E-3},{"$f":"$C$288*'EoL emissions'!K5","v":2.9051111520786749E-5},{"$f":"$C$288*'EoL emissions'!L5","v":6.0567243533338753E-4},{"$f":"$C$288*'EoL emissions'!M5","v":35.158598706896328},{"$f":"$C$288*'EoL emissions'!N5","v":0.57007633106306466},{"$f":"$C$288*'EoL emissions'!O5","v":1.3380012315420655E-2},{"$f":"$C$288*'EoL emissions'!P5","v":9.1848308146933025E-2},{"$f":"$C$288*'EoL emissions'!Q5","v":8.9230011456819843E-9}]
["MEAT BASED DISHES TOTAL",null,null,null,{"$f":"SUM(E282:E288)","v":21.04852717358968},{"$f":"SUM(F282:F288)","v":1.0401300458318115E-5},6.03480163191008E-6,2.1683681371740682E-7,1.4672016639391278E-6,1.1305500203393106,4.9009607257352102E-2,0.19219631386680538,0.65629246128458429,3.0397245062964216E-3,8.5522016325588493E-2,93.730997813710616,1330.2740237117407,17.805423726499001,229.45178994269986,3.5981293677837399E-5]
[]
[]
["FOOD WASTE PREVENTION"]
[null,"agriculture ",{"$f":"C282+C274+C265+C256+C247+C238+C229+C220+C211+C202+C193+C184+C175+C166+C157+C148+C139+C130+C121+C112+C103+C94+C85+C76+C67+C58+C49+C40+C31+C22+C13+C4","v":708.5979720451387},null,{"$f":"E282+E274+E265+E256+E247+E238+E229+E220+E211+E202+E193+E184+E175+E166+E157+E148+E139+E130+E121+E112+E103+E94+E85+E76+E67+E58+E49+E40+E31+E22+E13+E4","v":1628.6085819587456},{"$f":"F282+F274+F265+F256+F247+F238+F229+F220+F211+F202+F193+F184+F175+F166+F157+F148+F139+F130+F121+F112+F103+F94+F85+F76+F67+F58+F49+F40+F31+F22+F13+F4","v":2.0301895570762512E-5},1.7310344198185944E-3,2.2377299637910972E-5,2.2079503126470966E-4,11.531406376288365,2.3823481152693411,30.126794133475165,133.06841732694357,0.37624811055816437,11.567183955517557,6041.6672304498843,222100.46048734817,3516.6483082492678,5575.7981691834302,6.6697601969613709E-4]
[null,"processsing",null,null,{"$f":"E283+E275+E266+E257+E248+E239+E230+E221+E212+E203+E194+E185+E176+E167+E158+E149+E140+E131+E122+E113+E104+E95+E86+E77+E68+E59+E50+E41+E32+E23+E14+E5","v":254.31281984122398},7.0566066130240042E-4,1.6716945961266835E-5,1.3057960821066813E-6,7.168869447572379E-6,18.387097070362532,0.66711835347167303,1.1262934322111589,2.4315880261896381,1.9192004875956233E-2,0.22598705905361816,110.57187948945477,2609.9295195571071,229.97352131094806,3883.4175884583278,3.8088794715195073E-4]
[null,"packaging",null,null,122.94787510708115,1.208386257890557E-5,6.8238889344655241E-6,5.4661262521001646E-7,-3.7483024320722329E-7,4.6477574072968206,0.12190948104952425,0.25464731201048235,0.51047549038927398,3.1401169296413154E-3,4.6328394092310078E-2,59.488498306070092,-3473.2358229570273,0.18658693718278907,1203.2015993789571,5.3207468224213258E-4]
[null,"retail",null,null,144.75712300479,2.5426825257367407E-3,1.0700079348519428E-5,5.3529873905248149E-7,6.8834126248327614E-6,4.8228682540975853,0.49934153260150455,0.48636969148373355,1.6463804210167543,1.5164619422950499E-3,0.16290243415247055,177.69675053188905,1220.6120970887489,93.585149633685916,1092.4328657026217,2.0978649722289911E-4]
[null,"use ",null,null,177.72904699999998,1.1959868640000002E-5,1.8886312799999998E-5,1.8378001899999998E-6,6.9082215900000008E-6,8.989838240000001,0.37753825200000013,0.95025514599999994,2.1738585499999998,0.22006650502999997,3.4406843619999998,208.64128299999999,5155.6372660000006,995.42194630000029,2195.3028649999997,5.2623766459999996E-4]
[null,"end of life food waste",null,null,{"$f":"E288+E287+E279+E271+E270+E262+E261+E253+E252+E244+E243+E235+E234+E226+E225+E217+E216+E208+E207+E199+E198+E190+E189+E181+E180+E172+E171+E163+E162+E154+E153+E145+E144+E136+E135+E127+E126+E118+E117+E109+E108+E100+E99+E91+E90+E82+E81+E73+E72+E64+E63+E55+E54+E46+E45+E37+E36+E28+E27+E19+E18+E10+E9","v":36.741595523496855},{"$f":"F288+F287+F279+F271+F270+F262+F261+F253+F252+F244+F243+F235+F234+F226+F225+F217+F216+F208+F207+F199+F198+F190+F189+F181+F180+F172+F171+F163+F162+F154+F153+F145+F144+F136+F135+F127+F126+F118+F117+F109+F108+F100+F99+F91+F90+F82+F81+F73+F72+F64+F63+F55+F54+F46+F45+F37+F36+F28+F27+F19+F18+F10+F9","v":3.6150985335367311E-7},5.546417452739988E-5,1.4885710714305164E-6,5.3848336789910814E-7,0.21986601696042424,3.7630133240231574E-2,7.854046595477103E-2,0.31131735745953665,6.454903875807114E-3,7.2729750420116673E-2,3993.866153385311,105.18108509456266,7.4992519012000478E-2,-2.8191526059974645,-3.9510577999196133E-9]
[null,"TOTAL",null,null,{"$f":"SUM(E293:E298)","v":2365.0970424353377},{"$f":"SUM(F293:F298)","v":3.2930503236821627E-3},1.8396258213902459E-3,2.809137834571067E-5,2.4191918805180666E-4,48.598833365005731,4.0858858676322747,33.022900181135313,140.14203717199877,0.62661810321186417,15.515815955236071,10591.931795162609,227718.58463213156,4835.8905049500963,13947.333935117338,2.3159588598553192E-3]
[]
[]
["TOTAL BASKET WITH WASTE AMOUNTS IN SIMAPRO"]
[null,"agriculture ",{"$f":"SUM(C282,C274,C265,C256,C247,C238,C229,C220,C211,C202,C193,C184,C175,C166,C157,C148,C139,C130,C121,C112,C103,C94,C85,C76,C67,C58,C49,C40,C31,C22,C13,C4)","v":708.5979720451387},6.1000000000000004E-3,{"$f":"SUM(E282,E274,E265,E256,E247,E238,E229,E220,E211,E202,E193,E184,E175,E166,E157,E148,E139,E130,E121,E112,E103,E94,E85,E76,E67,E58,E49,E40,E31,E22,E13,E4)","v":1628.6085819587456},2.0301895570762512E-5,{"$f":"SUM(G282,G274,G265,G256,G247,G238,G229,G220,G211,G202,G193,G184,G175,G166,G157,G148,G139,G130,G121,G112,G103,G94,G85,G76,G67,G58,G49,G40,G31,G22,G13,G4)","v":1.7310344198185944E-3},2.2377299637910972E-5,2.2079503126470966E-4,11.531406376288365,2.3823481152693411,30.126794133475165,133.06841732694357,0.37624811055816437,11.567183955517557,6041.6672304498843,222100.46048734817,3516.6483082492678,5575.7981691834302,6.6697601969613709E-4]
[null,"processsing",{"$f":"SUM(C283,C275,C266,C257,C248,C239,C230,C221,C212,C203,C194,C185,C176,C167,C158,C149,C140,C131,C122,C113,C104,C95,C86,C77,C68,C59,C50,C41,C32,C23,C14,C5)","v":704.32368531988607},2.8500000000000001E-2,254.31281984122398,7.0566066130240042E-4,1.6716945961266835E-5,1.3057960821066813E-6,7.168869447572379E-6,18.387097070362532,0.66711835347167303,1.1262934322111589,2.4315880261896381,1.9192004875956233E-2,0.22598705905361816,110.57187948945477,2609.9295195571071,229.97352131094806,3883.4175884583278,3.8088794715195073E-4]
[null,"packaging",{"$f":"SUM(C284,C276,C267,C258,C249,C240,C231,C222,C213,C204,C195,C186,C177,C168,C159,C150,C141,C132,C123,C114,C105,C96,C87,C78,C69,C60,C51,C42,C33,C24,C15,C6)","v":684.17546486960146},0,122.94787510708115,1.208386257890557E-5,6.8238889344655241E-6,5.4661262521001646E-7,-3.7483024320722329E-7,4.6477574072968206,0.12190948104952425,0.25464731201048235,0.51047549038927398,3.1401169296413154E-3,4.6328394092310078E-2,59.488498306070092,-3473.2358229570273,0.18658693718278907,1203.2015993789571,5.3207468224213258E-4]
[null,"retail",{"$f":"SUM(C285,C277,C268,C259,C250,C241,C232,C223,C214,C205,C196,C187,C178,C169,C160,C151,C142,C133,C124,C115,C106,C97,C88,C79,C70,C61,C52,C43,C34,C25,C16,C7)","v":684.17546486960146},2.9000000000000001E-2,144.75712300479,2.5426825257367407E-3,1.0700079348519428E-5,5.3529873905248149E-7,6.8834126248327614E-6,4.8228682540975853,0.49934153260150455,0.48636969148373355,1.6463804210167543,1.5164619422950499E-3,0.16290243415247055,177.69675053188905,1220.6120970887489,93.585149633685916,1092.4328657026217,2.0978649722289911E-4]
[null,"use ",{"$f":"SUM(C286,C278,C269,C260,C251,C242,C233,C224,C215,C206,C197,C188,C179,C170,C161,C152,C143,C134,C125,C116,C107,C98,C89,C80,C71,C62,C53,C44,C35,C26,C17,C8)","v":582},0.124,177.72904699999998,1.1959868640000002E-5,1.8886312799999998E-5,1.8378001899999998E-6,6.9082215900000008E-6,8.989838240000001,0.37753825200000013,0.95025514599999994,2.1738585499999998,0.22006650502999997,3.4406843619999998,208.64128299999999,5155.6372660000006,995.42194630000029,2195.3028649999997,5.2623766459999996E-4]
[null,"end of life food waste",{"$f":"SUM(C287:C288,C279,C270:C271,C261:C262,C252:C253,C243:C244,C234:C235,C225:C226,C216:C217,C207:C208,C198:C199,C189:C190,C180:C181,C171:C172,C162:C163,C153:C154,C144:C145,C135:C136,C126:C127,C117:C118,C108:C109,C99:C100,C90:C91,C82,C81,C72:C73,C63:C64,C54:C55,C45:C46,C36:C37,C27:C28,C19,C18,C9:C10)","v":133.92241955500094},null,{"$f":"SUM(E287:E288,E279,E270:E271,E261:E262,E252:E253,E243:E244,E234:E235,E225:E226,E216:E217,E207:E208,E198:E199,E189:E190,E180:E181,E171:E172,E162:E163,E153:E154,E144:E145,E135:E136,E126:E127,E117:E118,E108:E109,E99:E100,E90:E91,E82,E81,E72:E73,E63:E64,E54:E55,E45:E46,E36:E37,E27:E28,E19,E18,E9:E10)","v":36.741595523496855},{"$f":"SUM(F287:F288,F279,F270:F271,F261:F262,F252:F253,F243:F244,F234:F235,F225:F226,F216:F217,F207:F208,F198:F199,F189:F190,F180:F181,F171:F172,F162:F163,F153:F154,F144:F145,F135:F136,F126:F127,F117:F118,F108:F109,F99:F100,F90:F91,F82,F81,F72:F73,F63:F64,F54:F55,F45:F46,F36:F37,F27:F28,F19,F18,F9:F10)","v":3.6150985335367311E-7},{"$f":"SUM(G287:G288,G279,G270:G271,G261:G262,G252:G253,G243:G244,G234:G235,G225:G226,G216:G217,G207:G208,G198:G199,G189:G190,G180:G181,G171:G172,G162:G163,G153:G154,G144:G145,G135:G136,G126:G127,G117:G118,G108:G109,G99:G100,G90:G91,G82,G81,G72:G73,G63:G64,G54:G55,G45:G46,G36:G37,G27:G28,G19,G18,G9:G10)","v":5.5464174527399873E-5},{"$f":"SUM(H287:H288,H279,H270:H271,H261:H262,H252:H253,H243:H244,H234:H235,H225:H226,H216:H217,H207:H208,H198:H199,H189:H190,H180:H181,H171:H172,H162:H163,H153:H154,H144:H145,H135:H136,H126:H127,H117:H118,H108:H109,H99:H100,H90:H91,H82,H81,H72:H73,H63:H64,H54:H55,H45:H46,H36:H37,H27:H28,H19,H18,H9:H10)","v":1.4885710714305164E-6},5.3848336789910814E-7,0.21986601696042421,3.7630133240231567E-2,7.854046595477103E-2,0.3113173574595367,6.4549038758071149E-3,7.2729750420116659E-2,3993.866153385311,105.18108509456265,7.4992519012000797E-2,-2.8191526059974654,-3.9510577999196397E-9]
[null,"TOTAL",null,null,2368.09615411192,3.2931020517017141E-3,1.7849587793363527E-3,2.6753783368910155E-5,2.4376408228972464E-4,48.537506047640164,4.0904057636269107,33.301689565356568,141.39238660458406,0.63041132038712566,15.551811307063609,6586.1652181990303,227685.61255886531,7476.8598676753645,14008.860628935687,2.3143450595958645E-3]
[null,"check",null,null,{"$f":"SUM(E303:E308)","v":2365.0970424353377},{"$f":"SUM(F303:F308)","v":3.2930503236821627E-3},1.8396258213902459E-3,2.809137834571067E-5,2.4191918805180666E-4,48.598833365005731,4.0858858676322747,33.022900181135313,140.14203717199877,0.62661810321186417,15.515815955236071,10591.931795162609,227718.58463213156,4835.8905049500963,13947.333935117338,2.3159588598553192E-3]
[]
["DIFFERENCE",null,{"$f":"C293-C303","v":0},null,{"$f":"E299-E309","v":-2.9991116765822881},{"$f":"F299-F309","v":-5.1728019551371823E-8},5.4667042053893134E-5,1.3375949768005149E-6,-1.8448942379179856E-6,6.1327317365567069E-2,-4.5198959946359807E-3,-0.27878938422125543,-1.2503494325852955,-3.7932171752614874E-3,-3.5995351827537547E-2,4005.7665769635787,32.972073266253574,-2640.9693627252682,-61.526693818348576,1.6138002594547583E-6]
[null,null,{"$f":"C312/C303","v":0},null,{"$f":"E312/E309","v":-1.2664653297015343E-3},{"$f":"F312/F309","v":-1.5707991656268688E-5},3.0626501119660775E-2,4.9996479314955419E-2,-7.5683596229129662E-3,1.2635036770404632E-3,-1.1049994195754913E-3,-8.3716288230395782E-3,-8.84311710560488E-3,-6.0170511737196158E-3,-2.3145440178526672E-3,0.60820924532757847,1.4481403939271327E-4,-0.35321905311385404,-4.3919841483227766E-3,6.973032187933822E-4]
[]
["Food waste amount, kg",null,{"$f":"C303-C293","v":0}]
[]
["FOOD WASTE PREVENTION"]
["DEFAULT FOOD WASTE AMOUNTS"]
[]
[]
[]
[]
[]
[]
[]
[]
[]
[]
[]
[]
[]
[]
[]
[]
[]
[]
[]
[]
[]
[]
[]
[]
[]
[]
[null,null,null,null,{"$f":"E309-E310","v":2.9991116765822881},{"$f":"F309-F310","v":5.1728019551371823E-8},-5.4667042053893134E-5,-1.3375949768005149E-6,1.8448942379179856E-6,-6.1327317365567069E-2,4.5198959946359807E-3,0.27878938422125543,1.2503494325852955,3.7932171752614874E-3,3.5995351827537547E-2,-4005.7665769635787,-32.972073266253574,2640.9693627252682,61.526693818348576,-1.6138002594547583E-6]
[null,"agriculture ",{"$f":"C347/(1-D346)","v":705.37041504410104},{"$f":"(D282*C282+D274*C274+D265*C265+D256*C256+D247*C247+D238*C238+C229*D229+C220*D220+C211*D211+C202*D202+C193*D193+C184*D184+C175*D175+C166*D166+C157*D157+C148*D148+C139*D139+C130*D130+C121*D121+C112*D112+C103*D103+C94*D94+C85*D85+C76*D76+C67*D67+C58*D58+C49*D49+C40*D40+C31*D31+C22*D22+C13*D13+C4*D4)/C303","v":6.032033528005072E-3}]
[null,"processsing",{"$f":"(C348/(1-D347))/(1-D348)","v":701.11559705089212},{"$f":"(D283*C283+D275*C275+D266*C266+D257*C257+D248*C248+D239*C239+C230*D230+C221*D221+C212*D212+C203*D203+C194*D194+C185*D185+C176*D176+C167*D167+C158*D158+C149*D149+C140*D140+C131*D131+C122*D122+C113*D113+C104*D104+C95*D95+C86*D86+C77*D77+C68*D68+C59*D59+C50*D50+C41*D41+C32*D32+C23*D23+C14*D14+C5*D5)/C304","v":2.8495381677414389E-2}]
[null,"packaging",{"$f":"C349","v":681.05937350286399},1.1402552710412786E-4]
[null,"retail",{"$f":"(C350/(1-D350))/(1-D349)","v":681.05937350286399},2.7372778016339572E-2]
[null,"use ",582,0.12139920962199313]
[]
[]
[null,"agriculture ",{"$f":"C354/(1-D353)","v":708.62121949312109},6.1000000000000004E-3]
[null,"processsing",{"$f":"(C355/(1-D354))/(1-D355)","v":704.29863005421305},2.8500000000000001E-2]
[null,"packaging",{"$f":"C356","v":684.22611909766795},0]
[null,"retail",{"$f":"(C357/(1-D357))/(1-D356)","v":684.22611909766795},2.9000000000000001E-2]
[null,"use ",582,0.124]

{"sheet":"Results","index":13,"n_rows":39,"n_cols":18,"rows_kept":39,"cut":false,"hidden":true,"merged":[]}
[null,"Amount","Climate change","Ozone depletion","Human toxicity, non-cancer effects","Human toxicity, cancer effects","Particulate matter","Ionizing radiation HH","Photochemical ozone formation","Acidification","Terrestrial eutrophication","Freshwater eutrophication","Marine eutrophication","Freshwater ecotoxicity","Land use","Water use","Resource use, fossil","Resource use, minerals and metals"]
[null,"kg","kg CO2 eq","kg CFC11 eq","CTUh","CTUh","Death","kBq U235 eq","kg NMVOC eq","molc H+ eq","molc N eq","kg P eq","kg N eq","CTUe","Pt","m3 water eq","MJ","kg Sb eq"]
["All phases -50%",-9.8272156071261052E-2,-9.1298610065266267E-2,-9.2372925834533437E-2,-8.0201992916607914E-2,-8.554528060535703E-2,-8.9668758084940445E-2,-8.466348393420331E-2,-9.371383262883988E-2,-8.9776521841278864E-2,-9.050256297742347E-2,-6.940215036038716E-2,-7.5781137079025895E-2,-9.4258765663945379E-2,-9.6276510954693653E-2,-0.11509227386703633,-8.3320818625926177E-2,-7.6547595389144074E-2]
["Animal-based products -50%",-2.6839882905984408E-2,-6.3139578875626462E-2,-5.6178145316262702E-2,-5.3304752847312301E-2,-5.4396552459064627E-2,-6.9757403504819834E-2,-2.740091959960474E-2,-5.7165613516584612E-2,-6.9501429732775982E-2,-7.1874839586088521E-2,-4.5214347733401682E-2,-5.3265505079322872E-2,-4.1243930701665675E-2,-6.0608438721962955E-2,-2.2572431307284049E-2,-3.8222041902930097E-2,-1.0331679011085032E-2]
["Plant-based products -50%",-7.1432273165276491E-2,-2.8159031189639815E-2,-3.6194780518270991E-2,-2.6897240069295492E-2,-3.1148728146292149E-2,-1.9911354580120166E-2,-5.7262564334598566E-2,-3.6548219112255156E-2,-2.0275092108502986E-2,-1.8627723391335158E-2,-2.4187802626985826E-2,-2.2515631999703026E-2,-5.3014834962279989E-2,-3.5668072232730559E-2,-9.2519842559752527E-2,-4.5098776722996087E-2,-6.6215916378058667E-2]
[]
[]
[]
[]
[]
[]
[]
[]
[]
[]
[]
[]
[]
[]
[]
[]
[]
[]
[]
[]
[]
[]
[]
[]
[]
[]
[]
[]
[]
[]
[]
[]
[]
[null,{"$f":"250+300+450+300+200+200+250+300+300+200+400","v":3150}]

{"sheet":"Phases","index":14,"n_rows":53,"n_cols":17,"rows_kept":53,"cut":false,"hidden":true,"merged":[]}
[]
[null,"Agriculture","Prosessing","Packaging","Retail","Use","End of life"]
["IPCC GWP 100a",{"$f":"B40","v":279.24259774710549},{"$f":"B41","v":50.990582841223898},{"$f":"B42","v":15.908368307081162},{"$f":"B43","v":19.501945004790002},{"$f":"B44","v":0},{"$f":"B45","v":34.726127411719176}]
["Ozone depletion",{"$f":"C40","v":4.3307374482379436E-6},{"$f":"C41","v":2.1826505420240053E-4},{"$f":"C42","v":1.4655088189055682E-6},{"$f":"C43","v":3.3147819673674068E-4},{"$f":"C44","v":0},{"$f":"C45","v":2.8772729542925372E-7}]
["Human toxicity, non-cancer effects",{"$f":"D40","v":2.6040027894813633E-4},{"$f":"D41","v":3.4953225612668351E-6},{"$f":"D42","v":9.5709907446552205E-7},{"$f":"D43","v":1.559990348519429E-6},{"$f":"D44","v":0},{"$f":"D45","v":7.1237954396470717E-7}]
["Human toxicity, cancer effects",{"$f":"E40","v":3.6809665924440807E-6},{"$f":"E41","v":2.7701051210668133E-7},{"$f":"E42","v":7.1403677210016434E-8},{"$f":"E43","v":7.9790119052481536E-8},{"$f":"E44","v":0},{"$f":"E45","v":1.4563119009689656E-7}]
["Particulate Matter",{"$f":"F40","v":3.7518182332434553E-5},{"$f":"F41","v":1.6012960475723791E-6},{"$f":"F42","v":1.2968107320722328E-7},{"$f":"F43","v":9.9883112483276331E-7},{"$f":"F44","v":0},{"$f":"F45","v":4.9186053809221436E-7}]
["Ionizing radiation HH",{"$f":"G40","v":2.0513926544667473},{"$f":"G41","v":3.9723027703625284},{"$f":"G42","v":0.53717560729682035},{"$f":"G43","v":0.71593465409758572},{"$f":"G44","v":0},{"$f":"G45","v":0.10488003141648113}]
["Photochemical ozone formation",{"$f":"H40","v":0.44897657344016451},{"$f":"H41","v":0.133820843471673},{"$f":"H42","v":1.4838817649524272E-2},{"$f":"H43","v":7.27209026015046E-2},{"$f":"H44","v":0},{"$f":"H45","v":3.2208071064044629E-2}]
["Acidification",{"$f":"I40","v":5.1139629290155995},{"$f":"I41","v":0.23316084221115896},{"$f":"J42","v":5.9726176389274077E-2},{"$f":"J43","v":0.24621792101675455},{"$f":"J44","v":0},{"$f":"I45","v":8.4745406064160034E-2}]
["Terrestrial eutrophication",{"$f":"J40","v":22.560801886580748},{"$f":"J41","v":0.49158818618963807},{"$f":"J42","v":5.9726176389274077E-2},{"$f":"J43","v":0.24621792101675455},{"$f":"J44","v":0},{"$f":"J45","v":0.3693040304076407}]
["Freshwater eutrophication",{"$f":"K40","v":7.5795285503289067E-2},{"$f":"K41","v":3.2976191159562358E-3},{"$f":"K42","v":3.7815409764131551E-4},{"$f":"K43","v":2.2967624229504953E-4},{"$f":"K44","v":0},{"$f":"K45","v":1.9442490594397466E-4}]
["Marine eutrophication",{"$f":"L40","v":2.0530024671728864},{"$f":"L41","v":4.4823391053618156E-2},{"$f":"L42","v":5.9395692923100846E-3},{"$f":"L43","v":2.3708554152470501E-2},{"$f":"L44","v":0},{"$f":"L45","v":4.964763059232339E-2}]
["Freshwater ecotoxicity",{"$f":"M40","v":1070.0687348144529},{"$f":"M41","v":22.683555489454776},{"$f":"M42","v":7.7238473060700841},{"$f":"M43","v":25.736370531889065},{"$f":"M44","v":0},{"$f":"M45","v":4.0066020571636187}]
["Land use",{"$f":"N40","v":39980.981700878008},{"$f":"N41","v":746.67667155710728},{"$f":"N42","v":610.08546695702807},{"$f":"N43","v":178.57609708874907},{"$f":"N44","v":0},{"$f":"N45","v":61.536298298470108}]
["Water scarcity",{"$f":"O40","v":1261.485989912157},{"$f":"O41","v":244.9564339418904},{"$f":"O42","v":0.59823278281721159},{"$f":"O43","v":21.567588633685915},{"$f":"O44","v":0},{"$f":"O45","v":0.4908253495520466}]
["ADP Fossil",{"$f":"P40","v":1030.3792081554639},{"$f":"P41","v":762.40742845832756},{"$f":"P42","v":148.86438237895709},{"$f":"P43","v":161.63766570262192},{"$f":"P44","v":0},{"$f":"P45","v":18.020222240316375}]
["ADP (ultimate)",{"$f":"Q40","v":1.2832034140210832E-4},{"$f":"Q41","v":8.3145805151950663E-5},{"$f":"Q42","v":8.2964069642132597E-5},{"$f":"Q43","v":2.8854587222899137E-5},{"$f":"Q44","v":0},{"$f":"Q45","v":3.7805340232260273E-6}]
[]
[]
[]
[]
[]
["agriculture ",1352.3543440000001,1.6087490700000002E-5,1.4707125397999999E-3,1.8701466149999998E-5,1.8514457379999999E-4,9.5259063899999994,1.9390280800000002,25.277514500000002,111.68268120000002,0.3105065212,9.5714939599999997,4955.6773499999999,182130.15150000001,4047.1109199999996,4580.1052799999998,5.4079022100000007E-4]
["processsing",203.32223700000009,4.8739560709999989E-4,1.32216234E-5,1.02878557E-6,5.5675733999999999E-6,14.414794300000004,0.53329751000000003,0.89313258999999989,1.93999984,1.5894385759999997E-2,0.181163668,87.888323999999997,1863.2528479999999,837.35706629999993,3121.0101600000003,2.9774214200000007E-4]
["packaging",107.03950679999998,1.0618353760000002E-5,5.8667898600000021E-6,4.7520894800000003E-7,-2.4514917E-7,4.1105818000000003,0.10707066339999997,0.22317563400000001,0.4507493139999999,2.7619628319999999E-3,4.0388824799999994E-2,51.764651000000008,-2863.1503559999992,0.78481972000000066,1054.337217,4.4911061259999998E-4]
["retail",125.255178,2.211204329E-3,9.140088999999999E-6,4.5550861999999995E-7,5.8845814999999981E-6,4.1069335999999996,0.42662062999999995,0.42233281000000006,1.4001624999999998,1.2867857000000004E-3,0.13919388000000005,151.96037999999999,1042.0359999999998,72.017561000000001,930.7951999999998,1.8093190999999998E-4]
["use ",179.75526699999995,1.1969046640000002E-5,1.8892666799999999E-5,1.8380119899999999E-6,6.9320137900000001E-6,8.9976042400000011,0.38182367200000011,0.94928086600000006,2.1911555499999995,0.22006650502999997,3.4424493619999996,208.65540300000001,5155.6372660000006,992.66854630000023,2201.3038649999999,5.2626590459999988E-4]
["end of life food waste",0,0,0,0,0,0,0,0,0,0,0,0,0,0,0,0]
[]
[]
["agriculture ",1631.5969417471056,2.0418228148237946E-5,1.7311128187481363E-3,2.2382432742444079E-5,2.2266275613243454E-4,11.577299044466747,2.3880046534401647,30.391477429015602,134.24348308658077,0.38630180670328906,11.624496427172886,6025.7460848144528,222111.13320087802,5308.5969099121567,5610.4844881554636,6.6911056240210839E-4]
["processsing",254.31281984122398,7.0566066130240042E-4,1.6716945961266835E-5,1.3057960821066813E-6,7.168869447572379E-6,18.387097070362532,0.66711835347167303,1.1262934322111589,2.4315880261896381,1.9192004875956233E-2,0.22598705905361816,110.57187948945477,2609.9295195571071,1082.3135002418903,3883.4175884583278,3.8088794715195073E-4]
["packaging",122.94787510708115,1.208386257890557E-5,6.8238889344655241E-6,5.4661262521001646E-7,-3.7483024320722329E-7,4.6477574072968206,0.12190948104952425,0.25464731201048235,0.51047549038927398,3.1401169296413154E-3,4.6328394092310078E-2,59.488498306070092,-3473.2358229570273,0.18658693718278907,1203.2015993789571,5.3207468224213258E-4]
["retail",144.75712300479,2.5426825257367407E-3,1.0700079348519428E-5,5.3529873905248149E-7,6.8834126248327614E-6,4.8228682540975853,0.49934153260150455,0.49524512005516214,1.6463804210167543,1.5164619422950499E-3,0.16290243415247055,177.69675053188905,1220.6120970887489,93.585149633685916,1092.4328657026217,2.0978649722289911E-4]
["use ",179.75526699999995,1.1969046640000002E-5,1.8892666799999999E-5,1.8380119899999999E-6,6.9320137900000001E-6,8.9976042400000011,0.38182367200000011,0.94928086600000006,2.1911555499999995,0.22006650502999997,3.4424493619999996,208.65540300000001,5155.6372660000006,992.66854630000023,2201.3038649999999,5.2626590459999988E-4]
["end of life food waste",34.726127411719176,2.8772729542925372E-7,7.1237954396470717E-7,1.4563119009689656E-7,4.9186053809221436E-7,0.10488003141648113,3.2208071064044629E-2,8.4745406064160034E-2,0.3693040304076407,1.9442490594397466E-4,4.964763059232339E-2,4.0066020571636187,61.536298298470108,-0.4908253495520466,18.020222240316375,-3.7805340232260273E-6]
[null,{"$f":"SUM(B32:B37)","v":2368.09615411192},{"$f":"SUM(C32:C37)","v":3.2931020517017141E-3},1.7849587793363527E-3,2.6753783368910155E-5,2.4376408228972464E-4,48.537506047640164,4.0904057636269107,33.301689565356568,141.39238660458406,0.63041132038712566,15.551811307063609,6586.1652181990303,227685.61255886531,7476.8598676753645,14008.860628935687,2.3143450595958645E-3]
["Emissions from food waste"]
["agriculture ",{"$f":"B32-B24","v":279.24259774710549},{"$f":"C32-C24","v":4.3307374482379436E-6},2.6040027894813633E-4,3.6809665924440807E-6,3.7518182332434553E-5,2.0513926544667473,0.44897657344016451,5.1139629290155995,22.560801886580748,7.5795285503289067E-2,2.0530024671728864,1070.0687348144529,39980.981700878008,1261.485989912157,1030.3792081554639,1.2832034140210832E-4]
["processsing",{"$f":"B33-B25","v":50.990582841223898},2.1826505420240053E-4,3.4953225612668351E-6,2.7701051210668133E-7,1.6012960475723791E-6,3.9723027703625284,0.133820843471673,0.23316084221115896,0.49158818618963807,3.2976191159562358E-3,4.4823391053618156E-2,22.683555489454776,746.67667155710728,244.9564339418904,762.40742845832756,8.3145805151950663E-5]
["packaging",15.908368307081162,1.4655088189055682E-6,9.5709907446552205E-7,7.1403677210016434E-8,{"$f":"F26-F34","v":1.2968107320722328E-7},0.53717560729682035,1.4838817649524272E-2,3.147167801048234E-2,5.9726176389274077E-2,3.7815409764131551E-4,5.9395692923100846E-3,7.7238473060700841,{"$f":"N26-N34","v":610.08546695702807},{"$f":"O26-O34","v":0.59823278281721159},148.86438237895709,8.2964069642132597E-5]
["retail",19.501945004790002,3.3147819673674068E-4,1.559990348519429E-6,7.9790119052481536E-8,9.9883112483276331E-7,0.71593465409758572,7.27209026015046E-2,7.2912310055162077E-2,0.24621792101675455,2.2967624229504953E-4,2.3708554152470501E-2,25.736370531889065,178.57609708874907,21.567588633685915,161.63766570262192,2.8854587222899137E-5]
["use ",0,0,0,0,0,0,0,0,0,0,0,0,0,0,0,0]
["end of life food waste",34.726127411719176,2.8772729542925372E-7,7.1237954396470717E-7,1.4563119009689656E-7,4.9186053809221436E-7,0.10488003141648113,3.2208071064044629E-2,8.4745406064160034E-2,0.3693040304076407,1.9442490594397466E-4,4.964763059232339E-2,4.0066020571636187,61.536298298470108,{"$f":"O29-O37","v":0.4908253495520466},18.020222240316375,{"$f":"Q29-Q37","v":3.7805340232260273E-6}]
[null,{"$f":"SUM(B40:B45)","v":400.36962131191973},{"$f":"SUM(C40:C45)","v":5.5582722450171393E-4},2.6712507047635284E-4,4.2548020909101565E-6,4.0739851116139125E-5,7.3816857176401633,0.70256520822691093,5.5362531653565625,23.727638200584053,7.9895159865125631E-2,2.1771216122636083,1130.2191101990309,41577.856234779363,1529.0990706201026,2121.308906935687,3.2706533744231674E-4]
[]
["Food waste amount",126.5979720451387]
["Emissions per kg food waste",{"$f":"B46/$B$48","v":3.1625279208198323},{"$f":"C46/$B$48","v":4.3904907442240301E-6},2.1100264574625963E-6,3.3608769731264735E-8,3.218049267140967E-7,5.8308088181761801E-2,5.5495771131026505E-3,4.3730978276513018E-2,0.18742510497817397,6.3109352049208888E-4,1.7197128651376438E-2,8.9276241312621458,328.42434648127471,12.078385189889929,16.756262937445246,2.5834958661557477E-6]
[]
[]
[null,{"$f":"B38-B46","v":1967.7265328000003},{"$f":"C38-C46","v":2.7372748271999999E-3},1.5178337088599999E-3,2.2498981277999998E-5,2.0302423117358551E-4,41.155820329999997,3.3878405553999995,27.765436400000006,117.66474840400001,0.55051616052200003,13.374689694800001,5455.9461079999992,186107.75632408593,5947.7607970552617,11887.551722,1.9872797221535477E-3]
[null,{"$f":"B52/B38","v":0.83093185611710696},{"$f":"C52/C38","v":0.83121469794278324},0.8503466446571557,0.84096447099685545,0.83287180484728685,0.84791790269580491,0.82824070548835826,0.83375458610016373,0.8321858851782421,0.87326502986008681,0.86000848587490497,0.82839496539261026,0.81738918077649747,0.79548913612372996,0.84857377319080007,0.8586790953724811]

{"sheet":"Original values","index":15,"n_rows":299,"n_cols":21,"rows_kept":299,"cut":false,"hidden":true,"merged":[]}
[null,null,"Amount","Foodwaste","foodwaste","IPCC GWP 100a","Ozone depletion","Human toxicity, non-cancer effects","Human toxicity, cancer effects","Particulate matter","Ionizing radiation HH","Photochemical ozone formation","Acidification","Terrestrial eutrophication","Freshwater eutrophication","Marine eutrophication","Freshwater ecotoxicity","Land use","Water scarcity","ADP Fossil","ADP (ultimate)"]
[null,null,"kg","%",-0.5,"kg CO2 eq","kg CFC11 eq","CTUh","CTUh","Death","kBq U235 eq","kg NMVOC eq","molc H+ eq","molc N eq","kg P eq","kg N eq","CTUe","Pt","m3 water eq","MJ","kg Sb eq"]
["Meat","PORK"]
[null,"agriculture ",47.260003942440378,0,{"$f":"0.5*D4","v":0},288.75862408831074,1.616292134831461E-6,1.0444460871279323E-4,3.3034742755765823E-6,4.286482357579342E-5,2.6182042184111967,0.35681302976542484,5.9547604967474879,26.418342203824174,6.2855805243445709E-2,1.8525921545436628,793.96806623299835,37146.363098758135,57.184604770352855,987.73408239700382,8.5540607135817076E-6]
[null,"processsing",47.260003942440378,0.05,{"$f":"0.5*D5","v":2.5000000000000001E-2},15.359501281293124,3.8044303173664508E-5,4.645658387541889E-7,3.2656662724226303E-8,4.1068943425980691E-7,0.65218805440567718,3.2892962743938506E-2,4.8205204021289187E-2,0.18809481569091271,7.0890005913660573E-5,1.257116104868914E-2,6.4746205401143326,51.513404297260017,9.4047407845456359,151.23201261580923,5.529420461265524E-6]
[null,"packaging",44.897003745318358,0,0,2.2852574906367042,7.1386235955056191E-8,7.4080056179775295E-8,7.5875936329588024E-9,5.7019194756554315E-8,5.3876404494382024E-2,3.299929775280899E-3,6.1508895131086152E-3,1.1718117977528092E-2,4.848876404494383E-5,1.0909971910112361E-3,1.3783380149812736,7.0039325842696636,0.22134222846441953,14.950702247191014,6.4651685393258435E-7]
[null,"retail",44.897003745318358,0.04,0.02,31.607490636704121,5.6570224719101132E-4,7.9467696629213497E-7,4.278684456928839E-8,5.1631554307116113E-7,0.3394213483146068,3.4076825842696633E-2,3.5962500000000001E-2,0.12077294007490638,1.3513998127340825E-4,1.0999765917602997E-2,12.077294007490639,86.202247191011239,2.3346441947565544,80.814606741573044,1.9485299625468168E-5]
[null,"use ",38.36,0.11,5.5E-2,18.788727999999999,1.2485796399999998E-6,3.9537652000000001E-6,2.2233456E-7,1.1703635999999999E-6,0.77184156000000004,5.2269336E-2,0.17479501199999997,0.43883839999999996,3.6072017799999995E-2,0.89295942399999995,44.397863999999998,723.84169200000008,69.520211599999996,249.37452399999998,6.10522416E-5]
[null,"end of life P&R",4.1588803469347537,null,null,1.1021032919377098,1.0937855312438401E-8,1.709299822590184E-8,4.0715438596491241E-9,3.2647210723437819E-8,4.2836467573427964E-3,1.5429446087127938E-3,6.4462645377488682E-3,2.9070573625073926E-2,1.6011689335698803E-6,1.0189256849990147E-3,2.8821040804257844E-2,2.5868235757934168,-6.1135541099940878E-3,0.23539262763650706,-4.4915907746895341E-7]
[null,"end of life HH",4.2195999999999998,null,null,1.9747728,1.4726404E-8,4.5149719999999994E-8,8.6923759999999984E-9,1.3080759999999999E-8,5.1057159999999997E-3,1.3755896E-3,1.5485931999999999E-3,5.9074399999999999E-3,1.4979579999999998E-5,3.3081663999999997E-3,0.31225039999999998,2.9410611999999996,9.7472759999999992E-2,1.3038563999999999,6.582576E-8]
["PORK TOTAL",null,null,null,null,359.87647758888244,6.0670847263477482E-4,1.0979393949224523E-4,3.6216038563627044E-6,4.5064939318604385E-5,4.4449209483832055,0.48227061833605361,6.2278689600196335,27.212744491192598,9.9198922543611276E-2,2.7745405947859654,858.63725423638891,38020.452259606463,138.75690278400947,1485.6451770292135,9.4884205936779031E-5]
["Meat","BEEF"]
[null,"agriculture ",16.003843879361327,0,0,452.90878178592556,1.9844766410408045E-7,3.2167726197516268E-4,5.1852454169130697E-6,5.7453799526907164E-5,0.31847649319929044,0.494518775872265,7.7298565937315207,34.248225901833244,6.8176374926079253E-2,3.0247264931992905,592.1422235363691,53132.761679479605,141.31394145476051,981.03562980484924,5.5693376700177418E-6]
[null,"processsing",16.003843879361327,0.05,2.5000000000000001E-2,7.5698181549379076,3.9369455943228866E-5,2.3205573625073924E-7,1.3843324955647548E-8,2.9927188054405678E-7,0.11554775280898878,1.7604228267297461E-2,3.5528533412182151E-2,8.1459565345949156E-2,4.7851493199290368E-5,6.177483737433472E-3,2.5926227084565352,21.125073920756954,3.3448033707865172,67.856298048492022,2.6726419278533414E-6]
[null,"packaging",15.203651685393259,0,0,0.77386587078651692,2.4173806179775285E-8,2.5086025280898878E-8,2.5694171348314609E-9,1.9308637640449438E-8,1.824438202247191E-2,1.1174683988764045E-3,2.0829002808988766E-3,3.968153089887641E-3,1.641994382022472E-5,3.6944873595505621E-4,0.46675210674157308,2.3717696629213485,7.4954002808988771E-2,5.0628160112359559,2.1893258426966294E-7]
[null,"retail",15.203651685393259,0.04,0.02,19.30863764044944,4.2570224719101123E-4,2.6910463483146069E-7,1.4489080056179775E-8,1.7484199438202248E-7,0.11493960674157304,1.1539571629213484E-2,1.2178125E-2,4.089782303370787E-2,4.576299157303371E-5,3.7248946629213483E-3,4.0897823033707867,29.191011235955056,0.79058988764044946,27.366573033707866,6.598384831460674E-6]
[null,"use ",12.99,0.11,5.5E-2,6.4144620000000003,4.2411050999999995E-7,1.5597092999999999E-6,7.5809640000000006E-8,4.1451090000000001E-7,0.26267078999999999,1.7959974E-2,6.1919432999999996E-2,0.16029660000000001,1.208531145E-2,0.32576841600000001,21.529626,247.71540300000001,24.321306900000003,84.706491,2.0804264400000001E-5]
[null,"end of life P&R",1.4083382613837969,null,null,0.37320963926670619,3.7039296274393857E-9,5.7882702542874057E-9,1.3787631578947372E-9,1.1055455351862807E-8,1.450588409225311E-3,5.2249349497338873E-4,2.1829243051448852E-3,9.84428444707274E-3,5.422102306327618E-7,3.4504287403903022E-4,9.7597841513897138E-3,0.87598639858072169,-2.0702572442341813E-3,7.9711945594322903E-2,-1.5210053222945007E-7]
[null,"end of life HH",1.4289000000000001,null,null,0.66872520000000002,4.9868610000000006E-9,1.5289229999999999E-8,2.9435340000000001E-9,4.4295900000000006E-9,1.7289689999999999E-3,4.6582140000000003E-4,5.2440630000000004E-4,2.0004599999999999E-3,5.072595E-6,1.1202575999999999E-3,0.1057386,0.99594329999999998,3.3007590000000003E-2,0.44153010000000004,2.2290840000000003E-8]
["BEEF TOTAL",null,null,null,null,488.0175002913661,4.6572712590515136E-4,3.2378429517178006E-4,5.2962791762176242E-6,5.8377217984825557E-5,0.83305858218154949,0.54372833306262569,7.8442729160297473,34.546692787749862,8.0377335609902428E-2,3.362232036809639,620.93650503908941,53435.03686699782,169.87653294875221,1166.5490499438793,3.573375172137197E-5]
["Meat","POULTRY"]
[null,"agriculture ",27.683323477232406,0,0,154.47294500295683,8.9970801301005322E-7,4.0140819041986988E-5,1.3841661738616202E-6,2.0264192785334122E-5,1.4478378178592548,0.16859143997634535,2.4970357776463632,11.045646067415731,3.2666321703134243E-2,0.65055810171496153,334.9682140745121,16693.044056771141,18.741609994086339,514.90981667652284,5.3982480780603193E-6]
[null,"processsing",27.683323477232406,0.05,2.5000000000000001E-2,7.4191306918982853,1.3204945298639859E-5,2.7406490242460078E-7,1.6194744234180957E-8,2.278337522176227E-7,0.37372486694263746,1.863087670017741E-2,2.4195224719101124E-2,9.2462300413956242E-2,3.3219988172678885E-5,6.8100975753991721E-3,4.0694485511531635,29.897989355410999,4.124815198107628,80.835304553518625,3.3773654642223539E-6]
[null,"packaging",26.299157303370784,0,0,33.399929775280896,4.0500702247191006E-8,4.2341643258426965E-8,4.4182584269662914E-9,3.2610955056179773E-8,3.1295997191011234E-2,1.8909094101123593E-3,3.5503862359550558E-3,6.7062851123595507E-3,2.8140098314606735E-5,6.232900280898876E-4,0.7916046348314606,3.9974719101123588,0.12912886235955057,8.6787219101123583,3.6555828651685392E-7]
[null,"retail",26.299157303370784,0.04,0.02,1.3333672752808987,7.3637640449438196E-4,4.6549508426966288E-7,2.5063096910112356E-8,3.0244030898876401E-7,0.19882162921348312,1.9961060393258425E-2,2.1065624999999998E-2,7.0744733146067412E-2,7.9160463483146063E-5,6.4432935393258419E-3,7.0744733146067409,50.494382022471903,1.3675561797752807,47.338483146067411,1.1413834269662921E-5]
[null,"use ",22.47,0.11,5.5E-2,10.781105999999999,7.2463502999999993E-7,2.1159998999999998E-6,1.2866322E-7,6.5185469999999995E-7,0.44762487000000001,2.9044722000000002E-2,9.6996248999999993E-2,0.23009279999999996,1.9669226849999999E-2,0.44217364799999997,19.984817999999997,419.50815900000003,39.374405699999997,145.17642299999997,3.5537653199999998E-5]
[null,"end of life P&R",2.4361324659964518,null,null,0.64557510348905978,6.4070283855706679E-9,1.0012504435245417E-8,2.3849736842105265E-9,1.9123639858072149E-8,2.5092164399763456E-3,9.0380514488468372E-4,3.7760053222945004E-3,1.7028565937315197E-2,9.3791099940863404E-7,5.9685245416913073E-4,1.688239798935541E-2,1.515274393849793,-3.5811147250147841E-3,0.13788509757539916,-2.631023063276168E-7]
[null,"end of life HH",2.4716999999999998,null,null,1.1567555999999999,8.6262330000000004E-9,2.6447189999999996E-8,5.0917019999999995E-9,7.6622699999999994E-9,2.9907569999999997E-3,8.0577419999999995E-4,9.0711389999999985E-4,3.4603799999999999E-3,8.7745349999999995E-6,1.9378127999999998E-3,0.18290579999999998,1.7227748999999997,5.7096269999999991E-2,0.76375529999999991,3.8558520000000001E-8]
["POULTRY TOTAL",null,null,null,null,209.20880944890595,7.5126122679966469E-4,4.3075180266374924E-5,1.5659821691170902E-6,2.1505718411454757E-5,2.504805154646363,0.23982858782477823,2.6475263818237136,11.466141132025429,5.2485781549104084E-2,1.1091430961119455,367.08834677309289,17200.180108352986,63.791031089603784,797.84038968379662,5.5868115512134832E-5]
["Fish","COD"]
[null,"agriculture ",11.059941731708408,0,0,24.884868896343917,7.3216814263909657E-6,3.6829605966589001E-7,5.994488418585957E-8,9.4673101223423968E-7,0.16589912597562612,0.41032383824638197,0.34396418785613148,1.6147514928294275,1.139173998365966E-4,0.14709722503172182,39.926389651467353,20.460892203660556,194.654974478068,338.43421699027732,3.3179825195125223E-6]
[null,"processsing",11.059941731708408,0.06,0.03,6.9456434075128799,3.7272003635857333E-5,5.5410308075859124E-7,4.4792764013419054E-8,2.7207456660002683E-7,0.62156872532201257,2.665445957341726E-2,4.0589986155369857E-2,9.5779095396594807E-2,3.74932024704915E-4,8.7152340845862257E-3,6.3262866705372085,77.751390373910112,1.1834137652927996,105.73304295513239,1.1502339400976744E-5]
[null,"packaging",10.396345227805902,0,0,0.89512532411408818,2.7966168662797876E-8,1.90253117668848E-7,9.0760093838745517E-9,-1.3515248796147674E-7,1.8921348314606741E-2,2.547104580812446E-4,1.6218298555377207E-3,1.8609457957772563E-3,4.0753673292999134E-5,6.8823805408075071E-4,1.2059760464254847,-273.42387949129522,-0.97517718236819362,12.059760464254845,1.8609457957772565E-5]
[null,"retail",10.396345227805902,0.09,4.4999999999999998E-2,3.9714038770218547,7.0903074453636258E-5,1.7465859982713916E-7,8.514606741573033E-9,1.1228052846030376E-7,7.8388443017656503E-2,7.8284479565378443E-3,7.4645758735646375E-3,2.7966168662797879E-2,2.5471045808124459E-5,2.547104580812446E-3,2.890183973330041,20.688727003333746,0.45328065193233735,17.673786887270033,3.0149401160637112E-6]
[null,"use ",8.42,0.11,5.5E-2,6.0623999999999993,1.7454660000000001E-7,6.0539800000000001E-7,3.7132199999999995E-8,1.5905379999999998E-7,0.1004506,8.7146999999999988E-3,2.2060400000000001E-2,7.9737400000000014E-2,7.4154940000000008E-3,0.15641833999999999,2.8577480000000004,155.77000000000001,13.781014000000001,87.214359999999999,1.0474479999999998E-5]
[null,"end of life P&R",1.5992675744050358,null,null,0.42380590721733452,4.2060737206852436E-9,6.5729897308046969E-9,1.5656829553425301E-9,1.2554250459079532E-8,1.647245601637187E-3,5.9332827010426833E-4,2.4788647403278055E-3,1.1178880345091199E-2,6.1571801614593881E-7,3.9182055572923376E-4,1.1082924290626898E-2,0.99474443127993228,-2.3509233343754024E-3,9.0518544711325019E-2,-1.7272089803574387E-7]
[null,"end of life HH",0.92620000000000002,null,null,0.43346160000000006,3.2324380000000002E-9,9.9103399999999999E-9,1.9079719999999998E-9,2.8712199999999999E-9,1.1207019999999999E-3,3.0194120000000003E-4,3.3991539999999996E-4,1.2966799999999999E-3,3.28801E-6,7.2614079999999996E-4,6.8538799999999997E-2,0.64556139999999995,2.139522E-2,0.2861958,1.4448720000000001E-8]
["COD TOTAL",null,null,null,null,43.616709012210073,1.1570671079626806E-4,1.909192187651273E-6,1.6293411928006875E-7,1.3704128897921731E-6,0.98799619023153917,0.45467142570452262,0.41851975988093149,1.8325706630296887,7.9744718716587819E-3,0.31658410310693047,53.28620606605071,2.8874359208891471,209.11655000959058,561.49188164164582,4.6760927816289807E-5]
["Fish","SALMON"]
[null,"agriculture ",3.717296330253538,0,0,24.050907256740391,3.6912752559417629E-7,1.8326270908149944E-5,2.0965551302629954E-7,1.3939861238450768E-6,0.33938915495214805,6.2450578348259435E-2,0.15538298660459787,0.6579614504548762,4.0890259632788917E-2,0.37172963302535383,40.890259632788919,1791.7368311822054,1.0742986394432723,135.68131605425413,5.0926959724473475E-6]
[null,"processsing",3.717296330253538,0.06,0.03,1.1114716027458078,2.3158756137479543E-6,1.0482775651314977E-7,8.066533036650178E-9,5.5015985687752365E-8,0.10854505284340331,5.9105011651031259E-3,8.7356463760958139E-3,2.1411626862260381E-2,6.1707119082208731E-5,1.9404286843923469E-3,1.2824672339374705,14.051380128358373,0.20519475742999529,19.06973017420065,2.0482302779696996E-6]
[null,"packaging",3.4942585504383255,0,0,0.2802395357451537,1.7680948265217928E-8,1.554945054945055E-8,1.8030374120261759E-9,5.6606988517100869E-9,2.6556364983331273E-2,5.0317323126311889E-4,1.2125077170020988E-3,1.7646005679713545E-3,1.9602790467959006E-5,1.6318187430546977E-4,0.1093702926287196,2.3656130386467464,5.4510433386837871E-2,4.3328806025435238,3.7039140634646251E-7]
[null,"retail",3.4942585504383255,0.09,4.4999999999999998E-2,2.4634522780590191,4.9967897271268053E-5,6.534263489319668E-8,3.2706260032102729E-9,4.2280528460303738E-8,2.8513149771576738E-2,2.9037288554142485E-3,2.8373379429559205E-3,1.0343005309297442E-2,9.6441535992097769E-6,9.4344980861834791E-4,1.0622545993332508,7.5475984689467834,0.16667613285590813,6.5692060748240513,1.2684158538091121E-6]
[null,"use ",2.83,0.11,5.5E-2,0.91409000000000007,5.6600000000000004E-8,2.7139700000000003E-7,1.72064E-8,1.44896E-7,2.2724900000000003E-2,3.8770999999999996E-3,2.2158900000000002E-2,2.77057E-2,3.5375000000000003E-3,6.1128000000000002E-2,2.7224599999999999,52.071999999999996,8.2919,32.545000000000002,2.8583000000000002E-6]
[null,"end of life P&R",0.53752104935466161,null,null,0.14244307807898532,1.41368035980276E-9,2.2092115128476594E-9,5.2623310731821371E-10,4.2195402374340939E-9,5.5364668083530153E-4,1.9942030931057947E-4,8.3315762649972542E-4,3.7572721349890844E-3,2.0694560400154472E-7,1.3169265709189209E-4,3.7250208720278053E-3,0.33433809269859954,-7.9015594255135257E-4,3.0423691393473846E-2,-5.8052273330303456E-8]
[null,"end of life HH",0.31130000000000002,null,null,0.14568840000000002,1.0864370000000001E-9,3.33091E-9,6.4127800000000007E-10,9.6503000000000013E-10,3.76673E-4,1.0148380000000001E-4,1.142471E-4,4.3582000000000001E-4,1.105115E-6,2.4405920000000002E-4,2.30362E-2,0.21697610000000001,7.1910300000000002E-3,9.6191700000000005E-2,4.8562800000000005E-9]
["SALMON TOTAL",null,null,null,null,29.108292151369362,5.2729681476235207E-5,1.8788927871618586E-5,2.4116962058550446E-7,1.6470239070822773E-6,0.52665894223129472,7.5945985709350503E-2,0.19127478336715142,0.72337947532939451,4.4520025756542299E-2,0.43628044524976189,46.093572979560378,1868.3247370108556,9.7989808371734615,198.32474829721585,1.1584837517242318E-5]
["Seafood","SHRIMP"]
[null,"agriculture ",1.589374049331018,0,0,10.50576246607803,2.5271047384363186E-7,1.8595676377172912E-6,5.2131468818057395E-8,7.9150827656684707E-7,0.12508373768235112,3.9257539018476145E-2,7.1362894814962718E-2,0.1939036340183842,1.7483114542641197E-2,0.14956009804204881,9.6951817009192087,551.51279511786322,0.94408818530262462,121.26923996395666,6.9932458170564792E-6]
[null,"processsing",1.589374049331018,0.06,0.03,1.7800989352507404,5.2926155842722895E-6,8.0740201706015708E-8,6.1031963494311089E-9,1.0251462618185066E-7,2.9562357317556933E-2,6.6117960452170346E-3,1.1093830864330505E-2,2.4476360359697677E-2,2.8449795483025224E-5,2.209229928570115E-3,0.78356140632019189,7.215758183962822,853.49386449075666,19.390363401838417,1.042629376361148E-6]
[null,"packaging",1.4940116063711568,0,0,0.2973083096678602,9.6214347450302503E-9,4.9302383010248172E-8,1.6284726509445609E-9,-1.52389183849858E-8,1.0712063217681195E-2,3.7947894801827384E-4,1.2624398073836276E-3,1.3117421903938757E-3,1.2908260279046795E-5,1.3864427707124336E-4,0.21364365971107541,-44.521545869860475,-0.1220607482405235,3.884430176565008,3.0328435609334486E-6]
[null,"retail",1.4940116063711568,0.09,4.4999999999999998E-2,0.57668848005926654,1.018915915545129E-5,2.5995801950858129E-8,1.2654278305963698E-9,1.6732929991356954E-8,1.1638350413631312E-2,1.1698110877886158E-3,1.1100506235337696E-3,4.1832324978392389E-3,3.7350290159278925E-6,3.8097295962464503E-4,0.43176935424126428,3.0926040251882942,6.5885911840968023E-2,2.6294604272132358,4.467094703049759E-7]
[null,"use ",1.21,0.11,5.5E-2,0.25676199999999999,2.0115039999999995E-8,3.0734000000000002E-8,3.0491999999999998E-9,1.3146649999999999E-8,1.1217910000000001E-2,7.3059800000000005E-4,1.7364709999999998E-3,6.3041E-3,5.7781371999999999E-4,1.587278E-2,0.51195099999999993,7.0361500000000001,1.6376987000000001,2.2341440000000001,9.6720139999999982E-7]
[null,"end of life P&R",0.22982348753326517,null,null,6.0903224196315275E-2,6.0443577221248739E-10,9.4457453376171994E-10,2.2499719429506661E-10,1.8041143771361317E-9,2.3671819215926316E-4,8.526451387484139E-5,3.5622640567656099E-4,1.6064661778575236E-3,8.8482042700307099E-8,5.6306754445649968E-5,1.5926767686055276E-3,0.14295020924569093,-3.3784052667389981E-4,1.3008009394382809E-2,-2.4820936653592639E-8]
[null,"end of life HH",0.1331,null,null,6.22908E-2,4.6451900000000001E-10,1.4241699999999998E-9,2.7418599999999998E-10,4.1260999999999998E-10,1.6105099999999997E-4,4.3390599999999998E-5,4.8847699999999997E-5,1.8633999999999998E-4,4.7250499999999996E-7,1.0435039999999999E-4,9.8493999999999995E-3,9.2770699999999998E-2,3.0746099999999998E-3,4.1127899999999995E-2,2.0763600000000001E-9]
["SHRIMP TOTAL",null,null,null,null,13.539814215252211,1.5765290643084455E-5,2.0487087689181748E-6,6.4676948843324519E-8,9.1088028873220503E-7,0.18861218782337982,4.8277878213374904E-2,8.6970761215887177E-2,0.23197187524417254,1.8106582334461899E-2,0.16832238236176048,11.647549197960348,524.57148236639955,856.02221330913301,149.4617738789677,1.2459885048002458E-5]
["Dairy","MILK"]
[null,"agriculture ",82.651465083387464,3.5000000000000003E-2,1.7500000000000002E-2,103.31433135423433,3.3473843358771924E-7,1.702620180717782E-4,1.1819159506924409E-6,1.3224234413341994E-5,0.54632618420119117,8.8437067639224584E-2,1.8679231108845566,8.2651465083387468,1.3885446134009093E-2,0.59922312185455917,252.08696850433176,8513.1009035889092,10.08347874017327,245.47485129766079,1.6530293016677493E-6]
[null,"processsing",79.758663805468899,1.7000000000000001E-2,8.5000000000000006E-3,5.5192995353384475,4.9211095567974315E-7,2.9909498927050834E-7,4.3308954446369614E-8,1.1245971596571116E-7,0.38762710609457884,1.4835111467817215E-2,2.7038187030053958E-2,5.311927009444229E-2,2.8394084314746926E-4,4.737664630044853E-3,1.8663527330479723,48.652784921336028,19.54087263233988,102.88867630905489,7.5132661304751697E-6]
[null,"packaging",78.402766520775927,0,0,7.5345058626465669,7.4247419895174802E-7,9.643540282055439E-7,1.2622845409844925E-7,2.9165829145728646E-7,0.64290268547036267,1.2152428810720269E-2,3.9828605392554173E-2,6.2487004917058414E-2,8.4674987842438005E-4,5.6057978062354795E-3,6.6799157075701086,208.55135894526398,8.3890960177230234,83.106932512022482,5.4019506132814613E-5]
[null,"retail",78.402766520775927,5.0000000000000001E-3,2.5000000000000001E-3,11.917220511157941,1.1133192845950181E-4,1.1838817744637164E-6,5.5744366996271686E-8,7.6834711190360408E-7,0.52686659101961431,5.4097908899335384E-2,4.970735397417194E-2,0.19365483330631653,1.5445345004592859E-4,1.7640622467174582E-2,20.227913762360188,143.47706273301995,3.136110660831037,118.38817744637166,1.8189441832820017E-5]
[null,"use ",72.55,7.0000000000000007E-2,3.5000000000000003E-2,8.6334499999999998,1.1172699999999999E-6,1.3349199999999998E-6,1.6468849999999999E-7,5.1002649999999998E-7,0.54702699999999993,2.7859200000000001E-2,5.4267399999999993E-2,0.15815899999999999,3.5331849999999998E-2,0.28004299999999999,17.847300000000001,460.69249999999994,113.90349999999999,115.3545,5.7314499999999995E-5]
[null,"end of life P&R",4.6407123952154121,null,null,1.2297887847320843,1.2205073599416533E-8,1.9073327944335344E-8,4.5432574349158883E-9,3.6429592302440987E-8,4.7799337670718749E-3,1.7217042986249179E-3,7.1931042125838885E-3,3.2438579642555726E-2,1.7866742721579338E-6,1.136974536827776E-3,3.2160136898842805E-2,2.8865231098239863,-6.8218472209666554E-3,0.26266432156919234,-5.011969386832645E-7]
[null,"end of life HH",5.0785,null,null,2.376738,1.7723964999999999E-8,5.4339949999999999E-8,1.046171E-8,1.574335E-8,6.1449849999999995E-3,1.6555910000000001E-3,1.8638094999999999E-3,7.1098999999999997E-3,1.8028675000000001E-5,3.9815440000000001E-3,0.375809,3.5397144999999997,0.11731335,1.5692565000000001,7.9224600000000001E-8]
["MILK TOTAL",null,null,null,null,140.52533404810936,1.1404845108632044E-4,1.741176821416623E-4,1.586891193668447E-6,1.4958898974971036E-5,2.6616744855528189,0.20075901211572239,2.0478215709939209,8.7721150962991175,5.0522255654899019E-2,0.91236872529484192,299.11641984420885,9380.9008477983534,155.16354955384622,667.0450583866791,1.3826777105909425E-4]
["Dairy","CHEESE"]
[null,"agriculture ",15.646940350198738,3.5000000000000003E-2,1.7500000000000002E-2,181.50450806230535,5.9145434523751233E-7,3.0198594875883566E-4,2.0810430665764324E-6,2.347041052529811E-5,0.96541621960726209,0.15646940350198738,3.3015044138919336,14.661183108136219,2.4409226946310033E-2,1.0592978617084545,445.93779998066407,15052.356616891186,17.83751199922656,433.42024770050506,2.9259778454871638E-6]
[null,"processsing",15.099297437941782,0,0,33.973419235369008,7.0060740112049875E-6,3.9711152261786892E-6,1.1807650596470473E-7,7.3684571497155897E-7,2.1591995336256748,6.356804221373491E-2,0.12532416873491681,0.26574763490777537,6.1001161649284802E-4,2.0082065592462572E-2,15.069098843065898,105.84607503997189,22.799939131292092,474.11793955137193,2.2799939131292091E-5]
[null,"packaging",15.099297437941782,0,{"$f":"0.5*D69","v":0},1.796816395115072,5.6471372417902263E-8,3.2614482465954253E-7,1.5854262309838873E-8,-2.1893981285015586E-7,3.8956187389889797E-2,8.5915002421888746E-4,3.5030370056024934E-3,4.650583610886069E-3,7.4741522317811826E-5,1.2924998606878165E-3,2.2497953182533257,-454.48885288204769,-1.6156248258597707,22.044974259395001,5.9038252982352365E-6]
[null,"retail",15.099297437941782,3.4000000000000002E-2,1.7000000000000001E-2,15.703269335459455,3.2161503542815995E-4,2.7782707285812877E-7,1.4344332566044694E-8,1.7968163951150723E-7,0.12154934437543134,1.2290828114484611E-2,1.2502218278615794E-2,4.3787962570031168E-2,4.4089948518790005E-5,3.986214523616631E-3,4.3938955544410581,31.406538670918909,0.74892515292191242,28.235686208951133,3.1255545696539488E-5]
[null,"use ",14.09,3.4000000000000002E-2,1.7000000000000001E-2,3.22661,4.5228900000000006E-7,6.0446099999999998E-7,5.2414799999999999E-8,2.4798399999999998E-7,0.157808,1.292053E-2,3.1138900000000001E-2,0.1149744,2.88845E-2,0.30152599999999996,12.15967,101.44800000000001,23.5303,35.929499999999997,2.3248499999999999E-5]
[null,"end of life P&R",1.0610190251469764,null,null,0.28117004166394877,2.7904800361365477E-9,4.3607881933540732E-9,1.0387376256188901E-9,8.3289993474037666E-9,1.0928495959013859E-3,3.936380583295283E-4,1.6445794889778135E-3,7.4165229857773652E-3,4.0849232468158596E-7,2.5994966116100923E-4,7.352861844268547E-3,0.65995383364141935,-1.5596979669660553E-3,6.0053676823318865E-2,-1.1459005471587346E-7]
[null,"end of life HH",0.47906000000000004,null,null,0.22420008000000002,1.6719194000000002E-9,5.1259420000000004E-9,9.8686359999999995E-10,1.4850860000000001E-9,5.7966259999999998E-4,1.5617356000000002E-4,1.7581502000000001E-4,6.7068400000000006E-4,1.7006630000000001E-6,3.7558304000000003E-4,3.545044E-2,0.33390481999999999,1.1066286E-2,0.14802954000000001,7.4733360000000014E-9]
["CHEESE TOTAL",null,null,null,null,236.7099931499128,3.2972578655645647E-4,3.0717498361272541E-4,2.2837585686426393E-6,2.4425796152278423E-5,3.4446017971941592,0.24665776547275534,3.4757931324200464,15.098430896210687,5.4024679188964163E-2,1.3868201743863826,479.85306299826857,14837.562236373669,63.310558045613831,993.95643093704643,8.602667125283811E-5]
["Dairy","BUTTER"]
[null,"agriculture ",4.5641536436704619,3.5000000000000003E-2,1.7500000000000002E-2,127.79630202277293,4.1625081230274611E-7,2.1223314443067647E-4,1.4696574732618887E-6,1.647659465365037E-5,0.6800588929068988,0.10999610281245813,2.3185900509845947,10.314987234695243,1.7206859236637641E-2,0.74395704391828532,313.10093995579365,10588.836453315471,12.551422520093769,304.88546339718687,2.0538691396517079E-6]
[null,"processsing",4.4044082661419957,0,0,2.224226174401708,4.1313349536411921E-7,2.8188212903308773E-7,1.4578591360930005E-8,1.0922932500032149E-7,0.1863064696578064,8.5885961189768913E-3,1.1803814153260549E-2,3.1755783598883792E-2,8.5885961189768913E-5,2.8320345151293031E-3,2.7043066754111851,23.519540141198256,2.1713732752080039,35.984015534380106,3.6776809022285667E-6]
[null,"packaging",4.4044082661419957,0,0,0.89409487802682519,2.898100639121433E-7,7.4434499697799718E-8,1.5371384848835565E-8,7.4434499697799718E-8,2.6602625927497656E-2,2.8232256985970192E-3,5.8138189113074341E-3,1.0042050846803749E-2,4.4484523488034154E-5,9.46947777220529E-4,0.58578629939688542,23.035055231922637,0.54614662500160749,13.521533377055926,1.6868883659323843E-5]
[null,"retail",4.4044082661419957,3.4000000000000002E-2,1.7000000000000001E-2,4.5365405141262558,9.3813896068824506E-5,7.3553618044571326E-8,3.8582616411403881E-9,4.7567609274333554E-8,3.2592621169450768E-2,3.2020048094852306E-3,3.2812841582757868E-3,1.1363373326646348E-2,1.2376387227859008E-5,1.035035942543369E-3,1.1495505574630609,8.2802875403469507,0.2127329192546584,7.5755822177642322,1.6208222419402545E-6]
[null,"use ",4.1100000000000003,3.4000000000000002E-2,1.7000000000000001E-2,1.1179200000000002,1.5946800000000001E-7,1.18368E-7,1.8042900000000003E-8,5.0553000000000003E-8,6.0006000000000004E-2,3.1646999999999999E-3,4.3566000000000004E-3,1.00695E-2,5.5485000000000007E-4,3.6825600000000001E-3,1.8947100000000003,32.140200000000007,7.0692000000000004,14.015100000000002,9.4530000000000008E-6]
[null,"end of life P&R",0.30949525857729404,null,null,8.2016243522982923E-2,8.1397253005828328E-10,1.2720255127526785E-9,3.0299585814717085E-10,2.4295377798317584E-9,3.187801163346129E-4,1.1482274093217609E-4,4.7971765079480574E-4,2.1633718574552855E-3,1.1915567455225821E-7,7.5826338351437039E-5,2.1448021419406479E-3,0.19250605083507688,-4.5495803010862224E-4,1.7517431635474843E-2,-3.3425487926347759E-8]
[null,"end of life HH",0.13974000000000003,null,null,6.5398320000000024E-2,4.876926000000001E-10,1.4952180000000003E-9,2.8786440000000003E-10,4.3319400000000012E-10,1.6908540000000003E-4,4.555524000000001E-5,5.1284580000000006E-5,1.9563600000000004E-4,4.9607700000000011E-7,1.0955616000000002E-4,1.0340760000000001E-2,9.7398780000000018E-2,3.2279940000000005E-3,4.3179660000000009E-2,2.1799440000000007E-9]
["BUTTER TOTAL",null,null,null,null,136.71649815285073,9.5093860105533568E-5,2.1278414992096468E-4,1.5220994713709419E-6,1.6761241819402658E-5,0.98605447517798817,0.12793500742044941,2.3443765704382331,10.380576950325034,1.7905071341217854E-2,0.75263900465152989,319.44777905020669,10676.101441059775,22.553648375527931,376.04239161802263,3.3643010399218023E-5]
["Eggs","EGGS"]
[null,"agriculture ",14.159768144779743,0,0,69.807656953764138,8.0427483062348945E-7,1.0860542167046063E-4,1.0605666340440029E-6,1.4867756552018729E-5,1.2857069475460008,9.6144825703054465E-2,1.9257284676900452,8.4958608868678454,1.0832222630756503E-2,0.443200742931606,246.37996571916753,10265.831904965315,17.982905543870274,291.69122378246271,2.0814859172826222E-6]
[null,"processsing",14.159768144779743,1.0999999999999999E-2,5.4999999999999997E-3,1.5009354233466528,1.5292549596362122E-5,6.4002152014404446E-8,7.1365231449689906E-9,3.5257822680501558E-8,0.10478228427137011,2.76115478823205E-3,4.8709602418042317E-3,9.6994411791741231E-3,6.9807656953764139E-5,8.8923343949216783E-4,0.443200742931606,9.5720032658711069,0.44744867337503996,17.274917136631288,1.6850124092287893E-6]
[null,"packaging",14.004010695187166,0,0,1.442413101604278,4.4672794117647059E-8,2.6747660427807485E-7,8.5564505347593572E-9,-1.0657052139037433E-7,4.7333556149732621E-2,1.5124331550802137E-3,5.6856283422459892E-3,5.4335561497326204E-3,6.4978609625668442E-5,6.9179812834224599E-4,1.1343248663101604,-270.27740641711233,-0.87385026737967908,19.185494652406419,1.7785093582887699E-5]
[null,"retail",14.004010695187166,0.04,0.02,1.4004010695187166,1.2001437165775402E-6,2.212633689839572E-7,1.022292780748663E-8,1.428409090909091E-7,9.690775401069518E-2,1.0110895721925134E-2,9.1726270053475931E-3,3.6270387700534756E-2,2.7027740641711231E-5,3.304946524064171E-3,3.7950868983957222,26.887700534759357,0.55876002673796787,21.84625668449198,3.2489304812834226E-6]
[null,"use ",12.57,6.5000000000000002E-2,3.2500000000000001E-2,7.6953540000000009,4.3587731999999998E-7,3.9922319999999996E-7,5.7193500000000002E-8,1.9624284000000002E-7,0.44874899999999995,1.6387509000000001E-2,3.4952142000000005E-2,9.1773569999999999E-2,1.108152345E-2,0.14366253000000001,2.7553439999999996,100.87425,18.148817399999999,91.649127000000007,1.6247604899999999E-5]
[null,"end of life P&R",0.71591787740006385,null,null,0.18971823751101694,1.8828640175621676E-9,2.9424224761142626E-9,7.0088360197466249E-10,5.6199553375905015E-9,7.3739541372206579E-4,2.6560553251542371E-4,1.1096727099700989E-3,5.0042659630264458E-3,2.756283827990246E-7,1.7539987996301564E-4,4.9613108903824431E-3,0.4453009197428397,-1.0523992797780938E-3,4.0520951860843611E-2,-7.7319130759206894E-8]
[null,"end of life HH",0.81705000000000005,null,null,0.38237940000000004,2.8515045000000001E-9,8.7424350000000012E-9,1.683123E-9,2.5328550000000003E-9,9.8863050000000006E-4,2.6635830000000001E-4,2.9985735000000001E-4,1.14387E-3,2.9005275000000002E-6,6.4056720000000005E-4,6.04617E-2,0.56948385000000001,1.8873855000000002E-2,0.25246845000000001,1.2745980000000001E-8]
["EGGS TOTAL",null,null,null,null,82.418858185744796,1.7782252626198359E-5,1.0956907185321315E-4,1.1460600421331926E-6,1.5143680412737355E-5,1.9852055678915206,0.1274487822008073,1.9818193553394132,8.6451859778603151,2.2078736243860444E-2,0.59256521810346763,254.57334523769538,10133.903237118577,36.281902832323823,441.9400086578533,4.0983554139923323E-5]
["Legumes","BEANS"]
[null,"agriculture ",2.9461279461279464,0,0,3.388047138047138,5.0673400673400671E-8,2.9284511784511786E-6,1.1195286195286197E-7,1.2196969696969697E-6,1.4730639730639733E-2,2.6250000000000002E-3,0.17352693602693606,0.77188552188552195,9.2508417508417509E-3,0.10517676767676769,4.5959595959595969,1240.3198653198654,2.3303872053872059,12.344276094276097,3.1818181818181821E-6]
[null,"processsing",2.9461279461279464,0.05,2.5000000000000001E-2,0.22331649831649836,3.2112794612794613E-8,2.2714646464646463E-8,1.8265993265993269E-9,1.1224747474747475E-8,2.5159932659932664E-2,1.148989898989899E-3,1.755892255892256E-3,4.1540404040404048E-3,1.4995791245791248E-5,3.7710437710437714E-4,0.2627946127946128,3.0639730639730645,4.7432659932659937E-2,4.3013468013468019,4.6548821548821555E-7]
[null,"packaging",2.7988215488215489,0,0,0.23957912457912456,1.024368686868687E-8,1.1083333333333335E-8,1.5757365319865322E-9,9.0681818181818176E-9,1.1279250841750842E-2,5.2337962962962961E-4,1.0019781144781144E-3,1.7772516835016837E-3,7.3329124579124581E-6,1.6205176767676767E-4,0.19367845117845117,2.7596380471380471,0.13406355218855218,2.6364898989898991,6.9690656565656578E-7]
[null,"retail",2.7988215488215489,0.01,5.0000000000000001E-3,0.22362584175084174,4.9819023569023574E-8,3.6664562289562293E-8,1.7212752525252528E-9,2.3342171717171719E-8,1.6093223905723906E-2,1.6317129629629628E-3,1.4973695286195287E-3,5.8495370370370368E-3,4.7859848484848481E-6,5.3177609427609428E-4,0.62413720538720541,4.1142676767676765,0.10495580808080808,3.5824915824915826,5.6256313131313136E-7]
[null,"use ",2.66,0.04,0.02,2.9526000000000003,5.4264000000000002E-8,5.6657999999999997E-8,9.2036000000000008E-9,4.8146E-8,2.8994000000000002E-2,5.1604000000000008E-3,7.9001999999999996E-3,2.4844399999999999E-2,1.92318E-3,2.5935E-2,0.47348000000000001,16.997399999999999,4.4156000000000004,24.924199999999999,2.8196000000000001E-6]
[null,"end of life P&R",0.17529461279461281,null,null,4.6453072390572399E-2,4.6102483164983167E-10,7.2046085858585866E-10,1.7161342592592594E-10,1.3760627104377107E-9,1.805534511784512E-4,6.5034301346801355E-5,2.7170664983164984E-4,1.2253093434343434E-3,6.7488425925925935E-8,4.2947180134680136E-5,1.2147916666666668E-3,0.10903324915824916,-2.576830808080808E-4,9.9216750841750849E-3,-1.8931818181818185E-8]
[null,"end of life HH",0.10640000000000001,null,null,4.9795200000000005E-2,3.7133600000000005E-10,1.13848E-9,2.1918400000000002E-10,3.2984000000000002E-10,1.28744E-4,3.46864E-5,3.9048799999999998E-5,1.4896000000000001E-4,3.7772000000000002E-7,8.3417600000000006E-5,7.8735999999999997E-3,7.4160799999999999E-2,2.4578400000000002E-3,3.28776E-2,1.6598400000000001E-9]
["BEANS TOTAL",null,null,null,null,7.1234168750841755,1.9794526655555557E-7,3.057430661397307E-6,1.2667087048989899E-7,1.3131839734175087E-6,9.6566344589225597E-2,1.1189203192929294E-2,0.1859931313757576,0.80988502035353549,1.1201581647819864E-2,0.1323090646959596,6.1591382569865329,1267.4383381569023,7.0346393825084172,47.831603652188555,7.7091041160942762E-6]
["Legumes","TOFU"]
[null,"agriculture ",4.5299486088959782,0,0,5.7077352472089329,1.3589845826687935E-9,7.4744152046783646E-6,8.2898059542796389E-8,3.3068624844940641E-7,2.1517255892255895E-3,2.4416423001949322E-3,4.6205475810738979E-2,0.20158271309587103,8.2445064681906804E-4,1.9977073365231263E-2,14.812931951089849,928.63946482367555,2.6092503987240834,5.300039872408294,7.6556131490342026E-8]
[null,"processsing",4.5299486088959782,0.05,2.5000000000000001E-2,0.70214203437887657,1.5718921672869044E-7,1.0192384370015951E-7,5.0282429558745359E-9,6.8402223994329271E-8,4.6658470671628573E-2,6.3872275385433294E-3,7.2932172603225251E-3,2.3283935849725327E-2,1.0509480772638669E-5,2.1064261031366301E-3,1.7440302144249515,11.143673577884107,9.6034910508594737E-2,10.826577175261388,1.4903530923267769E-6]
[null,"packaging",4.3034511784511791,0,0,0.89081439393939399,3.1974642255892258E-8,1.1188973063973066E-7,5.2071759259259263E-9,-1.8892150673400675E-8,3.546043771043772E-2,1.4115319865319867E-3,3.769823232323233E-3,4.8628998316498319E-3,3.4900989057239065E-5,4.7768308080808089E-4,0.66703493265993274,-84.777988215488222,-7.4019360269360276E-2,11.016835016835019,6.8855218855218859E-6]
[null,"retail",4.3034511784511791,0.01,5.0000000000000001E-3,4.4755892255892267,9.1663510101010117E-5,7.875315656565657E-8,4.0667613636363637E-9,5.1211069023569036E-8,3.4384574915824924E-2,3.455671296296297E-3,3.4814920033670043E-3,1.226483585858586E-2,1.2523042929292931E-5,1.1188973063973064E-3,1.2480008417508419,8.9081439393939394,0.21302083333333338,8.0044191919191938,1.682649410774411E-6]
[null,"use ",4.09,0.04,0.02,1.1533799999999998,6.6666999999999997E-8,4.0859100000000001E-7,2.3394800000000001E-8,1.8650399999999999E-7,2.9734300000000002E-2,4.5399000000000004E-3,2.8384599999999999E-2,2.3803799999999996E-2,2.0858999999999999E-3,3.6769099999999999E-2,4.6625999999999994,74.437999999999988,11.697399999999998,46.216999999999999,3.4928599999999998E-6]
[null,"end of life P&R",0.26953194222931071,null,null,7.1425964690767341E-2,7.088690080630871E-10,1.107776282562467E-9,2.6387177144249521E-10,2.1158257465000892E-9,2.7761790049619006E-4,9.9996350567074281E-5,4.177745104554316E-4,1.8840282761828817E-3,1.0376979775828462E-7,6.603532584618112E-5,1.8678563596491234E-3,0.16764886806663126,-3.9621195507708674E-4,1.5255507930178986E-2,-2.9109449760765557E-8]
[null,"end of life HH",0.1636,null,null,7.6564800000000002E-2,5.7096399999999999E-10,1.7505199999999999E-9,3.3701599999999996E-10,5.0716000000000004E-10,1.9795599999999997E-4,5.33336E-5,6.0041199999999997E-5,2.2903999999999999E-4,5.8077999999999999E-7,1.282624E-4,1.21064E-2,0.11402919999999998,3.7791599999999997E-3,5.0552399999999997E-2,2.55216E-9]
["TOFU TOTAL",null,null,null,null,13.077651665807197,9.1921979777585428E-5,8.178431231866473E-6,1.2119592755967572E-7,6.2053437654040406E-7,0.14886508278761298,1.8389303072133621E-2,8.9612424017207176E-2,0.26791125291201495,2.9689687093759965E-3,6.0643477581419469E-2,23.148572196285226,938.63297219353205,14.545069730341572,81.430679164354075,1.3601383230352648E-5]
["Cereal products","BREAD"]
[null,"agriculture ",42.105263157894733,0,0,10.484210526315788,1.5199999999999998E-7,7.5368421052631577E-5,3.6673684210526311E-7,3.1999999999999999E-6,8.8842105263157875E-2,1.991578947368421E-2,0.44631578947368417,1.983157894736842,4.3789473684210517E-3,0.25978947368421051,68.631578947368411,4206.3157894736842,0.37389473684210528,64.84210526315789,2.4126315789473682E-6]
[null,"processsing",42.105263157894733,0.05,2.5000000000000001E-2,20.589473684210525,2.0042105263157892E-6,1.7178947368421052E-6,1.7726315789473684E-7,5.5999999999999993E-7,2.7073684210526312,5.6842105263157895E-2,0.11789473684210525,0.20799999999999999,1.9452631578947366E-3,2.0168421052631575E-2,11.452631578947368,279.57894736842098,5.852631578947368,429.47368421052624,4.2105263157894731E-5]
[null,"packaging",39.999999999999993,0,0,0.95999999999999985,3.3319999999999997E-8,3.0399999999999994E-8,5.2799999999999991E-9,2.3919999999999995E-8,4.519999999999999E-2,2.3079999999999997E-3,3.4759999999999995E-3,5.919999999999999E-3,4.0399999999999993E-5,5.5199999999999986E-4,0.49199999999999994,4.2799999999999994,0.21119999999999997,20.519999999999996,6.5599999999999994E-7]
[null,"retail",39.999999999999993,0.02,0.01,3.0999999999999996,6.8799999999999981E-7,5.0399999999999996E-7,2.3839999999999997E-8,3.2279999999999995E-7,0.22319999999999995,2.2559999999999997E-2,2.0759999999999997E-2,8.0799999999999983E-2,6.6799999999999997E-5,7.3599999999999985E-3,8.6399999999999988,56.79999999999999,1.4879999999999995,49.999999999999993,7.7999999999999999E-6]
[null,"use ",29.4,0.25,0.125,3.7925999999999997,4.2042E-7,3.9395999999999996E-7,5.9093999999999993E-8,2.53134E-7,0.172872,1.31418E-2,2.9988000000000001E-2,0.10878,1.42884E-2,0.27312599999999998,4.2335999999999991,155.232,38.514000000000003,38.808,2.2138200000000001E-5]
[null,"end of life P&R",2.9052631578947365,null,null,0.76989473684210519,7.6408421052631564E-9,1.1940631578947368E-8,2.8442526315789471E-9,2.2806315789473684E-8,2.9924210526315791E-3,1.0778526315789474E-3,4.5031578947368417E-3,2.0307789473684206E-2,1.1185263157894737E-6,7.1178947368421045E-4,2.0133473684210524E-2,1.8070736842105262,-4.2707368421052629E-3,0.16443789473684209,-3.1376842105263153E-7]
[null,"end of life HH",7.35,null,null,3.4398,2.56515E-8,7.8645E-8,1.5141E-8,2.2784999999999999E-8,8.8934999999999986E-3,2.3961E-3,2.6974499999999997E-3,1.0289999999999999E-2,2.6092499999999998E-5,5.7623999999999991E-3,0.54389999999999994,5.1229499999999994,0.16978499999999999,2.27115,1.1466E-7]
["BREAD TOTAL",null,null,null,null,43.135978947368415,3.3312428684210521E-6,7.8105261421052623E-5,6.5019925263157897E-7,4.4054453157894732E-6,3.2493684473684206,0.11824164736842105,0.6256351342105263,2.4172556842105259,2.074702155263158E-2,0.56747008421052625,94.013843999999992,4709.1367605263149,46.605240578947374,606.07937736842098,7.4912986315789476E-5]
["Cereal products","PASTA"]
[null,"agriculture ",10.00658327847268,0,0,6.7744568795260047,8.8057932850559583E-7,2.3115207373271893E-6,9.3661619486504295E-8,1.2908492429229759E-6,0.25716919025674789,1.7411454904542465E-2,0.17211323238973011,0.71447004608294939,2.8018433179723503E-3,0.14909809084924294,9.3161290322580665,5403.5549703752476,14.40947992100066,66.643844634628053,3.3922317314022387E-5]
[null,"processsing",10.00658327847268,7.0000000000000007E-2,3.5000000000000003E-2,5.1233706385780122,6.2040816326530617E-7,2.5816984858459516E-7,2.1213956550362083E-8,2.5316655694535885E-7,0.53235023041474661,1.6010533245556291E-2,2.4816326530612248E-2,5.6236998025016464E-2,2.8919025674786047E-5,5.2334430546412125E-3,3.2521395655036214,13.108624094799213,51.133640552995402,81.553653719552344,4.4729427254772885E-6]
[null,"packaging",9.3061224489795915,0,0,0.32664489795918367,-5.9186938775510206E-8,2.9221224489795918E-8,-1.4610612244897959E-9,-2.4661224489795916E-7,-8.8222040816326522E-3,-2.7546122448979591E-3,-3.0337959183673467E-3,-9.3991836734693881E-3,-6.6073469387755095E-6,-7.1191836734693875E-4,0.36759183673469387,-477.404081632653,-1.554122448979592,-0.34711836734693874,1.5541224489795919E-5]
[null,"retail",9.3061224489795915,0.02,0.01,1.7123265306122448,3.4711836734693877E-7,1.2656326530612245E-7,1.9263673469387756E-8,7.1564081632653058E-8,0.10050612244897959,1.1074285714285715E-2,1.0981224489795919E-2,3.9457959183673466E-2,3.1826938775510199E-5,3.5735510204081633E-3,0.97714285714285709,17.309387755102041,66.073469387755097,26.89469387755102,4.9694693877551015E-6]
[null,"use ",6.84,0.25,0.125,5.9849999999999994,5.0000399999999998E-7,3.7277999999999998E-7,3.5773200000000003E-8,5.0547600000000005E-7,0.65664,1.63476E-2,7.0452000000000001E-2,5.34204E-2,4.3228799999999994E-3,4.2202799999999999E-2,5.9986800000000002,42.134399999999999,20.52,128.59200000000001,5.79348E-6]
[null,"end of life P&R",0.88658327847267959,null,null,0.2349445687952601,2.3317140223831472E-9,3.6438572745227133E-9,8.6796502962475338E-10,6.9596787360105355E-9,9.1318077682686009E-4,3.2892239631336417E-4,1.3742040816326533E-3,6.1972171165240297E-3,3.4133456221198167E-7,2.1721290322580651E-4,6.1440221198156703E-3,0.55145479921000673,-1.3032774193548389E-3,5.0180613561553664E-2,-9.5750994075049395E-8]
[null,"end of life HH",1.71,null,null,0.80027999999999999,5.9679000000000005E-9,1.8296999999999998E-8,3.5225999999999998E-9,5.3009999999999998E-9,2.0690999999999999E-3,5.5745999999999997E-4,6.2756999999999993E-4,2.3939999999999999E-3,6.0704999999999997E-6,1.3406399999999999E-3,0.12653999999999999,1.19187,3.9500999999999994E-2,0.52839000000000003,2.6676E-8]
["PASTA TOTAL",null,null,null,null,20.957023515470706,2.2972225343647138E-6,3.1201959329822256E-6,1.7284195331138908E-7,1.8867043153390393E-6,1.5408256198156682,5.8975644015799876E-2,0.27733076157340358,0.86277743673469398,7.1852737700460832E-3,0.20095381946017116,20.04436731375905,5000.4466253917044,150.6206651353522,303.91564447794605,6.4630358922975647E-5]
["Cereal products","RICE"]
[null,"agriculture ",10.672713529856386,0,0,39.275585789871506,1.0576659108087679E-6,2.3479969765684048E-7,1.707634164777022E-8,2.9776870748299316E-6,0.1931761148904006,2.9136507936507933E-2,0.41516855631141342,1.8250340136054422,1.3340891912320484E-2,9.1465154950869224E-2,223.05971277399846,3457.9591836734689,2390.6878306878307,96.161148904006041,7.2894633408919116E-5]
[null,"processsing",10.672713529856386,0.1,0.05,2.0598337112622827,3.6927588813303097E-7,2.2732879818594101E-7,1.5368707482993198E-8,1.3554346182917611E-7,0.18570521541950111,1.5688888888888888E-2,2.1985789871504159E-2,5.763265306122449E-2,8.7089342403628108E-5,5.2082842025699162E-3,3.201814058956916,27.32214663643235,0.34899773242630383,35.753590325018898,3.9275585789871506E-6]
[null,"packaging",9.6054421768707474,0,0,0.84431836734693877,2.8720272108843534E-8,1.2391020408163264E-7,4.7739047619047615E-9,-3.1121632653061219E-8,3.189006802721088E-2,1.2006802721088435E-3,3.5732244897959181E-3,4.1303401360544209E-3,3.4963809523809522E-5,4.2263945578231287E-4,0.61955102040816323,-104.69931972789115,-0.21420136054421768,10.758095238095239,7.6075102040816317E-6]
[null,"retail",9.6054421768707474,0.02,{"$f":"0.5*D133","v":0.01},0.78188299319727883,1.7385850340136052E-7,1.2775238095238094E-7,6.0130068027210879E-9,8.1742312925170054E-8,5.6095782312925162E-2,5.7152380952380953E-3,1.4119999999999999E-2,2.0459591836734691E-2,1.6617414965986391E-5,1.8634557823129249E-3,2.1900408163265306,14.408163265306122,0.36212517006802714,12.583129251700679,1.9691156462585032E-6]
[null,"use ",7.06,0.25,0.125,3.6570800000000001,1.0589999999999999E-7,1.1154799999999999E-7,1.7508800000000001E-8,7.0599999999999997E-8,5.4362000000000001E-2,7.1306E-3,3.85476E-3,3.0499199999999997E-2,1.63086E-3,2.0473999999999999E-2,1.0731199999999999,39.959600000000002,10.3782,28.8048,5.55622E-6]
[null,"end of life P&R",1.2593801965230536,null,null,0.33373575207860923,3.3121699168556307E-9,5.1760526077097499E-9,1.2329332123960695E-9,9.8861345427059717E-9,1.2971616024187453E-3,4.6723005291005287E-4,1.9520393046107329E-3,8.8030675736961439E-3,4.8486137566137569E-7,3.0854814814814811E-4,8.727504761904762E-3,0.78333448223733926,-1.8512888888888887E-3,7.1280919123204833E-2,-1.3601306122448978E-7]
[null,"end of life HH",1.7649999999999999,null,null,0.82601999999999998,6.1598499999999996E-9,1.8885499999999997E-8,3.6358999999999998E-9,5.4714999999999996E-9,2.1356499999999998E-3,5.7538999999999995E-4,6.4775499999999997E-4,2.4709999999999997E-3,6.2657499999999993E-6,1.3837599999999999E-3,0.13060999999999998,1.2302049999999998,4.0771499999999995E-2,0.54538500000000001,2.7534E-8]
["RICE TOTAL",null,null,null,null,47.778456613756617,1.7448925943688585E-6,8.4940063348450469E-7,6.5609593907785336E-8,3.2498088514739224E-6,0.52466199225245658,5.9914535245653815E-2,0.46130212497732431,1.9490298662131518,1.511717309058957E-2,0.12112584253968252,230.28357617445195,3436.9633133295538,2401.6018724408918,184.6774296379441,9.1846558777021901E-5]
["Vegetables","TOMATOES"]
[null,"agriculture ",15.262435925203958,0,0,2.0146415421269226,6.1354992419319908E-8,1.3125694895675401E-7,8.6538011695906441E-9,2.6556638509854887E-7,6.6238971915385178E-2,3.9834957764782334E-3,3.8308714172261935E-2,0.15567684643708038,2.3656775684066135E-3,6.990195653743413E-3,43.650566746083321,128.96758356797343,19.993791062017184,28.388130820879365,4.9908165475416942E-6]
[null,"processsing",15.262435925203958,0.05,2.5000000000000001E-2,1.2560984766442858,2.4572521839578373E-5,3.6935094938993577E-8,2.5488267995090609E-9,2.0909537217529424E-8,2.9914374413399756E-2,1.8314923110244749E-3,2.4725146198830415E-3,6.5628474478377019E-3,1.6330806439968235E-5,5.9676124467547477E-4,0.4868717060140062,4.5634683416359829,6.7002093711645366E-2,5.6165764204750568,8.1806656559093211E-7]
[null,"packaging",14.499314128943759,0,0,1.1135473251028807,3.4798353909465021E-8,2.3633882030178327E-7,1.1294965706447188E-8,-1.6819204389574758E-7,2.3488888888888889E-2,3.175349794238683E-4,2.0154046639231822E-3,2.3198902606310014E-3,5.0747599451303158E-5,8.5690946502057618E-4,1.493429355281207,-339.28395061728395,-1.2135925925925926,14.934293552812072,2.3198902606310013E-5]
[null,"retail",14.499314128943759,0.1,0.05,1.4499314128943759,1.2440411522633746E-6,2.2908916323731137E-7,1.0627997256515774E-8,1.4934293552812072E-7,0.10062524005486968,1.0526502057613168E-2,9.5405486968449926E-3,3.7698216735253774E-2,2.8128669410150892E-5,3.4363374485596706E-3,3.9583127572016465,27.838683127572015,0.57852263374485591,22.618930041152264,3.3783401920438958E-6]
[null,"use ",10.57,0.19,9.5000000000000001E-2,1.0781399999999999,1.3741000000000001E-7,1.4586599999999999E-7,2.1668500000000003E-8,5.7078000000000003E-8,6.4899799999999994E-2,3.1709999999999998E-3,5.0101799999999995E-3,1.2049799999999999E-2,1.4586599999999999E-3,8.1917499999999994E-3,1.54322,65.534000000000006,16.4892,14.163800000000002,7.4095700000000006E-6]
[null,"end of life P&R",2.213053209154574,null,null,0.58645910042596217,5.8203299400765296E-9,9.0956486896253003E-9,2.1665790917623282E-9,1.7372467691863408E-8,2.2794448054292114E-3,8.2104274059634696E-4,3.4302324741895896E-3,1.5469241931990473E-2,8.5202548552451104E-7,5.421980362428706E-4,1.5336458739441198E-2,1.3765190960941451,-3.2531882174572238E-3,0.12525881163814889,-2.3900974658869399E-7]
[null,"end of life HH",2.0083000000000002,null,null,0.93988440000000018,7.0089670000000012E-9,2.148881E-8,4.1370979999999999E-9,6.2257300000000006E-9,2.4300430000000002E-3,6.5470580000000006E-4,7.3704610000000002E-4,2.8116200000000004E-3,7.1294650000000002E-6,1.5745072E-3,0.1486142,1.3997851000000001,4.6391729999999999E-2,0.62056470000000008,3.1329480000000003E-8]
["TOMATOES TOTAL",null,null,null,null,8.4387022571944268,2.6062955635110604E-5,8.1007048612446743E-7,6.1097768023825E-8,3.483030116403148E-7,0.28987676307797267,2.1305773665136089E-2,6.1514640727102742E-2,0.23258846281279333,3.9275261341935605E-3,2.2188659048242E-2,51.296351223319618,-109.60391138400836,35.958061738663638,86.467554346956916,3.9588015644897847E-5]
["Tubers","POTATOES"]
[null,"agriculture ",68.506283197305365,0,0,6.5492006736623933,2.6169400181370645E-7,5.3640419743490096E-5,4.8022904521311061E-7,1.7811633631299395E-6,0.2144246664075658,2.0072340976810474E-2,0.24456743101438014,1.0618473895582332,5.9600466381655665E-3,0.12673662391501492,66.72511983417543,2171.6491773545799,1.3564244073066463,68.300764347713454,1.7880139914496701E-5]
[null,"processsing",68.506283197305365,0,0,9.9334110636092774,1.0481461329187721E-4,3.4664179297836517E-7,4.0350200803212861E-8,1.329021894027724E-7,0.53982951159476622,1.1303536727555385E-2,3.0005752040419751E-2,4.9735561601243691E-2,5.0557636999611359E-4,4.2062857883145496E-3,4.0898251068791307,49.050498769270639,1.1440549293949995,104.12955045990415,9.9334110636092784E-5]
[null,"packaging",68.506283197305365,0,0,3.562326726259879,1.0070423630003889E-6,2.9115170358854781E-7,5.6791708770566151E-8,2.5963881331778738E-7,0.12057105842725745,9.3168545148335294E-3,2.1031428941572745E-2,3.6034304961782622E-2,1.8907734162456279E-4,3.3979116465863461E-3,2.527881849980568,82.207539836766429,2.5689856198989509,45.8992097421946,5.8983909832879922E-5]
[null,"retail",68.506283197305365,7.0000000000000007E-2,3.5000000000000003E-2,7.3986785853089794,4.4871615494235011E-5,9.3168545148335296E-7,4.4049540095867347E-8,5.9531960098458368E-7,0.41172276201580521,4.1583313900764356E-2,3.8432024873688311E-2,0.14934369737012571,1.2399637258712272E-4,1.3564244073066462E-2,15.824951418577539,106.18473895582332,2.6237906464567957,91.7984194843892,1.4523332037828737E-5]
[null,"use ",52.88,0.17,8.5000000000000006E-2,26.672671999999999,1.2745666400000002E-6,1.3717072E-6,1.8016215999999999E-7,5.1801248000000001E-7,1.2307291200000001,4.5365752000000002E-2,8.4232552000000002E-2,0.19258896,1.6208301680000002E-2,0.17096104000000001,16.160128,344.77760000000001,67.862490400000013,323.86884800000001,5.4056051200000002E-5]
[null,"end of life P&R",4.7954398238113756,null,null,1.2707915533100147,1.2612006736623917E-8,1.9709257675864755E-8,4.6947355875113372E-9,3.7644202616919302E-8,4.9393030185257173E-3,1.7791081746340205E-3,7.4329317269076316E-3,3.3520124368441512E-2,1.8462443321673797E-6,1.174882756833787E-3,3.3232397979012833E-2,2.9827635704106754,-7.0492965410027218E-3,0.27142189402772382,-5.1790750097162858E-7]
[null,"end of life HH",8.9896000000000011,null,null,4.207132800000001,3.1373704000000005E-8,9.6188720000000005E-8,1.8518576000000002E-8,2.7867760000000005E-8,1.0877416000000001E-2,2.9306096000000005E-3,3.2991832000000003E-3,1.2585440000000002E-2,3.1913080000000003E-5,7.047846400000001E-3,0.6652304,6.2657512000000004,0.20765976000000003,2.7777864000000005,1.4023776000000002E-7]
["POTATOES TOTAL",null,null,null,null,59.594213402150544,1.5227351750166297E-4,5.6697503869216237E-5,8.2479596647026814E-7,3.3525484094520024E-6,2.5330938374639205,0.13235151589459779,0.42900130379696855,1.5356554778598266,2.3020757726705539E-2,0.32708883457981613,106.02636900759168,2763.118069686851,75.756356466516408,637.04600032822918,2.4439987388032652E-4]
["Oils","SUNFLOWER OIL"]
[null,"agriculture ",6.7409715754869417,0.1,0.05,35.0530521925321,1.5841283202394313E-6,9.774408784456065E-5,2.5009004545056552E-6,1.826803296956961E-6,0.54736689192953958,7.415068733035636E-2,0.21166650747028995,0.88306727638878935,2.0897011884009518E-2,0.45299328987272247,302.66962373936366,21705.928473067954,16.110922065413792,234.58581082694556,1.2268568267386233E-4]
[null,"processsing",6.0668744179382479,0.06,0.03,6.6735618597320734,4.932368901783796E-8,4.1012071065262555E-8,6.0668744179382482E-9,7.7049305107815752E-8,6.9162368364496032E-2,2.6815584927287056E-2,1.3529129952002294E-2,4.4652195716025508E-2,1.6683904649330184E-3,6.7342306039114555E-3,0.49445026506196721,2.6087559997134466,0.20506035532631275,44.045508274231679,6.1275431621176307E-7]
[null,"packaging",5.7028619528619524,0,0,0.86683501683501674,7.2996632996632998E-8,9.9800084175084179E-8,1.1747895622895622E-8,6.7864057239057238E-9,6.8434343434343431E-2,9.2956649831649825E-4,3.746780303030303E-3,5.5602904040404034E-3,7.18560606060606E-5,5.8169191919191915E-4,0.71856060606060601,-16.6523569023569,0.72426346801346797,9.2956649831649827,6.1020622895622887E-6]
[null,"retail",5.7028619528619524,0.01,5.0000000000000001E-3,0.45451809764309758,1.0094065656565656E-7,7.4137205387205389E-8,3.5015572390572393E-9,4.7447811447811442E-8,3.2677398989898986E-2,3.3133627946127947E-3,3.0453282828282824E-3,1.191898148148148E-2,9.751893939393938E-6,1.0835437710437711E-3,1.2717382154882153,8.3832070707070692,0.2138573232323232,7.2996632996632993,1.1405723905723905E-6]
[null,"use ",5.42,0.04,0.02,2.7642000000000002,3.2465799999999997E-8,6.0487199999999989E-8,1.0894200000000001E-8,2.4227399999999998E-8,1.9978119999999999E-2,2.1354799999999999E-3,2.7642000000000001E-3,7.4308200000000003E-3,3.2086399999999998E-5,2.5582400000000003E-3,0.47858600000000001,18.57976,4.3967039999999997,24.173199999999998,1.7536410000000001E-6]
[null,"end of life P&R",1.0951382421536087,null,null,0.29021163417070633,2.8802135768639905E-9,4.5010181752513319E-9,1.0721403390683829E-9,8.5968352009058285E-9,1.127992389418217E-3,4.0629628783898881E-4,1.6974642753380933E-3,7.6550163126537238E-3,4.2162822322913936E-7,2.6830886932763411E-4,7.5893080181245083E-3,0.68117598661954459,-1.6098532159658048E-3,6.1984824505894251E-2,-1.1827493015258973E-7]
[null,"end of life HH",0.21679999999999999,null,null,0.10146240000000001,7.5663200000000002E-10,2.3197599999999999E-9,4.4660799999999995E-10,6.7208000000000002E-10,2.6232799999999999E-4,7.0676800000000001E-5,7.9565599999999989E-5,3.0351999999999999E-4,7.6963999999999995E-7,1.6997119999999998E-4,1.6043199999999997E-2,0.15110959999999998,5.0080799999999998E-3,6.6991200000000001E-2,3.38208E-9]
["SUNFLOWER OIL TOTAL",null,null,null,null,46.203841200912997,1.8434919443964229E-6,9.802634518336346E-5,2.534629730124615E-6,1.9915831344374003E-6,0.73900944310769623,0.10782165463841169,0.2365289758834889,0.96058810030299047,2.2680287971711219E-2,0.46438927623619725,305.65659133399254,21719.680124822637,21.654205438769928,319.52882340851147,1.321798198200562E-4]
["Oils","OLIVE OIL"]
[null,"agriculture ",4.6990740740740735,0,0,5.2629629629629626,4.1351851851851846E-7,1.0478935185185184E-6,3.6652777777777776E-8,5.9678240740740736E-7,0.29322222222222216,2.5844907407407403E-2,8.1293981481481467E-2,0.30449999999999994,1.1371759259259258E-3,4.7460648148148141E-2,19.548148148148147,5450.9259259259252,123.58564814814814,74.245370370370367,3.2329629629629624E-5]
[null,"processsing",4.6990740740740735,0,0,0.76594907407407398,8.0824074074074064E-8,5.215972222222222E-8,5.7328703703703689E-9,2.1850694444444444E-8,7.0016203703703692E-2,2.1756712962962958E-3,4.0365046296296286E-3,7.3775462962962952E-3,4.7930555555555556E-5,6.7196759259259249E-4,0.45768981481481474,7.7064814814814797,1.0478935185185183,15.178009259259257,1.2264583333333333E-6]
[null,"packaging",4.6990740740740735,0,0,3.4773148148148145,5.7328703703703701E-7,1.729259259259259E-7,1.1277777777777777E-8,1.0337962962962961E-8,0.26502777777777775,4.6755787037037035E-3,6.9546296296296283E-3,8.9282407407407401E-3,5.2629629629629623E-5,1.3674305555555555E-3,1.4238194444444443,-54.979166666666657,-0.10103009259259257,54.039351851851848,3.1718749999999995E-5]
[null,"retail",4.6990740740740735,0,0,0.65787037037037033,1.4849074074074073E-7,1.0995833333333333E-7,5.0280092592592588E-9,7.0956018518518514E-8,4.5674999999999993E-2,4.9340277777777768E-3,4.4453240740740738E-3,1.7715509259259257E-2,1.2123611111111109E-5,1.6117824074074073E-3,1.907824074074074,12.311574074074073,0.21333796296296295,10.431944444444444,1.668171296296296E-6]
[null,"use ",4.0599999999999996,0.13600000000000001,6.8000000000000005E-2,0.53591999999999995,5.3185999999999997E-8,5.6027999999999991E-8,8.444799999999998E-9,2.18022E-8,2.5740399999999997E-2,1.2626600000000001E-3,1.8554199999999998E-3,4.1005999999999994E-3,3.5484399999999995E-5,6.0087999999999993E-4,0.63741999999999999,25.374999999999996,6.3335999999999997,7.5515999999999996,2.9962799999999995E-6]
[null,"end of life P&R",0,null,null,0,0,0,0,0,0,0,0,0,0,0,0,0,0,0,0]
[null,"end of life HH",0.55215999999999998,null,null,0.25841088000000001,1.9270383999999999E-9,5.908112E-9,1.1374495999999999E-9,1.711696E-9,6.681135999999999E-4,1.8000416E-4,2.0264271999999997E-4,7.7302399999999998E-4,1.9601679999999998E-6,4.3289343999999998E-4,4.0859839999999994E-2,0.38485551999999995,1.2754896E-2,0.17061743999999998,8.6136960000000009E-9]
["OLIVE OIL TOTAL",null,null,null,null,10.958428102222221,1.2712334087703704E-6,1.4448736119999997E-6,6.8273684785185181E-8,7.2344097933333322E-7,0.70034971730370366,3.9072849345185179E-2,9.878850253481479E-2,0.3433949202962962,1.2873042902222223E-3,5.2145602143703694E-2,24.015761321481477,5441.7246703348137,131.09220443303701,161.6168933659259,6.9947902955259242E-5]
["Fruits","APPLES"]
[null,"agriculture ",20.592269829742595,0,0,1.3920374404905993,4.0772694262890339E-8,8.525199709513435E-8,3.9125312676510924E-9,1.8903703703703702E-7,5.3333978859033314E-2,6.3630113773904609E-3,2.3063342209311704E-2,9.719551359638505E-2,1.0440280803679495E-4,1.4908803356733639E-2,59.099814411361251,862.81610586621468,88.340837569595735,18.285935608811425,2.5534414588880817E-6]
[null,"processsing",20.592269829742595,0.15,7.4999999999999997E-2,13.755636246268054,2.6152182683773095E-4,2.594625998547567E-7,2.7799564270152504E-8,9.6989590898087612E-8,0.40566771564592907,1.0852126200274348E-2,2.2445574114419428E-2,3.8713467279916078E-2,2.8211409666747354E-4,3.521278140885984E-3,1.6659146292261759,37.683853788428948,0.86075687888324037,65.277495360284021,7.9692084241103844E-6]
[null,"packaging",17.503429355281206,0,0,7.84153635116598E-2,2.46798353909465E-9,2.5555006858710561E-9,2.3279561042524003E-10,1.9078737997256514E-9,1.8728669410150889E-3,1.1009657064471879E-4,2.0303978052126201E-4,3.9207681755829899E-4,1.6750781893004115E-6,3.6407133058984911E-5,4.3758573388203013E-2,0.24329766803840874,6.5987928669410147E-3,0.50409876543209875,2.117914951989026E-8]
[null,"retail",17.503429355281206,0.1,0.05,1.3547654320987652,3.010589849108367E-7,2.2054320987654321E-7,1.04320438957476E-8,1.4107764060356654E-7,9.7669135802469123E-2,9.8719341563786017E-3,9.0667764060356655E-3,3.5356927297668039E-2,2.9230727023319615E-5,3.220631001371742E-3,3.7807407407407405,24.85486968449931,0.65112757201646076,21.704252400548697,3.3956652949245539E-6]
[null,"use ",12.76,0.19,9.5000000000000001E-2,1.817024,1.5757324E-7,1.731532E-7,2.6362159999999999E-8,6.7500399999999997E-8,7.3510359999999997E-2,3.9760159999999998E-3,5.9933719999999994E-3,1.5184399999999997E-2,5.7234979999999994E-4,1.0085503999999999E-2,2.9909439999999998,71.707371999999992,17.6382756,16.216683999999997,8.5308255999999994E-6]
[null,"end of life P&R",4.8391834099895092,null,null,1.28238360364722,1.2727052368272408E-8,1.9889043815056882E-8,4.7375605583797297E-9,3.7987589768417649E-8,4.9843589122891951E-3,1.795337045106108E-3,7.5007342854837393E-3,3.3825892035826671E-2,1.8630856128459611E-6,1.1855999354474297E-3,3.3535541031227301E-2,3.0099720810134749,-7.1135996126845784E-3,0.27389778100540624,-5.2263180827886703E-7]
[null,"end of life HH",2.4243999999999999,null,null,1.1346191999999999,8.4611560000000006E-9,2.594108E-8,4.9942639999999997E-9,7.5156400000000003E-9,2.9335239999999999E-3,7.9035439999999998E-4,8.8975479999999993E-4,3.3941599999999998E-3,8.6066199999999996E-6,1.9007295999999999E-3,0.17940559999999997,1.6898067999999997,5.6003639999999993E-2,0.74913959999999991,3.7820640000000003E-8]
["APPLES TOTAL",null,null,null,null,20.814881286016295,2.6204488794881204E-4,7.8679663132736223E-7,7.8470919602356164E-8,5.4201577210683446E-7,0.63997194016073577,3.3758875749794234E-2,6.9162593595771801E-2,0.22406243702735412,1.0002422155297346E-3,3.4858953167497778E-2,67.794113495747595,1002.0052778881949,107.54648645374969,123.01150351608166,2.198550875916404E-5]
["Fruits","ORANGES"]
[null,"agriculture ",16.255144032921809,0,0,3.4298353909465016,1.3052880658436213E-7,1.3312962962962961E-7,1.2402674897119339E-8,5.2179012345679014E-7,0.17393004115226335,9.4930041152263365E-3,7.2335390946502043E-2,0.3023456790123456,1.1264814814814813E-3,5.1853909465020574E-2,84.364197530864189,866.39917695473241,117.19958847736625,45.676954732510282,3.4460905349794235E-6]
[null,"processsing",16.255144032921809,0.2,0.1,5.526748971193415,9.6555555555555538E-5,1.2727777777777776E-7,1.1378600823045266E-8,6.1119341563786002E-8,0.15344855967078189,6.9084362139917683E-3,1.1622427983539093E-2,2.4870370370370366E-2,9.606790123456789E-5,2.2594650205761311E-3,1.2483950617283948,16.742798353909464,0.32347736625514401,26.333333333333332,3.2672839506172838E-6]
[null,"packaging",13.004115226337449,0,0,0.94019753086419755,2.9389300411522635E-8,2.0026337448559669E-7,9.5320164609053491E-9,-1.4304526748971192E-7,1.9896296296296294E-2,2.6788477366255142E-4,1.7035390946502059E-3,1.9506172839506171E-3,4.2783539094650207E-5,7.2302880658436214E-4,1.2626995884773664,-287.39094650205766,-1.0247242798353908,12.653004115226338,1.9636213991769549E-5]
[null,"retail",13.004115226337449,0.1,0.05,1.0806419753086418,2.4057613168724282E-7,1.7685596707818929E-7,8.3096296296296301E-9,1.1300576131687244E-7,7.7374485596707829E-2,7.8934979423868311E-3,7.2432921810699586E-3,2.8348971193415638E-2,2.2757201646090534E-5,2.5748148148148149E-3,3.0299588477366259,19.896296296296295,0.49285596707818935,17.29547325102881,2.7178600823045271E-6]
[null,"use ",9.48,0.19,9.5000000000000001E-2,1.5130080000000004,1.1934372E-7,1.3072920000000002E-7,2.018292E-8,5.1324720000000001E-8,5.4310919999999999E-2,3.0772080000000001E-3,4.6584720000000003E-3,1.2191280000000001E-2,7.5646608000000013E-4,9.3472800000000012E-3,2.2126320000000002,51.547499999999999,12.639115200000001,12.070884,6.3343464000000002E-6]
[null,"end of life P&R",4.5514403292181065,null,null,1.2061316872427983,1.197028806584362E-8,1.8706419753086419E-8,4.4558600823045267E-9,3.572880658436214E-8,4.6879835390946497E-3,1.6885843621399176E-3,7.0547325102880646E-3,3.1814567901234561E-2,1.7523045267489711E-6,1.1151028806584361E-3,3.1541481481481483E-2,2.830995884773662,-6.6906172839506159E-3,0.25761152263374482,-4.9155555555555547E-7]
[null,"end of life HH",1.8012000000000001,null,null,0.84296160000000009,6.2861880000000004E-9,1.9272840000000002E-8,3.7104720000000001E-9,5.5837200000000006E-9,2.1794520000000001E-3,5.871912000000001E-4,6.6104040000000003E-4,2.5216800000000001E-3,6.3942600000000005E-6,1.4121408000000002E-3,0.13328880000000001,1.2554364,4.1607720000000001E-2,0.55657080000000003,2.8098720000000002E-8]
["ORANGES TOTAL",null,null,null,null,14.539525155555559,9.7093649990304514E-5,8.062352087242798E-7,6.9972173893004117E-8,6.4550720543209881E-7,0.48582773825514408,2.9915806607407405E-2,0.10527889511604938,0.40404316576131682,2.0527027679835392E-3,6.9285741787654329E-2,92.282713310288045,671.28125738765425,129.66522983358024,114.84383175473249,3.4938338124115231E-5]
["Fruits","BANANAS"]
[null,"agriculture ",12.100209371164537,0,0,1.6819291025918708,2.3353404086347558E-8,7.5505306476066714E-8,1.984434336870984E-9,3.5695617644935382E-7,1.1047491155873222E-2,2.4442422929752366E-3,4.9489856328062957E-2,0.21780376868096166,7.3569272976680387E-4,9.5833658219623124E-3,5.7354992419319899,484.00837484658149,49.005847953216374,11.834004764998916,3.2549563208432604E-6]
[null,"processsing",12.100209371164537,0.05,2.5000000000000001E-2,5.7839000794166484,4.6585806078983471E-5,3.2065554833586022E-7,2.4200418742329076E-8,2.2748393617789328E-7,0.25289437585733882,3.085553389646957E-2,4.3681755829903975E-2,0.11023290737130893,1.0103674824922388E-4,9.9463721030972497E-3,4.6948812360118408,38.35766370659158,5.0215868890332827,80.829398599379104,5.2514908670854093E-6]
[null,"packaging",11.49519890260631,0,0,1.1955006858710562,3.8508916323731139E-8,2.4024965706447188E-7,1.1840054869684499E-8,-1.6553086419753087E-7,2.7588477366255141E-2,5.0234019204389575E-4,2.3795061728395061E-3,2.9427709190672151E-3,5.3337722908093272E-5,9.1156927297668042E-4,1.5633470507544582,-337.9588477366255,-1.1610150891632374,15.863374485596706,2.3335253772290809E-5]
[null,"retail",11.49519890260631,0.1,0.05,1.1840054869684498,9.9318518518518535E-7,1.8622222222222221E-7,8.621399176954733E-9,1.2069958847736625E-7,8.1500960219478738E-2,8.5409327846364871E-3,7.7477640603566527E-3,3.0577229080932786E-2,2.2645541838134433E-5,2.781838134430727E-3,3.207160493827161,22.645541838134431,0.46210699588477366,18.392318244170095,2.7473525377229081E-6]
[null,"use ",8.3800000000000008,0.19,{"$f":"0.5*D197","v":9.5000000000000001E-2},2.0070100000000002,1.021522E-7,1.1421940000000001E-7,1.878796E-8,4.4916800000000007E-8,3.218758E-2,2.98328E-3,4.1816200000000005E-3,1.2176140000000002E-2,7.7690980000000005E-4,1.0215220000000001E-2,1.2662180000000003,35.087060000000008,8.3285467999999998,9.3437000000000001,5.3154340000000005E-6]
[null,"end of life P&R",1.7545303588188579,null,null,0.46495054508699735,4.6144148436935956E-9,7.211119774745506E-9,1.717685221283662E-9,1.3773063316728036E-8,1.8071662695834238E-3,6.5093076312179631E-4,2.7195220561692297E-3,1.2264167208143816E-2,6.7549418814526035E-7,4.2985993791062015E-4,1.2158895386614686E-2,1.0913178831853296,-2.5791596274637209E-3,9.9306418309147354E-2,-1.8948927875243666E-7]
[null,"end of life HH",1.5922000000000001,null,null,0.74514960000000008,5.5567780000000001E-9,1.7036540000000001E-8,3.2799320000000001E-9,4.93582E-9,1.9265619999999999E-3,5.1905720000000003E-4,5.8433740000000001E-4,2.22908E-3,5.6523099999999999E-6,1.2482848E-3,0.11782280000000001,1.1097634000000001,3.6779819999999998E-2,0.49198980000000003,2.4838320000000003E-8]
["BANANAS TOTAL",null,null,null,null,13.062445499935023,4.7753176977422424E-5,9.6109979387336655E-7,7.0431884347122964E-8,6.0323452022381053E-7,0.40895261286852935,4.6496317129246983E-2,0.11078436184733231,0.38822606326041442,1.6959503469504006E-3,3.5116510070377589E-2,16.597087717912064,244.34087393786734,61.691274209343725,136.85409231245396,3.973983653918995E-5]
["Sugar","SUGAR"]
[null,"agriculture ",28.599033816425116,0,0,12.840966183574878,5.4052173913043474E-7,7.0353623188405796E-5,5.3766183574879216E-7,6.3489855072463762E-6,5.7198067632850236E-2,2.0648502415458934E-2,0.89514975845410616,4.0038647342995164,5.9771980676328494E-3,0.4490048309178743,66.921739130434773,3489.0821256038644,0.90944927536231879,59.199999999999989,4.3184541062801921E-5]
[null,"processsing",28.599033816425116,0,0,8.6083091787439603,4.6330434782608691E-8,3.9752657004830912E-8,5.262222222222222E-9,1.4385314009661834E-7,6.7493719806763275E-2,2.5081352657004827E-2,2.3794396135265697E-2,9.8094685990338146E-2,2.4652367149758448E-5,8.9514975845410624E-3,0.81221256038647338,0.34604830917874391,1.8646570048309175,135.84541062801929,9.0086956521739106E-7]
[null,"packaging",28.599033816425116,0,0,0.57198067632850236,3.9752657004830912E-8,5.8628019323671496E-8,5.4624154589371973E-9,2.4366376811594199E-8,2.7455072463768111E-2,1.3126956521739128E-3,2.8055652173913041E-3,4.5758454106280188E-3,3.0028985507246371E-5,5.0620289855072458E-4,0.33746859903381637,7.6645410628019315,0.17188019323671494,8.4081159420289833,4.5186473429951691E-6]
[null,"retail",28.599033816425116,0,0,2.2364444444444445,4.9762318840579702E-7,3.6606763285024149E-7,1.7216618357487921E-8,2.3308212560386472E-7,0.16129855072463767,1.6301449275362315E-2,1.4985893719806763E-2,5.8628019323671496E-2,4.8046376811594196E-5,5.3194202898550714E-3,6.2345893719806753,41.182608695652164,1.0667439613526568,36.03478260869565,5.6340096618357479E-6]
[null,"use ",23.68,0.17199999999999999,8.5999999999999993E-2,2.3348479999999996,2.5811199999999998E-7,2.5811199999999998E-7,3.6230400000000003E-8,9.4956799999999997E-8,0.1110592,5.7068800000000001E-3,7.8617599999999989E-3,1.7665280000000002E-2,2.6048E-4,2.4153600000000001E-3,4.4518399999999998,94.72,23.159040000000001,25.1008,1.465792E-5]
[null,"end of life P&R",0,null,null,0,0,0,0,0,0,0,0,0,0,0,0,0,0,0,0]
[null,"end of life HH",4.0729599999999992,null,null,1.9061452799999998,1.4214630399999998E-8,4.3580671999999993E-8,8.3902975999999983E-9,1.2626175999999998E-8,4.928281599999999E-3,1.3277849599999999E-3,1.4947763199999995E-3,5.7021439999999993E-3,1.4459007999999997E-5,3.1932006399999994E-3,0.30139903999999995,2.8388531199999991,9.4085375999999984E-2,1.2585446399999998,6.3538175999999986E-8]
["SUGAR TOTAL",null,null,null,null,28.498693763091783,1.3965546497236715E-6,7.1119764169584525E-5,6.1022378938743944E-7,6.8578701257584527E-6,0.42943289222801923,7.0378664959999976E-2,0.94609214984656986,4.1885307090241533,6.354864805101449E-3,0.46939051233082113,79.059248701835742,3635.8341767914972,27.265855810782607,265.84765381874394,6.8959525808850224E-5]
["Confectionery","BISCUITS"]
[null,"agriculture ",7.2684474013565286,0,0,10.175826361899139,6.9122934786900585E-8,1.9261385613594801E-5,1.7516958237269234E-7,1.6862797971147147E-6,5.0370340491400746E-2,8.7948213556413996E-3,0.23186347210327324,1.032119530992627,1.8098434029377754E-3,0.11048040050061923,52.332821289767004,1671.7429023120017,4.0921358869637254,26.311779592910636,3.0818216981751681E-6]
[null,"processsing",7.2684474013565286,2.3E-2,1.15E-2,7.4865008233972246,7.7045542454379203E-7,2.9800634345561767E-7,3.3434858046240027E-8,1.4973001646794447E-7,0.49643495751265088,1.5990584282984364E-2,2.7620100125154808E-2,5.3205034977929791E-2,6.3380861339828933E-4,5.4876777880241796E-3,2.3695138528422284,40.630620973582992,5.7638787892757275,117.02200316184012,7.1521522429348246E-6]
[null,"packaging",7.1012731111253284,0,0,2.1587870257820998,9.586718700019193E-8,3.2594843580065256E-7,1.3492418911138125E-8,-8.7345659266841531E-8,0.13279380717804365,3.0464461646727658E-3,9.8707696244642058E-3,1.0580896935576739E-2,1.271127886891434E-4,1.07939351289105E-3,1.3137355255581857,-261.32685048941204,-0.66325890857910563,33.020919966732777,1.8818373744482122E-5]
[null,"retail",7.1012731111253284,0.02,0.01,0.63556394344571687,1.4202546222250657E-7,1.0438871473354233E-7,4.8856759004542263E-9,6.6822979975689343E-8,4.5306122448979594E-2,4.6655364340093411E-3,4.2678651397863223E-3,1.6759004542255776E-2,1.3137355255581859E-5,1.5267737188919455E-3,1.7895208240035827,11.717100633356791,0.27552939671166277,10.154820548909219,1.5977864500031988E-6]
[null,"use ",6.66,4.2999999999999997E-2,2.1499999999999998E-2,0.85248000000000002,8.9910000000000002E-8,8.3916000000000008E-8,1.2654E-8,5.2414200000000006E-8,3.7362600000000003E-2,2.77056E-3,6.0939000000000002E-3,1.5784200000000002E-2,2.4175799999999999E-3,5.3746200000000008E-2,0.93240000000000012,33.166800000000002,8.2584,8.3916000000000004,4.7885400000000002E-6]
[null,"end of life P&R",0.30919975245370668,null,null,8.1937934400232268E-2,8.1319534895324854E-10,1.2708109825847344E-9,3.0270655765217885E-10,2.4272180567615977E-9,3.1847574502731792E-4,1.1471310816032519E-4,4.7925961630324531E-4,2.1613062696514097E-3,1.1904190469467708E-7,7.5753939351158128E-5,2.1427542845041873E-3,0.19232224602620554,-4.5452363610694882E-4,1.7500705988879796E-2,-3.339357326500032E-8]
[null,"end of life HH",0.28637999999999997,null,null,0.13402583999999998,9.9946619999999989E-10,3.0642659999999998E-9,5.8994279999999989E-10,8.8777799999999989E-10,3.4651979999999994E-4,9.3359879999999992E-5,1.0510145999999999E-4,4.0093199999999995E-4,1.0166489999999998E-6,2.2452191999999997E-4,2.1192119999999995E-2,0.19960685999999997,6.615377999999999E-3,8.8491419999999987E-2,4.467528E-9]
["BISCUITS TOTAL",null,null,null,null,21.525121928924413,1.1691936701023443E-6,2.0077980184567197E-5,2.4052918458817687E-7,1.8712163303482685E-6,0.76293282317610223,3.5476021225468189E-2,0.28030046806898179,1.1310109057180409,5.0026178511854849E-3,0.17262072137977758,58.761326366455506,1496.3225025355555,17.732846018735902,195.00711539638164,3.540974809033031E-5]
["Confectionery","CHOCOLATE"]
[null,"agriculture ",6.3173020671369056,0,0,1.0360375390104526,1.0928932576146847E-7,3.1776029397698636E-6,2.1668346090279584E-8,2.7290744930031435E-7,3.2597278666426428E-2,3.7208909175436376E-3,3.8282850526849647E-2,0.13076815278973394,3.2155067521726847E-4,1.4656140795757621E-2,312.70645232327684,421.99577808474527,1.93941173461103,15.161524961128572,4.4536979573315185E-5]
[null,"processsing",6.3173020671369056,0.05,2.5000000000000001E-2,6.0835618906528399,6.6963401911651199E-7,3.3039489811126018E-7,3.1649683356355897E-8,3.1460164294341794E-7,0.38219677506178279,3.2281413563069586E-2,4.0367560209004824E-2,0.11750181844874644,2.4321612958477088E-4,1.0676240493461371E-2,3.3734393038511077,41.946885725789052,3.3039489811126019,109.92105596818215,7.6439355012356553E-6]
[null,"packaging",6.0014369637800602,0,0,2.3885719115844641,5.0232027386839109E-7,2.8986940535057693E-7,3.00671991885381E-8,6.3615231816068647E-8,7.5618105743628761E-2,5.6833608046997176E-3,1.3443218798867333E-2,2.0104813828663203E-2,1.1462744600819915E-4,1.9564684501922995E-3,1.6143865432568363,-120.0287392756012,0.39369426482397196,34.44824817209755,3.7869067241452179E-5]
[null,"retail",6.0014369637800602,0.01,5.0000000000000001E-3,0.5203245847597312,1.1582773340095516E-7,8.5220404885676855E-8,4.0029584548412999E-9,5.4673090740036352E-8,3.7208909175436372E-2,3.8169139089641179E-3,3.4928363129199955E-3,1.3683276277418537E-2,1.086260090444191E-5,1.2482988884662525E-3,1.4643506191623346,9.6022991420480963,0.2304551794091543,8.3419973796542823,1.3083132581040532E-6]
[null,"use ",5.68,4.3999999999999997E-2,2.1999999999999999E-2,0.83495999999999992,9.7127999999999995E-8,8.6904000000000008E-8,1.3063999999999999E-8,4.36224E-8,3.6806399999999996E-2,2.4139999999999999E-3,4.73144E-3,1.4881599999999998E-2,5.7936000000000003E-3,2.9933600000000001E-2,0.88039999999999996,31.523999999999997,7.8383999999999991,8.2927999999999997,4.9188799999999999E-6]
[null,"end of life P&R",0.37587947299464591,null,null,9.9608060343581176E-2,9.8856301397591859E-10,1.5448646340079948E-9,3.6798600406175837E-10,2.9506538630079709E-9,3.8715585718448531E-4,1.3945128448101363E-4,5.8261318314170119E-4,2.627397516232575E-3,1.4471359710293867E-7,9.2090470883688251E-5,2.6048447478528962E-3,0.23379703220266976,-5.5254282530212942E-4,2.1274778171496957E-2,-4.0594983083421759E-8]
[null,"end of life HH",0.24991999999999998,null,null,0.11696255999999999,8.7222079999999996E-10,2.6741439999999997E-9,5.1483519999999997E-10,7.7475199999999995E-10,3.0240319999999993E-4,8.1473919999999994E-5,9.1720639999999987E-5,3.4988799999999997E-4,8.8721599999999986E-7,1.9593727999999997E-4,1.8494079999999996E-2,0.17419423999999997,5.7731519999999993E-3,7.7225279999999993E-2,3.8987519999999994E-9]
["CHOCOLATE TOTAL",null,null,null,null,11.080026546351068,1.4960601359613026E-6,3.9742106567513865E-6,1.0133500829407665E-7,7.5314522066284517E-7,0.56511702770445882,4.8137504398758066E-2,0.10099223967078351,0.29991694686079473,6.4848887813117838E-3,5.8758776378761236E-2,320.06012771429499,385.44821494918392,13.711130769131456,176.26412653923404,9.6240479343023634E-5]
["Nuts","ALMONDS"]
[null,"agriculture ",0.64350064350064351,0,0,2.7413127413127412,1.2290862290862292E-7,3.9060489060489059E-8,3.9961389961389958E-9,4.4208494208494214E-7,4.8777348777348781E-2,1.1969111969111969E-2,5.3732303732303734E-2,0.23873873873873874,2.8507078507078506E-3,1.2355212355212355E-2,6.563706563706563,740.02574002573999,209.78120978120978,28.314028314028313,9.2020592020592021E-6]
[null,"processsing",0.64350064350064351,7.4999999999999997E-2,3.7499999999999999E-2,0.17245817245817247,3.114543114543115E-8,1.7889317889317891E-8,1.2612612612612611E-9,1.1196911196911198E-8,1.525096525096525E-2,1.3963963963963964E-3,2.0012870012870014E-3,5.1287001287001286E-3,6.9498069498069501E-6,4.6332046332046335E-4,0.24774774774774777,2.1299871299871302,2.8507078507078506E-2,2.9601029601029598,3.0566280566280567E-7]
[null,"packaging",0.59523809523809523,0,0,5.095238095238095E-2,2.1785714285714287E-9,2.3571428571428573E-9,3.3511904761904765E-10,1.9285714285714285E-9,2.3988095238095235E-3,1.1130952380952381E-4,2.1309523809523808E-4,3.7797619047619051E-4,1.5595238095238095E-6,3.4464285714285714E-5,4.1190476190476187E-2,0.58690476190476193,2.8511904761904759E-2,0.56071428571428572,1.4821428571428571E-7]
[null,"retail",0.59523809523809523,0.02,0.01,4.7559523809523808E-2,1.0595238095238096E-8,7.7976190476190482E-9,3.660714285714286E-10,4.9642857142857143E-9,3.4226190476190476E-3,3.4702380952380949E-4,3.1845238095238096E-4,1.244047619047619E-3,1.0178571428571429E-6,1.1309523809523811E-4,0.13273809523809524,0.875,2.2321428571428572E-2,0.76190476190476186,1.1964285714285715E-7]
[null,"use ",0.56000000000000005,0.04,0.02,0.12936000000000003,1.4560000000000003E-8,2.6712000000000001E-8,1.8424000000000002E-9,9.8560000000000007E-9,4.9056000000000004E-3,5.0232E-4,1.3160000000000001E-3,5.1016000000000004E-3,1.3832E-3,1.4224000000000001E-2,0.53648000000000007,4.1104000000000003,1.0024000000000002,1.1144000000000001,6.8320000000000008E-7]
[null,"end of life P&R",6.0167310167310167E-2,null,null,1.5944337194337195E-2,1.5824002574002573E-10,2.4728764478764478E-10,5.890379665379666E-11,4.7231338481338483E-10,6.1972329472329474E-5,2.2322072072072073E-5,9.3259330759330755E-5,4.2056949806949806E-4,2.3164414414414414E-8,1.474099099099099E-5,4.1695945945945947E-4,3.7424066924066926E-2,-8.8445945945945948E-5,3.4054697554697553E-3,-6.4980694980694981E-9]
[null,"end of life HH",2.2400000000000003E-2,null,null,1.0483200000000002E-2,7.8176000000000013E-11,2.3968000000000005E-10,4.6144000000000004E-11,6.9440000000000008E-11,2.7104000000000003E-5,7.3024000000000014E-6,8.220800000000001E-6,3.1360000000000005E-5,7.9520000000000013E-8,1.7561600000000001E-5,1.6576000000000002E-3,1.5612800000000001E-2,5.1744000000000009E-4,6.9216000000000008E-3,3.4944000000000009E-10]
["ALMONDS TOTAL",null,null,null,null,3.1680703557271555,1.8162427960360361E-7,9.4303536499356501E-8,7.9060385302445295E-9,4.7057246380952389E-7,7.4844418929214937E-2,1.4355786170913772E-2,5.7682618483397681E-2,0.25104299217503218,4.2435377230244523E-3,2.7222394933333331E-2,7.5239374423423415,747.78106878455594,210.86337918710424,33.721477391505793,1.0452630521081082E-5]
["Drinks","COFFEE"]
[null,"agriculture ",4.4558823529411766,0,0,11.941764705882354,1.9026617647058823E-7,3.1146617647058823E-7,1.6798676470588235E-8,2.424E-6,9.713823529411765E-2,2.7671029411764709E-2,0.32617058823529416,1.4437058823529412,1.6798676470588237E-3,0.25755,494.60294117647061,4384.588235294118,0.56144117647058822,92.236764705882351,2.3527058823529415E-5]
[null,"processsing",4.4558823529411766,0,0,29.5425,2.7893823529411767E-6,2.1432794117647063E-6,2.4997499999999999E-7,6.4610294117647055E-7,3.9033529411764709,7.3967647058823527E-2,0.17333382352941176,0.26156029411764709,2.7537352941176471E-3,2.3705294117647061E-2,11.585294117647059,346.22205882352944,8.1988235294117651,628.27941176470586,5.7926470588235291E-5]
[null,"packaging",4.4558823529411766,0,0,2.1076323529411765,4.8123529411764712E-7,1.1407058823529412E-7,1.7868088235294119E-8,7.1739705882352932E-8,9.045441176470588E-2,4.2821029411764713E-3,7.797794117647059E-3,1.2298235294117646E-2,5.8372058823529411E-5,1.3635000000000001E-3,1.0293088235294119,3.4354852941176475,0.38899852941176472,31.993235294117646,2.0675294117647058E-5]
[null,"retail",4.4558823529411766,0,0,0.45449999999999996,1.0159411764705882E-7,7.485882352941178E-8,3.4889558823529411E-9,4.8123529411764712E-8,3.2082352941176472E-2,3.3597352941176473E-3,3.0522794117647059E-3,1.2075441176470589E-2,9.0454411764705888E-6,1.0961470588235296E-3,1.2922058823529412,8.4216176470588238,0.18001764705882353,7.218529411764707,1.1451617647058824E-6]
[null,"use ",3.03,0.32,0.16,16.50441,1.3667421E-6,1.3917698999999998E-6,1.8428459999999999E-7,3.7220519999999997E-7,2.0837825099999998,3.482379E-2,8.6106539999999995E-2,0.12553289999999998,3.218163E-3,2.3891549999999998E-2,6.5260139999999991,419.39139,75.488510999999988,321.73448999999999,3.7902966899999998E-5]
[null,"end of life P&R",0,null,null,0,0,0,0,0,0,0,0,0,0,0,0,0,0,0,0]
[null,"end of life HH",4.9837439999999988,null,null,1.6097493119999996E-3,1.0565537279999997E-10,2.6164655999999995E-10,1.0416024959999998E-10,1.2110497919999998E-10,4.4454996479999988E-5,5.7313055999999988E-6,7.5254534399999982E-6,1.7542778879999995E-5,8.3228524799999978E-8,1.5599118719999997E-6,1.8190665599999995E-3,1.2758384639999999E-2,-0.19137576959999994,2.0383512959999996E-2,7.7746406399999974E-9]
["COFFEE TOTAL",null,null,null,null,60.552416808135533,4.9293256965492708E-6,4.0357065465600006E-6,4.725194808378353E-7,3.562292481449788E-6,6.2068549061729517,0.14411003601148234,0.59646855074755756,1.8551902957200566,7.7192666697012717E-3,0.3076080510883426,515.03758306655993,5162.0715454434639,84.626416112752935,1081.4828146894306,1.4118472683475762E-4]
["Drinks","TEA"]
[null,"agriculture ",0.66663738020398078,0,0,1.1932809105651256,2.666549520815923E-8,1.9732466454037831E-8,1.3132756390018422E-9,3.2465240415933862E-7,1.1266171725447274E-2,2.046576757226221E-3,4.4931359425748309E-2,0.19932457668099024,1.3932721246263198E-2,9.9328969650393142E-3,0.34198497604464212,501.97794729359754,1.0332879393161702,10.932853035345284,9.8662332270189164E-7]
[null,"processsing",0.66663738020398078,0.105,5.2499999999999998E-2,2.2665670926935344,3.0065345847199533E-7,1.8199200479568676E-6,3.1998594249791079E-8,9.0662683707741381E-7,0.22332352236833358,1.8799174121752256E-2,1.9199156549874644E-2,5.9797373004297077E-2,1.486601357854877E-4,5.3130999202257263E-3,2.6132185303996045,913.29321087945368,0.46997935304380645,39.99824281223885,4.2931447285136366E-6]
[null,"packaging",0.59664045528256282,0,0,0.65033809625799355,2.9891686809656394E-8,3.4127834042162591E-7,5.6322858978673933E-9,-3.9616926230762168E-8,5.6561515160786953E-2,1.026221583086008E-3,2.6490836214545792E-3,3.836398127466879E-3,3.3650521677936545E-5,4.9819478016093995E-4,0.76369978276168038,-26.252180032432765,5.5726218523391366E-2,9.009270874766699,1.2827769788575102E-5]
[null,"retail",0.59664045528256282,0.02,0.01,8.949606829238442E-2,2.0166447388550623E-8,1.4975675427592327E-8,6.861365235749472E-10,9.6655753755775179E-9,6.2050607349386534E-3,6.7420371446929596E-4,6.0260685983538843E-4,2.4104274393415537E-3,1.6228620383685708E-6,2.1956368754398313E-4,0.25953859804791485,1.6705932747911758,2.7803445216167427E-2,1.4140378790196739,2.2672337300737389E-7]
[null,"use ",0.39,0.33300000000000002,0.16650000000000001,2.7019199999999999,9.2231100000000006E-8,2.0463299999999998E-7,3.0599400000000003E-8,6.8679000000000002E-8,8.2371899999999998E-2,3.8477400000000001E-3,6.3441299999999999E-3,1.3727999999999999E-2,2.907645E-4,2.6535600000000001E-3,1.1754599999999999,123.12183,34.797009000000003,36.195509999999999,4.101084E-6]
[null,"end of life P&R",8.192973402706924E-2,null,null,2.1711379517173349E-2,2.1547520049119208E-10,3.3673120685125459E-10,8.0209209612500789E-11,6.431484121124936E-10,8.4387626047881332E-5,3.0395931324042689E-5,1.2699108774195733E-4,5.7268884084921395E-4,3.154294760042166E-8,2.0072784836631964E-5,5.6777305680758981E-4,5.0960294564837069E-2,-1.2043670901979178E-4,4.637222945932119E-3,-8.8484112749234784E-9]
[null,"end of life HH",16.233750000000001,null,null,5.2435012500000001E-3,3.4415549999999999E-10,8.5227187500000008E-10,3.39285375E-10,3.9448012500000001E-10,1.4480504999999998E-4,1.8668812500000001E-5,2.4512962500000001E-5,5.7142800000000005E-5,2.7110362500000001E-7,5.0811637500000006E-6,5.9253187500000002E-3,4.1558400000000002E-2,-0.62337599999999993,6.6396037500000005E-2,2.5324650000000001E-8]
["TEA TOTAL",null,null,null,null,6.9285570485762111,4.7016781857885274E-7,2.4017285333419746E-6,7.0649186894847771E-8,1.27104451891868E-6,0.37995736266555435,2.6442980920357819E-2,7.3877840507154888E-2,0.27972660689294504,1.4407721912337593E-2,1.8642469301556594E-2,5.1603949790606487,1513.9039201099745,35.760309519390518,97.620947861816433,2.2451821451523077E-5]
["Drinks","BEER"]
[null,"agriculture ",70,0,0,7.49,2.5199999999999998E-7,6.1320000000000002E-5,2.9540000000000001E-7,2.5409999999999999E-6,6.0829999999999995E-2,1.4559999999999998E-2,0.35349999999999998,1.575,3.339E-3,0.20369999999999999,55.790000000000006,3248,0.1946,45.36,1.9389999999999999E-5]
[null,"processsing",70,0,0,20.58,3.0309999999999999E-6,9.1000000000000008E-7,1.2599999999999999E-7,3.3879999999999999E-7,1.2809999999999999,4.2910000000000004E-2,7.8399999999999997E-2,0.12529999999999999,7.5599999999999999E-3,2.2540000000000001E-2,5.9989999999999997,137.9,56.63,422.8,2.2889999999999999E-5]
[null,"packaging",70,0,0,32.97,5.4109999999999995E-6,1.0359999999999999E-6,8.7499999999999996E-8,4.5780000000000004E-8,1.512,4.2210000000000004E-2,5.9360000000000003E-2,0.21839999999999998,4.1159999999999998E-4,1.225E-2,12.319999999999999,-463.40000000000003,-3.6259999999999999,499.09999999999997,8.6799999999999996E-5]
[null,"retail",70,0,0,8.1900000000000013,1.8339999999999999E-6,1.358E-6,6.2719999999999995E-8,8.7499999999999999E-7,0.5726,6.0829999999999995E-2,5.5019999999999999E-2,7.3499999999999996E-2,1.5680000000000002E-4,1.9880000000000002E-2,23.450000000000003,151.9,2.9609999999999999,129.5,2.0649999999999997E-5]
[null,"use ",63,0.1,0.05,26.459999999999997,7.497E-7,8.8830000000000003E-7,1.2221999999999999E-7,3.0618000000000001E-7,0.48888000000000004,1.7892000000000002E-2,3.0681E-2,6.5519999999999995E-2,5.0526E-3,2.8413000000000001E-2,9.5760000000000005,383.67,94.5,95.13,3.7169999999999998E-5]
[null,"end of life A&P",0,null,null,0,0,0,0,0,0,0,0,0,0,0,0,0,0,0,0]
[null,"end of life beer",6.3000000000000007,null,null,2.0349000000000001E-3,1.3356E-10,3.3075000000000002E-10,1.3167000000000002E-10,1.5309000000000001E-10,5.6196000000000002E-5,7.2450000000000009E-6,9.5130000000000002E-6,2.2176000000000002E-5,1.0521000000000001E-7,1.9719000000000001E-6,2.2995000000000003E-3,1.6128000000000003E-2,-0.24192,2.5767000000000002E-2,9.8280000000000004E-9]
["BEER TOTAL",null,null,null,null,95.692034899999996,1.127783356E-5,6.5512630750000006E-5,6.9397166999999998E-7,4.1069130900000003E-6,3.9153661959999999,0.17840924499999997,0.57697051299999991,2.0577421759999996,1.652010521E-2,0.28678497190000002,107.13729950000003,3458.0861280000004,150.41768000000002,1191.915767,1.8690982799999999E-4]
["Drinks","WINE"]
[null,"agriculture ",26.082737550474096,0,{"$f":"0.5*D265","v":0},12.624044974429463,1.171114916016287E-6,5.0600510847919749E-5,1.489324314132071E-6,1.0407012282639165E-6,0.45644790713329675,7.0423391386280065E-2,0.15388815154779717,0.60251123741595158,2.4935097098253236E-3,0.14319422915210278,1014.6184907134423,5712.1195235538271,1789.2757959625228,157.01808005385405,1.6588621082101526E-4]
[null,"processsing",26.082737550474096,0,0,14.919325878871183,1.2024142010768558E-6,8.6855516043078741E-7,1.0980832508749595E-7,3.5472523068644769E-7,1.6536455607000577,4.6948927590853375E-2,8.2421450659498144E-2,0.14658498503366443,9.5462819434735202E-4,1.4580250290715021E-2,4.9296373970396044,144.75919340513124,5.2426302476452937,244.13442347243753,2.9473493432035727E-5]
[null,"packaging",26.004489337822672,3.0000000000000001E-3,1.5E-3,12.534163860830528,1.8957272727272728E-6,5.4609427609427608E-7,2.3091986531986535E-8,-1.3964410774410776E-8,0.60330415263748594,1.724097643097643E-2,2.1167654320987658E-2,3.3025701459034794E-2,1.3600347923681258E-4,5.1488888888888886E-3,7.7233333333333336,-244.44219977553314,-2.0127474747474747,188.01245791245793,1.9893434343434345E-5]
[null,"retail",26.004489337822672,0.01,5.0000000000000001E-3,4.7588215488215493,1.0531818181818182E-6,6.3971043771043771E-7,3.3285746352413017E-8,4.3427497194163866E-7,0.31465432098765433,4.6027946127946133E-2,5.64297418630752E-2,0.16850909090909091,7.1512345679012354E-5,1.5238630751964088E-2,10.791863075196408,69.431986531986539,0.59810325476992143,73.072615039281715,9.2575982042648722E-6]
[null,"use ",23.17,0.1,0.05,1.0611860000000002,2.17798E-7,7.9473100000000005E-8,1.4620270000000001E-8,4.0315800000000004E-8,5.8620100000000008E-2,2.0412770000000002E-3,4.1474300000000008E-4,5.4217800000000002E-3,1.2975200000000001E-3,4.3096200000000001E-3,2.5487000000000002,113.99640000000001,32.669699999999999,11.909380000000001,-4.1706000000000004E-6]
[null,"end of life A&P",0,null,null,0,0,0,0,0,0,0,0,0,0,0,0,0,0,0,0]
[null,"end of life wine",2.6550583613916947,null,null,8.5758385072951741E-4,5.6287237261503924E-11,1.3939056397306396E-10,5.5490719753086422E-11,6.4517918181818177E-11,2.3683120583613915E-5,3.0533171156004489E-6,4.0091381257014589E-6,9.3458054320987655E-6,4.4339474635241302E-8,8.3103326711560045E-7,9.6909630190796848E-4,6.7969494051627393E-3,-0.10195424107744107,1.0859188698092031E-2,4.1418910437710438E-9]
["WINE TOTAL",null,null,null,null,45.898399846803457,5.5402924952394957E-6,5.2734483212719221E-5,1.6701861328237196E-6,1.8561173380357737E-6,3.0866957245790783,0.18268557185317161,0.31432575052948386,0.95606214062317396,4.9532180685631358E-3,0.18247245011693788,1040.6129936153138,5795.8717006648167,1825.671527749113,674.15781566672933,2.2034427869179396E-4]
["Drinks","MINERAL WATER"]
[null,"agriculture ",122.29999999999998,0,0,0,0,0,0,0,0,0,0,0,0,0,0,0,0,0,0]
[null,"processsing",122.29999999999998,0,0,4.8186199999999992,1.9812599999999998E-7,2.4826899999999996E-7,4.4639499999999994E-8,1.9323399999999997E-7,0.23848499999999995,1.6999699999999996E-2,2.3481599999999998E-2,4.0725899999999995E-2,1.6755099999999997E-4,3.9013699999999999E-3,2.8618199999999998,70.567099999999982,7.9739599999999982,134.53,1.2596899999999998E-5]
[null,"packaging",122.29999999999998,0,0,4.6718599999999988,4.451719999999999E-7,4.5495599999999993E-7,3.2654099999999995E-8,1.4920599999999997E-8,0.55279599999999984,2.8740499999999995E-3,1.7121999999999995E-2,2.7762099999999994E-2,4.0848199999999994E-4,2.6539099999999993E-3,7.4113799999999994,71.178599999999989,0.71667799999999982,9.4537899999999979,1.2841499999999999E-5]
[null,"retail",122.29999999999998,0,0,9.747309999999997,2.1647099999999996E-6,1.5898999999999998E-6,7.4969899999999984E-8,1.0163129999999998E-6,0.70077899999999993,7.1056299999999989E-2,6.5308199999999983E-2,0.25560699999999992,2.0913299999999996E-4,2.3236999999999997E-2,27.272899999999996,179.78099999999998,4.5862499999999988,156.54399999999998,2.4459999999999996E-5]
[null,"use ",110.07,0.1,0.05,9.0367470000000001,1.0467657E-6,1.32084E-6,1.9262249999999998E-7,4.7550239999999996E-7,0.57346469999999994,2.5536239999999998E-2,3.9735269999999996E-2,8.7615719999999994E-2,8.6184809999999995E-4,1.4088959999999999E-2,12.43791,673.62839999999994,171.70919999999998,121.077,5.481486E-5]
[null,"end of life",11.007,null,null,3.5552609999999997E-3,2.3334839999999998E-10,5.7786750000000002E-10,2.3004630000000001E-10,2.6747009999999999E-10,9.8182439999999993E-5,1.265805E-5,1.6620569999999999E-5,3.8744639999999998E-5,1.8381689999999999E-7,3.445191E-6,4.0175549999999999E-3,2.8177920000000002E-2,-0.42266879999999996,4.5018629999999997E-2,1.717092E-8]
["MINERAL WATER TOTAL",null,null,null,null,28.278092260999994,3.8550070484E-6,3.6145428674999998E-6,3.4511604629999992E-7,1.7002374700999999E-6,2.0656228824399996,0.11647894804999999,0.14566369056999995,0.4117494646399999,1.6471979168999999E-3,4.3884685190999993E-2,49.988027554999995,995.18327791999991,184.56341919999997,421.64980863,1.0473043092E-4]
["Pre-prepared","MEAT BASED DISHES"]
[null,"agriculture ",3.5112956735899541,0,0,12.535325554716136,4.7402491593464384E-7,4.9509268997618356E-6,1.3623827213529021E-7,1.2710890338395633E-6,0.35464086303258541,3.1285644451686488E-2,0.15379475050323999,0.58287508181593239,2.4543956758393778E-3,4.56468437566694E-2,50.562657699695343,1278.1116251867434,2.4368391974714281,94.804983186928766,1.604662122830609E-5]
[null,"processsing",3.5112956735899541,3.1E-2,1.55E-2,4.0379900246284466,5.5478471642721282E-7,2.0225063079878135E-7,2.8230817215663228E-8,8.216431876200493E-8,0.36868604572694519,7.8653023088414969E-3,1.674888036302408E-2,2.8230817215663232E-2,2.2788308921598804E-4,2.3736358753468087E-3,1.1165920242016054,32.058129499876287,9.9720797129954697,70.225913471799089,4.9158139430259352E-6]
[null,"packaging",3.4024455077086655,0,0,0.74853801169590639,5.2397660818713447E-8,7.587453482190324E-8,9.3227006911217438E-9,6.906964380648591E-10,3.7086656034024452E-2,5.205741626794258E-4,2.6845295055821371E-3,4.1509835194045719E-3,4.8314726209463046E-5,4.4912280701754387E-4,0.74513556618819776,-31.608718766613499,0.60223285486443379,4.5933014354066986,5.4779372674109519E-6]
[null,"retail",3.4024455077086655,0.01,5.0000000000000001E-3,1.3847953216374267,9.1185539606592247E-6,1.0513556618819776E-7,8.6422115895800093E-9,4.8654970760233919E-8,0.1221477937267411,3.9808612440191387E-3,6.1244019138755974E-3,1.4188197767145135E-2,7.7235513024986711E-5,1.2963317384370016E-3,1.1568314726209463,15.106858054226477,0.32459330143540671,20.34662413609782,2.2898458266879319E-6]
[null,"use ",2.56,0.24,0.12,2.0198400000000003,1.9865599999999998E-7,1.62304E-7,2.1862400000000003E-8,6.0928000000000001E-8,0.24627199999999999,5.0688E-3,1.23392E-2,2.4883199999999998E-2,1.8918399999999998E-4,3.5071999999999999E-2,1.19808,35.840000000000003,4.4543999999999997,39.423999999999999,7.2448000000000005E-6]
[null,"end of life P&R",0.14287462095837525,null,null,3.7861774553969441E-2,3.757602531205269E-10,5.8721469213892227E-10,1.3987425391824937E-10,1.1215657745232458E-9,1.4716085958712652E-4,5.3006484375557222E-5,2.2145566248548163E-4,9.98693600499043E-4,5.5006729068974476E-8,3.5004282134801936E-5,9.9012112324154051E-4,8.8868014236109405E-2,-2.1002569280881162E-4,8.0867035462440385E-3,-1.5430459063504526E-8]
[null,"end of life HH",0.61439999999999995,null,null,0.28753919999999999,2.1442559999999998E-9,6.5740799999999997E-9,1.2656639999999998E-9,1.9046399999999997E-9,7.4342399999999991E-4,2.0029439999999998E-4,2.2548479999999997E-4,8.601599999999999E-4,2.1811199999999999E-6,4.8168959999999992E-4,4.5465599999999995E-2,0.42823679999999992,1.4192639999999998E-2,0.18984959999999998,9.5846399999999989E-9]
["MEAT BASED DISHES TOTAL",null,null,null,null,21.051889887231887,1.0400937270092915E-5,5.5036529262628564E-6,2.0570193988557346E-7,1.4665532255743903E-6,1.1297239433798834,4.8974483051602111E-2,0.1921387027482073,0.65618713391864436,2.9992491310188844E-3,8.5354628059605572E-2,54.825752483829334,1330.0249987884686,17.804127681073933,229.59275853377861,3.5969172446367401E-5]
[]
[]
["TOTAL BASKET"]
[null,"agriculture ",708.5979720451387,null,null,1631.5969417471056,2.0418228148237946E-5,1.7311128187481363E-3,2.2382432742444079E-5,2.2266275613243454E-4,11.577299044466747,2.3880046534401647,30.391477429015602,134.24348308658077,0.38630180670328906,11.624496427172886,6025.7460848144528,222111.13320087802,5308.5969099121567,5610.4844881554636,6.6911056240210839E-4]
[null,"processsing",null,null,null,254.31281984122398,7.0566066130240042E-4,1.6716945961266835E-5,1.3057960821066813E-6,7.168869447572379E-6,18.387097070362532,0.66711835347167303,1.1262934322111589,2.4315880261896381,1.9192004875956233E-2,0.22598705905361816,110.57187948945477,2609.9295195571071,1082.3135002418903,3883.4175884583278,3.8088794715195073E-4]
[null,"packaging",null,null,null,122.94787510708115,1.208386257890557E-5,6.8238889344655241E-6,5.4661262521001646E-7,-3.7483024320722329E-7,4.6477574072968206,0.12190948104952425,0.25464731201048235,0.51047549038927398,3.1401169296413154E-3,4.6328394092310078E-2,59.488498306070092,-3473.2358229570273,0.18658693718278907,1203.2015993789571,5.3207468224213258E-4]
[null,"retail",null,null,null,144.75712300479,2.5426825257367407E-3,1.0700079348519428E-5,5.3529873905248149E-7,6.8834126248327614E-6,4.8228682540975853,0.49934153260150455,0.49524512005516214,1.6463804210167543,1.5164619422950499E-3,0.16290243415247055,177.69675053188905,1220.6120970887489,93.585149633685916,1092.4328657026217,2.0978649722289911E-4]
[null,"use ",null,null,null,179.75526699999995,1.1969046640000002E-5,1.8892666799999999E-5,1.8380119899999999E-6,6.9320137900000001E-6,8.9976042400000011,0.38182367200000011,0.94928086600000006,2.1911555499999995,0.22006650502999997,3.4424493619999996,208.65540300000001,5155.6372660000006,992.66854630000023,2201.3038649999999,5.2626590459999988E-4]
[null,"end of life food waste",null,null,null,34.726127411719176,2.8772729542925372E-7,7.1237954396470717E-7,1.4563119009689656E-7,4.9186053809221436E-7,0.10488003141648113,3.2208071064044629E-2,8.4745406064160034E-2,0.3693040304076407,1.9442490594397466E-4,4.964763059232339E-2,4.0066020571636187,61.536298298470108,-0.4908253495520466,18.020222240316375,-3.7805340232260273E-6]
[null,"TOTAL",null,null,null,2368.09615411192,3.2931020517017141E-3,1.7849587793363527E-3,2.6753783368910155E-5,2.4376408228972464E-4,48.537506047640164,4.0904057636269107,33.301689565356568,141.39238660458406,0.63041132038712566,15.551811307063609,6586.1652181990303,227685.61255886531,7476.8598676753645,14008.860628935687,2.3143450595958645E-3]

{"sheet":"dropdown","index":16,"n_rows":157,"n_cols":25,"rows_kept":157,"cut":false,"hidden":true,"merged":[]}
[null,"FOOD LIST",null,null,"COUNTRY",null,null,"STAGE OF FSC",null,"ACTION TYPE","Does it avoid food from being produced? (0-no, 1-yes)","WASTE TREATMENT",null,null,"FOOD LIST",null,null,"Inpact categories",null,null,"GLEANING","Crops","g N (in 100 g)","kg N (in 1 kg)","Direct N2O emissions [kg N2O–N]"]
[null,"UNKNOWN/OTHER agriculture",1,null,"Austria",1,null,"Primary production",null,"Redistribution",1,"Anaerobic Digestion",null,null,null,null,null,"Climate Change","kg CO2 eq",null,null,"APPLES",0.08,{"$f":"W2*10^-2","v":8.0000000000000004E-4},{"$f":"0.01*X2","v":8.0000000000000013E-6}]
[null,"ALMONDS agriculture",2,null,"Belgium",2,null,"Processing and manufacturing",null,"Consumer behaviour change",1,"Composting",null,null,"UNKNOWN/OTHER",null,null,"Ozone depletion","kg CFC-11 eq",null,null,"BANANAS",0.11,{"$f":"W3*10^-2","v":1.1000000000000001E-3},{"$f":"0.01*X3","v":1.1000000000000001E-5}]
[null,"APPLES agriculture",3,null,"Bulgaria",3,null,"Retail and distribution",null,"Supply chain efficiency",1,"Incineration",null,null,"CEREAL PRODUCTS",null,null,"Human toxicity, non-cancer effects","CTUh",null,null,"BEANS",6.06,{"$f":"W4*10^-2","v":6.0599999999999994E-2},6.0599999999999998E-4]
[null,"BANANAS agriculture",4,null,"Croatia",4,null,"Restaurants",null,"Food waste prevention governance",1,"Landfill",null,null,"bread",null,null,"Human toxicity, cancer effects","CTUh",null,null,"ORANGES",0.13,{"$f":"W5*10^-2","v":1.3000000000000002E-3},1.3000000000000003E-5]
[null,"BEANS agriculture",5,null,"Cyprus",5,null,"Households",null,null,null,"Other/Unknown",null,null,"pasta",null,null,"Particulate matter","Disease incidences",null,null,"POTATOES",0.28000000000000003,{"$f":"W6*10^-2","v":2.8000000000000004E-3},2.8000000000000003E-5]
[null,"BEEF agriculture",6,null,"Czech Republic",6,null,null,null,null,null,null,null,null,"rice",null,null,"Ionizing radiation, human health","kBq U235",null,null,"TOMATOES",0.17,1.7000000000000001E-3,1.7000000000000003E-5]
[null,"BEER agriculture",7,null,"Denmark",7,null,null,null,null,null,null,null,null,"FRUIT",null,null,"Photochemical ozone formation, human health","kg NMVOC eq"]
[null,"BISCUITS agriculture",8,null,"Estonia",8,null,null,null,null,null,null,null,null,"apples",null,null,"Acidification","mol H+ eq",null,null,null,"except for beans, all values are taken from McCance and Widdowsone food composition dataset"]
[null,"BREAD agriculture",9,null,"Finland",9,null,null,null,null,null,null,null,null,"bananas",null,null,"Terrestrial eutrophication","mol N eq"]
[null,"BUTTER agriculture",10,null,"France",10,null,null,null,null,null,null,null,null,"oranges",null,null,"Freshwater eutrophication","kg P eq"]
[null,"CHEESE agriculture",11,null,"Germany ",11,null,null,null,null,null,null,null,null,"VEGETABLES",null,null,"Marine eutrophication","kg N eq"]
[null,"CHOCOLATE agriculture",12,null,"Greece",12,null,null,null,null,null,null,null,null,"tomatoes",null,null,"Freshwater ecotoxicity","CTUe"]
[null,"COD agriculture",13,null,"Hungary",13,null,null,null,null,null,null,null,null,"potatoes",null,null,"Land use","Pt"]
[null,"COFFEE agriculture",14,null,"Iceland",14,null,null,null,null,null,null,null,null,"DAIRY",null,null,"Water use","m3 world eq. deprived"]
[null,"EGGS agriculture",15,null,"Ireland",15,null,null,null,null,null,null,null,null,"butter",null,null,"Resource use, fossil","MJ"]
[null,"MEAT BASED DISHES agriculture",16,null,"Italy",16,null,null,null,null,null,null,null,null,"cheese",null,null,"Resource use, minerals and metals","kg Sb eq"]
[null,"MILK agriculture",17,null,"Latvia",17,null,null,null,null,null,null,null,null,"milk",null,null,"Single Point","Pt"]
[null,"MINERAL WATER agriculture",18,null,"Lithuania",18,null,null,null,null,null,null,null,null,"MEAT",null,null,null,null,null,null,"IPCC 2006"]
[null,"OLIVE OIL agriculture",19,null,"Luxembourg",19,null,null,null,null,null,null,null,null,"beef"]
[null,"ORANGES agriculture",20,null,"Malta",20,null,null,null,null,null,null,null,null,"pork"]
[null,"PASTA agriculture",21,null,"Netherlands",21,null,null,null,null,null,null,null,null,"poultry"]
[null,"PORK agriculture",22,null,"Norway",22,null,null,null,null,null,null,null,null,"FISH and SEAFOOD"]
[null,"POTATOES agriculture",23,null,"Poland",23,null,null,null,null,null,null,null,null,"cod"]
[null,"POULTRY agriculture",24,null,"Portugal",24,null,null,null,null,null,null,null,null,"salmon"]
[null,"RICE agriculture",25,null,"Romania",25,null,null,null,null,null,null,null,null,"shrimp"]
[null,"SALMON agriculture",26,null,"Slovakia",26,null,null,null,null,null,null,null,null,"-"]
[null,"SHRIMP agriculture",27,null,"Slovenia",27,null,null,null,null,null,null,null,null,"eggs"]
[null,"SUGAR agriculture",28,null,"Spain",28,null,null,null,null,null,null,null,null,"almonds"]
[null,"SUNFLOWER OIL agriculture",29,null,"Sweden",29,null,null,null,null,null,null,null,null,"beans"]
[null,"TEA agriculture",30,null,"Switzerland",30,null,null,null,null,null,null,null,null,"tofu"]
[null,"TOFU agriculture",31,null,"United Kingdom",31,null,null,null,null,null,null,null,null,"meat based dishes"]
[null,"TOMATOES agriculture",32,null,"Unknown",32,null,null,null,null,null,null,null,null,"sugar"]
[null,"WINE agriculture",33,null,null,null,null,null,null,null,null,null,null,null,"biscuits"]
[null,"unknown/OTHER manufacturing",34,null,null,null,null,null,null,null,null,null,null,null,"chocolate"]
[null,"ALMONDS manufacturing",35,null,null,null,null,null,null,null,null,null,null,null,"coffee"]
[null,"APPLES manufacturing",36,null,null,null,null,null,null,null,null,null,null,null,"tea"]
[null,"BANANAS manufacturing",37,null,null,null,null,null,null,null,null,null,null,null,"olive oil"]
[null,"BEANS manufacturing",38,null,null,null,null,null,null,null,null,null,null,null,"sunflower oil"]
[null,"BEEF manufacturing",39,null,null,null,null,null,null,null,null,null,null,null,"beer"]
[null,"BEER manufacturing",40,null,null,null,null,null,null,null,null,null,null,null,"mineral water"]
[null,"BISCUITS manufacturing",41,null,null,null,null,null,null,null,null,null,null,null,"wine"]
[null,"BREAD manufacturing",42]
[null,"BUTTER manufacturing",43]
[null,"CHEESE manufacturing",44]
[null,"CHOCOLATE manufacturing",45]
[null,"COD manufacturing",46]
[null,"COFFEE manufacturing",47]
[null,"EGGS manufacturing",48]
[null,"MEAT BASED DISHES manufacturing",49]
[null,"MILK manufacturing",50]
[null,"MINERAL WATER manufacturing",51]
[null,"OLIVE OIL manufacturing",52]
[null,"ORANGES manufacturing",53]
[null,"PASTA manufacturing",54]
[null,"PORK manufacturing",55]
[null,"POTATOES manufacturing",56]
[null,"POULTRY manufacturing",57]
[null,"RICE manufacturing",58]
[null,"SALMON manufacturing",59]
[null,"SHRIMP manufacturing",60]
[null,"SUGAR manufacturing",61]
[null,"SUNFLOWER OIL manufacturing",62]
[null,"TEA manufacturing",63]
[null,"TOFU manufacturing",64]
[null,"TOMATOES manufacturing",65]
[null,"WINE manufacturing",66]
[null,"unknown/OTHER retail",67]
[null,"ALMONDS retail",68]
[null,"APPLES retail",69]
[null,"BANANAS retail",70]
[null,"BEANS retail",71]
[null,"BEEF retail",72]
[null,"BEER retail",73]
[null,"BISCUITS retail",74]
[null,"BREAD retail",75]
[null,"BUTTER retail",76]
[null,"CHEESE retail",77]
[null,"CHOCOLATE retail",78]
[null,"COD retail",79]
[null,"COFFEE retail",80]
[null,"EGGS retail",81]
[null,"MEAT BASED DISHES retail",82]
[null,"MILK retail",83]
[null,"MINERAL WATER retail",84]
[null,"OLIVE OIL retail",85]
[null,"ORANGES retail",86]
[null,"PASTA retail",87]
[null,"PORK retail",88]
[null,"POTATOES retail",89]
[null,"POULTRY retail",90]
[null,"RICE retail",91]
[null,"SALMON retail",92]
[null,"SHRIMP retail",93]
[null,"SUGAR retail",94]
[null,"SUNFLOWER OIL retail",95]
[null,"TEA retail",96]
[null,"TOFU retail",97]
[null,"TOMATOES retail",98]
[null,"WINE retail",99]
[null,"unknown/OTHER use",100]
[null,"ALMONDS use",101]
[null,"APPLES use",102]
[null,"BANANAS use",103]
[null,"BEANS use",104]
[null,"BEEF use",105]
[null,"BEER use",106]
[null,"BISCUITS use",107]
[null,"BREAD use",108]
[null,"BUTTER use",109]
[null,"CHEESE use",110]
[null,"CHOCOLATE use",111]
[null,"COD use",112]
[null,"COFFEE use",113]
[null,"EGGS use",114]
[null,"MEAT BASED DISHES use",115]
[null,"MILK use",116]
[null,"MINERAL WATER use",117]
[null,"OLIVE OIL use",118]
[null,"ORANGES use",119]
[null,"PASTA use",120]
[null,"PORK use",121]
[null,"POTATOES use",122]
[null,"POULTRY use",123]
[null,"RICE use",124]
[null,"SALMON use",125]
[null,"SHRIMP use",126]
[null,"SUGAR use",127]
[null,"SUNFLOWER OIL use",128]
[null,"TEA use",129]
[null,"TOFU use",130]
[null,"TOMATOES use",131]
[null,"WINE use",132]
[null,"cereal products agriculture",133]
[null,"dairy agriculture",134]
[null,"fish and seafood agriculture",135]
[null,"fruit agriculture",136]
[null,"meat agriculture",137]
[null,"vegetables agriculture",138]
[null,"cereal products manufacturing",139]
[null,"dairy manufacturing",140]
[null,"fish and seafood manufacturing",141]
[null,"fruit manufacturing",142]
[null,"meat manufacturing",143]
[null,"vegetables manufacturing",144]
[null,"cereal products retail",145]
[null,"dairy retail",146]
[null,"fish and seafood retail",147]
[null,"fruit retail",148]
[null,"meat retail",149]
[null,"vegetables retail",150]
[null,"cereal products use",151]
[null,"dairy use",152]
[null,"fish and seafood use",153]
[null,"fruit use",154]
[null,"meat use",155]
[null,"vegetables use",156]

{"sheet":"Report","index":17,"n_rows":68,"n_cols":6,"rows_kept":68,"cut":false,"hidden":false,"merged":[[0,0,0,5]]}
["Assessment of environmental and economic benefits of food waste prevention actions"]
[]
["Action Name",null,{"$f":"IF(Calculator!B6=\"\", \"\",Calculator!B6)","v":"Stop Food waste"}]
[]
["Action Type",null,{"$f":"Calculator!F6","v":"Consumer behaviour change"}]
[]
["Country",null,{"$f":"Calculator!D6","v":"Spain"}]
[]
["Stage of the supply chain",null,{"$f":"Calculator!H6","v":"Households"}]
[]
["Total food waste avoided",null,{"$f":"Calculations!C32 & \" \" & IF(Calculations!$D$34=1,\"kg\",IF(Calculations!$D$34=2,\"tonne\",IF(Calculations!$D$34=3,\"megatonne\")))","v":"1100 tonne"}]
[]
["Economic assessment"]
[]
[{"$f":"Calculator!H29","v":"Cost of action"},null,{"$f":"Calculator!J29","v":-100000},{"$f":"Calculator!K29","v":"€"}]
[{"$f":"Calculator!H30","v":"Savings from avoided treatment"},null,{"$f":"Calculator!J30","v":170281.03256883405},{"$f":"Calculator!K30","v":"€"}]
[{"$f":"Calculator!H31","v":"Savings from avoided food production"},null,{"$f":"Calculator!J31","v":300000},{"$f":"Calculator!K31","v":"€"}]
[{"$f":"Calculator!H32","v":"Net economic benefits"},null,{"$f":"Calculator!J32","v":370281.03256883402},{"$f":"Calculator!K32","v":"€"}]
[]
[]
[]
[]
[]
[]
[]
[]
[]
[]
[]
[]
[]
[]
[]
[]
[]
[]
[]
[]
[]
[]
[]
[]
[]
[]
[]
[]
["Environmental assessment"]
[]
["Environmental impacts/savings across the 16 impact categories considered"]
[]
[null,"Unit",{"$f":"Calculations!B73","v":"Impact of action"},{"$f":"Calculations!B74","v":"Impact of avoided treatment"},{"$f":"Calculations!B75","v":"Impact of saved food"},"Total"]
[{"$f":"Calculations!C72","v":"Climate Change"},"kg CO2 eq",{"$f":"Calculations!C73","v":-325.96050105391566},{"$f":"Calculations!C74","v":690838.52936330996},{"$f":"Calculations!C75","v":1486913.4129086467},{"$f":"SUM(C52:E52)","v":2177425.9817709029}]
[{"$f":"Calculations!D72","v":"Ozone depletion"},"kg CFC-11 eq",{"$f":"Calculations!D73","v":-4.7466380725489E-5},{"$f":"Calculations!D74","v":4.1893116890728979E-3},{"$f":"Calculations!D75","v":8.0612808878879552},{"$f":"SUM(C53:E53)","v":8.0654227331963018}]
[{"$f":"Calculations!E72","v":"Human toxicity, non-cancer effects"},"CTUh",{"$f":"Calculations!E73","v":-3.401451326071485E-5},{"$f":"Calculations!E74","v":1.3055296935760161},{"$f":"Calculations!E75","v":1.0131213652142639},2.3186170442770191]
[{"$f":"Calculations!F72","v":"Human toxicity, cancer effects"},"CTUh",{"$f":"Calculations!F73","v":-5.2275472738641153E-6},{"$f":"Calculations!F74","v":2.233366976479002E-2},{"$f":"Calculations!F75","v":1.9306488070947633E-2},4.1634930288463788E-2]
[{"$f":"Calculations!G72","v":"Particulate matter"},"Disease incidences",{"$f":"Calculations!G73","v":-2.2126171731280974E-5},{"$f":"Calculations!G74","v":3.7375914473387127E-3},{"$f":"Calculations!G75","v":7.3569030164426411E-2},7.7284495440033837E-2]
[{"$f":"Calculations!H72","v":"Ionizing radiation, human health"},"kBq U235",{"$f":"Calculations!H73","v":-18.59914800211692},{"$f":"Calculations!H74","v":2622.8183857795184},{"$f":"Calculations!H75","v":58942.315282982861},61546.534520760266]
[{"$f":"Calculations!I72","v":"Photochemical ozone formation, human health"},"kg NMVOC eq",{"$f":"Calculations!I73","v":-1.0812513862808393},{"$f":"Calculations!I74","v":401.66739323692235},{"$f":"Calculations!I75","v":3440.2342008446394},3840.8203426952809]
[{"$f":"Calculations!J72","v":"Acidification"},"mol H+ eq",{"$f":"Calculations!J73","v":-1.6930425036357901},{"$f":"Calculations!J74","v":433.84662128084585},{"$f":"Calculations!J75","v":10600.820573773744},11032.974152550954]
[{"$f":"Calculations!K72","v":"Terrestrial eutrophication"},"mol N eq",{"$f":"Calculations!K73","v":-3.4413420856373413},{"$f":"Calculations!K74","v":1514.609302293386},{"$f":"Calculations!K75","v":38362.893310951302},39874.061271159051]
[{"$f":"Calculations!L72","v":"Freshwater eutrophication"},"kg P eq",{"$f":"Calculations!L73","v":-1.7848086101353688E-2},{"$f":"Calculations!L74","v":37.076939476047798},{"$f":"Calculations!L75","v":393.04095281433388},430.10004420428032]
[{"$f":"Calculations!M72","v":"Marine eutrophication"},"kg N eq",{"$f":"Calculations!M73","v":-0.3184203727653202},{"$f":"Calculations!M74","v":1588.8664722749565},{"$f":"Calculations!M75","v":7073.3515187491157},8661.8995706513069]
[{"$f":"Calculations!N72","v":"Freshwater ecotoxicity"},"CTUe",{"$f":"Calculations!N73","v":-615.31026075117074},{"$f":"Calculations!N74","v":96502390.371312082},{"$f":"Calculations!N75","v":22813929.071355876},119315704.1324072]
[{"$f":"Calculations!O72","v":"Land use"},"Pt",{"$f":"Calculations!O73","v":-12843.187562681926},{"$f":"Calculations!O74","v":1106318.6011837553},{"$f":"Calculations!O75","v":68474151.796659783},69567627.210280851]
[{"$f":"Calculations!P72","v":"Water use"},"m3 world eq. deprived",{"$f":"Calculations!P73","v":-109.92331723940555},{"$f":"Calculations!P74","v":17118.35678422909},{"$f":"Calculations!P75","v":5923074.7959463215},5940083.229413311]
[{"$f":"Calculations!Q72","v":"Resource use, fossil"},"MJ",{"$f":"Calculations!Q73","v":-5090.9929365120943},{"$f":"Calculations!Q74","v":282117.02574096626},{"$f":"Calculations!Q75","v":13774368.159412775},14051394.192217229]
[{"$f":"Calculations!R72","v":"Resource use, minerals and metals"},"kg Sb eq",{"$f":"Calculations!R73","v":-2.953093974200096E-3},{"$f":"Calculations!R74","v":1.7255278834672413E-2},{"$f":"Calculations!R75","v":4.0930190224967395},4.1073212073572121]
[{"$f":"Calculations!S72","v":"Single Point"},"Pt",{"$f":"Calculations!C98","v":-5.7771327187989259E-10},{"$f":"Calculations!C99","v":3.5419333652512835E-6},{"$f":"Calculations!C100","v":4.0488571506385748E-6},{"$f":"SUM(C68:E68)","v":7.5902128026179786E-6}]